{"text_format":"1","workbook":"xlsx","n_sheets":49,"sheets":["00 Alimenta","00 PDC SP","00 SP","01 Rendiconto Finanziario","Personale","Universitario","Altro contratto","Tab 1-2-3-4","Tab 5-6","Tab 7","Tab 7bis","Tab 7ter ","Tab 7ter  (2)","Tab 7quater","IMM01-IMM14","Tab 8-9-10-11-12-13-14","IF01-IF02","Tab 15","Tab 16-17","Dettaglio ABA390 ","Dettaglio ABA430","Dettaglio ABA480 ","Dettaglio ABA500","Tab 18-19","Tab. 20-21 ","Tab 22-23-24","Partite infragruppo ","Tab 25","Tab 26-27-28","Tab 29-30-31","Tab 32","TAB 32 BIS Acquisti con fdi PO","Tab 33","Tab 34-35 ","Tab 35 bis - ter","Tab 36 ","Tab 37-38-39-40","Criteri Fondi Rischi","dirigenza medica e non medica","Comparto","Convenzionati","Altre Info","Tab 41","Tab 42","Tab 43","Tab 44","Tab 45-46","Tab 47-48-49","Foglio1"],"not_rendered":{"charts":0,"images":0,"macros":0,"external_links":0,"defined_names":69,"comments":2,"pivot_tables":0},"unopened":[],"bounds":{"document_bytes":16777216,"sheet_cells":100000,"rows_first":2000,"rows_last":500,"rows_between":2000,"halvings":0,"cell_chars":16384,"cell_head_chars":4096},"cells_cut":0,"cells_raw":0,"read":"whole","date_system":"1900"}

{"sheet":"00 Alimenta","index":0,"n_rows":214,"n_cols":9,"rows_kept":214,"cut":false,"hidden":true,"merged":[]}
[]
["PRG",4]
[]
["SP","Conto","Descrizione conto","Esercizio 2017","Incrementi 2018","Decrementi 2018","Esercizio 2018","Incrementi 2019","Decrementi 2019"]
["AAA140","0101010602","Licenze d'uso software",2188144.58,131197.56,11461.65,2307880.4900000002,65627.89,0]
["AAA300","0101020102","Terreni indisponibili",942655.12,0,0,942655.12,0,0]
["AAA360","0101020301","Fabbricati strumentali (indisponibili)",169096559.22999999,2087230,0,171183789.22999999,0,0]
["AAA390","0101020404","Macchinari generici",6166777.5300000003,653192.51,17647.73,6802322.3099999996,456581.73,56990.8]
["AAA420","0101020502","Attrezzature generiche",84717848.540000007,4303427.6100000003,5885338.1699999999,83135937.980000004,2217999.9300000002,996227.99]
["AAA450","0101020601","Mobili e arredi",10597975.65,339281.25,91861.65,10845395.25,233981.82,30493.53]
["AAA480","0101020702","Ambulanze ",0,73346.399999999994,0,73346.399999999994,429708.9,0]
["AAA480","0101020703","Altri mezzi di trasporto",1962988.77,19850.57,149825.10999999999,1833014.23,63027.09,0]
["AAA520","0101020903","Computer e macchinari elettronici",5490053.4100000001,253573.24,327240.58,5416386.0700000003,355649.06,616.61]
["AAA520","0101020904","Altri beni materiali",427941.57,14224.53,3249.6,438916.5,8647.6,651]
["AAA540","0101021001","Fabbricati in costruzione",9470852.1400000006,1449834.4,2396699.1800000002,8523987.3599999994,2001338.47,31550.43]
["AAA540","0101021005","Acconti su future acquisizioni di immobilizzazioni materiali",1527100.43,66213.3,1527100.33,66213.399999999994,103224.2,66591.5]
["AAA690","0101030404","Depositi cauzionali",14036.45,0,0,14036.45,0,0]
["ABA020","0102010101","Medicinali con AIC",4388956,9637765.4000000004,4388956,9637765.4000000004,8982739.9299999997,9637765.4000000004]
["ABA020","0102010102","Soluzioni infusionali con AIC",1398.76,4720.8100000000004,1398.76,4720.8100000000004,299.85000000000002,4720.8100000000004]
["ABA020","0102010103","Ossigeno con AIC",1633.04,1919.27,1633.04,1919.27,0,1919.27]
["ABA020","0102010104","Altri gas medicali con AIC",9993.4599999999991,18281.7,9993.4599999999991,18281.7,0,18281.7]
["ABA020","0102010105","Emoderivati con AIC",415087.34,299372.46999999997,415087.34,299372.46999999997,305511.96000000002,299372.46999999997]
["ABA020","0102010106","Medicinali senza AIC",220505.73,153849.16,220505.73,153849.16,198124.1,153849.16]
["ABA020","0102010108","Farmaci innovativi",796557.79,425624.06,796557.79,425624.06,713717.44,425624.06]
["ABA040","0102010301","Strumentazione per bioimmagini e radioterapia",22325.73,57070.16,22325.73,57070.16,34041.11,57070.16]
["ABA040","0102010302","Materiale per sterilizzazione",44744.42,8572.01,44744.42,8572.01,26034.46,8572.01]
["ABA040","0102010303","Dispositivi per chirurgia mini-invasiva ed elettrochirurgia",191192.48,237459.44,191192.48,237459.44,231885.55,237459.44]
["ABA040","0102010304","Protesi ortopediche e mezzi per osteosintesi e sintesi tendineo-legamentosa",156988.5,125902.79,156988.5,125902.79,125694.46,125902.79]
["ABA040","0102010305","Protesi oculistiche",21294.52,28295.8,21294.52,28295.8,106241.44,28295.8]
["ABA040","0102010306","Protesi vascolari e cardiache",7516.08,4904.6400000000003,7516.08,4904.6400000000003,3595.95,4904.6400000000003]
["ABA040","0102010307","Altri dispositivi protesici impiantabili e prodotti per osteosintesi",15680.73,8142.05,15680.73,8142.05,26339.17,8142.05]
["ABA040","0102010308","Supporti e ausili tecnici per persone disabili",32718.44,15277.66,32718.44,15277.66,7705.5,15277.66]
["ABA040","0102010309","Dispositivi per emotrasfusione ed ematologia",58519.51,43182.99,58519.51,43182.99,42793.34,43182.99]
["ABA040","0102010310","Dispositivi per dialisi",78184.86,349609.43,78184.86,349609.43,414188.42,349609.43]
["ABA040","0102010311","Dispositivi medico-diagnostici in vitro (D.Lgs. 332/2000)",1482372.12,1412543.58,1482372.12,1412543.58,1378264.31,1412543.58]
["ABA040","0102010312","Strumentazione per esplorazioni funzionali ed interventi terapeutici",270520.31,349679.38,270520.31,349679.38,395454.2,349679.38]
["ABA040","0102010313","Strumentazione per radiologia diagnostica ed interventistica",712.51,971.05,712.51,971.05,888.71,971.05]
["ABA040","0102010314","Strumentario chirurgico pluriuso o riusabile",92097.5,59941.67,92097.5,59941.67,43416.82,59941.67]
["ABA040","0102010315","Dispositivi protesici impiantabili - vari",80004.3,36165.230000000003,80004.3,36165.230000000003,20957.82,36165.230000000003]
["ABA040","0102010316","Dispositivi per sistema artero-venoso",196661.87,341902.99,196661.87,341902.99,263899.12,341902.99]
["ABA040","0102010317","Guide per apparato cardiocircolatorio",16525.53,51496.86,16525.53,51496.86,54115.43,51496.86]
["ABA040","0102010318","Altri dispositivi per apparato cardiocircolatorio",123103.54,192131.49,123103.54,192131.49,209610.57,192131.49]
["ABA040","0102010319","Disinfettanti, antisettici e proteolitici (D.Lgs. 46/97)",22348.48,23214.09,22348.48,23214.09,20593.43,23214.09]
["ABA040","0102010320","Dispositivi per apparato gastrointestinale",83693.42,108873.9,83693.42,108873.9,108756.84,108873.9]
["ABA040","0102010321","Dispositivi da sutura",349748.67,199430.7,349748.67,199430.7,159097.78,199430.7]
["ABA040","0102010322","Dispositivi per sistema nervoso e midollare",28260.43,24648.400000000001,28260.43,24648.400000000001,14507.51,24648.400000000001]
["ABA040","0102010323","Dispositivi per odontoiatria, oftalmologoa e otorinolaringoiatria",71817.279999999999,77787.69,71817.279999999999,77787.69,74179.94,77787.69]
["ABA040","0102010324","Dispositivi per apparato respiratorio e anestesia",182238.66,226521.29,182238.66,226521.29,204390.15,226521.29]
["ABA040","0102010325","Dispositivi di protezione e ausili per incontinenza (D.Lgs. 46/97)",196921.3,188552.61,196921.3,188552.61,194247.26,188552.61]
["ABA040","0102010326","Dispositivi per apparato urogenitale",51126.59,58158.49,51126.59,58158.49,87545.74,58158.49]
["ABA040","0102010327","Dispositivi vari",304842.71999999997,302955.27,304842.71999999997,302955.27,226897.32,302955.27]
["ABA040","0102010328","Dispositivi da somministrazione, prelievo e raccolta",569117.94999999995,632496.81999999995,569117.94999999995,632496.81999999995,633711.89,632496.81999999995]
["ABA040","0102010329","Dispositivi per medicazioni generali e specialistiche",357449.92,347297.22,357449.92,347297.22,345477.22,347297.22]
["ABA040","0102010330","Dispositivi impiantabili attivi",30319.56,31197.03,30319.56,31197.03,34540.9,31197.03]
["ABA050","0102010401","Prodotti dietetici",5615.65,5237.29,5615.65,5237.29,10440.25,5237.29]
["ABA050","0102010402","Alimenti per nutrizione artificiale senza AIC ",58004.47,66412.52,58004.47,66412.52,65062.74,66412.52]
["ABA060","0102010503","Altri Vaccini",1112.76,2856.7,1112.76,2856.7,0,2856.7]
["ABA090","0102010801","Vetrerie e materiale plastico per laboratorio",42717.86,22568.66,42717.86,22568.66,11204.53,22568.66]
["ABA090","0102010802","Materiali di consumo non specifici per strumentazione diagnostica ",125485.73,93627.14,125485.73,93627.14,68710.77,93627.14]
["ABA090","0102010803","Altri beni e prodotti sanitari",127988.56,180987.44,127988.56,180987.44,248147.84,180987.44]
["ABA130","0102011101","Materiali di guardaroba, di pulizia, e di convivenza in genere",29727.94,29504.9,29727.94,29504.9,30345.25,29504.9]
["ABA150","0102011301","Supporti informatici",192555.39,102147.29,192555.39,102147.29,108077.25,102147.29]
["ABA150","0102011302","Cancelleria e stampati",169734.96,107409.14,169734.96,107409.14,117179.4,107409.14]
["ABA160","0102011401","Materiale per la manutenzione di immobili e loro pertinenze",85875.45,139324.97,85875.45,139324.97,6398.26,139324.97]
["ABA160","0102011403","Materiale per la manutenzione di attrezzature tecnico scientifiche sanitarie",26463.29,15166.69,26463.29,15166.69,10429.76,15166.69]
["ABA160","0102011405","Materiale per la manutenzione di altro",5031.3999999999996,4064.04,5031.3999999999996,4064.04,4708.03,4064.04]
["ABA170","0102011501","Altri beni e prodotti non sanitari",1229.74,502.43,1229.74,502.43,1157.96,502.43]
["ABA201","0102020101","Crediti v/Stato per spesa corrente - FSN indistinto",0,50822.1,48520.58,2301.52,98325.05,93639.37]
["ABA310","0102020902","Crediti v/Stato per ricerca finalizzata - Ministero della Salute",4620,10300,10300,4620,1122,0]
["ABA340","0102021001","Crediti v/prefetture",93462.74,93462.74,186925.48,0,0,0]
["ABA390","0102021103","Crediti v/Regione o Provincia Autonoma per quota FSR",118927566.06999999,699144829.10000002,673828882.24000001,144243512.93000001,743631926.5,761266852.44000006]
["ABA400","0102021104","Crediti v/Regione o Provincia Autonoma per mobilità attiva intraregionale",1256839.3899999999,99510381.010000005,99510381,1256839.3999999999,102476232.31999999,102476232.31999999]
["ABA410","0102021107","Crediti v/Regione o Provincia Autonoma per mobilità attiva extraregionale",19005500.289999999,23288119.719999999,23288119.719999999,19005500.289999999,26206460.129999999,26206460.129999999]
["ABA420","0102021109","Crediti v/Regione o Provincia Autonoma per acconto quota FSR",0,581529568.47000003,581529568.47000003,0,597506235,597506235]
["ABA430","0102021111","Crediti v/Regione o Provincia Autonoma per finanziamento sanitario aggiuntivo corrente LEA",10384091.02,2899011.66,3904796.15,9378306.5299999993,9459338.4600000009,8933757.0899999999]
["ABA400","0102021115","Netting mobilità intraregionale ante 2007",15592903.99,0,0,15592903.99,0,0]
["ABA420","0102021117","Crediti v/Regione o provincia Autonoma per acconto quota FSR per DPC",0,21620901.280000001,21620901.280000001,0,47981977.049999997,47981977.049999997]
["ABA451","0102021118","Crediti v/Regione o Provincia Autonoma per spesa corrente - STP (ex D.lgs. 286/98)",0,0,0,0,216918.16,0]
["ABA461","0102021119","Crediti v/Regione o Provincia Autonoma per mobilità attiva internazionale",0,0,0,0,393536.14,393536.14]
["ABA480","0102021201","Crediti v/Regione o Provincia Autonoma per finanziamenti per investimenti",38255,0,0,38255,682626.67,682626.67]
["ABA500","0102021203","Crediti v/Regione o Provincia Autonoma per ripiano perdite",14264710,13609624,0,27874334,0,353804.19]
["ABA530","0102021301","Crediti v/Comuni",163358.57999999999,111857.28,91803.89,183411.97,99651.91,89123.65]
["ABA530","0102021302","Fatture da emettere v/Comuni",58770.9,53342.51,58770.9,53342.51,20214.71,53342.51]
["ABA580","0102021418","Crediti v/ASL Avezzano Sulmona L'Aquila per altre prestazioni",486039.96,214056.28,210042.87,490053.37,91354.52,34529.480000000003]
["ABA580","0102021419","Fatture da emettere v/ASL Avezzano Sulmona L'Aquila per altre prestazioni",8143.77,37721.199999999997,8143.77,37721.199999999997,2141.44,37721.199999999997]
["ABA580","0102021420","Crediti v/ASL Lanciano Vasto Chieti per altre prestazioni",233845.47,110654.79,99868.92,244631.34,150854.48000000001,107562.38]
["ABA580","0102021421","Fatture da emettere v/ASL Lanciano Vasto Chieti per altre prestazioni",1282.71,25919.58,1282.71,25919.58,21559.360000000001,25919.58]
["ABA580","0102021424","Crediti v/ASL Teramo per altre prestazioni",3855447.31,11975.84,29003.38,3838419.77,284732.87,281616.84999999998]
["ABA580","0102021425","Fatture da emettere v/ASL Teramo per altre prestazioni",5559.81,4159.83,5559.81,4159.83,4464.7,4159.83]
["ABA600","0102021601","Crediti v/Aziende sanitarie pubbliche Extraregione",128586.02,238832,210160.77,157257.25,98823.23,127250.19]
["ABA600","0102021602","Fatture da emettere v/Aziende Sanitarie Pubbliche Extraregione",85649.52,44097.25,85649.52,44097.25,29023.79,44522.61]
["ABA620","0102021701","Crediti v/ARTA",5931.31,0,0,5931.31,0,0]
["ABA650","0102022001","Erario c/Ires",0,81792,81792,0,0,0]
["ABA650","0102022002","Erario c/Ires per acconti versati",0,408274,408274,0,408988,408988]
["ABA650","0102022003","Erario c/ritenute",0,80.5,0,80.5,38.97,0]
["ABA650","0102022005","Erario c/Iva per acconti versati",6914,15421,6806,15529,13871,15421]
["ABA650","0102022006","Erario c/Iva chiesta a rimborso",1295.04,0,0,1295.04,0,0]
["ABA670","0102022101","Crediti v/clienti privati",4591562.3899999997,9715318.3399999999,9771870.0800000001,4535010.6500000004,21132945.949999999,20182702.73]
["ABA670","0102022102","Fatture da emettere v/clienti privati",190888.78,608342.13,190888.78,608342.13,272781.96999999997,608342.13]
["ABA670","0102022103","Crediti v/utenza per proventi da ticket",38021.18,8500208.6999999993,8524029.6500000004,14200.23,8858209.3000000007,8852587.7599999998]
["ABA670","0102022109","Crediti v/dipendenti",77984.42,103264.73,179303.71,1945.44,6134.4,6457.39]
["ABA670","0102022111","Acconti verso altri fornitori",0,432985.28,432985.28,0,207813.83,207813.83]
["ABA690","0102022301","Crediti v/altri soggetti pubblici",393950.55,288535.49,464939.33,217546.71,155400.41,137662.29]
["ABA690","0102022302","Fatture da emettere v/altri soggetti pubblici",585.44000000000005,0,585.44000000000005,0,0,0]
["ABA711","0102022501","Altri Crediti diversi",1185854.96,739010.91,1059463.17,865402.7,1010408.89,11935.63]
["PDA210","0102022623","Note credito da ricevere v/ASL Lanciano Vasto Chieti per altre prestazioni",0,57.75,0,57.75,23908.5,57.75]
["PDA210","0102022625","Note credito da ricevere v/ASL Teramo per altre prestazioni",0,0,0,0,46.78,0]
["PDA292","0102022634","Note di credito v/IRCCS privati e Policlinici",0,0,0,0,7956.18,0]
["PDA292","0102022636","Note credito da ricevere v/Case di Cura",1930071.03,4610.6099999999997,1930071.03,4610.6099999999997,126.36,4610.6099999999997]
["PDA292","0102022637","Note credito da ricevere v/altri erogatori di prestazioni sanitarie - intraregione",27334117.52,2829706.77,4272293.9400000004,25891530.350000001,1929388.19,2833454.09]
["PDA302","0102022638","Note credito da ricevere verso altri fornitori nazionali",1123439.08,1282410.6399999999,1123439.08,1282410.6399999999,738479.34,1282410.6399999999]
["PDA302","0102022639","Note credito da ricevere verso altri fornitori esteri",6362,0,6362,0,0,0]
["PDA380","0102022641","Note credito da ricevere per altri debiti diversi",5013.58,2286.0100000000002,5013.58,2286.0100000000002,6757.61,2286.0100000000002]
["ABA760","0102040101","Cassa ticket",20000,0,0,20000,0,0]
["ABA760","0102040102","Cassa economale",0,52671.15,52671.15,0,49747.05,49747.05]
["ABA770","0102040201","Istituto Tesoriere",69558966.349999994,625609944.79999995,648972836.83000004,46196074.32,690539043.51999998,662428963.20000005]
["ABA790","0102040401","Conto corrente postale",3227616.17,1458253.24,3393835,1292034.4099999999,1221581.3999999999,1514988.6]
["ACA040","0103020101","Risconti attivi",8698.51,10533.97,8698.51,10533.97,8697.9699999999993,10533.97]
["PAA020","0201020101","Finanziamenti per beni di prima dotazione",63708881.740000002,0,3577467.93,60131413.810000002,0,3577467.93]
["PAA070","0201020501","Finanziamenti da Regione per investimenti",37556665.460000001,2138846.64,1674245.68,38021266.420000002,13499505.02,15486369.17]
["PAA090","0201020701","Finanziamenti per investimenti da rettifica contributi in conto esercizio",17897222.850000001,4347846.8099999996,5185207.28,17059862.379999999,3379701.26,5079640.42]
["PAA100","0201030101","Riserve da donazioni e lasciti vincolati ad investimenti",201195.25,114032.88,54754.03,260474.1,308827.12,86964.13]
["PAA160","0201040501","Riserve diverse",2730000,0,0,2730000,0,0]
["PAA200","0201050301","Altro - contributi per ripiano perdite",14264710,13609624,0,27874334,0,0]
["PAA210","0201060101","UTILI PORTATI A NUOVO",0,0,0,0,1677.34,0]
["PAA210","0201060102","PERDITE PORTATI A NUOVO",-14264709.560000001,0,13609624.26,-27874333.82,0,0]
["PAA220","0201070101","UTILE D'ESERCIZIO",0,1677.34,0,1677.34,0,1677.34]
["PAA220","0201070102","PERDITA D'ESERCIZIO",-13609624.26,13609624.26,0,0,0,10236853]
["AAA150","0202010601","F.do Amm.to licenze d'uso software",-1695177.54,-160938.81,-11461.65,-1844654.7,-155437.62,0]
["AAA370","0202020301","F.do Amm.to Fabbricati strumentali (indisponibili)",-90881774.340000004,-4970458.6100000003,0,-95852232.950000003,-5032903.95,0]
["AAA400","0202020701","F.do ammortamento macchinari generici",-5151096.58,-243006.53,-244.8,-5393858.3099999996,-319573.24,-32590.799999999999]
["AAA430","0202021001","F.do Amm.to Attrezzature generiche",-70497398.359999999,-4807326.2300000004,-5868448.4900000002,-69436276.099999994,-4807029.55,-879884.2]
["AAA460","0202021201","F.do Amm.to mobili e arredi",-9083783.9600000009,-354383.59,-89444.45,-9348723.0999999996,-361509.62,-21894.7]
["AAA490","0202021601","F.do Amm.to Ambulanze ",0,-601.44000000000005,0,-601.44000000000005,-47981.85,0]
["AAA490","0202021701","F.do Amm.to Altri mezzi di trasporto",-1728549.97,-92937.66,-149825.10999999999,-1671662.52,-85729.9,0]
["AAA530","0202022001","F.do Amm.to computer e macchinari elettronici",-4859556.0199999996,-237629.17,-308936.13,-4788249.0599999996,-250059.58,-616.61]
["AAA530","0202022101","F.do Amm.to altri beni materiali",-396136.9,-14155.8,-3249.6,-407043.1,-11964.03,-651]
["ABA580","0202030518","F.do svalutazione Crediti  v/Aziende sanitarie pubbliche della Regione",-3259926.7,0,0,-3259926.7,0,0]
["ABA670","0202030524","F.do svalutazione crediti  verso clienti privati ",-2874726.99,0,0,-2874726.99,0,0]
["ABA711","0202030528","F.do svalutazione altri crediti diversi",-300000,0,0,-300000,0,0]
["ABA390","0202030529","F.do svalutazione crediti v/Regione o Provincia Autonoma per quota FSR",-3047520.97,0,0,-3047520.97,0,0]
["PBA020","0203020101","Fondo rischi per cause civili ed oneri processuali",-16265222,-1357811.38,-6579085.1600000001,-11043948.220000001,-6378882.71,-2138381.25]
["PBA030","0203020201","Fondo rischi per contenzioso personale dipendente",-1250000,0,-254237.67,-995762.33,-811978.17,-252340.5]
["PBA040","0203020301","Fondo rischi connessi all'acquisto di prestazioni sanitarie da privato",-23324836.510000002,-272176.8,-1311382.44,-22285630.870000001,-1823614,-275924.12]
["PBA050","0203020401","Fondo rischi per copertura diretta dei rischi (autoassicurazione)",-5500000,-2297725.7799999998,-2297725.6800000002,-5500000.0999999996,0,-5500000.0999999996]
["PBA051","0203020402","B.II.5) Fondo rischi per franchigia assicurativa",0,0,0,0,-4900000,0]
["PBA160","0203040113","Quote inutilizzate contributi da Regione per Progetti di PSN L 662/96",-32509804.77,-7216729.6299999999,-6978711.7300000004,-32747822.670000002,-23473893.68,-34572661.670000002]
["PBA160","0203040118","Quote inutilizzate contributi da Regione per quota gioco d'azzardo patologico (GAP) Legge n. 190/2014 e ss.mm.ii.",-220805,0,-220805,0,0,0]
["PBA170","0203040201","Quote inutilizzate contributi vincolati da soggetti pubblici (extra fondo)",-138455.9,-53105.86,0,-191561.76,0,-191561.76]
["PBA210","0203050101","Fondi integrativi pensione",0,0,0,0,0,0]
["PBA230","0203050201","Fondo rinnovi contrattuali personale dipendente",-2516697,-2658672,-1421530.85,-3753838.15,-820311.55,-686937]
["PBA240","0203050301","Fondo rinnovi convenzioni MMG/PLS/MCA",-3807702.15,-1507157,-1600163.8400000001,-3714695.31,-1990220,0]
["PBA250","0203050401","Fondo rinnovi convenzioni medici Sumai",-219050,-309790.5,-327842.5,-200998,-261948,0]
["PBA260","0203050501","Altri fondi per oneri e spese",0,-2400000,0,-2400000,0,0]
["PCA000","0204010101","Fondo per premi operosità medici SUMAI",-2201092.41,-264664.11,-197944.41,-2267812.11,-277851.92,-441070.23]
["PDA090","0205030201","Debiti v/Regione o Provincia Autonoma per mobilità passiva intraregionale",-20765655.579999998,-49387581.229999997,-49387581.229999997,-20765655.579999998,-52055370.390000001,-52055370.390000001]
["PDA100","0205030301","Debiti v/Regione o Provincia Autonoma per mobilità passiva extraregionale",-9530548.0899999999,-33463665.77,-33463665.77,-9530548.0899999999,-36714312.75,-36714312.75]
["PDA110","0205030401","Acconto quota FSR da Regione o Provincia Autonoma",0,-565644818.47000003,-565644818.47000003,0,-549671037,-549671037]
["PDA110","0205030402","Acconto quota FSR per DPC da Regione o Provincia Autonoma",0,-15884750,-15884750,0,-47835198,-47835198]
["PDA120","0205030501","Altri debiti v/Regione o Provincia Autonoma - GSA",0,0,0,0,-5596298.9400000004,0]
["PDA101","0205030601","Debiti v/Regione o Provincia Autonoma per mobilità passiva internazionale",0,0,0,0,-2330052.7799999998,-2330052.7799999998]
["PDA130","0205040101","Debiti v/Comuni",-150000,0,0,-150000,0,0]
["PDA210","0205050601","Debiti v/ASL Avezzano Sulmona L'Aquila per altre prestazioni",-265404.46000000002,-197162.76,-203272.68,-259294.54,-471189.87,-453404.2]
["PDA210","0205050602","Fatture da ricevere v/ASL Avezzano Sulmona L'Aquila per altre prestazioni",-84346.32,-236845.56,-84346.32,-236845.56,-239701.34,-236845.56]
["PDA210","0205050603","Debiti v/ASL Lanciano Vasto Chieti per altre prestazioni",-59271.31,-56200.12,-50633.11,-64838.32,-44284.06,-20577.330000000002]
["PDA210","0205050604","Fatture da ricevere v/ASL Lanciano Vasto Chieti per altre prestazioni",-23505.119999999999,-9926,-23505.119999999999,-9926,-23166,-9926]
["PDA210","0205050607","Debiti v/ASL Teramo per altre prestazioni",-1927448.87,-152571.81,-11954.4,-2068066.28,-108568.18,-58733.56]
["PDA210","0205050608","Fatture da ricevere v/ASL Teramo per altre prestazioni",-29786,-26706,-29786,-26706,-60702.32,-26706]
["PDA220","0205050701","Debiti v/Aziende sanitarie pubbliche Extraregione",-94699.36,-170921.16,-190667.38,-74953.14,-217057.08,-193771]
["PDA220","0205050702","Fatture da ricevere v/Aziende sanitarie pubbliche Extraregione",-15263.65,-45840.65,-15263.65,-45840.65,-27646.99,-45840.65]
["PDA220","0205050703","Debiti v/Aziende Ospedaliere, IRCCS, Policlinici, Fondazioni Extraregione",-57236.47,-56381.91,-57423.86,-56194.52,-43581.24,-48819.7]
["PDA220","0205050704","Fatture da ricevere v/Aziende Ospedaliere, IRCCS, Policlinici, Fondazioni Extraregione",-33826.42,-22127.279999999999,-33826.42,-22127.279999999999,-38667.86,-22127.279999999999]
["PDA291","0205070101","Debiti v/medici di base",-1748805.75,-26794195.949999999,-26629894.27,-1913107.43,-21583694.329999998,-21588784.18]
["PDA291","0205070102","Debiti v/farmacie",-3005722.2,-50001509.329999998,-46696588.420000002,-6310643.1100000003,-48380833.850000001,-48355734.82]
["PDA291","0205070103","Debiti v/medici SUMAI",-0.01,-2821622.54,-2819880.2,-1742.35,-2541601.69,-2439224.0499999998]
["PDA291","0205070107","Fatture da ricevere v/Ospedali Classificati",-9382.08,0,-9382.08,0,0,0]
["PDA291","0205070108","Debiti v/Case di Cura",-29184263.899999999,-90451579.670000002,-90508054.299999997,-29127789.27,-93951082.879999995,-94476710.069999993]
["PDA291","0205070109","Fatture da ricevere v/Case di Cura",-7390453.0199999996,-6431798.5300000003,-7390453.0199999996,-6431798.5300000003,-7357378.4000000004,-6431798.5300000003]
["PDA291","0205070110","Debiti v/altri erogatori di prestazioni sanitarie - intraregione",-59640323.57,-30157319.18,-30753773.260000002,-59043869.490000002,-30296181.670000002,-31934248.870000001]
["PDA291","0205070111","Fatture da ricevere v/altri erogatori di prestazioni sanitarie - intraregione",-2195879.3199999998,-2404175.02,-2195879.3199999998,-2404175.02,-2178297.5699999998,-2404175.02]
["PDA301","0205070201","Debiti verso altri fornitori nazionali",-38139127.18,-315905697.26999998,-319150938.91000003,-34893885.539999999,-344711687.97000003,-343558289.24000001]
["PDA301","0205070202","Fatture da ricevere verso altri fornitori nazionali",-14638757.890000001,-14320195.09,-14638757.890000001,-14320195.09,-14256020.42,-14320195.09]
["PDA301","0205070203","Debiti verso altri fornitori esteri",-54626.54,-1069392.08,-1039446.08,-84572.54,-1106132.3,-1141305.02]
["PDA301","0205070204","Fatture da ricevere verso altri fornitori esteri",-51772.21,-49807.02,-51772.21,-49807.02,-110137.87,-49807.02]
["PDA301","0205070205","Debiti verso professionisti e collaboratori (ad esclusione degli organi diretti)",-79899.83,-345039.97,-340717.73,-84222.07,-345071.98,-352578.38]
["PDA310","0205080101","Debiti v/istituto tesoriere",0,0,0,0,0,0]
["PDA320","0205090101","Erario c/Ires",0,-408341.33,-408341.33,0,-409702,-409702]
["PDA320","0205090102","Erario c/ritenute su lavoro autonomo",-472194.17,-7403740.4199999999,-7409718.5499999998,-466216.04,-5743923.54,-5302657.1100000003]
["PDA320","0205090103","Erario c/ritenute su lavoro dipendente",-790626.05,-33744103.079999998,-33740612.57,-794116.56,-33122070.07,-28214710.690000001]
["PDA320","0205090104","Erario c/I.V.A.",-1582214.68,-7936966.3700000001,-9504287.1300000008,-14893.92,-877759.98,-813657.37]
["PDA320","0205090105","Erario c/Irap",-229987.37,-12420854.32,-12429626.130000001,-221215.56,-12358546.83,-10565136.439999999]
["PDA320","0205090106","Altre imposte e tasse",0,-785.13,-785.13,0,0,0]
["PDA320","0205090107","Erario c/IVA ¿ split payment",0,-19856036.09,-17216476.27,-2639559.8199999998,-29572329.050000001,-29104619]
["PDA330","0205100101","Debiti verso INPDAP",-840312.26,-49146093.640000001,-49241289.700000003,-745116.2,-49057188.100000001,-41789733.43]
["PDA330","0205100102","Debiti verso INPS lavoratori dipendenti",-625.53,-258155.4,-257642.79,-1138.1400000000001,-222774.72,-202300.79]
["PDA330","0205100104","Debiti verso INAIL",0,-1681196.55,-1675236.8,-5959.75,-1233643.8999999999,-1239603.6499999999]
["PDA330","0205100105","Debiti verso ENPAM",-548923.12,-10041013.43,-9994193.9600000009,-595742.59,-9075924.5,-8876185.8900000006]
["PDA330","0205100106","Debiti verso ONAOSI",-54015.29,-110977.37,-110312.56,-54680.1,-117900.55,-111931.95]
["PDA330","0205100107","Debiti verso altri Istituti Previdenziali",-74654.41,-643937.53,-600773.68000000005,-117818.26,-614603.81000000006,-603039.37]
["PDA360","0205110203","Debiti verso personale retribuzioni esercizi precedenti",-586981.76,-407111.65,-274168.63,-719924.78,-1124701.55,-291546.86]
["PDA360","0205110204","Debiti verso il personale dipendente per fondi aziendali esercizi precedenti",-10961585.66,-9300106.0399999991,-7619278.9000000004,-12642412.800000001,-9676865.3499999996,-6928381.2000000002]
["PDA360","0205110206","Altri debiti verso il personale per ferie maturate e non godute",-75182.12,-97736.77,-22303.13,-150615.76,-47307.44,-29946.41]
["PDA360","0205110207","Altri debiti verso il personale dipendente",-2231495.9,-88756803.799999997,-88990120.450000003,-1998179.25,-88770140.049999997,-88054732.269999996]
["PDA370","0205110301","Debiti v/gestioni liquidatorie",0,0,0,0,0,0]
["PDA380","0205110402","Debiti verso organi direttivi e istituzionali",-2017.73,-218364.24,-219978.17,-403.8,-179229.48,-179229.48]
["PDA380","0205110403","Debiti verso assistiti",-248681.33,-1931513.49,-1937335.26,-242859.56,-2312994.21,-2361992.7799999998]
["PDA380","0205110404","Altri debiti diversi",-324312.06,-5301861.76,-5157950.34,-468223.48,-5048110.0599999996,-4653093.4400000004]
["PDA380","0205110406","Debiti verso personale tirocinante e borsisti",-727,-500132,-500859,0,-232402,-232402]
["PDA380","0205110407","Debiti verso altro personale esterno",-10379.200000000001,-155157.35999999999,-128106.84,-37429.72,-299622.90999999997,-159059.34]
["PDA380","0205110408","Debiti verso personale universitario",0,0,0,0,-16390.72,0]
["PDA380","0205110409","Fatture da ricevere Altri debiti diversi",-321864.53999999998,-416963.94,-321864.53999999998,-416963.94,-465663.78,-416963.94]
["ABA530","0205110511","Note credito da emettere v/Comuni",-1801.13,0,-1801.13,0,0,0]
["ABA600","0205110528","Note credito da emettere verso ASL fuori regione per mobilità attiva non soggetta a compensazione",0,-5252.78,0,-5252.78,0,-5252.78]
["ABA670","0205110534","Note credito da emettere v/clienti privati",-1319.52,-32249.18,-1319.52,-32249.18,-115.8,-32249.18]

{"sheet":"00 PDC SP","index":1,"n_rows":788,"n_cols":15,"rows_kept":788,"cut":false,"hidden":false,"merged":[]}
[]
[null,null,"ANNO",null,null,2019]
[]
["Aggr",null,"Cod SP 2012","RF","TIPO","Conto","Descrizione Conto",{"$f":"IF($F$2=\"\",\"Saldo SP T-2\",\"Esercizio \"&F2-2)","v":"Esercizio 2017"},{"$f":"IF($F$2=\"\",\"Incrementi T-1\",\"Incrementi \"&$F$2-1)","v":"Incrementi 2018"},{"$f":"IF($F$2=\"\",\"Decrementi T-1\",\"Decrementi \"&$F$2-1)","v":"Decrementi 2018"},{"$f":"IF($F$2=\"\",\"Saldo SP T-1\",\"Esercizio \"&$F$2-1)","v":"Esercizio 2018"},{"$f":"IF($F$2=\"\",\"Incrementi T\",\"Incrementi \"&$F$2)","v":"Incrementi 2019"},{"$f":"IF($F$2=\"\",\"Decrementi T\",\"Decrementi \"&$F$2)","v":"Decrementi 2019"},{"$f":"IF($F$2=\"\",\"Saldo SP T\",\"Esercizio \"&$F$2)","v":"Esercizio 2019"}]
[{"$f":"IF(E5=\"\",C5,C5&E5)","v":"AAA020"},{"$f":"IF(C5=\"PAA220\",\"UT\",LEFT(C5,2))","v":"AA"},"AAA020",34,"","0101010101","Costi di impianto e di ampliamento",{"$f":"SUMIF('00 Alimenta'!$B:$B,'00 PDC SP'!$F5,'00 Alimenta'!D:D)","v":0},{"$f":"SUMIF('00 Alimenta'!$B:$B,'00 PDC SP'!$F5,'00 Alimenta'!E:E)","v":0},{"$f":"SUMIF('00 Alimenta'!$B:$B,'00 PDC SP'!$F5,'00 Alimenta'!F:F)","v":0},{"$f":"SUMIF('00 Alimenta'!$B:$B,'00 PDC SP'!$F5,'00 Alimenta'!G:G)","v":0},{"$f":"SUMIF('00 Alimenta'!$B:$B,'00 PDC SP'!$F5,'00 Alimenta'!H:H)","v":0},{"$f":"SUMIF('00 Alimenta'!$B:$B,'00 PDC SP'!$F5,'00 Alimenta'!I:I)","v":0},{"$f":"K5+L5-M5","v":0}]
[{"$f":"IF(E6=\"\",C6,C6&E6)","v":"AAA050"},{"$f":"IF(C6=\"PAA220\",\"UT\",LEFT(C6,2))","v":"AA"},"AAA050",35,"","0101010201","Costi di ricerca e sviluppo",{"$f":"SUMIF('00 Alimenta'!$B:$B,'00 PDC SP'!$F6,'00 Alimenta'!D:D)","v":0},{"$f":"SUMIF('00 Alimenta'!$B:$B,'00 PDC SP'!$F6,'00 Alimenta'!E:E)","v":0},{"$f":"SUMIF('00 Alimenta'!$B:$B,'00 PDC SP'!$F6,'00 Alimenta'!F:F)","v":0},{"$f":"SUMIF('00 Alimenta'!$B:$B,'00 PDC SP'!$F6,'00 Alimenta'!G:G)","v":0},{"$f":"SUMIF('00 Alimenta'!$B:$B,'00 PDC SP'!$F6,'00 Alimenta'!H:H)","v":0},{"$f":"SUMIF('00 Alimenta'!$B:$B,'00 PDC SP'!$F6,'00 Alimenta'!I:I)","v":0},{"$f":"K6+L6-M6","v":0}]
["AAA080","AA","AAA080",36,"","0101010301","Diritti di brevetto e diritti di utilizzazione delle opere d'ingegno - derivanti dall'attività di ricerca",{"$f":"SUMIF('00 Alimenta'!$B:$B,'00 PDC SP'!$F7,'00 Alimenta'!D:D)","v":0},{"$f":"SUMIF('00 Alimenta'!$B:$B,'00 PDC SP'!$F7,'00 Alimenta'!E:E)","v":0},{"$f":"SUMIF('00 Alimenta'!$B:$B,'00 PDC SP'!$F7,'00 Alimenta'!F:F)","v":0},{"$f":"SUMIF('00 Alimenta'!$B:$B,'00 PDC SP'!$F7,'00 Alimenta'!G:G)","v":0},{"$f":"SUMIF('00 Alimenta'!$B:$B,'00 PDC SP'!$F7,'00 Alimenta'!H:H)","v":0},{"$f":"SUMIF('00 Alimenta'!$B:$B,'00 PDC SP'!$F7,'00 Alimenta'!I:I)","v":0},0]
["AAA100","AA","AAA100",36,"","0101010401","Diritti di brevetto e diritti di utilizzazione delle opere d'ingegno - altri",{"$f":"SUMIF('00 Alimenta'!$B:$B,'00 PDC SP'!$F8,'00 Alimenta'!D:D)","v":0},{"$f":"SUMIF('00 Alimenta'!$B:$B,'00 PDC SP'!$F8,'00 Alimenta'!E:E)","v":0},{"$f":"SUMIF('00 Alimenta'!$B:$B,'00 PDC SP'!$F8,'00 Alimenta'!F:F)","v":0},{"$f":"SUMIF('00 Alimenta'!$B:$B,'00 PDC SP'!$F8,'00 Alimenta'!G:G)","v":0},{"$f":"SUMIF('00 Alimenta'!$B:$B,'00 PDC SP'!$F8,'00 Alimenta'!H:H)","v":0},{"$f":"SUMIF('00 Alimenta'!$B:$B,'00 PDC SP'!$F8,'00 Alimenta'!I:I)","v":0},0]
["AAA120","AA","AAA120",37,"","0101010501","Immobilizzazioni immateriali in corso ",{"$f":"SUMIF('00 Alimenta'!$B:$B,'00 PDC SP'!$F9,'00 Alimenta'!D:D)","v":0},{"$f":"SUMIF('00 Alimenta'!$B:$B,'00 PDC SP'!$F9,'00 Alimenta'!E:E)","v":0},{"$f":"SUMIF('00 Alimenta'!$B:$B,'00 PDC SP'!$F9,'00 Alimenta'!F:F)","v":0},{"$f":"SUMIF('00 Alimenta'!$B:$B,'00 PDC SP'!$F9,'00 Alimenta'!G:G)","v":0},{"$f":"SUMIF('00 Alimenta'!$B:$B,'00 PDC SP'!$F9,'00 Alimenta'!H:H)","v":0},{"$f":"SUMIF('00 Alimenta'!$B:$B,'00 PDC SP'!$F9,'00 Alimenta'!I:I)","v":0},0]
["AAA120","AA","AAA120",37,"","0101010502","Acconti su future acquisizioni immobilizzazioni immateriali",{"$f":"SUMIF('00 Alimenta'!$B:$B,'00 PDC SP'!$F10,'00 Alimenta'!D:D)","v":0},{"$f":"SUMIF('00 Alimenta'!$B:$B,'00 PDC SP'!$F10,'00 Alimenta'!E:E)","v":0},{"$f":"SUMIF('00 Alimenta'!$B:$B,'00 PDC SP'!$F10,'00 Alimenta'!F:F)","v":0},{"$f":"SUMIF('00 Alimenta'!$B:$B,'00 PDC SP'!$F10,'00 Alimenta'!G:G)","v":0},{"$f":"SUMIF('00 Alimenta'!$B:$B,'00 PDC SP'!$F10,'00 Alimenta'!H:H)","v":0},{"$f":"SUMIF('00 Alimenta'!$B:$B,'00 PDC SP'!$F10,'00 Alimenta'!I:I)","v":0},0]
["AAA140","AA","AAA140",38,"","0101010601","Concessioni pluriennali",{"$f":"SUMIF('00 Alimenta'!$B:$B,'00 PDC SP'!$F11,'00 Alimenta'!D:D)","v":0},{"$f":"SUMIF('00 Alimenta'!$B:$B,'00 PDC SP'!$F11,'00 Alimenta'!E:E)","v":0},{"$f":"SUMIF('00 Alimenta'!$B:$B,'00 PDC SP'!$F11,'00 Alimenta'!F:F)","v":0},{"$f":"SUMIF('00 Alimenta'!$B:$B,'00 PDC SP'!$F11,'00 Alimenta'!G:G)","v":0},{"$f":"SUMIF('00 Alimenta'!$B:$B,'00 PDC SP'!$F11,'00 Alimenta'!H:H)","v":0},{"$f":"SUMIF('00 Alimenta'!$B:$B,'00 PDC SP'!$F11,'00 Alimenta'!I:I)","v":0},0]
["AAA140","AA","AAA140",38,"","0101010602","Licenze d'uso software",{"$f":"SUMIF('00 Alimenta'!$B:$B,'00 PDC SP'!$F12,'00 Alimenta'!D:D)","v":2188144.58},{"$f":"SUMIF('00 Alimenta'!$B:$B,'00 PDC SP'!$F12,'00 Alimenta'!E:E)","v":131197.56},{"$f":"SUMIF('00 Alimenta'!$B:$B,'00 PDC SP'!$F12,'00 Alimenta'!F:F)","v":11461.65},{"$f":"SUMIF('00 Alimenta'!$B:$B,'00 PDC SP'!$F12,'00 Alimenta'!G:G)","v":2307880.4900000002},{"$f":"SUMIF('00 Alimenta'!$B:$B,'00 PDC SP'!$F12,'00 Alimenta'!H:H)","v":65627.89},{"$f":"SUMIF('00 Alimenta'!$B:$B,'00 PDC SP'!$F12,'00 Alimenta'!I:I)","v":0},2373508.3800000004]
["AAA140","AA","AAA140",38,"","0101010603","Marchi e diritti simili",{"$f":"SUMIF('00 Alimenta'!$B:$B,'00 PDC SP'!$F13,'00 Alimenta'!D:D)","v":0},{"$f":"SUMIF('00 Alimenta'!$B:$B,'00 PDC SP'!$F13,'00 Alimenta'!E:E)","v":0},{"$f":"SUMIF('00 Alimenta'!$B:$B,'00 PDC SP'!$F13,'00 Alimenta'!F:F)","v":0},{"$f":"SUMIF('00 Alimenta'!$B:$B,'00 PDC SP'!$F13,'00 Alimenta'!G:G)","v":0},{"$f":"SUMIF('00 Alimenta'!$B:$B,'00 PDC SP'!$F13,'00 Alimenta'!H:H)","v":0},{"$f":"SUMIF('00 Alimenta'!$B:$B,'00 PDC SP'!$F13,'00 Alimenta'!I:I)","v":0},0]
["AAA160","AA","AAA160",38,"","0101010701","Migliorie su beni di terzi",{"$f":"SUMIF('00 Alimenta'!$B:$B,'00 PDC SP'!$F14,'00 Alimenta'!D:D)","v":0},{"$f":"SUMIF('00 Alimenta'!$B:$B,'00 PDC SP'!$F14,'00 Alimenta'!E:E)","v":0},{"$f":"SUMIF('00 Alimenta'!$B:$B,'00 PDC SP'!$F14,'00 Alimenta'!F:F)","v":0},{"$f":"SUMIF('00 Alimenta'!$B:$B,'00 PDC SP'!$F14,'00 Alimenta'!G:G)","v":0},{"$f":"SUMIF('00 Alimenta'!$B:$B,'00 PDC SP'!$F14,'00 Alimenta'!H:H)","v":0},{"$f":"SUMIF('00 Alimenta'!$B:$B,'00 PDC SP'!$F14,'00 Alimenta'!I:I)","v":0},0]
["AAA180","AA","AAA180",38,"","0101010801","Pubblicità",{"$f":"SUMIF('00 Alimenta'!$B:$B,'00 PDC SP'!$F15,'00 Alimenta'!D:D)","v":0},{"$f":"SUMIF('00 Alimenta'!$B:$B,'00 PDC SP'!$F15,'00 Alimenta'!E:E)","v":0},{"$f":"SUMIF('00 Alimenta'!$B:$B,'00 PDC SP'!$F15,'00 Alimenta'!F:F)","v":0},{"$f":"SUMIF('00 Alimenta'!$B:$B,'00 PDC SP'!$F15,'00 Alimenta'!G:G)","v":0},{"$f":"SUMIF('00 Alimenta'!$B:$B,'00 PDC SP'!$F15,'00 Alimenta'!H:H)","v":0},{"$f":"SUMIF('00 Alimenta'!$B:$B,'00 PDC SP'!$F15,'00 Alimenta'!I:I)","v":0},0]
["AAA200","AA","AAA200",38,"","0101010901","Altre immobilizzazioni immateriali",{"$f":"SUMIF('00 Alimenta'!$B:$B,'00 PDC SP'!$F16,'00 Alimenta'!D:D)","v":0},{"$f":"SUMIF('00 Alimenta'!$B:$B,'00 PDC SP'!$F16,'00 Alimenta'!E:E)","v":0},{"$f":"SUMIF('00 Alimenta'!$B:$B,'00 PDC SP'!$F16,'00 Alimenta'!F:F)","v":0},{"$f":"SUMIF('00 Alimenta'!$B:$B,'00 PDC SP'!$F16,'00 Alimenta'!G:G)","v":0},{"$f":"SUMIF('00 Alimenta'!$B:$B,'00 PDC SP'!$F16,'00 Alimenta'!H:H)","v":0},{"$f":"SUMIF('00 Alimenta'!$B:$B,'00 PDC SP'!$F16,'00 Alimenta'!I:I)","v":0},0]
["AAA290","AA","AAA290",39,"","0101020101","Terreni disponibili",{"$f":"SUMIF('00 Alimenta'!$B:$B,'00 PDC SP'!$F17,'00 Alimenta'!D:D)","v":0},{"$f":"SUMIF('00 Alimenta'!$B:$B,'00 PDC SP'!$F17,'00 Alimenta'!E:E)","v":0},{"$f":"SUMIF('00 Alimenta'!$B:$B,'00 PDC SP'!$F17,'00 Alimenta'!F:F)","v":0},{"$f":"SUMIF('00 Alimenta'!$B:$B,'00 PDC SP'!$F17,'00 Alimenta'!G:G)","v":0},{"$f":"SUMIF('00 Alimenta'!$B:$B,'00 PDC SP'!$F17,'00 Alimenta'!H:H)","v":0},{"$f":"SUMIF('00 Alimenta'!$B:$B,'00 PDC SP'!$F17,'00 Alimenta'!I:I)","v":0},0]
["AAA300","AA","AAA300",39,"","0101020102","Terreni indisponibili",{"$f":"SUMIF('00 Alimenta'!$B:$B,'00 PDC SP'!$F18,'00 Alimenta'!D:D)","v":942655.12},{"$f":"SUMIF('00 Alimenta'!$B:$B,'00 PDC SP'!$F18,'00 Alimenta'!E:E)","v":0},{"$f":"SUMIF('00 Alimenta'!$B:$B,'00 PDC SP'!$F18,'00 Alimenta'!F:F)","v":0},{"$f":"SUMIF('00 Alimenta'!$B:$B,'00 PDC SP'!$F18,'00 Alimenta'!G:G)","v":942655.12},{"$f":"SUMIF('00 Alimenta'!$B:$B,'00 PDC SP'!$F18,'00 Alimenta'!H:H)","v":0},{"$f":"SUMIF('00 Alimenta'!$B:$B,'00 PDC SP'!$F18,'00 Alimenta'!I:I)","v":0},942655.12]
["AAA330","AA","AAA330",40,"","0101020201","Fabbricati non strumentali (disponibili)",{"$f":"SUMIF('00 Alimenta'!$B:$B,'00 PDC SP'!$F19,'00 Alimenta'!D:D)","v":0},{"$f":"SUMIF('00 Alimenta'!$B:$B,'00 PDC SP'!$F19,'00 Alimenta'!E:E)","v":0},{"$f":"SUMIF('00 Alimenta'!$B:$B,'00 PDC SP'!$F19,'00 Alimenta'!F:F)","v":0},{"$f":"SUMIF('00 Alimenta'!$B:$B,'00 PDC SP'!$F19,'00 Alimenta'!G:G)","v":0},{"$f":"SUMIF('00 Alimenta'!$B:$B,'00 PDC SP'!$F19,'00 Alimenta'!H:H)","v":0},{"$f":"SUMIF('00 Alimenta'!$B:$B,'00 PDC SP'!$F19,'00 Alimenta'!I:I)","v":0},0]
["AAA330","AA","AAA330",40,"","0101020202","Costruzioni leggere",{"$f":"SUMIF('00 Alimenta'!$B:$B,'00 PDC SP'!$F20,'00 Alimenta'!D:D)","v":0},{"$f":"SUMIF('00 Alimenta'!$B:$B,'00 PDC SP'!$F20,'00 Alimenta'!E:E)","v":0},{"$f":"SUMIF('00 Alimenta'!$B:$B,'00 PDC SP'!$F20,'00 Alimenta'!F:F)","v":0},{"$f":"SUMIF('00 Alimenta'!$B:$B,'00 PDC SP'!$F20,'00 Alimenta'!G:G)","v":0},{"$f":"SUMIF('00 Alimenta'!$B:$B,'00 PDC SP'!$F20,'00 Alimenta'!H:H)","v":0},{"$f":"SUMIF('00 Alimenta'!$B:$B,'00 PDC SP'!$F20,'00 Alimenta'!I:I)","v":0},0]
["AAA330","AA","AAA330",40,"","0101020203","Manutenzioni e riparazioni straordinarie capitalizzabili fabbricati disponibili",{"$f":"SUMIF('00 Alimenta'!$B:$B,'00 PDC SP'!$F21,'00 Alimenta'!D:D)","v":0},{"$f":"SUMIF('00 Alimenta'!$B:$B,'00 PDC SP'!$F21,'00 Alimenta'!E:E)","v":0},{"$f":"SUMIF('00 Alimenta'!$B:$B,'00 PDC SP'!$F21,'00 Alimenta'!F:F)","v":0},{"$f":"SUMIF('00 Alimenta'!$B:$B,'00 PDC SP'!$F21,'00 Alimenta'!G:G)","v":0},{"$f":"SUMIF('00 Alimenta'!$B:$B,'00 PDC SP'!$F21,'00 Alimenta'!H:H)","v":0},{"$f":"SUMIF('00 Alimenta'!$B:$B,'00 PDC SP'!$F21,'00 Alimenta'!I:I)","v":0},0]
["AAA360","AA","AAA360",40,"","0101020301","Fabbricati strumentali (indisponibili)",{"$f":"SUMIF('00 Alimenta'!$B:$B,'00 PDC SP'!$F22,'00 Alimenta'!D:D)","v":169096559.22999999},{"$f":"SUMIF('00 Alimenta'!$B:$B,'00 PDC SP'!$F22,'00 Alimenta'!E:E)","v":2087230},{"$f":"SUMIF('00 Alimenta'!$B:$B,'00 PDC SP'!$F22,'00 Alimenta'!F:F)","v":0},{"$f":"SUMIF('00 Alimenta'!$B:$B,'00 PDC SP'!$F22,'00 Alimenta'!G:G)","v":171183789.22999999},{"$f":"SUMIF('00 Alimenta'!$B:$B,'00 PDC SP'!$F22,'00 Alimenta'!H:H)","v":0},{"$f":"SUMIF('00 Alimenta'!$B:$B,'00 PDC SP'!$F22,'00 Alimenta'!I:I)","v":0},171183789.22999999]
["AAA360","AA","AAA360",40,"","0101020302","Manutenzioni e riparazioni straordinarie capitalizzabili fabbricati indisponibili",{"$f":"SUMIF('00 Alimenta'!$B:$B,'00 PDC SP'!$F23,'00 Alimenta'!D:D)","v":0},{"$f":"SUMIF('00 Alimenta'!$B:$B,'00 PDC SP'!$F23,'00 Alimenta'!E:E)","v":0},{"$f":"SUMIF('00 Alimenta'!$B:$B,'00 PDC SP'!$F23,'00 Alimenta'!F:F)","v":0},{"$f":"SUMIF('00 Alimenta'!$B:$B,'00 PDC SP'!$F23,'00 Alimenta'!G:G)","v":0},{"$f":"SUMIF('00 Alimenta'!$B:$B,'00 PDC SP'!$F23,'00 Alimenta'!H:H)","v":0},{"$f":"SUMIF('00 Alimenta'!$B:$B,'00 PDC SP'!$F23,'00 Alimenta'!I:I)","v":0},0]
["AAA390","AA","AAA390",41,"","0101020401","Impianti sanitari",{"$f":"SUMIF('00 Alimenta'!$B:$B,'00 PDC SP'!$F24,'00 Alimenta'!D:D)","v":0},{"$f":"SUMIF('00 Alimenta'!$B:$B,'00 PDC SP'!$F24,'00 Alimenta'!E:E)","v":0},{"$f":"SUMIF('00 Alimenta'!$B:$B,'00 PDC SP'!$F24,'00 Alimenta'!F:F)","v":0},{"$f":"SUMIF('00 Alimenta'!$B:$B,'00 PDC SP'!$F24,'00 Alimenta'!G:G)","v":0},{"$f":"SUMIF('00 Alimenta'!$B:$B,'00 PDC SP'!$F24,'00 Alimenta'!H:H)","v":0},{"$f":"SUMIF('00 Alimenta'!$B:$B,'00 PDC SP'!$F24,'00 Alimenta'!I:I)","v":0},0]
["AAA390","AA","AAA390",41,"","0101020402","Impianti generici",{"$f":"SUMIF('00 Alimenta'!$B:$B,'00 PDC SP'!$F25,'00 Alimenta'!D:D)","v":0},{"$f":"SUMIF('00 Alimenta'!$B:$B,'00 PDC SP'!$F25,'00 Alimenta'!E:E)","v":0},{"$f":"SUMIF('00 Alimenta'!$B:$B,'00 PDC SP'!$F25,'00 Alimenta'!F:F)","v":0},{"$f":"SUMIF('00 Alimenta'!$B:$B,'00 PDC SP'!$F25,'00 Alimenta'!G:G)","v":0},{"$f":"SUMIF('00 Alimenta'!$B:$B,'00 PDC SP'!$F25,'00 Alimenta'!H:H)","v":0},{"$f":"SUMIF('00 Alimenta'!$B:$B,'00 PDC SP'!$F25,'00 Alimenta'!I:I)","v":0},0]
["AAA390","AA","AAA390",41,"","0101020403","Macchinari sanitari",{"$f":"SUMIF('00 Alimenta'!$B:$B,'00 PDC SP'!$F26,'00 Alimenta'!D:D)","v":0},{"$f":"SUMIF('00 Alimenta'!$B:$B,'00 PDC SP'!$F26,'00 Alimenta'!E:E)","v":0},{"$f":"SUMIF('00 Alimenta'!$B:$B,'00 PDC SP'!$F26,'00 Alimenta'!F:F)","v":0},{"$f":"SUMIF('00 Alimenta'!$B:$B,'00 PDC SP'!$F26,'00 Alimenta'!G:G)","v":0},{"$f":"SUMIF('00 Alimenta'!$B:$B,'00 PDC SP'!$F26,'00 Alimenta'!H:H)","v":0},{"$f":"SUMIF('00 Alimenta'!$B:$B,'00 PDC SP'!$F26,'00 Alimenta'!I:I)","v":0},0]
["AAA390","AA","AAA390",41,"","0101020404","Macchinari generici",{"$f":"SUMIF('00 Alimenta'!$B:$B,'00 PDC SP'!$F27,'00 Alimenta'!D:D)","v":6166777.5300000003},{"$f":"SUMIF('00 Alimenta'!$B:$B,'00 PDC SP'!$F27,'00 Alimenta'!E:E)","v":653192.51},{"$f":"SUMIF('00 Alimenta'!$B:$B,'00 PDC SP'!$F27,'00 Alimenta'!F:F)","v":17647.73},{"$f":"SUMIF('00 Alimenta'!$B:$B,'00 PDC SP'!$F27,'00 Alimenta'!G:G)","v":6802322.3099999996},{"$f":"SUMIF('00 Alimenta'!$B:$B,'00 PDC SP'!$F27,'00 Alimenta'!H:H)","v":456581.73},{"$f":"SUMIF('00 Alimenta'!$B:$B,'00 PDC SP'!$F27,'00 Alimenta'!I:I)","v":56990.8},7201913.2399999993]
["AAA390","AA","AAA390",41,"","0101020405","Impianti e macchinari < 516 euro",{"$f":"SUMIF('00 Alimenta'!$B:$B,'00 PDC SP'!$F28,'00 Alimenta'!D:D)","v":0},{"$f":"SUMIF('00 Alimenta'!$B:$B,'00 PDC SP'!$F28,'00 Alimenta'!E:E)","v":0},{"$f":"SUMIF('00 Alimenta'!$B:$B,'00 PDC SP'!$F28,'00 Alimenta'!F:F)","v":0},{"$f":"SUMIF('00 Alimenta'!$B:$B,'00 PDC SP'!$F28,'00 Alimenta'!G:G)","v":0},{"$f":"SUMIF('00 Alimenta'!$B:$B,'00 PDC SP'!$F28,'00 Alimenta'!H:H)","v":0},{"$f":"SUMIF('00 Alimenta'!$B:$B,'00 PDC SP'!$F28,'00 Alimenta'!I:I)","v":0},0]
["AAA420","AA","AAA420",42,"","0101020501","Attrezzature sanitarie e scientifiche",{"$f":"SUMIF('00 Alimenta'!$B:$B,'00 PDC SP'!$F29,'00 Alimenta'!D:D)","v":0},{"$f":"SUMIF('00 Alimenta'!$B:$B,'00 PDC SP'!$F29,'00 Alimenta'!E:E)","v":0},{"$f":"SUMIF('00 Alimenta'!$B:$B,'00 PDC SP'!$F29,'00 Alimenta'!F:F)","v":0},{"$f":"SUMIF('00 Alimenta'!$B:$B,'00 PDC SP'!$F29,'00 Alimenta'!G:G)","v":0},{"$f":"SUMIF('00 Alimenta'!$B:$B,'00 PDC SP'!$F29,'00 Alimenta'!H:H)","v":0},{"$f":"SUMIF('00 Alimenta'!$B:$B,'00 PDC SP'!$F29,'00 Alimenta'!I:I)","v":0},0]
["AAA420","AA","AAA420",42,"","0101020502","Attrezzature generiche",{"$f":"SUMIF('00 Alimenta'!$B:$B,'00 PDC SP'!$F30,'00 Alimenta'!D:D)","v":84717848.540000007},{"$f":"SUMIF('00 Alimenta'!$B:$B,'00 PDC SP'!$F30,'00 Alimenta'!E:E)","v":4303427.6100000003},{"$f":"SUMIF('00 Alimenta'!$B:$B,'00 PDC SP'!$F30,'00 Alimenta'!F:F)","v":5885338.1699999999},{"$f":"SUMIF('00 Alimenta'!$B:$B,'00 PDC SP'!$F30,'00 Alimenta'!G:G)","v":83135937.980000004},{"$f":"SUMIF('00 Alimenta'!$B:$B,'00 PDC SP'!$F30,'00 Alimenta'!H:H)","v":2217999.9300000002},{"$f":"SUMIF('00 Alimenta'!$B:$B,'00 PDC SP'!$F30,'00 Alimenta'!I:I)","v":996227.99},84357709.920000017]
["AAA420","AA","AAA420",42,"","0101020503","Attrezzature sanitarie e scientifiche < 516 euro",{"$f":"SUMIF('00 Alimenta'!$B:$B,'00 PDC SP'!$F31,'00 Alimenta'!D:D)","v":0},{"$f":"SUMIF('00 Alimenta'!$B:$B,'00 PDC SP'!$F31,'00 Alimenta'!E:E)","v":0},{"$f":"SUMIF('00 Alimenta'!$B:$B,'00 PDC SP'!$F31,'00 Alimenta'!F:F)","v":0},{"$f":"SUMIF('00 Alimenta'!$B:$B,'00 PDC SP'!$F31,'00 Alimenta'!G:G)","v":0},{"$f":"SUMIF('00 Alimenta'!$B:$B,'00 PDC SP'!$F31,'00 Alimenta'!H:H)","v":0},{"$f":"SUMIF('00 Alimenta'!$B:$B,'00 PDC SP'!$F31,'00 Alimenta'!I:I)","v":0},0]
["AAA450","AA","AAA450",43,"","0101020601","Mobili e arredi",{"$f":"SUMIF('00 Alimenta'!$B:$B,'00 PDC SP'!$F32,'00 Alimenta'!D:D)","v":10597975.65},{"$f":"SUMIF('00 Alimenta'!$B:$B,'00 PDC SP'!$F32,'00 Alimenta'!E:E)","v":339281.25},{"$f":"SUMIF('00 Alimenta'!$B:$B,'00 PDC SP'!$F32,'00 Alimenta'!F:F)","v":91861.65},{"$f":"SUMIF('00 Alimenta'!$B:$B,'00 PDC SP'!$F32,'00 Alimenta'!G:G)","v":10845395.25},{"$f":"SUMIF('00 Alimenta'!$B:$B,'00 PDC SP'!$F32,'00 Alimenta'!H:H)","v":233981.82},{"$f":"SUMIF('00 Alimenta'!$B:$B,'00 PDC SP'!$F32,'00 Alimenta'!I:I)","v":30493.53},11048883.540000001]
["AAA450","AA","AAA450",43,"","0101020602","Mobili d'ufficio",{"$f":"SUMIF('00 Alimenta'!$B:$B,'00 PDC SP'!$F33,'00 Alimenta'!D:D)","v":0},{"$f":"SUMIF('00 Alimenta'!$B:$B,'00 PDC SP'!$F33,'00 Alimenta'!E:E)","v":0},{"$f":"SUMIF('00 Alimenta'!$B:$B,'00 PDC SP'!$F33,'00 Alimenta'!F:F)","v":0},{"$f":"SUMIF('00 Alimenta'!$B:$B,'00 PDC SP'!$F33,'00 Alimenta'!G:G)","v":0},{"$f":"SUMIF('00 Alimenta'!$B:$B,'00 PDC SP'!$F33,'00 Alimenta'!H:H)","v":0},{"$f":"SUMIF('00 Alimenta'!$B:$B,'00 PDC SP'!$F33,'00 Alimenta'!I:I)","v":0},0]
["AAA450","AA","AAA450",43,"","0101020603","Mobili d'ufficio < 516 euro",{"$f":"SUMIF('00 Alimenta'!$B:$B,'00 PDC SP'!$F34,'00 Alimenta'!D:D)","v":0},{"$f":"SUMIF('00 Alimenta'!$B:$B,'00 PDC SP'!$F34,'00 Alimenta'!E:E)","v":0},{"$f":"SUMIF('00 Alimenta'!$B:$B,'00 PDC SP'!$F34,'00 Alimenta'!F:F)","v":0},{"$f":"SUMIF('00 Alimenta'!$B:$B,'00 PDC SP'!$F34,'00 Alimenta'!G:G)","v":0},{"$f":"SUMIF('00 Alimenta'!$B:$B,'00 PDC SP'!$F34,'00 Alimenta'!H:H)","v":0},{"$f":"SUMIF('00 Alimenta'!$B:$B,'00 PDC SP'!$F34,'00 Alimenta'!I:I)","v":0},0]
["AAA480","AA","AAA480",44,"","0101020701","Elicotteri",{"$f":"SUMIF('00 Alimenta'!$B:$B,'00 PDC SP'!$F35,'00 Alimenta'!D:D)","v":0},{"$f":"SUMIF('00 Alimenta'!$B:$B,'00 PDC SP'!$F35,'00 Alimenta'!E:E)","v":0},{"$f":"SUMIF('00 Alimenta'!$B:$B,'00 PDC SP'!$F35,'00 Alimenta'!F:F)","v":0},{"$f":"SUMIF('00 Alimenta'!$B:$B,'00 PDC SP'!$F35,'00 Alimenta'!G:G)","v":0},{"$f":"SUMIF('00 Alimenta'!$B:$B,'00 PDC SP'!$F35,'00 Alimenta'!H:H)","v":0},{"$f":"SUMIF('00 Alimenta'!$B:$B,'00 PDC SP'!$F35,'00 Alimenta'!I:I)","v":0},0]
["AAA480","AA","AAA480",44,"","0101020702","Ambulanze ",{"$f":"SUMIF('00 Alimenta'!$B:$B,'00 PDC SP'!$F36,'00 Alimenta'!D:D)","v":0},{"$f":"SUMIF('00 Alimenta'!$B:$B,'00 PDC SP'!$F36,'00 Alimenta'!E:E)","v":73346.399999999994},{"$f":"SUMIF('00 Alimenta'!$B:$B,'00 PDC SP'!$F36,'00 Alimenta'!F:F)","v":0},{"$f":"SUMIF('00 Alimenta'!$B:$B,'00 PDC SP'!$F36,'00 Alimenta'!G:G)","v":73346.399999999994},{"$f":"SUMIF('00 Alimenta'!$B:$B,'00 PDC SP'!$F36,'00 Alimenta'!H:H)","v":429708.9},{"$f":"SUMIF('00 Alimenta'!$B:$B,'00 PDC SP'!$F36,'00 Alimenta'!I:I)","v":0},503055.30000000005]
["AAA480","AA","AAA480",44,"","0101020703","Altri mezzi di trasporto",{"$f":"SUMIF('00 Alimenta'!$B:$B,'00 PDC SP'!$F37,'00 Alimenta'!D:D)","v":1962988.77},{"$f":"SUMIF('00 Alimenta'!$B:$B,'00 PDC SP'!$F37,'00 Alimenta'!E:E)","v":19850.57},{"$f":"SUMIF('00 Alimenta'!$B:$B,'00 PDC SP'!$F37,'00 Alimenta'!F:F)","v":149825.10999999999},{"$f":"SUMIF('00 Alimenta'!$B:$B,'00 PDC SP'!$F37,'00 Alimenta'!G:G)","v":1833014.23},{"$f":"SUMIF('00 Alimenta'!$B:$B,'00 PDC SP'!$F37,'00 Alimenta'!H:H)","v":63027.09},{"$f":"SUMIF('00 Alimenta'!$B:$B,'00 PDC SP'!$F37,'00 Alimenta'!I:I)","v":0},1896041.32]
["AAA500","AA","AAA500",45,"","0101020801","Oggetti d'arte",{"$f":"SUMIF('00 Alimenta'!$B:$B,'00 PDC SP'!$F38,'00 Alimenta'!D:D)","v":0},{"$f":"SUMIF('00 Alimenta'!$B:$B,'00 PDC SP'!$F38,'00 Alimenta'!E:E)","v":0},{"$f":"SUMIF('00 Alimenta'!$B:$B,'00 PDC SP'!$F38,'00 Alimenta'!F:F)","v":0},{"$f":"SUMIF('00 Alimenta'!$B:$B,'00 PDC SP'!$F38,'00 Alimenta'!G:G)","v":0},{"$f":"SUMIF('00 Alimenta'!$B:$B,'00 PDC SP'!$F38,'00 Alimenta'!H:H)","v":0},{"$f":"SUMIF('00 Alimenta'!$B:$B,'00 PDC SP'!$F38,'00 Alimenta'!I:I)","v":0},0]
["AAA520","AA","AAA520",45,"","0101020901","Attrezzature e macchine d'ufficio",{"$f":"SUMIF('00 Alimenta'!$B:$B,'00 PDC SP'!$F39,'00 Alimenta'!D:D)","v":0},{"$f":"SUMIF('00 Alimenta'!$B:$B,'00 PDC SP'!$F39,'00 Alimenta'!E:E)","v":0},{"$f":"SUMIF('00 Alimenta'!$B:$B,'00 PDC SP'!$F39,'00 Alimenta'!F:F)","v":0},{"$f":"SUMIF('00 Alimenta'!$B:$B,'00 PDC SP'!$F39,'00 Alimenta'!G:G)","v":0},{"$f":"SUMIF('00 Alimenta'!$B:$B,'00 PDC SP'!$F39,'00 Alimenta'!H:H)","v":0},{"$f":"SUMIF('00 Alimenta'!$B:$B,'00 PDC SP'!$F39,'00 Alimenta'!I:I)","v":0},0]
["AAA520","AA","AAA520",45,"","0101020902","Attrezzature tecnico - economali",{"$f":"SUMIF('00 Alimenta'!$B:$B,'00 PDC SP'!$F40,'00 Alimenta'!D:D)","v":0},{"$f":"SUMIF('00 Alimenta'!$B:$B,'00 PDC SP'!$F40,'00 Alimenta'!E:E)","v":0},{"$f":"SUMIF('00 Alimenta'!$B:$B,'00 PDC SP'!$F40,'00 Alimenta'!F:F)","v":0},{"$f":"SUMIF('00 Alimenta'!$B:$B,'00 PDC SP'!$F40,'00 Alimenta'!G:G)","v":0},{"$f":"SUMIF('00 Alimenta'!$B:$B,'00 PDC SP'!$F40,'00 Alimenta'!H:H)","v":0},{"$f":"SUMIF('00 Alimenta'!$B:$B,'00 PDC SP'!$F40,'00 Alimenta'!I:I)","v":0},0]
["AAA520","AA","AAA520",45,"","0101020903","Computer e macchinari elettronici",{"$f":"SUMIF('00 Alimenta'!$B:$B,'00 PDC SP'!$F41,'00 Alimenta'!D:D)","v":5490053.4100000001},{"$f":"SUMIF('00 Alimenta'!$B:$B,'00 PDC SP'!$F41,'00 Alimenta'!E:E)","v":253573.24},{"$f":"SUMIF('00 Alimenta'!$B:$B,'00 PDC SP'!$F41,'00 Alimenta'!F:F)","v":327240.58},{"$f":"SUMIF('00 Alimenta'!$B:$B,'00 PDC SP'!$F41,'00 Alimenta'!G:G)","v":5416386.0700000003},{"$f":"SUMIF('00 Alimenta'!$B:$B,'00 PDC SP'!$F41,'00 Alimenta'!H:H)","v":355649.06},{"$f":"SUMIF('00 Alimenta'!$B:$B,'00 PDC SP'!$F41,'00 Alimenta'!I:I)","v":616.61},5771418.5199999996]
["AAA520","AA","AAA520",45,"","0101020904","Altri beni materiali",{"$f":"SUMIF('00 Alimenta'!$B:$B,'00 PDC SP'!$F42,'00 Alimenta'!D:D)","v":427941.57},{"$f":"SUMIF('00 Alimenta'!$B:$B,'00 PDC SP'!$F42,'00 Alimenta'!E:E)","v":14224.53},{"$f":"SUMIF('00 Alimenta'!$B:$B,'00 PDC SP'!$F42,'00 Alimenta'!F:F)","v":3249.6},{"$f":"SUMIF('00 Alimenta'!$B:$B,'00 PDC SP'!$F42,'00 Alimenta'!G:G)","v":438916.5},{"$f":"SUMIF('00 Alimenta'!$B:$B,'00 PDC SP'!$F42,'00 Alimenta'!H:H)","v":8647.6},{"$f":"SUMIF('00 Alimenta'!$B:$B,'00 PDC SP'!$F42,'00 Alimenta'!I:I)","v":651},446913.1]
["AAA520","AA","AAA520",45,"","0101020905","Altri beni < 516 euro",{"$f":"SUMIF('00 Alimenta'!$B:$B,'00 PDC SP'!$F43,'00 Alimenta'!D:D)","v":0},{"$f":"SUMIF('00 Alimenta'!$B:$B,'00 PDC SP'!$F43,'00 Alimenta'!E:E)","v":0},{"$f":"SUMIF('00 Alimenta'!$B:$B,'00 PDC SP'!$F43,'00 Alimenta'!F:F)","v":0},{"$f":"SUMIF('00 Alimenta'!$B:$B,'00 PDC SP'!$F43,'00 Alimenta'!G:G)","v":0},{"$f":"SUMIF('00 Alimenta'!$B:$B,'00 PDC SP'!$F43,'00 Alimenta'!H:H)","v":0},{"$f":"SUMIF('00 Alimenta'!$B:$B,'00 PDC SP'!$F43,'00 Alimenta'!I:I)","v":0},0]
["AAA540","AA","AAA540",45,"","0101021001","Fabbricati in costruzione",{"$f":"SUMIF('00 Alimenta'!$B:$B,'00 PDC SP'!$F44,'00 Alimenta'!D:D)","v":9470852.1400000006},{"$f":"SUMIF('00 Alimenta'!$B:$B,'00 PDC SP'!$F44,'00 Alimenta'!E:E)","v":1449834.4},{"$f":"SUMIF('00 Alimenta'!$B:$B,'00 PDC SP'!$F44,'00 Alimenta'!F:F)","v":2396699.1800000002},{"$f":"SUMIF('00 Alimenta'!$B:$B,'00 PDC SP'!$F44,'00 Alimenta'!G:G)","v":8523987.3599999994},{"$f":"SUMIF('00 Alimenta'!$B:$B,'00 PDC SP'!$F44,'00 Alimenta'!H:H)","v":2001338.47},{"$f":"SUMIF('00 Alimenta'!$B:$B,'00 PDC SP'!$F44,'00 Alimenta'!I:I)","v":31550.43},10493775.4]
["AAA540","AA","AAA540",45,"","0101021002","Impianti e macchinari in costruzione",{"$f":"SUMIF('00 Alimenta'!$B:$B,'00 PDC SP'!$F45,'00 Alimenta'!D:D)","v":0},{"$f":"SUMIF('00 Alimenta'!$B:$B,'00 PDC SP'!$F45,'00 Alimenta'!E:E)","v":0},{"$f":"SUMIF('00 Alimenta'!$B:$B,'00 PDC SP'!$F45,'00 Alimenta'!F:F)","v":0},{"$f":"SUMIF('00 Alimenta'!$B:$B,'00 PDC SP'!$F45,'00 Alimenta'!G:G)","v":0},{"$f":"SUMIF('00 Alimenta'!$B:$B,'00 PDC SP'!$F45,'00 Alimenta'!H:H)","v":0},{"$f":"SUMIF('00 Alimenta'!$B:$B,'00 PDC SP'!$F45,'00 Alimenta'!I:I)","v":0},0]
["AAA540","AA","AAA540",45,"","0101021003","Attrezzature sanitarie e scientifiche in costruzione",{"$f":"SUMIF('00 Alimenta'!$B:$B,'00 PDC SP'!$F46,'00 Alimenta'!D:D)","v":0},{"$f":"SUMIF('00 Alimenta'!$B:$B,'00 PDC SP'!$F46,'00 Alimenta'!E:E)","v":0},{"$f":"SUMIF('00 Alimenta'!$B:$B,'00 PDC SP'!$F46,'00 Alimenta'!F:F)","v":0},{"$f":"SUMIF('00 Alimenta'!$B:$B,'00 PDC SP'!$F46,'00 Alimenta'!G:G)","v":0},{"$f":"SUMIF('00 Alimenta'!$B:$B,'00 PDC SP'!$F46,'00 Alimenta'!H:H)","v":0},{"$f":"SUMIF('00 Alimenta'!$B:$B,'00 PDC SP'!$F46,'00 Alimenta'!I:I)","v":0},0]
["AAA540","AA","AAA540",45,"","0101021004","Altre immobilizzazioni materiali in costruzione",{"$f":"SUMIF('00 Alimenta'!$B:$B,'00 PDC SP'!$F47,'00 Alimenta'!D:D)","v":0},{"$f":"SUMIF('00 Alimenta'!$B:$B,'00 PDC SP'!$F47,'00 Alimenta'!E:E)","v":0},{"$f":"SUMIF('00 Alimenta'!$B:$B,'00 PDC SP'!$F47,'00 Alimenta'!F:F)","v":0},{"$f":"SUMIF('00 Alimenta'!$B:$B,'00 PDC SP'!$F47,'00 Alimenta'!G:G)","v":0},{"$f":"SUMIF('00 Alimenta'!$B:$B,'00 PDC SP'!$F47,'00 Alimenta'!H:H)","v":0},{"$f":"SUMIF('00 Alimenta'!$B:$B,'00 PDC SP'!$F47,'00 Alimenta'!I:I)","v":0},0]
["AAA540","AA","AAA540",45,"","0101021005","Acconti su future acquisizioni di immobilizzazioni materiali",{"$f":"SUMIF('00 Alimenta'!$B:$B,'00 PDC SP'!$F48,'00 Alimenta'!D:D)","v":1527100.43},{"$f":"SUMIF('00 Alimenta'!$B:$B,'00 PDC SP'!$F48,'00 Alimenta'!E:E)","v":66213.3},{"$f":"SUMIF('00 Alimenta'!$B:$B,'00 PDC SP'!$F48,'00 Alimenta'!F:F)","v":1527100.33},{"$f":"SUMIF('00 Alimenta'!$B:$B,'00 PDC SP'!$F48,'00 Alimenta'!G:G)","v":66213.399999999994},{"$f":"SUMIF('00 Alimenta'!$B:$B,'00 PDC SP'!$F48,'00 Alimenta'!H:H)","v":103224.2},{"$f":"SUMIF('00 Alimenta'!$B:$B,'00 PDC SP'!$F48,'00 Alimenta'!I:I)","v":66591.5},102846.09999999998]
["AAA660","AA","AAA660",46,"","0101030101","Crediti finanziari v/Stato",{"$f":"SUMIF('00 Alimenta'!$B:$B,'00 PDC SP'!$F49,'00 Alimenta'!D:D)","v":0},{"$f":"SUMIF('00 Alimenta'!$B:$B,'00 PDC SP'!$F49,'00 Alimenta'!E:E)","v":0},{"$f":"SUMIF('00 Alimenta'!$B:$B,'00 PDC SP'!$F49,'00 Alimenta'!F:F)","v":0},{"$f":"SUMIF('00 Alimenta'!$B:$B,'00 PDC SP'!$F49,'00 Alimenta'!G:G)","v":0},{"$f":"SUMIF('00 Alimenta'!$B:$B,'00 PDC SP'!$F49,'00 Alimenta'!H:H)","v":0},{"$f":"SUMIF('00 Alimenta'!$B:$B,'00 PDC SP'!$F49,'00 Alimenta'!I:I)","v":0},0]
["AAA670","AA","AAA670",46,"","0101030201","Crediti finanziari v/Regione",{"$f":"SUMIF('00 Alimenta'!$B:$B,'00 PDC SP'!$F50,'00 Alimenta'!D:D)","v":0},{"$f":"SUMIF('00 Alimenta'!$B:$B,'00 PDC SP'!$F50,'00 Alimenta'!E:E)","v":0},{"$f":"SUMIF('00 Alimenta'!$B:$B,'00 PDC SP'!$F50,'00 Alimenta'!F:F)","v":0},{"$f":"SUMIF('00 Alimenta'!$B:$B,'00 PDC SP'!$F50,'00 Alimenta'!G:G)","v":0},{"$f":"SUMIF('00 Alimenta'!$B:$B,'00 PDC SP'!$F50,'00 Alimenta'!H:H)","v":0},{"$f":"SUMIF('00 Alimenta'!$B:$B,'00 PDC SP'!$F50,'00 Alimenta'!I:I)","v":0},0]
["AAA680","AA","AAA680",46,"","0101030301","Crediti finanziari v/imprese controllate",{"$f":"SUMIF('00 Alimenta'!$B:$B,'00 PDC SP'!$F51,'00 Alimenta'!D:D)","v":0},{"$f":"SUMIF('00 Alimenta'!$B:$B,'00 PDC SP'!$F51,'00 Alimenta'!E:E)","v":0},{"$f":"SUMIF('00 Alimenta'!$B:$B,'00 PDC SP'!$F51,'00 Alimenta'!F:F)","v":0},{"$f":"SUMIF('00 Alimenta'!$B:$B,'00 PDC SP'!$F51,'00 Alimenta'!G:G)","v":0},{"$f":"SUMIF('00 Alimenta'!$B:$B,'00 PDC SP'!$F51,'00 Alimenta'!H:H)","v":0},{"$f":"SUMIF('00 Alimenta'!$B:$B,'00 PDC SP'!$F51,'00 Alimenta'!I:I)","v":0},0]
["AAA680","AA","AAA680",46,"","0101030302","Crediti finanziari v/imprese collegate",{"$f":"SUMIF('00 Alimenta'!$B:$B,'00 PDC SP'!$F52,'00 Alimenta'!D:D)","v":0},{"$f":"SUMIF('00 Alimenta'!$B:$B,'00 PDC SP'!$F52,'00 Alimenta'!E:E)","v":0},{"$f":"SUMIF('00 Alimenta'!$B:$B,'00 PDC SP'!$F52,'00 Alimenta'!F:F)","v":0},{"$f":"SUMIF('00 Alimenta'!$B:$B,'00 PDC SP'!$F52,'00 Alimenta'!G:G)","v":0},{"$f":"SUMIF('00 Alimenta'!$B:$B,'00 PDC SP'!$F52,'00 Alimenta'!H:H)","v":0},{"$f":"SUMIF('00 Alimenta'!$B:$B,'00 PDC SP'!$F52,'00 Alimenta'!I:I)","v":0},0]
["AAA690","AA","AAA690",46,"","0101030401","Crediti finanziari v/Provincia",{"$f":"SUMIF('00 Alimenta'!$B:$B,'00 PDC SP'!$F53,'00 Alimenta'!D:D)","v":0},{"$f":"SUMIF('00 Alimenta'!$B:$B,'00 PDC SP'!$F53,'00 Alimenta'!E:E)","v":0},{"$f":"SUMIF('00 Alimenta'!$B:$B,'00 PDC SP'!$F53,'00 Alimenta'!F:F)","v":0},{"$f":"SUMIF('00 Alimenta'!$B:$B,'00 PDC SP'!$F53,'00 Alimenta'!G:G)","v":0},{"$f":"SUMIF('00 Alimenta'!$B:$B,'00 PDC SP'!$F53,'00 Alimenta'!H:H)","v":0},{"$f":"SUMIF('00 Alimenta'!$B:$B,'00 PDC SP'!$F53,'00 Alimenta'!I:I)","v":0},0]
["AAA690","AA","AAA690",46,"","0101030402","Crediti finanziari v/Comuni",{"$f":"SUMIF('00 Alimenta'!$B:$B,'00 PDC SP'!$F54,'00 Alimenta'!D:D)","v":0},{"$f":"SUMIF('00 Alimenta'!$B:$B,'00 PDC SP'!$F54,'00 Alimenta'!E:E)","v":0},{"$f":"SUMIF('00 Alimenta'!$B:$B,'00 PDC SP'!$F54,'00 Alimenta'!F:F)","v":0},{"$f":"SUMIF('00 Alimenta'!$B:$B,'00 PDC SP'!$F54,'00 Alimenta'!G:G)","v":0},{"$f":"SUMIF('00 Alimenta'!$B:$B,'00 PDC SP'!$F54,'00 Alimenta'!H:H)","v":0},{"$f":"SUMIF('00 Alimenta'!$B:$B,'00 PDC SP'!$F54,'00 Alimenta'!I:I)","v":0},0]
["AAA690","AA","AAA690",46,"","0101030403","Crediti finanziari v/altri",{"$f":"SUMIF('00 Alimenta'!$B:$B,'00 PDC SP'!$F55,'00 Alimenta'!D:D)","v":0},{"$f":"SUMIF('00 Alimenta'!$B:$B,'00 PDC SP'!$F55,'00 Alimenta'!E:E)","v":0},{"$f":"SUMIF('00 Alimenta'!$B:$B,'00 PDC SP'!$F55,'00 Alimenta'!F:F)","v":0},{"$f":"SUMIF('00 Alimenta'!$B:$B,'00 PDC SP'!$F55,'00 Alimenta'!G:G)","v":0},{"$f":"SUMIF('00 Alimenta'!$B:$B,'00 PDC SP'!$F55,'00 Alimenta'!H:H)","v":0},{"$f":"SUMIF('00 Alimenta'!$B:$B,'00 PDC SP'!$F55,'00 Alimenta'!I:I)","v":0},0]
["AAA690","AA","AAA690",46,"","0101030404","Depositi cauzionali",{"$f":"SUMIF('00 Alimenta'!$B:$B,'00 PDC SP'!$F56,'00 Alimenta'!D:D)","v":14036.45},{"$f":"SUMIF('00 Alimenta'!$B:$B,'00 PDC SP'!$F56,'00 Alimenta'!E:E)","v":0},{"$f":"SUMIF('00 Alimenta'!$B:$B,'00 PDC SP'!$F56,'00 Alimenta'!F:F)","v":0},{"$f":"SUMIF('00 Alimenta'!$B:$B,'00 PDC SP'!$F56,'00 Alimenta'!G:G)","v":14036.45},{"$f":"SUMIF('00 Alimenta'!$B:$B,'00 PDC SP'!$F56,'00 Alimenta'!H:H)","v":0},{"$f":"SUMIF('00 Alimenta'!$B:$B,'00 PDC SP'!$F56,'00 Alimenta'!I:I)","v":0},14036.45]
["AAA710CN","AA","AAA710",47,"CN","0101030501","Partecipazioni in imprese controllate",{"$f":"SUMIF('00 Alimenta'!$B:$B,'00 PDC SP'!$F57,'00 Alimenta'!D:D)","v":0},{"$f":"SUMIF('00 Alimenta'!$B:$B,'00 PDC SP'!$F57,'00 Alimenta'!E:E)","v":0},{"$f":"SUMIF('00 Alimenta'!$B:$B,'00 PDC SP'!$F57,'00 Alimenta'!F:F)","v":0},{"$f":"SUMIF('00 Alimenta'!$B:$B,'00 PDC SP'!$F57,'00 Alimenta'!G:G)","v":0},{"$f":"SUMIF('00 Alimenta'!$B:$B,'00 PDC SP'!$F57,'00 Alimenta'!H:H)","v":0},{"$f":"SUMIF('00 Alimenta'!$B:$B,'00 PDC SP'!$F57,'00 Alimenta'!I:I)","v":0},0]
["AAA710CL","AA","AAA710",47,"CL","0101030502","Partecipazioni in imprese collegate",{"$f":"SUMIF('00 Alimenta'!$B:$B,'00 PDC SP'!$F58,'00 Alimenta'!D:D)","v":0},{"$f":"SUMIF('00 Alimenta'!$B:$B,'00 PDC SP'!$F58,'00 Alimenta'!E:E)","v":0},{"$f":"SUMIF('00 Alimenta'!$B:$B,'00 PDC SP'!$F58,'00 Alimenta'!F:F)","v":0},{"$f":"SUMIF('00 Alimenta'!$B:$B,'00 PDC SP'!$F58,'00 Alimenta'!G:G)","v":0},{"$f":"SUMIF('00 Alimenta'!$B:$B,'00 PDC SP'!$F58,'00 Alimenta'!H:H)","v":0},{"$f":"SUMIF('00 Alimenta'!$B:$B,'00 PDC SP'!$F58,'00 Alimenta'!I:I)","v":0},0]
["AAA710AI","AA","AAA710",47,"AI","0101030503","Partecipazioni in altre imprese",{"$f":"SUMIF('00 Alimenta'!$B:$B,'00 PDC SP'!$F59,'00 Alimenta'!D:D)","v":0},{"$f":"SUMIF('00 Alimenta'!$B:$B,'00 PDC SP'!$F59,'00 Alimenta'!E:E)","v":0},{"$f":"SUMIF('00 Alimenta'!$B:$B,'00 PDC SP'!$F59,'00 Alimenta'!F:F)","v":0},{"$f":"SUMIF('00 Alimenta'!$B:$B,'00 PDC SP'!$F59,'00 Alimenta'!G:G)","v":0},{"$f":"SUMIF('00 Alimenta'!$B:$B,'00 PDC SP'!$F59,'00 Alimenta'!H:H)","v":0},{"$f":"SUMIF('00 Alimenta'!$B:$B,'00 PDC SP'!$F59,'00 Alimenta'!I:I)","v":0},0]
["AAA730","AA","AAA730",47,"","0101030601","Titoli di Stato",{"$f":"SUMIF('00 Alimenta'!$B:$B,'00 PDC SP'!$F60,'00 Alimenta'!D:D)","v":0},{"$f":"SUMIF('00 Alimenta'!$B:$B,'00 PDC SP'!$F60,'00 Alimenta'!E:E)","v":0},{"$f":"SUMIF('00 Alimenta'!$B:$B,'00 PDC SP'!$F60,'00 Alimenta'!F:F)","v":0},{"$f":"SUMIF('00 Alimenta'!$B:$B,'00 PDC SP'!$F60,'00 Alimenta'!G:G)","v":0},{"$f":"SUMIF('00 Alimenta'!$B:$B,'00 PDC SP'!$F60,'00 Alimenta'!H:H)","v":0},{"$f":"SUMIF('00 Alimenta'!$B:$B,'00 PDC SP'!$F60,'00 Alimenta'!I:I)","v":0},0]
["AAA740","AA","AAA740",47,"","0101030602","Altre Obbligazioni",{"$f":"SUMIF('00 Alimenta'!$B:$B,'00 PDC SP'!$F61,'00 Alimenta'!D:D)","v":0},{"$f":"SUMIF('00 Alimenta'!$B:$B,'00 PDC SP'!$F61,'00 Alimenta'!E:E)","v":0},{"$f":"SUMIF('00 Alimenta'!$B:$B,'00 PDC SP'!$F61,'00 Alimenta'!F:F)","v":0},{"$f":"SUMIF('00 Alimenta'!$B:$B,'00 PDC SP'!$F61,'00 Alimenta'!G:G)","v":0},{"$f":"SUMIF('00 Alimenta'!$B:$B,'00 PDC SP'!$F61,'00 Alimenta'!H:H)","v":0},{"$f":"SUMIF('00 Alimenta'!$B:$B,'00 PDC SP'!$F61,'00 Alimenta'!I:I)","v":0},0]
["AAA750","AA","AAA750",47,"","0101030603","Titoli azionari quotati in Borsa",{"$f":"SUMIF('00 Alimenta'!$B:$B,'00 PDC SP'!$F62,'00 Alimenta'!D:D)","v":0},{"$f":"SUMIF('00 Alimenta'!$B:$B,'00 PDC SP'!$F62,'00 Alimenta'!E:E)","v":0},{"$f":"SUMIF('00 Alimenta'!$B:$B,'00 PDC SP'!$F62,'00 Alimenta'!F:F)","v":0},{"$f":"SUMIF('00 Alimenta'!$B:$B,'00 PDC SP'!$F62,'00 Alimenta'!G:G)","v":0},{"$f":"SUMIF('00 Alimenta'!$B:$B,'00 PDC SP'!$F62,'00 Alimenta'!H:H)","v":0},{"$f":"SUMIF('00 Alimenta'!$B:$B,'00 PDC SP'!$F62,'00 Alimenta'!I:I)","v":0},0]
["AAA760","AA","AAA760",47,"","0101030604","Titoli diversi",{"$f":"SUMIF('00 Alimenta'!$B:$B,'00 PDC SP'!$F63,'00 Alimenta'!D:D)","v":0},{"$f":"SUMIF('00 Alimenta'!$B:$B,'00 PDC SP'!$F63,'00 Alimenta'!E:E)","v":0},{"$f":"SUMIF('00 Alimenta'!$B:$B,'00 PDC SP'!$F63,'00 Alimenta'!F:F)","v":0},{"$f":"SUMIF('00 Alimenta'!$B:$B,'00 PDC SP'!$F63,'00 Alimenta'!G:G)","v":0},{"$f":"SUMIF('00 Alimenta'!$B:$B,'00 PDC SP'!$F63,'00 Alimenta'!H:H)","v":0},{"$f":"SUMIF('00 Alimenta'!$B:$B,'00 PDC SP'!$F63,'00 Alimenta'!I:I)","v":0},0]
["ABA020","AB","ABA020",31,"","0102010101","Medicinali con AIC",{"$f":"SUMIF('00 Alimenta'!$B:$B,'00 PDC SP'!$F64,'00 Alimenta'!D:D)","v":4388956},{"$f":"SUMIF('00 Alimenta'!$B:$B,'00 PDC SP'!$F64,'00 Alimenta'!E:E)","v":9637765.4000000004},{"$f":"SUMIF('00 Alimenta'!$B:$B,'00 PDC SP'!$F64,'00 Alimenta'!F:F)","v":4388956},{"$f":"SUMIF('00 Alimenta'!$B:$B,'00 PDC SP'!$F64,'00 Alimenta'!G:G)","v":9637765.4000000004},{"$f":"SUMIF('00 Alimenta'!$B:$B,'00 PDC SP'!$F64,'00 Alimenta'!H:H)","v":8982739.9299999997},{"$f":"SUMIF('00 Alimenta'!$B:$B,'00 PDC SP'!$F64,'00 Alimenta'!I:I)","v":9637765.4000000004},8982739.9299999978]
["ABA020","AB","ABA020",31,"","0102010102","Soluzioni infusionali con AIC",{"$f":"SUMIF('00 Alimenta'!$B:$B,'00 PDC SP'!$F65,'00 Alimenta'!D:D)","v":1398.76},{"$f":"SUMIF('00 Alimenta'!$B:$B,'00 PDC SP'!$F65,'00 Alimenta'!E:E)","v":4720.8100000000004},{"$f":"SUMIF('00 Alimenta'!$B:$B,'00 PDC SP'!$F65,'00 Alimenta'!F:F)","v":1398.76},{"$f":"SUMIF('00 Alimenta'!$B:$B,'00 PDC SP'!$F65,'00 Alimenta'!G:G)","v":4720.8100000000004},{"$f":"SUMIF('00 Alimenta'!$B:$B,'00 PDC SP'!$F65,'00 Alimenta'!H:H)","v":299.85000000000002},{"$f":"SUMIF('00 Alimenta'!$B:$B,'00 PDC SP'!$F65,'00 Alimenta'!I:I)","v":4720.8100000000004},299.85000000000036]
["ABA020","AB","ABA020",31,"","0102010103","Ossigeno con AIC",{"$f":"SUMIF('00 Alimenta'!$B:$B,'00 PDC SP'!$F66,'00 Alimenta'!D:D)","v":1633.04},{"$f":"SUMIF('00 Alimenta'!$B:$B,'00 PDC SP'!$F66,'00 Alimenta'!E:E)","v":1919.27},{"$f":"SUMIF('00 Alimenta'!$B:$B,'00 PDC SP'!$F66,'00 Alimenta'!F:F)","v":1633.04},{"$f":"SUMIF('00 Alimenta'!$B:$B,'00 PDC SP'!$F66,'00 Alimenta'!G:G)","v":1919.27},{"$f":"SUMIF('00 Alimenta'!$B:$B,'00 PDC SP'!$F66,'00 Alimenta'!H:H)","v":0},{"$f":"SUMIF('00 Alimenta'!$B:$B,'00 PDC SP'!$F66,'00 Alimenta'!I:I)","v":1919.27},0]
["ABA020","AB","ABA020",31,"","0102010104","Altri gas medicali con AIC",{"$f":"SUMIF('00 Alimenta'!$B:$B,'00 PDC SP'!$F67,'00 Alimenta'!D:D)","v":9993.4599999999991},{"$f":"SUMIF('00 Alimenta'!$B:$B,'00 PDC SP'!$F67,'00 Alimenta'!E:E)","v":18281.7},{"$f":"SUMIF('00 Alimenta'!$B:$B,'00 PDC SP'!$F67,'00 Alimenta'!F:F)","v":9993.4599999999991},{"$f":"SUMIF('00 Alimenta'!$B:$B,'00 PDC SP'!$F67,'00 Alimenta'!G:G)","v":18281.7},{"$f":"SUMIF('00 Alimenta'!$B:$B,'00 PDC SP'!$F67,'00 Alimenta'!H:H)","v":0},{"$f":"SUMIF('00 Alimenta'!$B:$B,'00 PDC SP'!$F67,'00 Alimenta'!I:I)","v":18281.7},0]
["ABA020","AB","ABA020",31,"","0102010105","Emoderivati con AIC",{"$f":"SUMIF('00 Alimenta'!$B:$B,'00 PDC SP'!$F68,'00 Alimenta'!D:D)","v":415087.34},{"$f":"SUMIF('00 Alimenta'!$B:$B,'00 PDC SP'!$F68,'00 Alimenta'!E:E)","v":299372.46999999997},{"$f":"SUMIF('00 Alimenta'!$B:$B,'00 PDC SP'!$F68,'00 Alimenta'!F:F)","v":415087.34},{"$f":"SUMIF('00 Alimenta'!$B:$B,'00 PDC SP'!$F68,'00 Alimenta'!G:G)","v":299372.46999999997},{"$f":"SUMIF('00 Alimenta'!$B:$B,'00 PDC SP'!$F68,'00 Alimenta'!H:H)","v":305511.96000000002},{"$f":"SUMIF('00 Alimenta'!$B:$B,'00 PDC SP'!$F68,'00 Alimenta'!I:I)","v":299372.46999999997},305511.95999999996]
["ABA020","AB","ABA020",31,"","0102010106","Medicinali senza AIC",{"$f":"SUMIF('00 Alimenta'!$B:$B,'00 PDC SP'!$F69,'00 Alimenta'!D:D)","v":220505.73},{"$f":"SUMIF('00 Alimenta'!$B:$B,'00 PDC SP'!$F69,'00 Alimenta'!E:E)","v":153849.16},{"$f":"SUMIF('00 Alimenta'!$B:$B,'00 PDC SP'!$F69,'00 Alimenta'!F:F)","v":220505.73},{"$f":"SUMIF('00 Alimenta'!$B:$B,'00 PDC SP'!$F69,'00 Alimenta'!G:G)","v":153849.16},{"$f":"SUMIF('00 Alimenta'!$B:$B,'00 PDC SP'!$F69,'00 Alimenta'!H:H)","v":198124.1},{"$f":"SUMIF('00 Alimenta'!$B:$B,'00 PDC SP'!$F69,'00 Alimenta'!I:I)","v":153849.16},198124.1]
[{"$f":"IF(E70=\"\",C70,C70&E70)","v":"ABA020"},{"$f":"IF(C70=\"PAA220\",\"UT\",LEFT(C70,2))","v":"AB"},"ABA020",31,"","0102010107","Emoderivati di produzione regionale",{"$f":"SUMIF('00 Alimenta'!$B:$B,'00 PDC SP'!$F70,'00 Alimenta'!D:D)","v":0},{"$f":"SUMIF('00 Alimenta'!$B:$B,'00 PDC SP'!$F70,'00 Alimenta'!E:E)","v":0},{"$f":"SUMIF('00 Alimenta'!$B:$B,'00 PDC SP'!$F70,'00 Alimenta'!F:F)","v":0},{"$f":"SUMIF('00 Alimenta'!$B:$B,'00 PDC SP'!$F70,'00 Alimenta'!G:G)","v":0},{"$f":"SUMIF('00 Alimenta'!$B:$B,'00 PDC SP'!$F70,'00 Alimenta'!H:H)","v":0},{"$f":"SUMIF('00 Alimenta'!$B:$B,'00 PDC SP'!$F70,'00 Alimenta'!I:I)","v":0},{"$f":"K70+L70-M70","v":0}]
[{"$f":"IF(E71=\"\",C71,C71&E71)","v":"ABA020"},"AB","ABA020",31,"","0102010108","Farmaci innovativi",{"$f":"SUMIF('00 Alimenta'!$B:$B,'00 PDC SP'!$F71,'00 Alimenta'!D:D)","v":796557.79},{"$f":"SUMIF('00 Alimenta'!$B:$B,'00 PDC SP'!$F71,'00 Alimenta'!E:E)","v":425624.06},{"$f":"SUMIF('00 Alimenta'!$B:$B,'00 PDC SP'!$F71,'00 Alimenta'!F:F)","v":796557.79},{"$f":"SUMIF('00 Alimenta'!$B:$B,'00 PDC SP'!$F71,'00 Alimenta'!G:G)","v":425624.06},{"$f":"SUMIF('00 Alimenta'!$B:$B,'00 PDC SP'!$F71,'00 Alimenta'!H:H)","v":713717.44},{"$f":"SUMIF('00 Alimenta'!$B:$B,'00 PDC SP'!$F71,'00 Alimenta'!I:I)","v":425624.06},{"$f":"K71+L71-M71","v":713717.44}]
["ABA030","AB","ABA030",31,"","0102010201","Sangue ed emocomponenti",{"$f":"SUMIF('00 Alimenta'!$B:$B,'00 PDC SP'!$F72,'00 Alimenta'!D:D)","v":0},{"$f":"SUMIF('00 Alimenta'!$B:$B,'00 PDC SP'!$F72,'00 Alimenta'!E:E)","v":0},{"$f":"SUMIF('00 Alimenta'!$B:$B,'00 PDC SP'!$F72,'00 Alimenta'!F:F)","v":0},{"$f":"SUMIF('00 Alimenta'!$B:$B,'00 PDC SP'!$F72,'00 Alimenta'!G:G)","v":0},{"$f":"SUMIF('00 Alimenta'!$B:$B,'00 PDC SP'!$F72,'00 Alimenta'!H:H)","v":0},{"$f":"SUMIF('00 Alimenta'!$B:$B,'00 PDC SP'!$F72,'00 Alimenta'!I:I)","v":0},0]
["ABA040","AB","ABA040",31,"","0102010301","Strumentazione per bioimmagini e radioterapia",{"$f":"SUMIF('00 Alimenta'!$B:$B,'00 PDC SP'!$F73,'00 Alimenta'!D:D)","v":22325.73},{"$f":"SUMIF('00 Alimenta'!$B:$B,'00 PDC SP'!$F73,'00 Alimenta'!E:E)","v":57070.16},{"$f":"SUMIF('00 Alimenta'!$B:$B,'00 PDC SP'!$F73,'00 Alimenta'!F:F)","v":22325.73},{"$f":"SUMIF('00 Alimenta'!$B:$B,'00 PDC SP'!$F73,'00 Alimenta'!G:G)","v":57070.16},{"$f":"SUMIF('00 Alimenta'!$B:$B,'00 PDC SP'!$F73,'00 Alimenta'!H:H)","v":34041.11},{"$f":"SUMIF('00 Alimenta'!$B:$B,'00 PDC SP'!$F73,'00 Alimenta'!I:I)","v":57070.16},34041.11," "]
["ABA040","AB","ABA040",31,"","0102010302","Materiale per sterilizzazione",{"$f":"SUMIF('00 Alimenta'!$B:$B,'00 PDC SP'!$F74,'00 Alimenta'!D:D)","v":44744.42},{"$f":"SUMIF('00 Alimenta'!$B:$B,'00 PDC SP'!$F74,'00 Alimenta'!E:E)","v":8572.01},{"$f":"SUMIF('00 Alimenta'!$B:$B,'00 PDC SP'!$F74,'00 Alimenta'!F:F)","v":44744.42},{"$f":"SUMIF('00 Alimenta'!$B:$B,'00 PDC SP'!$F74,'00 Alimenta'!G:G)","v":8572.01},{"$f":"SUMIF('00 Alimenta'!$B:$B,'00 PDC SP'!$F74,'00 Alimenta'!H:H)","v":26034.46},{"$f":"SUMIF('00 Alimenta'!$B:$B,'00 PDC SP'!$F74,'00 Alimenta'!I:I)","v":8572.01},26034.46]
["ABA040","AB","ABA040",31,"","0102010303","Dispositivi per chirurgia mini-invasiva ed elettrochirurgia",{"$f":"SUMIF('00 Alimenta'!$B:$B,'00 PDC SP'!$F75,'00 Alimenta'!D:D)","v":191192.48},{"$f":"SUMIF('00 Alimenta'!$B:$B,'00 PDC SP'!$F75,'00 Alimenta'!E:E)","v":237459.44},{"$f":"SUMIF('00 Alimenta'!$B:$B,'00 PDC SP'!$F75,'00 Alimenta'!F:F)","v":191192.48},{"$f":"SUMIF('00 Alimenta'!$B:$B,'00 PDC SP'!$F75,'00 Alimenta'!G:G)","v":237459.44},{"$f":"SUMIF('00 Alimenta'!$B:$B,'00 PDC SP'!$F75,'00 Alimenta'!H:H)","v":231885.55},{"$f":"SUMIF('00 Alimenta'!$B:$B,'00 PDC SP'!$F75,'00 Alimenta'!I:I)","v":237459.44},231885.55]
["ABA040","AB","ABA040",31,"","0102010304","Protesi ortopediche e mezzi per osteosintesi e sintesi tendineo-legamentosa",{"$f":"SUMIF('00 Alimenta'!$B:$B,'00 PDC SP'!$F76,'00 Alimenta'!D:D)","v":156988.5},{"$f":"SUMIF('00 Alimenta'!$B:$B,'00 PDC SP'!$F76,'00 Alimenta'!E:E)","v":125902.79},{"$f":"SUMIF('00 Alimenta'!$B:$B,'00 PDC SP'!$F76,'00 Alimenta'!F:F)","v":156988.5},{"$f":"SUMIF('00 Alimenta'!$B:$B,'00 PDC SP'!$F76,'00 Alimenta'!G:G)","v":125902.79},{"$f":"SUMIF('00 Alimenta'!$B:$B,'00 PDC SP'!$F76,'00 Alimenta'!H:H)","v":125694.46},{"$f":"SUMIF('00 Alimenta'!$B:$B,'00 PDC SP'!$F76,'00 Alimenta'!I:I)","v":125902.79},125694.46]
["ABA040","AB","ABA040",31,"","0102010305","Protesi oculistiche",{"$f":"SUMIF('00 Alimenta'!$B:$B,'00 PDC SP'!$F77,'00 Alimenta'!D:D)","v":21294.52},{"$f":"SUMIF('00 Alimenta'!$B:$B,'00 PDC SP'!$F77,'00 Alimenta'!E:E)","v":28295.8},{"$f":"SUMIF('00 Alimenta'!$B:$B,'00 PDC SP'!$F77,'00 Alimenta'!F:F)","v":21294.52},{"$f":"SUMIF('00 Alimenta'!$B:$B,'00 PDC SP'!$F77,'00 Alimenta'!G:G)","v":28295.8},{"$f":"SUMIF('00 Alimenta'!$B:$B,'00 PDC SP'!$F77,'00 Alimenta'!H:H)","v":106241.44},{"$f":"SUMIF('00 Alimenta'!$B:$B,'00 PDC SP'!$F77,'00 Alimenta'!I:I)","v":28295.8},106241.43999999999]
["ABA040","AB","ABA040",31,"","0102010306","Protesi vascolari e cardiache",{"$f":"SUMIF('00 Alimenta'!$B:$B,'00 PDC SP'!$F78,'00 Alimenta'!D:D)","v":7516.08},{"$f":"SUMIF('00 Alimenta'!$B:$B,'00 PDC SP'!$F78,'00 Alimenta'!E:E)","v":4904.6400000000003},{"$f":"SUMIF('00 Alimenta'!$B:$B,'00 PDC SP'!$F78,'00 Alimenta'!F:F)","v":7516.08},{"$f":"SUMIF('00 Alimenta'!$B:$B,'00 PDC SP'!$F78,'00 Alimenta'!G:G)","v":4904.6400000000003},{"$f":"SUMIF('00 Alimenta'!$B:$B,'00 PDC SP'!$F78,'00 Alimenta'!H:H)","v":3595.95},{"$f":"SUMIF('00 Alimenta'!$B:$B,'00 PDC SP'!$F78,'00 Alimenta'!I:I)","v":4904.6400000000003},3595.95]
["ABA040","AB","ABA040",31,"","0102010307","Altri dispositivi protesici impiantabili e prodotti per osteosintesi",{"$f":"SUMIF('00 Alimenta'!$B:$B,'00 PDC SP'!$F79,'00 Alimenta'!D:D)","v":15680.73},{"$f":"SUMIF('00 Alimenta'!$B:$B,'00 PDC SP'!$F79,'00 Alimenta'!E:E)","v":8142.05},{"$f":"SUMIF('00 Alimenta'!$B:$B,'00 PDC SP'!$F79,'00 Alimenta'!F:F)","v":15680.73},{"$f":"SUMIF('00 Alimenta'!$B:$B,'00 PDC SP'!$F79,'00 Alimenta'!G:G)","v":8142.05},{"$f":"SUMIF('00 Alimenta'!$B:$B,'00 PDC SP'!$F79,'00 Alimenta'!H:H)","v":26339.17},{"$f":"SUMIF('00 Alimenta'!$B:$B,'00 PDC SP'!$F79,'00 Alimenta'!I:I)","v":8142.05},26339.170000000002]
["ABA040","AB","ABA040",31,"","0102010308","Supporti e ausili tecnici per persone disabili",{"$f":"SUMIF('00 Alimenta'!$B:$B,'00 PDC SP'!$F80,'00 Alimenta'!D:D)","v":32718.44},{"$f":"SUMIF('00 Alimenta'!$B:$B,'00 PDC SP'!$F80,'00 Alimenta'!E:E)","v":15277.66},{"$f":"SUMIF('00 Alimenta'!$B:$B,'00 PDC SP'!$F80,'00 Alimenta'!F:F)","v":32718.44},{"$f":"SUMIF('00 Alimenta'!$B:$B,'00 PDC SP'!$F80,'00 Alimenta'!G:G)","v":15277.66},{"$f":"SUMIF('00 Alimenta'!$B:$B,'00 PDC SP'!$F80,'00 Alimenta'!H:H)","v":7705.5},{"$f":"SUMIF('00 Alimenta'!$B:$B,'00 PDC SP'!$F80,'00 Alimenta'!I:I)","v":15277.66},7705.5]
["ABA040","AB","ABA040",31,"","0102010309","Dispositivi per emotrasfusione ed ematologia",{"$f":"SUMIF('00 Alimenta'!$B:$B,'00 PDC SP'!$F81,'00 Alimenta'!D:D)","v":58519.51},{"$f":"SUMIF('00 Alimenta'!$B:$B,'00 PDC SP'!$F81,'00 Alimenta'!E:E)","v":43182.99},{"$f":"SUMIF('00 Alimenta'!$B:$B,'00 PDC SP'!$F81,'00 Alimenta'!F:F)","v":58519.51},{"$f":"SUMIF('00 Alimenta'!$B:$B,'00 PDC SP'!$F81,'00 Alimenta'!G:G)","v":43182.99},{"$f":"SUMIF('00 Alimenta'!$B:$B,'00 PDC SP'!$F81,'00 Alimenta'!H:H)","v":42793.34},{"$f":"SUMIF('00 Alimenta'!$B:$B,'00 PDC SP'!$F81,'00 Alimenta'!I:I)","v":43182.99},42793.339999999989]
["ABA040","AB","ABA040",31,"","0102010310","Dispositivi per dialisi",{"$f":"SUMIF('00 Alimenta'!$B:$B,'00 PDC SP'!$F82,'00 Alimenta'!D:D)","v":78184.86},{"$f":"SUMIF('00 Alimenta'!$B:$B,'00 PDC SP'!$F82,'00 Alimenta'!E:E)","v":349609.43},{"$f":"SUMIF('00 Alimenta'!$B:$B,'00 PDC SP'!$F82,'00 Alimenta'!F:F)","v":78184.86},{"$f":"SUMIF('00 Alimenta'!$B:$B,'00 PDC SP'!$F82,'00 Alimenta'!G:G)","v":349609.43},{"$f":"SUMIF('00 Alimenta'!$B:$B,'00 PDC SP'!$F82,'00 Alimenta'!H:H)","v":414188.42},{"$f":"SUMIF('00 Alimenta'!$B:$B,'00 PDC SP'!$F82,'00 Alimenta'!I:I)","v":349609.43},414188.42]
["ABA040","AB","ABA040",31,"","0102010311","Dispositivi medico-diagnostici in vitro (D.Lgs. 332/2000)",{"$f":"SUMIF('00 Alimenta'!$B:$B,'00 PDC SP'!$F83,'00 Alimenta'!D:D)","v":1482372.12},{"$f":"SUMIF('00 Alimenta'!$B:$B,'00 PDC SP'!$F83,'00 Alimenta'!E:E)","v":1412543.58},{"$f":"SUMIF('00 Alimenta'!$B:$B,'00 PDC SP'!$F83,'00 Alimenta'!F:F)","v":1482372.12},{"$f":"SUMIF('00 Alimenta'!$B:$B,'00 PDC SP'!$F83,'00 Alimenta'!G:G)","v":1412543.58},{"$f":"SUMIF('00 Alimenta'!$B:$B,'00 PDC SP'!$F83,'00 Alimenta'!H:H)","v":1378264.31},{"$f":"SUMIF('00 Alimenta'!$B:$B,'00 PDC SP'!$F83,'00 Alimenta'!I:I)","v":1412543.58},1378264.31]
["ABA040","AB","ABA040",31,"","0102010312","Strumentazione per esplorazioni funzionali ed interventi terapeutici",{"$f":"SUMIF('00 Alimenta'!$B:$B,'00 PDC SP'!$F84,'00 Alimenta'!D:D)","v":270520.31},{"$f":"SUMIF('00 Alimenta'!$B:$B,'00 PDC SP'!$F84,'00 Alimenta'!E:E)","v":349679.38},{"$f":"SUMIF('00 Alimenta'!$B:$B,'00 PDC SP'!$F84,'00 Alimenta'!F:F)","v":270520.31},{"$f":"SUMIF('00 Alimenta'!$B:$B,'00 PDC SP'!$F84,'00 Alimenta'!G:G)","v":349679.38},{"$f":"SUMIF('00 Alimenta'!$B:$B,'00 PDC SP'!$F84,'00 Alimenta'!H:H)","v":395454.2},{"$f":"SUMIF('00 Alimenta'!$B:$B,'00 PDC SP'!$F84,'00 Alimenta'!I:I)","v":349679.38},395454.20000000007]
["ABA040","AB","ABA040",31,"","0102010313","Strumentazione per radiologia diagnostica ed interventistica",{"$f":"SUMIF('00 Alimenta'!$B:$B,'00 PDC SP'!$F85,'00 Alimenta'!D:D)","v":712.51},{"$f":"SUMIF('00 Alimenta'!$B:$B,'00 PDC SP'!$F85,'00 Alimenta'!E:E)","v":971.05},{"$f":"SUMIF('00 Alimenta'!$B:$B,'00 PDC SP'!$F85,'00 Alimenta'!F:F)","v":712.51},{"$f":"SUMIF('00 Alimenta'!$B:$B,'00 PDC SP'!$F85,'00 Alimenta'!G:G)","v":971.05},{"$f":"SUMIF('00 Alimenta'!$B:$B,'00 PDC SP'!$F85,'00 Alimenta'!H:H)","v":888.71},{"$f":"SUMIF('00 Alimenta'!$B:$B,'00 PDC SP'!$F85,'00 Alimenta'!I:I)","v":971.05},888.71]
["ABA040","AB","ABA040",31,"","0102010314","Strumentario chirurgico pluriuso o riusabile",{"$f":"SUMIF('00 Alimenta'!$B:$B,'00 PDC SP'!$F86,'00 Alimenta'!D:D)","v":92097.5},{"$f":"SUMIF('00 Alimenta'!$B:$B,'00 PDC SP'!$F86,'00 Alimenta'!E:E)","v":59941.67},{"$f":"SUMIF('00 Alimenta'!$B:$B,'00 PDC SP'!$F86,'00 Alimenta'!F:F)","v":92097.5},{"$f":"SUMIF('00 Alimenta'!$B:$B,'00 PDC SP'!$F86,'00 Alimenta'!G:G)","v":59941.67},{"$f":"SUMIF('00 Alimenta'!$B:$B,'00 PDC SP'!$F86,'00 Alimenta'!H:H)","v":43416.82},{"$f":"SUMIF('00 Alimenta'!$B:$B,'00 PDC SP'!$F86,'00 Alimenta'!I:I)","v":59941.67},43416.819999999992]
["ABA040","AB","ABA040",31,"","0102010315","Dispositivi protesici impiantabili - vari",{"$f":"SUMIF('00 Alimenta'!$B:$B,'00 PDC SP'!$F87,'00 Alimenta'!D:D)","v":80004.3},{"$f":"SUMIF('00 Alimenta'!$B:$B,'00 PDC SP'!$F87,'00 Alimenta'!E:E)","v":36165.230000000003},{"$f":"SUMIF('00 Alimenta'!$B:$B,'00 PDC SP'!$F87,'00 Alimenta'!F:F)","v":80004.3},{"$f":"SUMIF('00 Alimenta'!$B:$B,'00 PDC SP'!$F87,'00 Alimenta'!G:G)","v":36165.230000000003},{"$f":"SUMIF('00 Alimenta'!$B:$B,'00 PDC SP'!$F87,'00 Alimenta'!H:H)","v":20957.82},{"$f":"SUMIF('00 Alimenta'!$B:$B,'00 PDC SP'!$F87,'00 Alimenta'!I:I)","v":36165.230000000003},20957.82]
["ABA040","AB","ABA040",31,"","0102010316","Dispositivi per sistema artero-venoso",{"$f":"SUMIF('00 Alimenta'!$B:$B,'00 PDC SP'!$F88,'00 Alimenta'!D:D)","v":196661.87},{"$f":"SUMIF('00 Alimenta'!$B:$B,'00 PDC SP'!$F88,'00 Alimenta'!E:E)","v":341902.99},{"$f":"SUMIF('00 Alimenta'!$B:$B,'00 PDC SP'!$F88,'00 Alimenta'!F:F)","v":196661.87},{"$f":"SUMIF('00 Alimenta'!$B:$B,'00 PDC SP'!$F88,'00 Alimenta'!G:G)","v":341902.99},{"$f":"SUMIF('00 Alimenta'!$B:$B,'00 PDC SP'!$F88,'00 Alimenta'!H:H)","v":263899.12},{"$f":"SUMIF('00 Alimenta'!$B:$B,'00 PDC SP'!$F88,'00 Alimenta'!I:I)","v":341902.99},263899.12]
["ABA040","AB","ABA040",31,"","0102010317","Guide per apparato cardiocircolatorio",{"$f":"SUMIF('00 Alimenta'!$B:$B,'00 PDC SP'!$F89,'00 Alimenta'!D:D)","v":16525.53},{"$f":"SUMIF('00 Alimenta'!$B:$B,'00 PDC SP'!$F89,'00 Alimenta'!E:E)","v":51496.86},{"$f":"SUMIF('00 Alimenta'!$B:$B,'00 PDC SP'!$F89,'00 Alimenta'!F:F)","v":16525.53},{"$f":"SUMIF('00 Alimenta'!$B:$B,'00 PDC SP'!$F89,'00 Alimenta'!G:G)","v":51496.86},{"$f":"SUMIF('00 Alimenta'!$B:$B,'00 PDC SP'!$F89,'00 Alimenta'!H:H)","v":54115.43},{"$f":"SUMIF('00 Alimenta'!$B:$B,'00 PDC SP'!$F89,'00 Alimenta'!I:I)","v":51496.86},54115.430000000008]
["ABA040","AB","ABA040",31,"","0102010318","Altri dispositivi per apparato cardiocircolatorio",{"$f":"SUMIF('00 Alimenta'!$B:$B,'00 PDC SP'!$F90,'00 Alimenta'!D:D)","v":123103.54},{"$f":"SUMIF('00 Alimenta'!$B:$B,'00 PDC SP'!$F90,'00 Alimenta'!E:E)","v":192131.49},{"$f":"SUMIF('00 Alimenta'!$B:$B,'00 PDC SP'!$F90,'00 Alimenta'!F:F)","v":123103.54},{"$f":"SUMIF('00 Alimenta'!$B:$B,'00 PDC SP'!$F90,'00 Alimenta'!G:G)","v":192131.49},{"$f":"SUMIF('00 Alimenta'!$B:$B,'00 PDC SP'!$F90,'00 Alimenta'!H:H)","v":209610.57},{"$f":"SUMIF('00 Alimenta'!$B:$B,'00 PDC SP'!$F90,'00 Alimenta'!I:I)","v":192131.49},209610.57]
["ABA040","AB","ABA040",31,"","0102010319","Disinfettanti, antisettici e proteolitici (D.Lgs. 46/97)",{"$f":"SUMIF('00 Alimenta'!$B:$B,'00 PDC SP'!$F91,'00 Alimenta'!D:D)","v":22348.48},{"$f":"SUMIF('00 Alimenta'!$B:$B,'00 PDC SP'!$F91,'00 Alimenta'!E:E)","v":23214.09},{"$f":"SUMIF('00 Alimenta'!$B:$B,'00 PDC SP'!$F91,'00 Alimenta'!F:F)","v":22348.48},{"$f":"SUMIF('00 Alimenta'!$B:$B,'00 PDC SP'!$F91,'00 Alimenta'!G:G)","v":23214.09},{"$f":"SUMIF('00 Alimenta'!$B:$B,'00 PDC SP'!$F91,'00 Alimenta'!H:H)","v":20593.43},{"$f":"SUMIF('00 Alimenta'!$B:$B,'00 PDC SP'!$F91,'00 Alimenta'!I:I)","v":23214.09},20593.430000000004]
["ABA040","AB","ABA040",31,"","0102010320","Dispositivi per apparato gastrointestinale",{"$f":"SUMIF('00 Alimenta'!$B:$B,'00 PDC SP'!$F92,'00 Alimenta'!D:D)","v":83693.42},{"$f":"SUMIF('00 Alimenta'!$B:$B,'00 PDC SP'!$F92,'00 Alimenta'!E:E)","v":108873.9},{"$f":"SUMIF('00 Alimenta'!$B:$B,'00 PDC SP'!$F92,'00 Alimenta'!F:F)","v":83693.42},{"$f":"SUMIF('00 Alimenta'!$B:$B,'00 PDC SP'!$F92,'00 Alimenta'!G:G)","v":108873.9},{"$f":"SUMIF('00 Alimenta'!$B:$B,'00 PDC SP'!$F92,'00 Alimenta'!H:H)","v":108756.84},{"$f":"SUMIF('00 Alimenta'!$B:$B,'00 PDC SP'!$F92,'00 Alimenta'!I:I)","v":108873.9},108756.84]
["ABA040","AB","ABA040",31,"","0102010321","Dispositivi da sutura",{"$f":"SUMIF('00 Alimenta'!$B:$B,'00 PDC SP'!$F93,'00 Alimenta'!D:D)","v":349748.67},{"$f":"SUMIF('00 Alimenta'!$B:$B,'00 PDC SP'!$F93,'00 Alimenta'!E:E)","v":199430.7},{"$f":"SUMIF('00 Alimenta'!$B:$B,'00 PDC SP'!$F93,'00 Alimenta'!F:F)","v":349748.67},{"$f":"SUMIF('00 Alimenta'!$B:$B,'00 PDC SP'!$F93,'00 Alimenta'!G:G)","v":199430.7},{"$f":"SUMIF('00 Alimenta'!$B:$B,'00 PDC SP'!$F93,'00 Alimenta'!H:H)","v":159097.78},{"$f":"SUMIF('00 Alimenta'!$B:$B,'00 PDC SP'!$F93,'00 Alimenta'!I:I)","v":199430.7},159097.77999999997]
["ABA040","AB","ABA040",31,"","0102010322","Dispositivi per sistema nervoso e midollare",{"$f":"SUMIF('00 Alimenta'!$B:$B,'00 PDC SP'!$F94,'00 Alimenta'!D:D)","v":28260.43},{"$f":"SUMIF('00 Alimenta'!$B:$B,'00 PDC SP'!$F94,'00 Alimenta'!E:E)","v":24648.400000000001},{"$f":"SUMIF('00 Alimenta'!$B:$B,'00 PDC SP'!$F94,'00 Alimenta'!F:F)","v":28260.43},{"$f":"SUMIF('00 Alimenta'!$B:$B,'00 PDC SP'!$F94,'00 Alimenta'!G:G)","v":24648.400000000001},{"$f":"SUMIF('00 Alimenta'!$B:$B,'00 PDC SP'!$F94,'00 Alimenta'!H:H)","v":14507.51},{"$f":"SUMIF('00 Alimenta'!$B:$B,'00 PDC SP'!$F94,'00 Alimenta'!I:I)","v":24648.400000000001},14507.510000000002]
["ABA040","AB","ABA040",31,"","0102010323","Dispositivi per odontoiatria, oftalmologoa e otorinolaringoiatria",{"$f":"SUMIF('00 Alimenta'!$B:$B,'00 PDC SP'!$F95,'00 Alimenta'!D:D)","v":71817.279999999999},{"$f":"SUMIF('00 Alimenta'!$B:$B,'00 PDC SP'!$F95,'00 Alimenta'!E:E)","v":77787.69},{"$f":"SUMIF('00 Alimenta'!$B:$B,'00 PDC SP'!$F95,'00 Alimenta'!F:F)","v":71817.279999999999},{"$f":"SUMIF('00 Alimenta'!$B:$B,'00 PDC SP'!$F95,'00 Alimenta'!G:G)","v":77787.69},{"$f":"SUMIF('00 Alimenta'!$B:$B,'00 PDC SP'!$F95,'00 Alimenta'!H:H)","v":74179.94},{"$f":"SUMIF('00 Alimenta'!$B:$B,'00 PDC SP'!$F95,'00 Alimenta'!I:I)","v":77787.69},74179.94]
["ABA040","AB","ABA040",31,"","0102010324","Dispositivi per apparato respiratorio e anestesia",{"$f":"SUMIF('00 Alimenta'!$B:$B,'00 PDC SP'!$F96,'00 Alimenta'!D:D)","v":182238.66},{"$f":"SUMIF('00 Alimenta'!$B:$B,'00 PDC SP'!$F96,'00 Alimenta'!E:E)","v":226521.29},{"$f":"SUMIF('00 Alimenta'!$B:$B,'00 PDC SP'!$F96,'00 Alimenta'!F:F)","v":182238.66},{"$f":"SUMIF('00 Alimenta'!$B:$B,'00 PDC SP'!$F96,'00 Alimenta'!G:G)","v":226521.29},{"$f":"SUMIF('00 Alimenta'!$B:$B,'00 PDC SP'!$F96,'00 Alimenta'!H:H)","v":204390.15},{"$f":"SUMIF('00 Alimenta'!$B:$B,'00 PDC SP'!$F96,'00 Alimenta'!I:I)","v":226521.29},204390.15]
["ABA040","AB","ABA040",31,"","0102010325","Dispositivi di protezione e ausili per incontinenza (D.Lgs. 46/97)",{"$f":"SUMIF('00 Alimenta'!$B:$B,'00 PDC SP'!$F97,'00 Alimenta'!D:D)","v":196921.3},{"$f":"SUMIF('00 Alimenta'!$B:$B,'00 PDC SP'!$F97,'00 Alimenta'!E:E)","v":188552.61},{"$f":"SUMIF('00 Alimenta'!$B:$B,'00 PDC SP'!$F97,'00 Alimenta'!F:F)","v":196921.3},{"$f":"SUMIF('00 Alimenta'!$B:$B,'00 PDC SP'!$F97,'00 Alimenta'!G:G)","v":188552.61},{"$f":"SUMIF('00 Alimenta'!$B:$B,'00 PDC SP'!$F97,'00 Alimenta'!H:H)","v":194247.26},{"$f":"SUMIF('00 Alimenta'!$B:$B,'00 PDC SP'!$F97,'00 Alimenta'!I:I)","v":188552.61},194247.26]
["ABA040","AB","ABA040",31,"","0102010326","Dispositivi per apparato urogenitale",{"$f":"SUMIF('00 Alimenta'!$B:$B,'00 PDC SP'!$F98,'00 Alimenta'!D:D)","v":51126.59},{"$f":"SUMIF('00 Alimenta'!$B:$B,'00 PDC SP'!$F98,'00 Alimenta'!E:E)","v":58158.49},{"$f":"SUMIF('00 Alimenta'!$B:$B,'00 PDC SP'!$F98,'00 Alimenta'!F:F)","v":51126.59},{"$f":"SUMIF('00 Alimenta'!$B:$B,'00 PDC SP'!$F98,'00 Alimenta'!G:G)","v":58158.49},{"$f":"SUMIF('00 Alimenta'!$B:$B,'00 PDC SP'!$F98,'00 Alimenta'!H:H)","v":87545.74},{"$f":"SUMIF('00 Alimenta'!$B:$B,'00 PDC SP'!$F98,'00 Alimenta'!I:I)","v":58158.49},87545.74000000002]
["ABA040","AB","ABA040",31,"","0102010327","Dispositivi vari",{"$f":"SUMIF('00 Alimenta'!$B:$B,'00 PDC SP'!$F99,'00 Alimenta'!D:D)","v":304842.71999999997},{"$f":"SUMIF('00 Alimenta'!$B:$B,'00 PDC SP'!$F99,'00 Alimenta'!E:E)","v":302955.27},{"$f":"SUMIF('00 Alimenta'!$B:$B,'00 PDC SP'!$F99,'00 Alimenta'!F:F)","v":304842.71999999997},{"$f":"SUMIF('00 Alimenta'!$B:$B,'00 PDC SP'!$F99,'00 Alimenta'!G:G)","v":302955.27},{"$f":"SUMIF('00 Alimenta'!$B:$B,'00 PDC SP'!$F99,'00 Alimenta'!H:H)","v":226897.32},{"$f":"SUMIF('00 Alimenta'!$B:$B,'00 PDC SP'!$F99,'00 Alimenta'!I:I)","v":302955.27},226897.32000000007]
["ABA040","AB","ABA040",31,"","0102010328","Dispositivi da somministrazione, prelievo e raccolta",{"$f":"SUMIF('00 Alimenta'!$B:$B,'00 PDC SP'!$F100,'00 Alimenta'!D:D)","v":569117.94999999995},{"$f":"SUMIF('00 Alimenta'!$B:$B,'00 PDC SP'!$F100,'00 Alimenta'!E:E)","v":632496.81999999995},{"$f":"SUMIF('00 Alimenta'!$B:$B,'00 PDC SP'!$F100,'00 Alimenta'!F:F)","v":569117.94999999995},{"$f":"SUMIF('00 Alimenta'!$B:$B,'00 PDC SP'!$F100,'00 Alimenta'!G:G)","v":632496.81999999995},{"$f":"SUMIF('00 Alimenta'!$B:$B,'00 PDC SP'!$F100,'00 Alimenta'!H:H)","v":633711.89},{"$f":"SUMIF('00 Alimenta'!$B:$B,'00 PDC SP'!$F100,'00 Alimenta'!I:I)","v":632496.81999999995},633711.89]
["ABA040","AB","ABA040",31,"","0102010329","Dispositivi per medicazioni generali e specialistiche",{"$f":"SUMIF('00 Alimenta'!$B:$B,'00 PDC SP'!$F101,'00 Alimenta'!D:D)","v":357449.92},{"$f":"SUMIF('00 Alimenta'!$B:$B,'00 PDC SP'!$F101,'00 Alimenta'!E:E)","v":347297.22},{"$f":"SUMIF('00 Alimenta'!$B:$B,'00 PDC SP'!$F101,'00 Alimenta'!F:F)","v":357449.92},{"$f":"SUMIF('00 Alimenta'!$B:$B,'00 PDC SP'!$F101,'00 Alimenta'!G:G)","v":347297.22},{"$f":"SUMIF('00 Alimenta'!$B:$B,'00 PDC SP'!$F101,'00 Alimenta'!H:H)","v":345477.22},{"$f":"SUMIF('00 Alimenta'!$B:$B,'00 PDC SP'!$F101,'00 Alimenta'!I:I)","v":347297.22},345477.22]
["ABA040","AB","ABA040",31,"","0102010330","Dispositivi impiantabili attivi",{"$f":"SUMIF('00 Alimenta'!$B:$B,'00 PDC SP'!$F102,'00 Alimenta'!D:D)","v":30319.56},{"$f":"SUMIF('00 Alimenta'!$B:$B,'00 PDC SP'!$F102,'00 Alimenta'!E:E)","v":31197.03},{"$f":"SUMIF('00 Alimenta'!$B:$B,'00 PDC SP'!$F102,'00 Alimenta'!F:F)","v":30319.56},{"$f":"SUMIF('00 Alimenta'!$B:$B,'00 PDC SP'!$F102,'00 Alimenta'!G:G)","v":31197.03},{"$f":"SUMIF('00 Alimenta'!$B:$B,'00 PDC SP'!$F102,'00 Alimenta'!H:H)","v":34540.9},{"$f":"SUMIF('00 Alimenta'!$B:$B,'00 PDC SP'!$F102,'00 Alimenta'!I:I)","v":31197.03},34540.899999999994]
["ABA050","AB","ABA050",31,"","0102010401","Prodotti dietetici",{"$f":"SUMIF('00 Alimenta'!$B:$B,'00 PDC SP'!$F103,'00 Alimenta'!D:D)","v":5615.65},{"$f":"SUMIF('00 Alimenta'!$B:$B,'00 PDC SP'!$F103,'00 Alimenta'!E:E)","v":5237.29},{"$f":"SUMIF('00 Alimenta'!$B:$B,'00 PDC SP'!$F103,'00 Alimenta'!F:F)","v":5615.65},{"$f":"SUMIF('00 Alimenta'!$B:$B,'00 PDC SP'!$F103,'00 Alimenta'!G:G)","v":5237.29},{"$f":"SUMIF('00 Alimenta'!$B:$B,'00 PDC SP'!$F103,'00 Alimenta'!H:H)","v":10440.25},{"$f":"SUMIF('00 Alimenta'!$B:$B,'00 PDC SP'!$F103,'00 Alimenta'!I:I)","v":5237.29},10440.25]
["ABA050","AB","ABA050",31,"","0102010402","Alimenti per nutrizione artificiale senza AIC ",{"$f":"SUMIF('00 Alimenta'!$B:$B,'00 PDC SP'!$F104,'00 Alimenta'!D:D)","v":58004.47},{"$f":"SUMIF('00 Alimenta'!$B:$B,'00 PDC SP'!$F104,'00 Alimenta'!E:E)","v":66412.52},{"$f":"SUMIF('00 Alimenta'!$B:$B,'00 PDC SP'!$F104,'00 Alimenta'!F:F)","v":58004.47},{"$f":"SUMIF('00 Alimenta'!$B:$B,'00 PDC SP'!$F104,'00 Alimenta'!G:G)","v":66412.52},{"$f":"SUMIF('00 Alimenta'!$B:$B,'00 PDC SP'!$F104,'00 Alimenta'!H:H)","v":65062.74},{"$f":"SUMIF('00 Alimenta'!$B:$B,'00 PDC SP'!$F104,'00 Alimenta'!I:I)","v":66412.52},65062.740000000005]
["ABA060","AB","ABA060",31,"","0102010501","Sieri",{"$f":"SUMIF('00 Alimenta'!$B:$B,'00 PDC SP'!$F105,'00 Alimenta'!D:D)","v":0},{"$f":"SUMIF('00 Alimenta'!$B:$B,'00 PDC SP'!$F105,'00 Alimenta'!E:E)","v":0},{"$f":"SUMIF('00 Alimenta'!$B:$B,'00 PDC SP'!$F105,'00 Alimenta'!F:F)","v":0},{"$f":"SUMIF('00 Alimenta'!$B:$B,'00 PDC SP'!$F105,'00 Alimenta'!G:G)","v":0},{"$f":"SUMIF('00 Alimenta'!$B:$B,'00 PDC SP'!$F105,'00 Alimenta'!H:H)","v":0},{"$f":"SUMIF('00 Alimenta'!$B:$B,'00 PDC SP'!$F105,'00 Alimenta'!I:I)","v":0},0]
["ABA060","AB","ABA060",31,"","0102010502","Vaccini obbligatori",{"$f":"SUMIF('00 Alimenta'!$B:$B,'00 PDC SP'!$F106,'00 Alimenta'!D:D)","v":0},{"$f":"SUMIF('00 Alimenta'!$B:$B,'00 PDC SP'!$F106,'00 Alimenta'!E:E)","v":0},{"$f":"SUMIF('00 Alimenta'!$B:$B,'00 PDC SP'!$F106,'00 Alimenta'!F:F)","v":0},{"$f":"SUMIF('00 Alimenta'!$B:$B,'00 PDC SP'!$F106,'00 Alimenta'!G:G)","v":0},{"$f":"SUMIF('00 Alimenta'!$B:$B,'00 PDC SP'!$F106,'00 Alimenta'!H:H)","v":0},{"$f":"SUMIF('00 Alimenta'!$B:$B,'00 PDC SP'!$F106,'00 Alimenta'!I:I)","v":0},0]
["ABA060","AB","ABA060",31,"","0102010503","Altri Vaccini",{"$f":"SUMIF('00 Alimenta'!$B:$B,'00 PDC SP'!$F107,'00 Alimenta'!D:D)","v":1112.76},{"$f":"SUMIF('00 Alimenta'!$B:$B,'00 PDC SP'!$F107,'00 Alimenta'!E:E)","v":2856.7},{"$f":"SUMIF('00 Alimenta'!$B:$B,'00 PDC SP'!$F107,'00 Alimenta'!F:F)","v":1112.76},{"$f":"SUMIF('00 Alimenta'!$B:$B,'00 PDC SP'!$F107,'00 Alimenta'!G:G)","v":2856.7},{"$f":"SUMIF('00 Alimenta'!$B:$B,'00 PDC SP'!$F107,'00 Alimenta'!H:H)","v":0},{"$f":"SUMIF('00 Alimenta'!$B:$B,'00 PDC SP'!$F107,'00 Alimenta'!I:I)","v":2856.7},0]
["ABA060","AB","ABA060",31,"","0102010504","Altri materiali per la profilassi",{"$f":"SUMIF('00 Alimenta'!$B:$B,'00 PDC SP'!$F108,'00 Alimenta'!D:D)","v":0},{"$f":"SUMIF('00 Alimenta'!$B:$B,'00 PDC SP'!$F108,'00 Alimenta'!E:E)","v":0},{"$f":"SUMIF('00 Alimenta'!$B:$B,'00 PDC SP'!$F108,'00 Alimenta'!F:F)","v":0},{"$f":"SUMIF('00 Alimenta'!$B:$B,'00 PDC SP'!$F108,'00 Alimenta'!G:G)","v":0},{"$f":"SUMIF('00 Alimenta'!$B:$B,'00 PDC SP'!$F108,'00 Alimenta'!H:H)","v":0},{"$f":"SUMIF('00 Alimenta'!$B:$B,'00 PDC SP'!$F108,'00 Alimenta'!I:I)","v":0},0]
["ABA070","AB","ABA070",31,"","0102010601","Prodotti chimici",{"$f":"SUMIF('00 Alimenta'!$B:$B,'00 PDC SP'!$F109,'00 Alimenta'!D:D)","v":0},{"$f":"SUMIF('00 Alimenta'!$B:$B,'00 PDC SP'!$F109,'00 Alimenta'!E:E)","v":0},{"$f":"SUMIF('00 Alimenta'!$B:$B,'00 PDC SP'!$F109,'00 Alimenta'!F:F)","v":0},{"$f":"SUMIF('00 Alimenta'!$B:$B,'00 PDC SP'!$F109,'00 Alimenta'!G:G)","v":0},{"$f":"SUMIF('00 Alimenta'!$B:$B,'00 PDC SP'!$F109,'00 Alimenta'!H:H)","v":0},{"$f":"SUMIF('00 Alimenta'!$B:$B,'00 PDC SP'!$F109,'00 Alimenta'!I:I)","v":0},0]
["ABA080","AB","ABA080",31,"","0102010701","Medicinali ad uso veterinario",{"$f":"SUMIF('00 Alimenta'!$B:$B,'00 PDC SP'!$F110,'00 Alimenta'!D:D)","v":0},{"$f":"SUMIF('00 Alimenta'!$B:$B,'00 PDC SP'!$F110,'00 Alimenta'!E:E)","v":0},{"$f":"SUMIF('00 Alimenta'!$B:$B,'00 PDC SP'!$F110,'00 Alimenta'!F:F)","v":0},{"$f":"SUMIF('00 Alimenta'!$B:$B,'00 PDC SP'!$F110,'00 Alimenta'!G:G)","v":0},{"$f":"SUMIF('00 Alimenta'!$B:$B,'00 PDC SP'!$F110,'00 Alimenta'!H:H)","v":0},{"$f":"SUMIF('00 Alimenta'!$B:$B,'00 PDC SP'!$F110,'00 Alimenta'!I:I)","v":0},0]
["ABA080","AB","ABA080",31,"","0102010702","Materiali chirurgici, sanitari e diagnostici per uso veterinario",{"$f":"SUMIF('00 Alimenta'!$B:$B,'00 PDC SP'!$F111,'00 Alimenta'!D:D)","v":0},{"$f":"SUMIF('00 Alimenta'!$B:$B,'00 PDC SP'!$F111,'00 Alimenta'!E:E)","v":0},{"$f":"SUMIF('00 Alimenta'!$B:$B,'00 PDC SP'!$F111,'00 Alimenta'!F:F)","v":0},{"$f":"SUMIF('00 Alimenta'!$B:$B,'00 PDC SP'!$F111,'00 Alimenta'!G:G)","v":0},{"$f":"SUMIF('00 Alimenta'!$B:$B,'00 PDC SP'!$F111,'00 Alimenta'!H:H)","v":0},{"$f":"SUMIF('00 Alimenta'!$B:$B,'00 PDC SP'!$F111,'00 Alimenta'!I:I)","v":0},0]
["ABA080","AB","ABA080",31,"","0102010703","Altri materiali e beni sanitari per uso veterinario",{"$f":"SUMIF('00 Alimenta'!$B:$B,'00 PDC SP'!$F112,'00 Alimenta'!D:D)","v":0},{"$f":"SUMIF('00 Alimenta'!$B:$B,'00 PDC SP'!$F112,'00 Alimenta'!E:E)","v":0},{"$f":"SUMIF('00 Alimenta'!$B:$B,'00 PDC SP'!$F112,'00 Alimenta'!F:F)","v":0},{"$f":"SUMIF('00 Alimenta'!$B:$B,'00 PDC SP'!$F112,'00 Alimenta'!G:G)","v":0},{"$f":"SUMIF('00 Alimenta'!$B:$B,'00 PDC SP'!$F112,'00 Alimenta'!H:H)","v":0},{"$f":"SUMIF('00 Alimenta'!$B:$B,'00 PDC SP'!$F112,'00 Alimenta'!I:I)","v":0},0]
["ABA090","AB","ABA090",31,"","0102010801","Vetrerie e materiale plastico per laboratorio",{"$f":"SUMIF('00 Alimenta'!$B:$B,'00 PDC SP'!$F113,'00 Alimenta'!D:D)","v":42717.86},{"$f":"SUMIF('00 Alimenta'!$B:$B,'00 PDC SP'!$F113,'00 Alimenta'!E:E)","v":22568.66},{"$f":"SUMIF('00 Alimenta'!$B:$B,'00 PDC SP'!$F113,'00 Alimenta'!F:F)","v":42717.86},{"$f":"SUMIF('00 Alimenta'!$B:$B,'00 PDC SP'!$F113,'00 Alimenta'!G:G)","v":22568.66},{"$f":"SUMIF('00 Alimenta'!$B:$B,'00 PDC SP'!$F113,'00 Alimenta'!H:H)","v":11204.53},{"$f":"SUMIF('00 Alimenta'!$B:$B,'00 PDC SP'!$F113,'00 Alimenta'!I:I)","v":22568.66},11204.530000000002]
["ABA090","AB","ABA090",31,"","0102010802","Materiali di consumo non specifici per strumentazione diagnostica ",{"$f":"SUMIF('00 Alimenta'!$B:$B,'00 PDC SP'!$F114,'00 Alimenta'!D:D)","v":125485.73},{"$f":"SUMIF('00 Alimenta'!$B:$B,'00 PDC SP'!$F114,'00 Alimenta'!E:E)","v":93627.14},{"$f":"SUMIF('00 Alimenta'!$B:$B,'00 PDC SP'!$F114,'00 Alimenta'!F:F)","v":125485.73},{"$f":"SUMIF('00 Alimenta'!$B:$B,'00 PDC SP'!$F114,'00 Alimenta'!G:G)","v":93627.14},{"$f":"SUMIF('00 Alimenta'!$B:$B,'00 PDC SP'!$F114,'00 Alimenta'!H:H)","v":68710.77},{"$f":"SUMIF('00 Alimenta'!$B:$B,'00 PDC SP'!$F114,'00 Alimenta'!I:I)","v":93627.14},68710.77]
["ABA090","AB","ABA090",31,"","0102010803","Altri beni e prodotti sanitari",{"$f":"SUMIF('00 Alimenta'!$B:$B,'00 PDC SP'!$F115,'00 Alimenta'!D:D)","v":127988.56},{"$f":"SUMIF('00 Alimenta'!$B:$B,'00 PDC SP'!$F115,'00 Alimenta'!E:E)","v":180987.44},{"$f":"SUMIF('00 Alimenta'!$B:$B,'00 PDC SP'!$F115,'00 Alimenta'!F:F)","v":127988.56},{"$f":"SUMIF('00 Alimenta'!$B:$B,'00 PDC SP'!$F115,'00 Alimenta'!G:G)","v":180987.44},{"$f":"SUMIF('00 Alimenta'!$B:$B,'00 PDC SP'!$F115,'00 Alimenta'!H:H)","v":248147.84},{"$f":"SUMIF('00 Alimenta'!$B:$B,'00 PDC SP'!$F115,'00 Alimenta'!I:I)","v":180987.44},248147.84000000003]
["ABA100","AB","ABA100",32,"","0102010901","Acconti per acquisto di beni e prodotti sanitari",{"$f":"SUMIF('00 Alimenta'!$B:$B,'00 PDC SP'!$F116,'00 Alimenta'!D:D)","v":0},{"$f":"SUMIF('00 Alimenta'!$B:$B,'00 PDC SP'!$F116,'00 Alimenta'!E:E)","v":0},{"$f":"SUMIF('00 Alimenta'!$B:$B,'00 PDC SP'!$F116,'00 Alimenta'!F:F)","v":0},{"$f":"SUMIF('00 Alimenta'!$B:$B,'00 PDC SP'!$F116,'00 Alimenta'!G:G)","v":0},{"$f":"SUMIF('00 Alimenta'!$B:$B,'00 PDC SP'!$F116,'00 Alimenta'!H:H)","v":0},{"$f":"SUMIF('00 Alimenta'!$B:$B,'00 PDC SP'!$F116,'00 Alimenta'!I:I)","v":0},0]
["ABA120","AB","ABA120",31,"","0102011001","Prodotti alimentari",{"$f":"SUMIF('00 Alimenta'!$B:$B,'00 PDC SP'!$F117,'00 Alimenta'!D:D)","v":0},{"$f":"SUMIF('00 Alimenta'!$B:$B,'00 PDC SP'!$F117,'00 Alimenta'!E:E)","v":0},{"$f":"SUMIF('00 Alimenta'!$B:$B,'00 PDC SP'!$F117,'00 Alimenta'!F:F)","v":0},{"$f":"SUMIF('00 Alimenta'!$B:$B,'00 PDC SP'!$F117,'00 Alimenta'!G:G)","v":0},{"$f":"SUMIF('00 Alimenta'!$B:$B,'00 PDC SP'!$F117,'00 Alimenta'!H:H)","v":0},{"$f":"SUMIF('00 Alimenta'!$B:$B,'00 PDC SP'!$F117,'00 Alimenta'!I:I)","v":0},0]
["ABA130","AB","ABA130",31,"","0102011101","Materiali di guardaroba, di pulizia, e di convivenza in genere",{"$f":"SUMIF('00 Alimenta'!$B:$B,'00 PDC SP'!$F118,'00 Alimenta'!D:D)","v":29727.94},{"$f":"SUMIF('00 Alimenta'!$B:$B,'00 PDC SP'!$F118,'00 Alimenta'!E:E)","v":29504.9},{"$f":"SUMIF('00 Alimenta'!$B:$B,'00 PDC SP'!$F118,'00 Alimenta'!F:F)","v":29727.94},{"$f":"SUMIF('00 Alimenta'!$B:$B,'00 PDC SP'!$F118,'00 Alimenta'!G:G)","v":29504.9},{"$f":"SUMIF('00 Alimenta'!$B:$B,'00 PDC SP'!$F118,'00 Alimenta'!H:H)","v":30345.25},{"$f":"SUMIF('00 Alimenta'!$B:$B,'00 PDC SP'!$F118,'00 Alimenta'!I:I)","v":29504.9},30345.25]
["ABA140","AB","ABA140",31,"","0102011201","Combustibili, carburanti e lubrificanti",{"$f":"SUMIF('00 Alimenta'!$B:$B,'00 PDC SP'!$F119,'00 Alimenta'!D:D)","v":0},{"$f":"SUMIF('00 Alimenta'!$B:$B,'00 PDC SP'!$F119,'00 Alimenta'!E:E)","v":0},{"$f":"SUMIF('00 Alimenta'!$B:$B,'00 PDC SP'!$F119,'00 Alimenta'!F:F)","v":0},{"$f":"SUMIF('00 Alimenta'!$B:$B,'00 PDC SP'!$F119,'00 Alimenta'!G:G)","v":0},{"$f":"SUMIF('00 Alimenta'!$B:$B,'00 PDC SP'!$F119,'00 Alimenta'!H:H)","v":0},{"$f":"SUMIF('00 Alimenta'!$B:$B,'00 PDC SP'!$F119,'00 Alimenta'!I:I)","v":0},0]
["ABA150","AB","ABA150",31,"","0102011301","Supporti informatici",{"$f":"SUMIF('00 Alimenta'!$B:$B,'00 PDC SP'!$F120,'00 Alimenta'!D:D)","v":192555.39},{"$f":"SUMIF('00 Alimenta'!$B:$B,'00 PDC SP'!$F120,'00 Alimenta'!E:E)","v":102147.29},{"$f":"SUMIF('00 Alimenta'!$B:$B,'00 PDC SP'!$F120,'00 Alimenta'!F:F)","v":192555.39},{"$f":"SUMIF('00 Alimenta'!$B:$B,'00 PDC SP'!$F120,'00 Alimenta'!G:G)","v":102147.29},{"$f":"SUMIF('00 Alimenta'!$B:$B,'00 PDC SP'!$F120,'00 Alimenta'!H:H)","v":108077.25},{"$f":"SUMIF('00 Alimenta'!$B:$B,'00 PDC SP'!$F120,'00 Alimenta'!I:I)","v":102147.29},108077.24999999999]
["ABA150","AB","ABA150",31,"","0102011302","Cancelleria e stampati",{"$f":"SUMIF('00 Alimenta'!$B:$B,'00 PDC SP'!$F121,'00 Alimenta'!D:D)","v":169734.96},{"$f":"SUMIF('00 Alimenta'!$B:$B,'00 PDC SP'!$F121,'00 Alimenta'!E:E)","v":107409.14},{"$f":"SUMIF('00 Alimenta'!$B:$B,'00 PDC SP'!$F121,'00 Alimenta'!F:F)","v":169734.96},{"$f":"SUMIF('00 Alimenta'!$B:$B,'00 PDC SP'!$F121,'00 Alimenta'!G:G)","v":107409.14},{"$f":"SUMIF('00 Alimenta'!$B:$B,'00 PDC SP'!$F121,'00 Alimenta'!H:H)","v":117179.4},{"$f":"SUMIF('00 Alimenta'!$B:$B,'00 PDC SP'!$F121,'00 Alimenta'!I:I)","v":107409.14},117179.39999999998]
["ABA160","AB","ABA160",31,"","0102011401","Materiale per la manutenzione di immobili e loro pertinenze",{"$f":"SUMIF('00 Alimenta'!$B:$B,'00 PDC SP'!$F122,'00 Alimenta'!D:D)","v":85875.45},{"$f":"SUMIF('00 Alimenta'!$B:$B,'00 PDC SP'!$F122,'00 Alimenta'!E:E)","v":139324.97},{"$f":"SUMIF('00 Alimenta'!$B:$B,'00 PDC SP'!$F122,'00 Alimenta'!F:F)","v":85875.45},{"$f":"SUMIF('00 Alimenta'!$B:$B,'00 PDC SP'!$F122,'00 Alimenta'!G:G)","v":139324.97},{"$f":"SUMIF('00 Alimenta'!$B:$B,'00 PDC SP'!$F122,'00 Alimenta'!H:H)","v":6398.26},{"$f":"SUMIF('00 Alimenta'!$B:$B,'00 PDC SP'!$F122,'00 Alimenta'!I:I)","v":139324.97},6398.2600000000093]
["ABA160","AB","ABA160",31,"","0102011402","Materiale per la manutenzione di mobili e macchine",{"$f":"SUMIF('00 Alimenta'!$B:$B,'00 PDC SP'!$F123,'00 Alimenta'!D:D)","v":0},{"$f":"SUMIF('00 Alimenta'!$B:$B,'00 PDC SP'!$F123,'00 Alimenta'!E:E)","v":0},{"$f":"SUMIF('00 Alimenta'!$B:$B,'00 PDC SP'!$F123,'00 Alimenta'!F:F)","v":0},{"$f":"SUMIF('00 Alimenta'!$B:$B,'00 PDC SP'!$F123,'00 Alimenta'!G:G)","v":0},{"$f":"SUMIF('00 Alimenta'!$B:$B,'00 PDC SP'!$F123,'00 Alimenta'!H:H)","v":0},{"$f":"SUMIF('00 Alimenta'!$B:$B,'00 PDC SP'!$F123,'00 Alimenta'!I:I)","v":0},0]
["ABA160","AB","ABA160",31,"","0102011403","Materiale per la manutenzione di attrezzature tecnico scientifiche sanitarie",{"$f":"SUMIF('00 Alimenta'!$B:$B,'00 PDC SP'!$F124,'00 Alimenta'!D:D)","v":26463.29},{"$f":"SUMIF('00 Alimenta'!$B:$B,'00 PDC SP'!$F124,'00 Alimenta'!E:E)","v":15166.69},{"$f":"SUMIF('00 Alimenta'!$B:$B,'00 PDC SP'!$F124,'00 Alimenta'!F:F)","v":26463.29},{"$f":"SUMIF('00 Alimenta'!$B:$B,'00 PDC SP'!$F124,'00 Alimenta'!G:G)","v":15166.69},{"$f":"SUMIF('00 Alimenta'!$B:$B,'00 PDC SP'!$F124,'00 Alimenta'!H:H)","v":10429.76},{"$f":"SUMIF('00 Alimenta'!$B:$B,'00 PDC SP'!$F124,'00 Alimenta'!I:I)","v":15166.69},10429.76]
["ABA160","AB","ABA160",31,"","0102011404","Materiale per la manutenzione di automezzi",{"$f":"SUMIF('00 Alimenta'!$B:$B,'00 PDC SP'!$F125,'00 Alimenta'!D:D)","v":0},{"$f":"SUMIF('00 Alimenta'!$B:$B,'00 PDC SP'!$F125,'00 Alimenta'!E:E)","v":0},{"$f":"SUMIF('00 Alimenta'!$B:$B,'00 PDC SP'!$F125,'00 Alimenta'!F:F)","v":0},{"$f":"SUMIF('00 Alimenta'!$B:$B,'00 PDC SP'!$F125,'00 Alimenta'!G:G)","v":0},{"$f":"SUMIF('00 Alimenta'!$B:$B,'00 PDC SP'!$F125,'00 Alimenta'!H:H)","v":0},{"$f":"SUMIF('00 Alimenta'!$B:$B,'00 PDC SP'!$F125,'00 Alimenta'!I:I)","v":0},0]
["ABA160","AB","ABA160",31,"","0102011405","Materiale per la manutenzione di altro",{"$f":"SUMIF('00 Alimenta'!$B:$B,'00 PDC SP'!$F126,'00 Alimenta'!D:D)","v":5031.3999999999996},{"$f":"SUMIF('00 Alimenta'!$B:$B,'00 PDC SP'!$F126,'00 Alimenta'!E:E)","v":4064.04},{"$f":"SUMIF('00 Alimenta'!$B:$B,'00 PDC SP'!$F126,'00 Alimenta'!F:F)","v":5031.3999999999996},{"$f":"SUMIF('00 Alimenta'!$B:$B,'00 PDC SP'!$F126,'00 Alimenta'!G:G)","v":4064.04},{"$f":"SUMIF('00 Alimenta'!$B:$B,'00 PDC SP'!$F126,'00 Alimenta'!H:H)","v":4708.03},{"$f":"SUMIF('00 Alimenta'!$B:$B,'00 PDC SP'!$F126,'00 Alimenta'!I:I)","v":4064.04},4708.03]
["ABA170","AB","ABA170",31,"","0102011501","Altri beni e prodotti non sanitari",{"$f":"SUMIF('00 Alimenta'!$B:$B,'00 PDC SP'!$F127,'00 Alimenta'!D:D)","v":1229.74},{"$f":"SUMIF('00 Alimenta'!$B:$B,'00 PDC SP'!$F127,'00 Alimenta'!E:E)","v":502.43},{"$f":"SUMIF('00 Alimenta'!$B:$B,'00 PDC SP'!$F127,'00 Alimenta'!F:F)","v":1229.74},{"$f":"SUMIF('00 Alimenta'!$B:$B,'00 PDC SP'!$F127,'00 Alimenta'!G:G)","v":502.43},{"$f":"SUMIF('00 Alimenta'!$B:$B,'00 PDC SP'!$F127,'00 Alimenta'!H:H)","v":1157.96},{"$f":"SUMIF('00 Alimenta'!$B:$B,'00 PDC SP'!$F127,'00 Alimenta'!I:I)","v":502.43},1157.96]
["ABA180","AB","ABA180",32,"","0102011601","Acconti per acquisto di beni e prodotti non sanitari",{"$f":"SUMIF('00 Alimenta'!$B:$B,'00 PDC SP'!$F128,'00 Alimenta'!D:D)","v":0},{"$f":"SUMIF('00 Alimenta'!$B:$B,'00 PDC SP'!$F128,'00 Alimenta'!E:E)","v":0},{"$f":"SUMIF('00 Alimenta'!$B:$B,'00 PDC SP'!$F128,'00 Alimenta'!F:F)","v":0},{"$f":"SUMIF('00 Alimenta'!$B:$B,'00 PDC SP'!$F128,'00 Alimenta'!G:G)","v":0},{"$f":"SUMIF('00 Alimenta'!$B:$B,'00 PDC SP'!$F128,'00 Alimenta'!H:H)","v":0},{"$f":"SUMIF('00 Alimenta'!$B:$B,'00 PDC SP'!$F128,'00 Alimenta'!I:I)","v":0},0]
["ABA201CR","AB","ABA201",21,"CR","0102020101","Crediti v/Stato per spesa corrente - FSN indistinto",{"$f":"SUMIF('00 Alimenta'!$B:$B,'00 PDC SP'!$F129,'00 Alimenta'!D:D)","v":0},{"$f":"SUMIF('00 Alimenta'!$B:$B,'00 PDC SP'!$F129,'00 Alimenta'!E:E)","v":50822.1},{"$f":"SUMIF('00 Alimenta'!$B:$B,'00 PDC SP'!$F129,'00 Alimenta'!F:F)","v":48520.58},{"$f":"SUMIF('00 Alimenta'!$B:$B,'00 PDC SP'!$F129,'00 Alimenta'!G:G)","v":2301.52},{"$f":"SUMIF('00 Alimenta'!$B:$B,'00 PDC SP'!$F129,'00 Alimenta'!H:H)","v":98325.05},{"$f":"SUMIF('00 Alimenta'!$B:$B,'00 PDC SP'!$F129,'00 Alimenta'!I:I)","v":93639.37},6987.2000000000116]
["ABA220CR","AB","ABA220",21,"CR","0102020201","Crediti v/Stato per spesa corrente - FSN",{"$f":"SUMIF('00 Alimenta'!$B:$B,'00 PDC SP'!$F130,'00 Alimenta'!D:D)","v":0},{"$f":"SUMIF('00 Alimenta'!$B:$B,'00 PDC SP'!$F130,'00 Alimenta'!E:E)","v":0},{"$f":"SUMIF('00 Alimenta'!$B:$B,'00 PDC SP'!$F130,'00 Alimenta'!F:F)","v":0},{"$f":"SUMIF('00 Alimenta'!$B:$B,'00 PDC SP'!$F130,'00 Alimenta'!G:G)","v":0},{"$f":"SUMIF('00 Alimenta'!$B:$B,'00 PDC SP'!$F130,'00 Alimenta'!H:H)","v":0},{"$f":"SUMIF('00 Alimenta'!$B:$B,'00 PDC SP'!$F130,'00 Alimenta'!I:I)","v":0},0]
["ABA230CR","AB","ABA230",21,"CR","0102020301","Crediti v/Stato per mobilità attiva pubblica extraregionale",{"$f":"SUMIF('00 Alimenta'!$B:$B,'00 PDC SP'!$F131,'00 Alimenta'!D:D)","v":0},{"$f":"SUMIF('00 Alimenta'!$B:$B,'00 PDC SP'!$F131,'00 Alimenta'!E:E)","v":0},{"$f":"SUMIF('00 Alimenta'!$B:$B,'00 PDC SP'!$F131,'00 Alimenta'!F:F)","v":0},{"$f":"SUMIF('00 Alimenta'!$B:$B,'00 PDC SP'!$F131,'00 Alimenta'!G:G)","v":0},{"$f":"SUMIF('00 Alimenta'!$B:$B,'00 PDC SP'!$F131,'00 Alimenta'!H:H)","v":0},{"$f":"SUMIF('00 Alimenta'!$B:$B,'00 PDC SP'!$F131,'00 Alimenta'!I:I)","v":0},0]
["ABA230CR","AB","ABA230",21,"CR","0102020302","Crediti v/Stato per mobilità attiva privata extraregionale",{"$f":"SUMIF('00 Alimenta'!$B:$B,'00 PDC SP'!$F132,'00 Alimenta'!D:D)","v":0},{"$f":"SUMIF('00 Alimenta'!$B:$B,'00 PDC SP'!$F132,'00 Alimenta'!E:E)","v":0},{"$f":"SUMIF('00 Alimenta'!$B:$B,'00 PDC SP'!$F132,'00 Alimenta'!F:F)","v":0},{"$f":"SUMIF('00 Alimenta'!$B:$B,'00 PDC SP'!$F132,'00 Alimenta'!G:G)","v":0},{"$f":"SUMIF('00 Alimenta'!$B:$B,'00 PDC SP'!$F132,'00 Alimenta'!H:H)","v":0},{"$f":"SUMIF('00 Alimenta'!$B:$B,'00 PDC SP'!$F132,'00 Alimenta'!I:I)","v":0},0]
["ABA240CR","AB","ABA240",21,"CR","0102020401","Crediti v/Stato per mobilità attiva internazionale",{"$f":"SUMIF('00 Alimenta'!$B:$B,'00 PDC SP'!$F133,'00 Alimenta'!D:D)","v":0},{"$f":"SUMIF('00 Alimenta'!$B:$B,'00 PDC SP'!$F133,'00 Alimenta'!E:E)","v":0},{"$f":"SUMIF('00 Alimenta'!$B:$B,'00 PDC SP'!$F133,'00 Alimenta'!F:F)","v":0},{"$f":"SUMIF('00 Alimenta'!$B:$B,'00 PDC SP'!$F133,'00 Alimenta'!G:G)","v":0},{"$f":"SUMIF('00 Alimenta'!$B:$B,'00 PDC SP'!$F133,'00 Alimenta'!H:H)","v":0},{"$f":"SUMIF('00 Alimenta'!$B:$B,'00 PDC SP'!$F133,'00 Alimenta'!I:I)","v":0},0]
["ABA250CR",{"$f":"IF(C134=\"PAA220\",\"UT\",LEFT(C134,2))","v":"AB"},"ABA250",21,"CR","0102020501","Crediti v/Stato per acconto quota fabbisogno sanitario regionale standard",{"$f":"SUMIF('00 Alimenta'!$B:$B,'00 PDC SP'!$F134,'00 Alimenta'!D:D)","v":0},{"$f":"SUMIF('00 Alimenta'!$B:$B,'00 PDC SP'!$F134,'00 Alimenta'!E:E)","v":0},{"$f":"SUMIF('00 Alimenta'!$B:$B,'00 PDC SP'!$F134,'00 Alimenta'!F:F)","v":0},{"$f":"SUMIF('00 Alimenta'!$B:$B,'00 PDC SP'!$F134,'00 Alimenta'!G:G)","v":0},{"$f":"SUMIF('00 Alimenta'!$B:$B,'00 PDC SP'!$F134,'00 Alimenta'!H:H)","v":0},{"$f":"SUMIF('00 Alimenta'!$B:$B,'00 PDC SP'!$F134,'00 Alimenta'!I:I)","v":0},0]
[{"$f":"IF(E135=\"\",C135,C135&E135)","v":"ABA260CR"},"AB","ABA260",21,"CR","0102020601","Crediti v/Stato per finanziamento sanitario aggiuntivo corrente",{"$f":"SUMIF('00 Alimenta'!$B:$B,'00 PDC SP'!$F135,'00 Alimenta'!D:D)","v":0},{"$f":"SUMIF('00 Alimenta'!$B:$B,'00 PDC SP'!$F135,'00 Alimenta'!E:E)","v":0},{"$f":"SUMIF('00 Alimenta'!$B:$B,'00 PDC SP'!$F135,'00 Alimenta'!F:F)","v":0},{"$f":"SUMIF('00 Alimenta'!$B:$B,'00 PDC SP'!$F135,'00 Alimenta'!G:G)","v":0},{"$f":"SUMIF('00 Alimenta'!$B:$B,'00 PDC SP'!$F135,'00 Alimenta'!H:H)","v":0},{"$f":"SUMIF('00 Alimenta'!$B:$B,'00 PDC SP'!$F135,'00 Alimenta'!I:I)","v":0},{"$f":"K135+L135-M135","v":0}]
["ABA270CR","AB","ABA270",21,"CR","0102020701","Crediti v/Stato per spesa corrente - altro",{"$f":"SUMIF('00 Alimenta'!$B:$B,'00 PDC SP'!$F136,'00 Alimenta'!D:D)","v":0},{"$f":"SUMIF('00 Alimenta'!$B:$B,'00 PDC SP'!$F136,'00 Alimenta'!E:E)","v":0},{"$f":"SUMIF('00 Alimenta'!$B:$B,'00 PDC SP'!$F136,'00 Alimenta'!F:F)","v":0},{"$f":"SUMIF('00 Alimenta'!$B:$B,'00 PDC SP'!$F136,'00 Alimenta'!G:G)","v":0},{"$f":"SUMIF('00 Alimenta'!$B:$B,'00 PDC SP'!$F136,'00 Alimenta'!H:H)","v":0},{"$f":"SUMIF('00 Alimenta'!$B:$B,'00 PDC SP'!$F136,'00 Alimenta'!I:I)","v":0},0]
["ABA271CR","AB","ABA271",21,"CR","0102020702","Crediti v/Stato per spesa corrente per STP (ex D.lgs. 286/98)",{"$f":"SUMIF('00 Alimenta'!$B:$B,'00 PDC SP'!$F137,'00 Alimenta'!D:D)","v":0},{"$f":"SUMIF('00 Alimenta'!$B:$B,'00 PDC SP'!$F137,'00 Alimenta'!E:E)","v":0},{"$f":"SUMIF('00 Alimenta'!$B:$B,'00 PDC SP'!$F137,'00 Alimenta'!F:F)","v":0},{"$f":"SUMIF('00 Alimenta'!$B:$B,'00 PDC SP'!$F137,'00 Alimenta'!G:G)","v":0},{"$f":"SUMIF('00 Alimenta'!$B:$B,'00 PDC SP'!$F137,'00 Alimenta'!H:H)","v":0},{"$f":"SUMIF('00 Alimenta'!$B:$B,'00 PDC SP'!$F137,'00 Alimenta'!I:I)","v":0},0]
["ABA280CR","AB","ABA280",48,"CR","0102020801","Crediti v/Stato per finanziamenti per investimenti",{"$f":"SUMIF('00 Alimenta'!$B:$B,'00 PDC SP'!$F138,'00 Alimenta'!D:D)","v":0},{"$f":"SUMIF('00 Alimenta'!$B:$B,'00 PDC SP'!$F138,'00 Alimenta'!E:E)","v":0},{"$f":"SUMIF('00 Alimenta'!$B:$B,'00 PDC SP'!$F138,'00 Alimenta'!F:F)","v":0},{"$f":"SUMIF('00 Alimenta'!$B:$B,'00 PDC SP'!$F138,'00 Alimenta'!G:G)","v":0},{"$f":"SUMIF('00 Alimenta'!$B:$B,'00 PDC SP'!$F138,'00 Alimenta'!H:H)","v":0},{"$f":"SUMIF('00 Alimenta'!$B:$B,'00 PDC SP'!$F138,'00 Alimenta'!I:I)","v":0},0]
["ABA300CR","AB","ABA300",21,"CR","0102020901","Crediti v/Stato per ricerca corrente - Ministero della Salute",{"$f":"SUMIF('00 Alimenta'!$B:$B,'00 PDC SP'!$F139,'00 Alimenta'!D:D)","v":0},{"$f":"SUMIF('00 Alimenta'!$B:$B,'00 PDC SP'!$F139,'00 Alimenta'!E:E)","v":0},{"$f":"SUMIF('00 Alimenta'!$B:$B,'00 PDC SP'!$F139,'00 Alimenta'!F:F)","v":0},{"$f":"SUMIF('00 Alimenta'!$B:$B,'00 PDC SP'!$F139,'00 Alimenta'!G:G)","v":0},{"$f":"SUMIF('00 Alimenta'!$B:$B,'00 PDC SP'!$F139,'00 Alimenta'!H:H)","v":0},{"$f":"SUMIF('00 Alimenta'!$B:$B,'00 PDC SP'!$F139,'00 Alimenta'!I:I)","v":0},0]
["ABA310CR","AB","ABA310",21,"CR","0102020902","Crediti v/Stato per ricerca finalizzata - Ministero della Salute",{"$f":"SUMIF('00 Alimenta'!$B:$B,'00 PDC SP'!$F140,'00 Alimenta'!D:D)","v":4620},{"$f":"SUMIF('00 Alimenta'!$B:$B,'00 PDC SP'!$F140,'00 Alimenta'!E:E)","v":10300},{"$f":"SUMIF('00 Alimenta'!$B:$B,'00 PDC SP'!$F140,'00 Alimenta'!F:F)","v":10300},{"$f":"SUMIF('00 Alimenta'!$B:$B,'00 PDC SP'!$F140,'00 Alimenta'!G:G)","v":4620},{"$f":"SUMIF('00 Alimenta'!$B:$B,'00 PDC SP'!$F140,'00 Alimenta'!H:H)","v":1122},{"$f":"SUMIF('00 Alimenta'!$B:$B,'00 PDC SP'!$F140,'00 Alimenta'!I:I)","v":0},5742]
["ABA320CR","AB","ABA320",21,"CR","0102020903","Crediti v/Stato per ricerca - altre Amministrazioni centrali",{"$f":"SUMIF('00 Alimenta'!$B:$B,'00 PDC SP'!$F141,'00 Alimenta'!D:D)","v":0},{"$f":"SUMIF('00 Alimenta'!$B:$B,'00 PDC SP'!$F141,'00 Alimenta'!E:E)","v":0},{"$f":"SUMIF('00 Alimenta'!$B:$B,'00 PDC SP'!$F141,'00 Alimenta'!F:F)","v":0},{"$f":"SUMIF('00 Alimenta'!$B:$B,'00 PDC SP'!$F141,'00 Alimenta'!G:G)","v":0},{"$f":"SUMIF('00 Alimenta'!$B:$B,'00 PDC SP'!$F141,'00 Alimenta'!H:H)","v":0},{"$f":"SUMIF('00 Alimenta'!$B:$B,'00 PDC SP'!$F141,'00 Alimenta'!I:I)","v":0},0]
["ABA330CR","AB","ABA330",21,"CR","0102020904","Crediti v/Stato per ricerca - finanziamenti per investimenti",{"$f":"SUMIF('00 Alimenta'!$B:$B,'00 PDC SP'!$F142,'00 Alimenta'!D:D)","v":0},{"$f":"SUMIF('00 Alimenta'!$B:$B,'00 PDC SP'!$F142,'00 Alimenta'!E:E)","v":0},{"$f":"SUMIF('00 Alimenta'!$B:$B,'00 PDC SP'!$F142,'00 Alimenta'!F:F)","v":0},{"$f":"SUMIF('00 Alimenta'!$B:$B,'00 PDC SP'!$F142,'00 Alimenta'!G:G)","v":0},{"$f":"SUMIF('00 Alimenta'!$B:$B,'00 PDC SP'!$F142,'00 Alimenta'!H:H)","v":0},{"$f":"SUMIF('00 Alimenta'!$B:$B,'00 PDC SP'!$F142,'00 Alimenta'!I:I)","v":0},0]
["ABA340CR","AB","ABA340",21,"CR","0102021001","Crediti v/prefetture",{"$f":"SUMIF('00 Alimenta'!$B:$B,'00 PDC SP'!$F143,'00 Alimenta'!D:D)","v":93462.74},{"$f":"SUMIF('00 Alimenta'!$B:$B,'00 PDC SP'!$F143,'00 Alimenta'!E:E)","v":93462.74},{"$f":"SUMIF('00 Alimenta'!$B:$B,'00 PDC SP'!$F143,'00 Alimenta'!F:F)","v":186925.48},{"$f":"SUMIF('00 Alimenta'!$B:$B,'00 PDC SP'!$F143,'00 Alimenta'!G:G)","v":0},{"$f":"SUMIF('00 Alimenta'!$B:$B,'00 PDC SP'!$F143,'00 Alimenta'!H:H)","v":0},{"$f":"SUMIF('00 Alimenta'!$B:$B,'00 PDC SP'!$F143,'00 Alimenta'!I:I)","v":0},0]
["ABA370CR","AB","ABA370",25,"CR","0102021101","Crediti v/Regione o Provincia Autonoma per spesa corrente - IRAP - CONTO ELIMINATO",{"$f":"SUMIF('00 Alimenta'!$B:$B,'00 PDC SP'!$F144,'00 Alimenta'!D:D)","v":0},{"$f":"SUMIF('00 Alimenta'!$B:$B,'00 PDC SP'!$F144,'00 Alimenta'!E:E)","v":0},{"$f":"SUMIF('00 Alimenta'!$B:$B,'00 PDC SP'!$F144,'00 Alimenta'!F:F)","v":0},{"$f":"SUMIF('00 Alimenta'!$B:$B,'00 PDC SP'!$F144,'00 Alimenta'!G:G)","v":0},{"$f":"SUMIF('00 Alimenta'!$B:$B,'00 PDC SP'!$F144,'00 Alimenta'!H:H)","v":0},{"$f":"SUMIF('00 Alimenta'!$B:$B,'00 PDC SP'!$F144,'00 Alimenta'!I:I)","v":0},0]
["ABA380CR","AB","ABA380",25,"CR","0102021102","Crediti v/Regione o Provincia Autonoma per spesa corrente - Addizionale IRPEF - CONTO ELIMINATO",{"$f":"SUMIF('00 Alimenta'!$B:$B,'00 PDC SP'!$F145,'00 Alimenta'!D:D)","v":0},{"$f":"SUMIF('00 Alimenta'!$B:$B,'00 PDC SP'!$F145,'00 Alimenta'!E:E)","v":0},{"$f":"SUMIF('00 Alimenta'!$B:$B,'00 PDC SP'!$F145,'00 Alimenta'!F:F)","v":0},{"$f":"SUMIF('00 Alimenta'!$B:$B,'00 PDC SP'!$F145,'00 Alimenta'!G:G)","v":0},{"$f":"SUMIF('00 Alimenta'!$B:$B,'00 PDC SP'!$F145,'00 Alimenta'!H:H)","v":0},{"$f":"SUMIF('00 Alimenta'!$B:$B,'00 PDC SP'!$F145,'00 Alimenta'!I:I)","v":0},0]
["ABA390CR","AB","ABA390",25,"CR","0102021103","Crediti v/Regione o Provincia Autonoma per quota FSR",{"$f":"SUMIF('00 Alimenta'!$B:$B,'00 PDC SP'!$F146,'00 Alimenta'!D:D)","v":118927566.06999999},{"$f":"SUMIF('00 Alimenta'!$B:$B,'00 PDC SP'!$F146,'00 Alimenta'!E:E)","v":699144829.10000002},{"$f":"SUMIF('00 Alimenta'!$B:$B,'00 PDC SP'!$F146,'00 Alimenta'!F:F)","v":673828882.24000001},{"$f":"SUMIF('00 Alimenta'!$B:$B,'00 PDC SP'!$F146,'00 Alimenta'!G:G)","v":144243512.93000001},{"$f":"SUMIF('00 Alimenta'!$B:$B,'00 PDC SP'!$F146,'00 Alimenta'!H:H)","v":743631926.5},{"$f":"SUMIF('00 Alimenta'!$B:$B,'00 PDC SP'!$F146,'00 Alimenta'!I:I)","v":761266852.44000006},126608586.99000001]
["ABA400CR","AB","ABA400",25,"CR","0102021104","Crediti v/Regione o Provincia Autonoma per mobilità attiva intraregionale",{"$f":"SUMIF('00 Alimenta'!$B:$B,'00 PDC SP'!$F147,'00 Alimenta'!D:D)","v":1256839.3899999999},{"$f":"SUMIF('00 Alimenta'!$B:$B,'00 PDC SP'!$F147,'00 Alimenta'!E:E)","v":99510381.010000005},{"$f":"SUMIF('00 Alimenta'!$B:$B,'00 PDC SP'!$F147,'00 Alimenta'!F:F)","v":99510381},{"$f":"SUMIF('00 Alimenta'!$B:$B,'00 PDC SP'!$F147,'00 Alimenta'!G:G)","v":1256839.3999999999},{"$f":"SUMIF('00 Alimenta'!$B:$B,'00 PDC SP'!$F147,'00 Alimenta'!H:H)","v":102476232.31999999},{"$f":"SUMIF('00 Alimenta'!$B:$B,'00 PDC SP'!$F147,'00 Alimenta'!I:I)","v":102476232.31999999},1256839.400000006]
["ABA400FE","AB","ABA400",25,"FE","0102021105","Fatture da emettere v/Regione per mobilità attiva intraregionale",{"$f":"SUMIF('00 Alimenta'!$B:$B,'00 PDC SP'!$F148,'00 Alimenta'!D:D)","v":0},{"$f":"SUMIF('00 Alimenta'!$B:$B,'00 PDC SP'!$F148,'00 Alimenta'!E:E)","v":0},{"$f":"SUMIF('00 Alimenta'!$B:$B,'00 PDC SP'!$F148,'00 Alimenta'!F:F)","v":0},{"$f":"SUMIF('00 Alimenta'!$B:$B,'00 PDC SP'!$F148,'00 Alimenta'!G:G)","v":0},{"$f":"SUMIF('00 Alimenta'!$B:$B,'00 PDC SP'!$F148,'00 Alimenta'!H:H)","v":0},{"$f":"SUMIF('00 Alimenta'!$B:$B,'00 PDC SP'!$F148,'00 Alimenta'!I:I)","v":0},0]
["ABA400FE","AB","ABA400",25,"FE","0102021106","Fatture da emettere v/Regione per mobilità attiva intraregionale da privato",{"$f":"SUMIF('00 Alimenta'!$B:$B,'00 PDC SP'!$F149,'00 Alimenta'!D:D)","v":0},{"$f":"SUMIF('00 Alimenta'!$B:$B,'00 PDC SP'!$F149,'00 Alimenta'!E:E)","v":0},{"$f":"SUMIF('00 Alimenta'!$B:$B,'00 PDC SP'!$F149,'00 Alimenta'!F:F)","v":0},{"$f":"SUMIF('00 Alimenta'!$B:$B,'00 PDC SP'!$F149,'00 Alimenta'!G:G)","v":0},{"$f":"SUMIF('00 Alimenta'!$B:$B,'00 PDC SP'!$F149,'00 Alimenta'!H:H)","v":0},{"$f":"SUMIF('00 Alimenta'!$B:$B,'00 PDC SP'!$F149,'00 Alimenta'!I:I)","v":0},0]
["ABA410CR","AB","ABA410",25,"CR","0102021107","Crediti v/Regione o Provincia Autonoma per mobilità attiva extraregionale",{"$f":"SUMIF('00 Alimenta'!$B:$B,'00 PDC SP'!$F150,'00 Alimenta'!D:D)","v":19005500.289999999},{"$f":"SUMIF('00 Alimenta'!$B:$B,'00 PDC SP'!$F150,'00 Alimenta'!E:E)","v":23288119.719999999},{"$f":"SUMIF('00 Alimenta'!$B:$B,'00 PDC SP'!$F150,'00 Alimenta'!F:F)","v":23288119.719999999},{"$f":"SUMIF('00 Alimenta'!$B:$B,'00 PDC SP'!$F150,'00 Alimenta'!G:G)","v":19005500.289999999},{"$f":"SUMIF('00 Alimenta'!$B:$B,'00 PDC SP'!$F150,'00 Alimenta'!H:H)","v":26206460.129999999},{"$f":"SUMIF('00 Alimenta'!$B:$B,'00 PDC SP'!$F150,'00 Alimenta'!I:I)","v":26206460.129999999},19005500.290000003]
["ABA410FE","AB","ABA410",25,"FE","0102021108","Fatture da emettere v/Regione per mobilità attiva extraregionale",{"$f":"SUMIF('00 Alimenta'!$B:$B,'00 PDC SP'!$F151,'00 Alimenta'!D:D)","v":0},{"$f":"SUMIF('00 Alimenta'!$B:$B,'00 PDC SP'!$F151,'00 Alimenta'!E:E)","v":0},{"$f":"SUMIF('00 Alimenta'!$B:$B,'00 PDC SP'!$F151,'00 Alimenta'!F:F)","v":0},{"$f":"SUMIF('00 Alimenta'!$B:$B,'00 PDC SP'!$F151,'00 Alimenta'!G:G)","v":0},{"$f":"SUMIF('00 Alimenta'!$B:$B,'00 PDC SP'!$F151,'00 Alimenta'!H:H)","v":0},{"$f":"SUMIF('00 Alimenta'!$B:$B,'00 PDC SP'!$F151,'00 Alimenta'!I:I)","v":0},0]
["ABA420CR","AB","ABA420",25,"CR","0102021109","Crediti v/Regione o Provincia Autonoma per acconto quota FSR",{"$f":"SUMIF('00 Alimenta'!$B:$B,'00 PDC SP'!$F152,'00 Alimenta'!D:D)","v":0},{"$f":"SUMIF('00 Alimenta'!$B:$B,'00 PDC SP'!$F152,'00 Alimenta'!E:E)","v":581529568.47000003},{"$f":"SUMIF('00 Alimenta'!$B:$B,'00 PDC SP'!$F152,'00 Alimenta'!F:F)","v":581529568.47000003},{"$f":"SUMIF('00 Alimenta'!$B:$B,'00 PDC SP'!$F152,'00 Alimenta'!G:G)","v":0},{"$f":"SUMIF('00 Alimenta'!$B:$B,'00 PDC SP'!$F152,'00 Alimenta'!H:H)","v":597506235},{"$f":"SUMIF('00 Alimenta'!$B:$B,'00 PDC SP'!$F152,'00 Alimenta'!I:I)","v":597506235},0]
["ABA420FE","AB","ABA420",25,"FE","0102021110","Fatture da emettere v/Regione per creditiv/Regione o Provincia Autonoma per acconto FSR",{"$f":"SUMIF('00 Alimenta'!$B:$B,'00 PDC SP'!$F153,'00 Alimenta'!D:D)","v":0},{"$f":"SUMIF('00 Alimenta'!$B:$B,'00 PDC SP'!$F153,'00 Alimenta'!E:E)","v":0},{"$f":"SUMIF('00 Alimenta'!$B:$B,'00 PDC SP'!$F153,'00 Alimenta'!F:F)","v":0},{"$f":"SUMIF('00 Alimenta'!$B:$B,'00 PDC SP'!$F153,'00 Alimenta'!G:G)","v":0},{"$f":"SUMIF('00 Alimenta'!$B:$B,'00 PDC SP'!$F153,'00 Alimenta'!H:H)","v":0},{"$f":"SUMIF('00 Alimenta'!$B:$B,'00 PDC SP'!$F153,'00 Alimenta'!I:I)","v":0},0]
["ABA430CR","AB","ABA430",25,"CR","0102021111","Crediti v/Regione o Provincia Autonoma per finanziamento sanitario aggiuntivo corrente LEA",{"$f":"SUMIF('00 Alimenta'!$B:$B,'00 PDC SP'!$F154,'00 Alimenta'!D:D)","v":10384091.02},{"$f":"SUMIF('00 Alimenta'!$B:$B,'00 PDC SP'!$F154,'00 Alimenta'!E:E)","v":2899011.66},{"$f":"SUMIF('00 Alimenta'!$B:$B,'00 PDC SP'!$F154,'00 Alimenta'!F:F)","v":3904796.15},{"$f":"SUMIF('00 Alimenta'!$B:$B,'00 PDC SP'!$F154,'00 Alimenta'!G:G)","v":9378306.5299999993},{"$f":"SUMIF('00 Alimenta'!$B:$B,'00 PDC SP'!$F154,'00 Alimenta'!H:H)","v":9459338.4600000009},{"$f":"SUMIF('00 Alimenta'!$B:$B,'00 PDC SP'!$F154,'00 Alimenta'!I:I)","v":8933757.0899999999},9903887.9000000022]
["ABA440CR","AB","ABA440",25,"CR","0102021112","Crediti v/Regione o Provincia Autonoma per finanziamento sanitario aggiuntivo corrente extra LEA",{"$f":"SUMIF('00 Alimenta'!$B:$B,'00 PDC SP'!$F155,'00 Alimenta'!D:D)","v":0},{"$f":"SUMIF('00 Alimenta'!$B:$B,'00 PDC SP'!$F155,'00 Alimenta'!E:E)","v":0},{"$f":"SUMIF('00 Alimenta'!$B:$B,'00 PDC SP'!$F155,'00 Alimenta'!F:F)","v":0},{"$f":"SUMIF('00 Alimenta'!$B:$B,'00 PDC SP'!$F155,'00 Alimenta'!G:G)","v":0},{"$f":"SUMIF('00 Alimenta'!$B:$B,'00 PDC SP'!$F155,'00 Alimenta'!H:H)","v":0},{"$f":"SUMIF('00 Alimenta'!$B:$B,'00 PDC SP'!$F155,'00 Alimenta'!I:I)","v":0},0]
["ABA450CR","AB","ABA450",25,"CR","0102021113","Crediti v/Regione o Provincia Autonoma per spesa corrente - altro",{"$f":"SUMIF('00 Alimenta'!$B:$B,'00 PDC SP'!$F156,'00 Alimenta'!D:D)","v":0},{"$f":"SUMIF('00 Alimenta'!$B:$B,'00 PDC SP'!$F156,'00 Alimenta'!E:E)","v":0},{"$f":"SUMIF('00 Alimenta'!$B:$B,'00 PDC SP'!$F156,'00 Alimenta'!F:F)","v":0},{"$f":"SUMIF('00 Alimenta'!$B:$B,'00 PDC SP'!$F156,'00 Alimenta'!G:G)","v":0},{"$f":"SUMIF('00 Alimenta'!$B:$B,'00 PDC SP'!$F156,'00 Alimenta'!H:H)","v":0},{"$f":"SUMIF('00 Alimenta'!$B:$B,'00 PDC SP'!$F156,'00 Alimenta'!I:I)","v":0},0]
["ABA460CR","AB","ABA460",25,"CR","0102021114","Crediti v/Regione o Provincia Autonoma per ricerca",{"$f":"SUMIF('00 Alimenta'!$B:$B,'00 PDC SP'!$F157,'00 Alimenta'!D:D)","v":0},{"$f":"SUMIF('00 Alimenta'!$B:$B,'00 PDC SP'!$F157,'00 Alimenta'!E:E)","v":0},{"$f":"SUMIF('00 Alimenta'!$B:$B,'00 PDC SP'!$F157,'00 Alimenta'!F:F)","v":0},{"$f":"SUMIF('00 Alimenta'!$B:$B,'00 PDC SP'!$F157,'00 Alimenta'!G:G)","v":0},{"$f":"SUMIF('00 Alimenta'!$B:$B,'00 PDC SP'!$F157,'00 Alimenta'!H:H)","v":0},{"$f":"SUMIF('00 Alimenta'!$B:$B,'00 PDC SP'!$F157,'00 Alimenta'!I:I)","v":0},0]
["ABA400CR","AB","ABA400",25,"CR","0102021115","Netting mobilità intraregionale ante 2007",{"$f":"SUMIF('00 Alimenta'!$B:$B,'00 PDC SP'!$F158,'00 Alimenta'!D:D)","v":15592903.99},{"$f":"SUMIF('00 Alimenta'!$B:$B,'00 PDC SP'!$F158,'00 Alimenta'!E:E)","v":0},{"$f":"SUMIF('00 Alimenta'!$B:$B,'00 PDC SP'!$F158,'00 Alimenta'!F:F)","v":0},{"$f":"SUMIF('00 Alimenta'!$B:$B,'00 PDC SP'!$F158,'00 Alimenta'!G:G)","v":15592903.99},{"$f":"SUMIF('00 Alimenta'!$B:$B,'00 PDC SP'!$F158,'00 Alimenta'!H:H)","v":0},{"$f":"SUMIF('00 Alimenta'!$B:$B,'00 PDC SP'!$F158,'00 Alimenta'!I:I)","v":0},15592903.99]
[{"$f":"IF(E159=\"\",C159,C159&E159)","v":"ABA410CR"},"AB","ABA410",25,"CR","0102021116","Netting mobilità extraregionale ante 2007",null,null,null,{"$f":"SUMIF('00 Alimenta'!$B:$B,'00 PDC SP'!$F159,'00 Alimenta'!G:G)","v":0},{"$f":"SUMIF('00 Alimenta'!$B:$B,'00 PDC SP'!$F159,'00 Alimenta'!H:H)","v":0},{"$f":"SUMIF('00 Alimenta'!$B:$B,'00 PDC SP'!$F159,'00 Alimenta'!I:I)","v":0},{"$f":"K159+L159-M159","v":0}]
["ABA420CR","AB","ABA420",25,"CR","0102021117","Crediti v/Regione o provincia Autonoma per acconto quota FSR per DPC",{"$f":"SUMIF('00 Alimenta'!$B:$B,'00 PDC SP'!$F160,'00 Alimenta'!D:D)","v":0},{"$f":"SUMIF('00 Alimenta'!$B:$B,'00 PDC SP'!$F160,'00 Alimenta'!E:E)","v":21620901.280000001},{"$f":"SUMIF('00 Alimenta'!$B:$B,'00 PDC SP'!$F160,'00 Alimenta'!F:F)","v":21620901.280000001},{"$f":"SUMIF('00 Alimenta'!$B:$B,'00 PDC SP'!$F160,'00 Alimenta'!G:G)","v":0},{"$f":"SUMIF('00 Alimenta'!$B:$B,'00 PDC SP'!$F160,'00 Alimenta'!H:H)","v":47981977.049999997},{"$f":"SUMIF('00 Alimenta'!$B:$B,'00 PDC SP'!$F160,'00 Alimenta'!I:I)","v":47981977.049999997},0]
["ABA451CR","AB","ABA451",25,"CR","0102021118","Crediti v/Regione o Provincia Autonoma per spesa corrente - STP (ex D.lgs. 286/98)",{"$f":"SUMIF('00 Alimenta'!$B:$B,'00 PDC SP'!$F161,'00 Alimenta'!D:D)","v":0},{"$f":"SUMIF('00 Alimenta'!$B:$B,'00 PDC SP'!$F161,'00 Alimenta'!E:E)","v":0},{"$f":"SUMIF('00 Alimenta'!$B:$B,'00 PDC SP'!$F161,'00 Alimenta'!F:F)","v":0},{"$f":"SUMIF('00 Alimenta'!$B:$B,'00 PDC SP'!$F161,'00 Alimenta'!G:G)","v":0},{"$f":"SUMIF('00 Alimenta'!$B:$B,'00 PDC SP'!$F161,'00 Alimenta'!H:H)","v":216918.16},{"$f":"SUMIF('00 Alimenta'!$B:$B,'00 PDC SP'!$F161,'00 Alimenta'!I:I)","v":0},216918.16]
["ABA461CR","AB","ABA461",25,"CR","0102021119","Crediti v/Regione o Provincia Autonoma per mobilità attiva internazionale",{"$f":"SUMIF('00 Alimenta'!$B:$B,'00 PDC SP'!$F162,'00 Alimenta'!D:D)","v":0},{"$f":"SUMIF('00 Alimenta'!$B:$B,'00 PDC SP'!$F162,'00 Alimenta'!E:E)","v":0},{"$f":"SUMIF('00 Alimenta'!$B:$B,'00 PDC SP'!$F162,'00 Alimenta'!F:F)","v":0},{"$f":"SUMIF('00 Alimenta'!$B:$B,'00 PDC SP'!$F162,'00 Alimenta'!G:G)","v":0},{"$f":"SUMIF('00 Alimenta'!$B:$B,'00 PDC SP'!$F162,'00 Alimenta'!H:H)","v":393536.14},{"$f":"SUMIF('00 Alimenta'!$B:$B,'00 PDC SP'!$F162,'00 Alimenta'!I:I)","v":393536.14},0]
["ABA480CR","AB","ABA480",49,"CR","0102021201","Crediti v/Regione o Provincia Autonoma per finanziamenti per investimenti",{"$f":"SUMIF('00 Alimenta'!$B:$B,'00 PDC SP'!$F163,'00 Alimenta'!D:D)","v":38255},{"$f":"SUMIF('00 Alimenta'!$B:$B,'00 PDC SP'!$F163,'00 Alimenta'!E:E)","v":0},{"$f":"SUMIF('00 Alimenta'!$B:$B,'00 PDC SP'!$F163,'00 Alimenta'!F:F)","v":0},{"$f":"SUMIF('00 Alimenta'!$B:$B,'00 PDC SP'!$F163,'00 Alimenta'!G:G)","v":38255},{"$f":"SUMIF('00 Alimenta'!$B:$B,'00 PDC SP'!$F163,'00 Alimenta'!H:H)","v":682626.67},{"$f":"SUMIF('00 Alimenta'!$B:$B,'00 PDC SP'!$F163,'00 Alimenta'!I:I)","v":682626.67},38255]
["ABA490CR","AB","ABA490",50,"CR","0102021202","Crediti v/Regione o Provincia Autonoma per incremento fondo dotazione",{"$f":"SUMIF('00 Alimenta'!$B:$B,'00 PDC SP'!$F164,'00 Alimenta'!D:D)","v":0},{"$f":"SUMIF('00 Alimenta'!$B:$B,'00 PDC SP'!$F164,'00 Alimenta'!E:E)","v":0},{"$f":"SUMIF('00 Alimenta'!$B:$B,'00 PDC SP'!$F164,'00 Alimenta'!F:F)","v":0},{"$f":"SUMIF('00 Alimenta'!$B:$B,'00 PDC SP'!$F164,'00 Alimenta'!G:G)","v":0},{"$f":"SUMIF('00 Alimenta'!$B:$B,'00 PDC SP'!$F164,'00 Alimenta'!H:H)","v":0},{"$f":"SUMIF('00 Alimenta'!$B:$B,'00 PDC SP'!$F164,'00 Alimenta'!I:I)","v":0},0]
["ABA500CR","AB","ABA500",51,"CR","0102021203","Crediti v/Regione o Provincia Autonoma per ripiano perdite",{"$f":"SUMIF('00 Alimenta'!$B:$B,'00 PDC SP'!$F165,'00 Alimenta'!D:D)","v":14264710},{"$f":"SUMIF('00 Alimenta'!$B:$B,'00 PDC SP'!$F165,'00 Alimenta'!E:E)","v":13609624},{"$f":"SUMIF('00 Alimenta'!$B:$B,'00 PDC SP'!$F165,'00 Alimenta'!F:F)","v":0},{"$f":"SUMIF('00 Alimenta'!$B:$B,'00 PDC SP'!$F165,'00 Alimenta'!G:G)","v":27874334},{"$f":"SUMIF('00 Alimenta'!$B:$B,'00 PDC SP'!$F165,'00 Alimenta'!H:H)","v":0},{"$f":"SUMIF('00 Alimenta'!$B:$B,'00 PDC SP'!$F165,'00 Alimenta'!I:I)","v":353804.19},27520529.809999999]
["ABA510CR","AB","ABA510",52,"CR","0102021204","Crediti v/Regione per copertura debiti al 31/12/2005",{"$f":"SUMIF('00 Alimenta'!$B:$B,'00 PDC SP'!$F166,'00 Alimenta'!D:D)","v":0},{"$f":"SUMIF('00 Alimenta'!$B:$B,'00 PDC SP'!$F166,'00 Alimenta'!E:E)","v":0},{"$f":"SUMIF('00 Alimenta'!$B:$B,'00 PDC SP'!$F166,'00 Alimenta'!F:F)","v":0},{"$f":"SUMIF('00 Alimenta'!$B:$B,'00 PDC SP'!$F166,'00 Alimenta'!G:G)","v":0},{"$f":"SUMIF('00 Alimenta'!$B:$B,'00 PDC SP'!$F166,'00 Alimenta'!H:H)","v":0},{"$f":"SUMIF('00 Alimenta'!$B:$B,'00 PDC SP'!$F166,'00 Alimenta'!I:I)","v":0},0]
["ABA520CR","AB","ABA520",49,"CR","0102021205","Crediti v/Regione o Provincia Autonoma per ricostituzione risorse da investimenti esercizi precedenti",{"$f":"SUMIF('00 Alimenta'!$B:$B,'00 PDC SP'!$F167,'00 Alimenta'!D:D)","v":0},{"$f":"SUMIF('00 Alimenta'!$B:$B,'00 PDC SP'!$F167,'00 Alimenta'!E:E)","v":0},{"$f":"SUMIF('00 Alimenta'!$B:$B,'00 PDC SP'!$F167,'00 Alimenta'!F:F)","v":0},{"$f":"SUMIF('00 Alimenta'!$B:$B,'00 PDC SP'!$F167,'00 Alimenta'!G:G)","v":0},{"$f":"SUMIF('00 Alimenta'!$B:$B,'00 PDC SP'!$F167,'00 Alimenta'!H:H)","v":0},{"$f":"SUMIF('00 Alimenta'!$B:$B,'00 PDC SP'!$F167,'00 Alimenta'!I:I)","v":0},0]
["ABA501CR","AB","ABA501","","CR","0102021206","Crediti v/Regione o Provincia Autonoma per anticipazione ripiano disavanzo programmato dai Piani aziendali di cui all'art. 1, comma 528, L. 208/2015",{"$f":"SUMIF('00 Alimenta'!$B:$B,'00 PDC SP'!$F168,'00 Alimenta'!D:D)","v":0},{"$f":"SUMIF('00 Alimenta'!$B:$B,'00 PDC SP'!$F168,'00 Alimenta'!E:E)","v":0},{"$f":"SUMIF('00 Alimenta'!$B:$B,'00 PDC SP'!$F168,'00 Alimenta'!F:F)","v":0},{"$f":"SUMIF('00 Alimenta'!$B:$B,'00 PDC SP'!$F168,'00 Alimenta'!G:G)","v":0},{"$f":"SUMIF('00 Alimenta'!$B:$B,'00 PDC SP'!$F168,'00 Alimenta'!H:H)","v":0},{"$f":"SUMIF('00 Alimenta'!$B:$B,'00 PDC SP'!$F168,'00 Alimenta'!I:I)","v":0},0]
["ABA521CR","AB","ABA521","","CR","0102021207","Crediti v/Regione o Provincia Autonoma per contributi L. 210/92",{"$f":"SUMIF('00 Alimenta'!$B:$B,'00 PDC SP'!$F169,'00 Alimenta'!D:D)","v":0},{"$f":"SUMIF('00 Alimenta'!$B:$B,'00 PDC SP'!$F169,'00 Alimenta'!E:E)","v":0},{"$f":"SUMIF('00 Alimenta'!$B:$B,'00 PDC SP'!$F169,'00 Alimenta'!F:F)","v":0},{"$f":"SUMIF('00 Alimenta'!$B:$B,'00 PDC SP'!$F169,'00 Alimenta'!G:G)","v":0},{"$f":"SUMIF('00 Alimenta'!$B:$B,'00 PDC SP'!$F169,'00 Alimenta'!H:H)","v":0},{"$f":"SUMIF('00 Alimenta'!$B:$B,'00 PDC SP'!$F169,'00 Alimenta'!I:I)","v":0},0]
["ABA522CR","AB","ABA522","","CR","0102021208","Crediti v/Regione o Provincia Autonoma per contributi L. 210/92 ¿ aziende sanitarie",{"$f":"SUMIF('00 Alimenta'!$B:$B,'00 PDC SP'!$F170,'00 Alimenta'!D:D)","v":0},{"$f":"SUMIF('00 Alimenta'!$B:$B,'00 PDC SP'!$F170,'00 Alimenta'!E:E)","v":0},{"$f":"SUMIF('00 Alimenta'!$B:$B,'00 PDC SP'!$F170,'00 Alimenta'!F:F)","v":0},{"$f":"SUMIF('00 Alimenta'!$B:$B,'00 PDC SP'!$F170,'00 Alimenta'!G:G)","v":0},{"$f":"SUMIF('00 Alimenta'!$B:$B,'00 PDC SP'!$F170,'00 Alimenta'!H:H)","v":0},{"$f":"SUMIF('00 Alimenta'!$B:$B,'00 PDC SP'!$F170,'00 Alimenta'!I:I)","v":0},0]
["ABA530CR","AB","ABA530",26,"CR","0102021301","Crediti v/Comuni",{"$f":"SUMIF('00 Alimenta'!$B:$B,'00 PDC SP'!$F171,'00 Alimenta'!D:D)","v":163358.57999999999},{"$f":"SUMIF('00 Alimenta'!$B:$B,'00 PDC SP'!$F171,'00 Alimenta'!E:E)","v":111857.28},{"$f":"SUMIF('00 Alimenta'!$B:$B,'00 PDC SP'!$F171,'00 Alimenta'!F:F)","v":91803.89},{"$f":"SUMIF('00 Alimenta'!$B:$B,'00 PDC SP'!$F171,'00 Alimenta'!G:G)","v":183411.97},{"$f":"SUMIF('00 Alimenta'!$B:$B,'00 PDC SP'!$F171,'00 Alimenta'!H:H)","v":99651.91},{"$f":"SUMIF('00 Alimenta'!$B:$B,'00 PDC SP'!$F171,'00 Alimenta'!I:I)","v":89123.65},193940.23]
["ABA530FE","AB","ABA530",26,"FE","0102021302","Fatture da emettere v/Comuni",{"$f":"SUMIF('00 Alimenta'!$B:$B,'00 PDC SP'!$F172,'00 Alimenta'!D:D)","v":58770.9},{"$f":"SUMIF('00 Alimenta'!$B:$B,'00 PDC SP'!$F172,'00 Alimenta'!E:E)","v":53342.51},{"$f":"SUMIF('00 Alimenta'!$B:$B,'00 PDC SP'!$F172,'00 Alimenta'!F:F)","v":58770.9},{"$f":"SUMIF('00 Alimenta'!$B:$B,'00 PDC SP'!$F172,'00 Alimenta'!G:G)","v":53342.51},{"$f":"SUMIF('00 Alimenta'!$B:$B,'00 PDC SP'!$F172,'00 Alimenta'!H:H)","v":20214.71},{"$f":"SUMIF('00 Alimenta'!$B:$B,'00 PDC SP'!$F172,'00 Alimenta'!I:I)","v":53342.51},20214.71]
["ABA560CR","AB","ABA560",27,"CR","0102021401","Crediti v/ASL della Regione",{"$f":"SUMIF('00 Alimenta'!$B:$B,'00 PDC SP'!$F173,'00 Alimenta'!D:D)","v":0},{"$f":"SUMIF('00 Alimenta'!$B:$B,'00 PDC SP'!$F173,'00 Alimenta'!E:E)","v":0},{"$f":"SUMIF('00 Alimenta'!$B:$B,'00 PDC SP'!$F173,'00 Alimenta'!F:F)","v":0},{"$f":"SUMIF('00 Alimenta'!$B:$B,'00 PDC SP'!$F173,'00 Alimenta'!G:G)","v":0},{"$f":"SUMIF('00 Alimenta'!$B:$B,'00 PDC SP'!$F173,'00 Alimenta'!H:H)","v":0},{"$f":"SUMIF('00 Alimenta'!$B:$B,'00 PDC SP'!$F173,'00 Alimenta'!I:I)","v":0},0]
["ABA560CR","AB","ABA560",27,"CR","0102021402","Crediti v/ASL Avezzano Sulmona L'Aquila per mobilità in compensazione",{"$f":"SUMIF('00 Alimenta'!$B:$B,'00 PDC SP'!$F174,'00 Alimenta'!D:D)","v":0},{"$f":"SUMIF('00 Alimenta'!$B:$B,'00 PDC SP'!$F174,'00 Alimenta'!E:E)","v":0},{"$f":"SUMIF('00 Alimenta'!$B:$B,'00 PDC SP'!$F174,'00 Alimenta'!F:F)","v":0},{"$f":"SUMIF('00 Alimenta'!$B:$B,'00 PDC SP'!$F174,'00 Alimenta'!G:G)","v":0},{"$f":"SUMIF('00 Alimenta'!$B:$B,'00 PDC SP'!$F174,'00 Alimenta'!H:H)","v":0},{"$f":"SUMIF('00 Alimenta'!$B:$B,'00 PDC SP'!$F174,'00 Alimenta'!I:I)","v":0},0]
["ABA560FE","AB","ABA560",27,"FE","0102021403","Fatture da emettere v/ASL Avezzano Sulmona L'Aquila per mobilità in compensazione",{"$f":"SUMIF('00 Alimenta'!$B:$B,'00 PDC SP'!$F175,'00 Alimenta'!D:D)","v":0},{"$f":"SUMIF('00 Alimenta'!$B:$B,'00 PDC SP'!$F175,'00 Alimenta'!E:E)","v":0},{"$f":"SUMIF('00 Alimenta'!$B:$B,'00 PDC SP'!$F175,'00 Alimenta'!F:F)","v":0},{"$f":"SUMIF('00 Alimenta'!$B:$B,'00 PDC SP'!$F175,'00 Alimenta'!G:G)","v":0},{"$f":"SUMIF('00 Alimenta'!$B:$B,'00 PDC SP'!$F175,'00 Alimenta'!H:H)","v":0},{"$f":"SUMIF('00 Alimenta'!$B:$B,'00 PDC SP'!$F175,'00 Alimenta'!I:I)","v":0},0]
["ABA560CR","AB","ABA560",27,"CR","0102021404","Crediti v/ASL Lanciano Vasto Chieti per mobilità in compensazione",{"$f":"SUMIF('00 Alimenta'!$B:$B,'00 PDC SP'!$F176,'00 Alimenta'!D:D)","v":0},{"$f":"SUMIF('00 Alimenta'!$B:$B,'00 PDC SP'!$F176,'00 Alimenta'!E:E)","v":0},{"$f":"SUMIF('00 Alimenta'!$B:$B,'00 PDC SP'!$F176,'00 Alimenta'!F:F)","v":0},{"$f":"SUMIF('00 Alimenta'!$B:$B,'00 PDC SP'!$F176,'00 Alimenta'!G:G)","v":0},{"$f":"SUMIF('00 Alimenta'!$B:$B,'00 PDC SP'!$F176,'00 Alimenta'!H:H)","v":0},{"$f":"SUMIF('00 Alimenta'!$B:$B,'00 PDC SP'!$F176,'00 Alimenta'!I:I)","v":0},0]
["ABA560FE","AB","ABA560",27,"FE","0102021405","Fatture da emettere v/ASL Lanciano Vasto Chieti per mobilità in compensazione",{"$f":"SUMIF('00 Alimenta'!$B:$B,'00 PDC SP'!$F177,'00 Alimenta'!D:D)","v":0},{"$f":"SUMIF('00 Alimenta'!$B:$B,'00 PDC SP'!$F177,'00 Alimenta'!E:E)","v":0},{"$f":"SUMIF('00 Alimenta'!$B:$B,'00 PDC SP'!$F177,'00 Alimenta'!F:F)","v":0},{"$f":"SUMIF('00 Alimenta'!$B:$B,'00 PDC SP'!$F177,'00 Alimenta'!G:G)","v":0},{"$f":"SUMIF('00 Alimenta'!$B:$B,'00 PDC SP'!$F177,'00 Alimenta'!H:H)","v":0},{"$f":"SUMIF('00 Alimenta'!$B:$B,'00 PDC SP'!$F177,'00 Alimenta'!I:I)","v":0},0]
["ABA560CR","AB","ABA560",27,"CR","0102021406","Crediti v/ASL Pescara per mobilità in compensazione",{"$f":"SUMIF('00 Alimenta'!$B:$B,'00 PDC SP'!$F178,'00 Alimenta'!D:D)","v":0},{"$f":"SUMIF('00 Alimenta'!$B:$B,'00 PDC SP'!$F178,'00 Alimenta'!E:E)","v":0},{"$f":"SUMIF('00 Alimenta'!$B:$B,'00 PDC SP'!$F178,'00 Alimenta'!F:F)","v":0},{"$f":"SUMIF('00 Alimenta'!$B:$B,'00 PDC SP'!$F178,'00 Alimenta'!G:G)","v":0},{"$f":"SUMIF('00 Alimenta'!$B:$B,'00 PDC SP'!$F178,'00 Alimenta'!H:H)","v":0},{"$f":"SUMIF('00 Alimenta'!$B:$B,'00 PDC SP'!$F178,'00 Alimenta'!I:I)","v":0},0]
["ABA560FE","AB","ABA560",27,"FE","0102021407","Fatture da emettere v/ASL Pescara per mobilità in compensazione",{"$f":"SUMIF('00 Alimenta'!$B:$B,'00 PDC SP'!$F179,'00 Alimenta'!D:D)","v":0},{"$f":"SUMIF('00 Alimenta'!$B:$B,'00 PDC SP'!$F179,'00 Alimenta'!E:E)","v":0},{"$f":"SUMIF('00 Alimenta'!$B:$B,'00 PDC SP'!$F179,'00 Alimenta'!F:F)","v":0},{"$f":"SUMIF('00 Alimenta'!$B:$B,'00 PDC SP'!$F179,'00 Alimenta'!G:G)","v":0},{"$f":"SUMIF('00 Alimenta'!$B:$B,'00 PDC SP'!$F179,'00 Alimenta'!H:H)","v":0},{"$f":"SUMIF('00 Alimenta'!$B:$B,'00 PDC SP'!$F179,'00 Alimenta'!I:I)","v":0},0]
["ABA560CR","AB","ABA560",27,"CR","0102021408","Crediti v/ASL Teramo per mobilità in compensazione",{"$f":"SUMIF('00 Alimenta'!$B:$B,'00 PDC SP'!$F180,'00 Alimenta'!D:D)","v":0},{"$f":"SUMIF('00 Alimenta'!$B:$B,'00 PDC SP'!$F180,'00 Alimenta'!E:E)","v":0},{"$f":"SUMIF('00 Alimenta'!$B:$B,'00 PDC SP'!$F180,'00 Alimenta'!F:F)","v":0},{"$f":"SUMIF('00 Alimenta'!$B:$B,'00 PDC SP'!$F180,'00 Alimenta'!G:G)","v":0},{"$f":"SUMIF('00 Alimenta'!$B:$B,'00 PDC SP'!$F180,'00 Alimenta'!H:H)","v":0},{"$f":"SUMIF('00 Alimenta'!$B:$B,'00 PDC SP'!$F180,'00 Alimenta'!I:I)","v":0},0]
["ABA560FE","AB","ABA560",27,"FE","0102021409","Fatture da emettere v/ASL Teramo per mobilità in compensazione",{"$f":"SUMIF('00 Alimenta'!$B:$B,'00 PDC SP'!$F181,'00 Alimenta'!D:D)","v":0},{"$f":"SUMIF('00 Alimenta'!$B:$B,'00 PDC SP'!$F181,'00 Alimenta'!E:E)","v":0},{"$f":"SUMIF('00 Alimenta'!$B:$B,'00 PDC SP'!$F181,'00 Alimenta'!F:F)","v":0},{"$f":"SUMIF('00 Alimenta'!$B:$B,'00 PDC SP'!$F181,'00 Alimenta'!G:G)","v":0},{"$f":"SUMIF('00 Alimenta'!$B:$B,'00 PDC SP'!$F181,'00 Alimenta'!H:H)","v":0},{"$f":"SUMIF('00 Alimenta'!$B:$B,'00 PDC SP'!$F181,'00 Alimenta'!I:I)","v":0},0]
["ABA570CR","AB","ABA570",27,"CR","0102021410","Crediti v/asl Avezzano Sulmona L'Aquila per mobilità non in compensazione",{"$f":"SUMIF('00 Alimenta'!$B:$B,'00 PDC SP'!$F182,'00 Alimenta'!D:D)","v":0},{"$f":"SUMIF('00 Alimenta'!$B:$B,'00 PDC SP'!$F182,'00 Alimenta'!E:E)","v":0},{"$f":"SUMIF('00 Alimenta'!$B:$B,'00 PDC SP'!$F182,'00 Alimenta'!F:F)","v":0},{"$f":"SUMIF('00 Alimenta'!$B:$B,'00 PDC SP'!$F182,'00 Alimenta'!G:G)","v":0},{"$f":"SUMIF('00 Alimenta'!$B:$B,'00 PDC SP'!$F182,'00 Alimenta'!H:H)","v":0},{"$f":"SUMIF('00 Alimenta'!$B:$B,'00 PDC SP'!$F182,'00 Alimenta'!I:I)","v":0},0]
["ABA570FE","AB","ABA570",27,"FE","0102021411","Fatture da emettere v/ASL Avezzano Sulmona L'Aquila per mobilità non in compensazione",{"$f":"SUMIF('00 Alimenta'!$B:$B,'00 PDC SP'!$F183,'00 Alimenta'!D:D)","v":0},{"$f":"SUMIF('00 Alimenta'!$B:$B,'00 PDC SP'!$F183,'00 Alimenta'!E:E)","v":0},{"$f":"SUMIF('00 Alimenta'!$B:$B,'00 PDC SP'!$F183,'00 Alimenta'!F:F)","v":0},{"$f":"SUMIF('00 Alimenta'!$B:$B,'00 PDC SP'!$F183,'00 Alimenta'!G:G)","v":0},{"$f":"SUMIF('00 Alimenta'!$B:$B,'00 PDC SP'!$F183,'00 Alimenta'!H:H)","v":0},{"$f":"SUMIF('00 Alimenta'!$B:$B,'00 PDC SP'!$F183,'00 Alimenta'!I:I)","v":0},0]
["ABA570CR","AB","ABA570",27,"CR","0102021412","Crediti v/ASL Lanciano Vasto Chieti per mobilità non in compensazione",{"$f":"SUMIF('00 Alimenta'!$B:$B,'00 PDC SP'!$F184,'00 Alimenta'!D:D)","v":0},{"$f":"SUMIF('00 Alimenta'!$B:$B,'00 PDC SP'!$F184,'00 Alimenta'!E:E)","v":0},{"$f":"SUMIF('00 Alimenta'!$B:$B,'00 PDC SP'!$F184,'00 Alimenta'!F:F)","v":0},{"$f":"SUMIF('00 Alimenta'!$B:$B,'00 PDC SP'!$F184,'00 Alimenta'!G:G)","v":0},{"$f":"SUMIF('00 Alimenta'!$B:$B,'00 PDC SP'!$F184,'00 Alimenta'!H:H)","v":0},{"$f":"SUMIF('00 Alimenta'!$B:$B,'00 PDC SP'!$F184,'00 Alimenta'!I:I)","v":0},0]
["ABA570FE","AB","ABA570",27,"FE","0102021413","Fatture da emettere v/ASL Lanciano Vasto Chieti per mobilità non in compensazione",{"$f":"SUMIF('00 Alimenta'!$B:$B,'00 PDC SP'!$F185,'00 Alimenta'!D:D)","v":0},{"$f":"SUMIF('00 Alimenta'!$B:$B,'00 PDC SP'!$F185,'00 Alimenta'!E:E)","v":0},{"$f":"SUMIF('00 Alimenta'!$B:$B,'00 PDC SP'!$F185,'00 Alimenta'!F:F)","v":0},{"$f":"SUMIF('00 Alimenta'!$B:$B,'00 PDC SP'!$F185,'00 Alimenta'!G:G)","v":0},{"$f":"SUMIF('00 Alimenta'!$B:$B,'00 PDC SP'!$F185,'00 Alimenta'!H:H)","v":0},{"$f":"SUMIF('00 Alimenta'!$B:$B,'00 PDC SP'!$F185,'00 Alimenta'!I:I)","v":0},0]
["ABA570CR","AB","ABA570",27,"CR","0102021414","Crediti v/ASL Pescara per mobilità non in compensazione",{"$f":"SUMIF('00 Alimenta'!$B:$B,'00 PDC SP'!$F186,'00 Alimenta'!D:D)","v":0},{"$f":"SUMIF('00 Alimenta'!$B:$B,'00 PDC SP'!$F186,'00 Alimenta'!E:E)","v":0},{"$f":"SUMIF('00 Alimenta'!$B:$B,'00 PDC SP'!$F186,'00 Alimenta'!F:F)","v":0},{"$f":"SUMIF('00 Alimenta'!$B:$B,'00 PDC SP'!$F186,'00 Alimenta'!G:G)","v":0},{"$f":"SUMIF('00 Alimenta'!$B:$B,'00 PDC SP'!$F186,'00 Alimenta'!H:H)","v":0},{"$f":"SUMIF('00 Alimenta'!$B:$B,'00 PDC SP'!$F186,'00 Alimenta'!I:I)","v":0},0]
["ABA570FE","AB","ABA570",27,"FE","0102021415","Fatture da emettere v/ASL Pescara per mobilità non in compensazione",{"$f":"SUMIF('00 Alimenta'!$B:$B,'00 PDC SP'!$F187,'00 Alimenta'!D:D)","v":0},{"$f":"SUMIF('00 Alimenta'!$B:$B,'00 PDC SP'!$F187,'00 Alimenta'!E:E)","v":0},{"$f":"SUMIF('00 Alimenta'!$B:$B,'00 PDC SP'!$F187,'00 Alimenta'!F:F)","v":0},{"$f":"SUMIF('00 Alimenta'!$B:$B,'00 PDC SP'!$F187,'00 Alimenta'!G:G)","v":0},{"$f":"SUMIF('00 Alimenta'!$B:$B,'00 PDC SP'!$F187,'00 Alimenta'!H:H)","v":0},{"$f":"SUMIF('00 Alimenta'!$B:$B,'00 PDC SP'!$F187,'00 Alimenta'!I:I)","v":0},0]
["ABA570CR","AB","ABA570",27,"CR","0102021416","Crediti v/ASL Teramo per mobilità non in compensazione",{"$f":"SUMIF('00 Alimenta'!$B:$B,'00 PDC SP'!$F188,'00 Alimenta'!D:D)","v":0},{"$f":"SUMIF('00 Alimenta'!$B:$B,'00 PDC SP'!$F188,'00 Alimenta'!E:E)","v":0},{"$f":"SUMIF('00 Alimenta'!$B:$B,'00 PDC SP'!$F188,'00 Alimenta'!F:F)","v":0},{"$f":"SUMIF('00 Alimenta'!$B:$B,'00 PDC SP'!$F188,'00 Alimenta'!G:G)","v":0},{"$f":"SUMIF('00 Alimenta'!$B:$B,'00 PDC SP'!$F188,'00 Alimenta'!H:H)","v":0},{"$f":"SUMIF('00 Alimenta'!$B:$B,'00 PDC SP'!$F188,'00 Alimenta'!I:I)","v":0},0]
["ABA570FE","AB","ABA570",27,"FE","0102021417","Fatture da emettere v/ASL Teramo per mobilità non in compensazione",{"$f":"SUMIF('00 Alimenta'!$B:$B,'00 PDC SP'!$F189,'00 Alimenta'!D:D)","v":0},{"$f":"SUMIF('00 Alimenta'!$B:$B,'00 PDC SP'!$F189,'00 Alimenta'!E:E)","v":0},{"$f":"SUMIF('00 Alimenta'!$B:$B,'00 PDC SP'!$F189,'00 Alimenta'!F:F)","v":0},{"$f":"SUMIF('00 Alimenta'!$B:$B,'00 PDC SP'!$F189,'00 Alimenta'!G:G)","v":0},{"$f":"SUMIF('00 Alimenta'!$B:$B,'00 PDC SP'!$F189,'00 Alimenta'!H:H)","v":0},{"$f":"SUMIF('00 Alimenta'!$B:$B,'00 PDC SP'!$F189,'00 Alimenta'!I:I)","v":0},0]
["ABA580CR","AB","ABA580",27,"CR","0102021418","Crediti v/ASL Avezzano Sulmona L'Aquila per altre prestazioni",{"$f":"SUMIF('00 Alimenta'!$B:$B,'00 PDC SP'!$F190,'00 Alimenta'!D:D)","v":486039.96},{"$f":"SUMIF('00 Alimenta'!$B:$B,'00 PDC SP'!$F190,'00 Alimenta'!E:E)","v":214056.28},{"$f":"SUMIF('00 Alimenta'!$B:$B,'00 PDC SP'!$F190,'00 Alimenta'!F:F)","v":210042.87},{"$f":"SUMIF('00 Alimenta'!$B:$B,'00 PDC SP'!$F190,'00 Alimenta'!G:G)","v":490053.37},{"$f":"SUMIF('00 Alimenta'!$B:$B,'00 PDC SP'!$F190,'00 Alimenta'!H:H)","v":91354.52},{"$f":"SUMIF('00 Alimenta'!$B:$B,'00 PDC SP'!$F190,'00 Alimenta'!I:I)","v":34529.480000000003},546878.41]
["ABA580FE","AB","ABA580",27,"FE","0102021419","Fatture da emettere v/ASL Avezzano Sulmona L'Aquila per altre prestazioni",{"$f":"SUMIF('00 Alimenta'!$B:$B,'00 PDC SP'!$F191,'00 Alimenta'!D:D)","v":8143.77},{"$f":"SUMIF('00 Alimenta'!$B:$B,'00 PDC SP'!$F191,'00 Alimenta'!E:E)","v":37721.199999999997},{"$f":"SUMIF('00 Alimenta'!$B:$B,'00 PDC SP'!$F191,'00 Alimenta'!F:F)","v":8143.77},{"$f":"SUMIF('00 Alimenta'!$B:$B,'00 PDC SP'!$F191,'00 Alimenta'!G:G)","v":37721.199999999997},{"$f":"SUMIF('00 Alimenta'!$B:$B,'00 PDC SP'!$F191,'00 Alimenta'!H:H)","v":2141.44},{"$f":"SUMIF('00 Alimenta'!$B:$B,'00 PDC SP'!$F191,'00 Alimenta'!I:I)","v":37721.199999999997},2141.4400000000023]
["ABA580CR","AB","ABA580",27,"CR","0102021420","Crediti v/ASL Lanciano Vasto Chieti per altre prestazioni",{"$f":"SUMIF('00 Alimenta'!$B:$B,'00 PDC SP'!$F192,'00 Alimenta'!D:D)","v":233845.47},{"$f":"SUMIF('00 Alimenta'!$B:$B,'00 PDC SP'!$F192,'00 Alimenta'!E:E)","v":110654.79},{"$f":"SUMIF('00 Alimenta'!$B:$B,'00 PDC SP'!$F192,'00 Alimenta'!F:F)","v":99868.92},{"$f":"SUMIF('00 Alimenta'!$B:$B,'00 PDC SP'!$F192,'00 Alimenta'!G:G)","v":244631.34},{"$f":"SUMIF('00 Alimenta'!$B:$B,'00 PDC SP'!$F192,'00 Alimenta'!H:H)","v":150854.48000000001},{"$f":"SUMIF('00 Alimenta'!$B:$B,'00 PDC SP'!$F192,'00 Alimenta'!I:I)","v":107562.38},287923.44]
["ABA580FE","AB","ABA580",27,"FE","0102021421","Fatture da emettere v/ASL Lanciano Vasto Chieti per altre prestazioni",{"$f":"SUMIF('00 Alimenta'!$B:$B,'00 PDC SP'!$F193,'00 Alimenta'!D:D)","v":1282.71},{"$f":"SUMIF('00 Alimenta'!$B:$B,'00 PDC SP'!$F193,'00 Alimenta'!E:E)","v":25919.58},{"$f":"SUMIF('00 Alimenta'!$B:$B,'00 PDC SP'!$F193,'00 Alimenta'!F:F)","v":1282.71},{"$f":"SUMIF('00 Alimenta'!$B:$B,'00 PDC SP'!$F193,'00 Alimenta'!G:G)","v":25919.58},{"$f":"SUMIF('00 Alimenta'!$B:$B,'00 PDC SP'!$F193,'00 Alimenta'!H:H)","v":21559.360000000001},{"$f":"SUMIF('00 Alimenta'!$B:$B,'00 PDC SP'!$F193,'00 Alimenta'!I:I)","v":25919.58},21559.360000000001]
["ABA580CR","AB","ABA580",27,"CR","0102021422","Crediti v/ASL Pescara per altre prestazioni",{"$f":"SUMIF('00 Alimenta'!$B:$B,'00 PDC SP'!$F194,'00 Alimenta'!D:D)","v":0},{"$f":"SUMIF('00 Alimenta'!$B:$B,'00 PDC SP'!$F194,'00 Alimenta'!E:E)","v":0},{"$f":"SUMIF('00 Alimenta'!$B:$B,'00 PDC SP'!$F194,'00 Alimenta'!F:F)","v":0},{"$f":"SUMIF('00 Alimenta'!$B:$B,'00 PDC SP'!$F194,'00 Alimenta'!G:G)","v":0},{"$f":"SUMIF('00 Alimenta'!$B:$B,'00 PDC SP'!$F194,'00 Alimenta'!H:H)","v":0},{"$f":"SUMIF('00 Alimenta'!$B:$B,'00 PDC SP'!$F194,'00 Alimenta'!I:I)","v":0},0]
["ABA580FE","AB","ABA580",27,"FE","0102021423","Fatture da emettere v/ASL Pescara per altre prestazioni",{"$f":"SUMIF('00 Alimenta'!$B:$B,'00 PDC SP'!$F195,'00 Alimenta'!D:D)","v":0},{"$f":"SUMIF('00 Alimenta'!$B:$B,'00 PDC SP'!$F195,'00 Alimenta'!E:E)","v":0},{"$f":"SUMIF('00 Alimenta'!$B:$B,'00 PDC SP'!$F195,'00 Alimenta'!F:F)","v":0},{"$f":"SUMIF('00 Alimenta'!$B:$B,'00 PDC SP'!$F195,'00 Alimenta'!G:G)","v":0},{"$f":"SUMIF('00 Alimenta'!$B:$B,'00 PDC SP'!$F195,'00 Alimenta'!H:H)","v":0},{"$f":"SUMIF('00 Alimenta'!$B:$B,'00 PDC SP'!$F195,'00 Alimenta'!I:I)","v":0},0]
["ABA580CR","AB","ABA580",27,"CR","0102021424","Crediti v/ASL Teramo per altre prestazioni",{"$f":"SUMIF('00 Alimenta'!$B:$B,'00 PDC SP'!$F196,'00 Alimenta'!D:D)","v":3855447.31},{"$f":"SUMIF('00 Alimenta'!$B:$B,'00 PDC SP'!$F196,'00 Alimenta'!E:E)","v":11975.84},{"$f":"SUMIF('00 Alimenta'!$B:$B,'00 PDC SP'!$F196,'00 Alimenta'!F:F)","v":29003.38},{"$f":"SUMIF('00 Alimenta'!$B:$B,'00 PDC SP'!$F196,'00 Alimenta'!G:G)","v":3838419.77},{"$f":"SUMIF('00 Alimenta'!$B:$B,'00 PDC SP'!$F196,'00 Alimenta'!H:H)","v":284732.87},{"$f":"SUMIF('00 Alimenta'!$B:$B,'00 PDC SP'!$F196,'00 Alimenta'!I:I)","v":281616.84999999998},3841535.79]
["ABA580FE","AB","ABA580",27,"FE","0102021425","Fatture da emettere v/ASL Teramo per altre prestazioni",{"$f":"SUMIF('00 Alimenta'!$B:$B,'00 PDC SP'!$F197,'00 Alimenta'!D:D)","v":5559.81},{"$f":"SUMIF('00 Alimenta'!$B:$B,'00 PDC SP'!$F197,'00 Alimenta'!E:E)","v":4159.83},{"$f":"SUMIF('00 Alimenta'!$B:$B,'00 PDC SP'!$F197,'00 Alimenta'!F:F)","v":5559.81},{"$f":"SUMIF('00 Alimenta'!$B:$B,'00 PDC SP'!$F197,'00 Alimenta'!G:G)","v":4159.83},{"$f":"SUMIF('00 Alimenta'!$B:$B,'00 PDC SP'!$F197,'00 Alimenta'!H:H)","v":4464.7},{"$f":"SUMIF('00 Alimenta'!$B:$B,'00 PDC SP'!$F197,'00 Alimenta'!I:I)","v":4159.83},4464.6999999999989]
["ABA601CR",{"$f":"IF(C198=\"PAA220\",\"UT\",LEFT(C198,2))","v":"AB"},"ABA601",27,"CR","0102021426","Crediti v/Asl Avezzano Sulmona L'Aquila sanitarie pubbliche della Regione - per Contributi da Aziende sanitarie pubbliche della Regione o Prov. Aut. (extra fondo) ",{"$f":"SUMIF('00 Alimenta'!$B:$B,'00 PDC SP'!$F198,'00 Alimenta'!D:D)","v":0},{"$f":"SUMIF('00 Alimenta'!$B:$B,'00 PDC SP'!$F198,'00 Alimenta'!E:E)","v":0},{"$f":"SUMIF('00 Alimenta'!$B:$B,'00 PDC SP'!$F198,'00 Alimenta'!F:F)","v":0},{"$f":"SUMIF('00 Alimenta'!$B:$B,'00 PDC SP'!$F198,'00 Alimenta'!G:G)","v":0},{"$f":"SUMIF('00 Alimenta'!$B:$B,'00 PDC SP'!$F198,'00 Alimenta'!H:H)","v":0},{"$f":"SUMIF('00 Alimenta'!$B:$B,'00 PDC SP'!$F198,'00 Alimenta'!I:I)","v":0},0]
["ABA601CR","AB","ABA601",27,"CR","0102021427","Crediti v/Asl Lanciano Vasto Chieti sanitarie pubbliche della Regione - per Contributi da Aziende sanitarie pubbliche della Regione o Prov. Aut. (extra fondo) ",{"$f":"SUMIF('00 Alimenta'!$B:$B,'00 PDC SP'!$F199,'00 Alimenta'!D:D)","v":0},{"$f":"SUMIF('00 Alimenta'!$B:$B,'00 PDC SP'!$F199,'00 Alimenta'!E:E)","v":0},{"$f":"SUMIF('00 Alimenta'!$B:$B,'00 PDC SP'!$F199,'00 Alimenta'!F:F)","v":0},{"$f":"SUMIF('00 Alimenta'!$B:$B,'00 PDC SP'!$F199,'00 Alimenta'!G:G)","v":0},{"$f":"SUMIF('00 Alimenta'!$B:$B,'00 PDC SP'!$F199,'00 Alimenta'!H:H)","v":0},{"$f":"SUMIF('00 Alimenta'!$B:$B,'00 PDC SP'!$F199,'00 Alimenta'!I:I)","v":0},0]
[{"$f":"IF(E200=\"\",C200,C200&E200)","v":"ABA601CR"},"AB","ABA601",27,"CR","0102021428","Crediti v/Asl Pescara sanitarie pubbliche della Regione - per Contributi da Aziende sanitarie pubbliche della Regione o Prov. Aut. (extra fondo) ",{"$f":"SUMIF('00 Alimenta'!$B:$B,'00 PDC SP'!$F200,'00 Alimenta'!D:D)","v":0},{"$f":"SUMIF('00 Alimenta'!$B:$B,'00 PDC SP'!$F200,'00 Alimenta'!E:E)","v":0},{"$f":"SUMIF('00 Alimenta'!$B:$B,'00 PDC SP'!$F200,'00 Alimenta'!F:F)","v":0},{"$f":"SUMIF('00 Alimenta'!$B:$B,'00 PDC SP'!$F200,'00 Alimenta'!G:G)","v":0},{"$f":"SUMIF('00 Alimenta'!$B:$B,'00 PDC SP'!$F200,'00 Alimenta'!H:H)","v":0},{"$f":"SUMIF('00 Alimenta'!$B:$B,'00 PDC SP'!$F200,'00 Alimenta'!I:I)","v":0},{"$f":"K200+L200-M200","v":0}]
["ABA601CR","AB","ABA601",27,"CR","0102021429","Crediti v/Asl Teramo sanitarie pubbliche della Regione - per Contributi da Aziende sanitarie pubbliche della Regione o Prov. Aut. (extra fondo) ",{"$f":"SUMIF('00 Alimenta'!$B:$B,'00 PDC SP'!$F201,'00 Alimenta'!D:D)","v":0},{"$f":"SUMIF('00 Alimenta'!$B:$B,'00 PDC SP'!$F201,'00 Alimenta'!E:E)","v":0},{"$f":"SUMIF('00 Alimenta'!$B:$B,'00 PDC SP'!$F201,'00 Alimenta'!F:F)","v":0},{"$f":"SUMIF('00 Alimenta'!$B:$B,'00 PDC SP'!$F201,'00 Alimenta'!G:G)","v":0},{"$f":"SUMIF('00 Alimenta'!$B:$B,'00 PDC SP'!$F201,'00 Alimenta'!H:H)","v":0},{"$f":"SUMIF('00 Alimenta'!$B:$B,'00 PDC SP'!$F201,'00 Alimenta'!I:I)","v":0},0]
["ABA590CR","AB","ABA590",27,"CR","0102021501","Acconto quota FSR da distribuire",{"$f":"SUMIF('00 Alimenta'!$B:$B,'00 PDC SP'!$F202,'00 Alimenta'!D:D)","v":0},{"$f":"SUMIF('00 Alimenta'!$B:$B,'00 PDC SP'!$F202,'00 Alimenta'!E:E)","v":0},{"$f":"SUMIF('00 Alimenta'!$B:$B,'00 PDC SP'!$F202,'00 Alimenta'!F:F)","v":0},{"$f":"SUMIF('00 Alimenta'!$B:$B,'00 PDC SP'!$F202,'00 Alimenta'!G:G)","v":0},{"$f":"SUMIF('00 Alimenta'!$B:$B,'00 PDC SP'!$F202,'00 Alimenta'!H:H)","v":0},{"$f":"SUMIF('00 Alimenta'!$B:$B,'00 PDC SP'!$F202,'00 Alimenta'!I:I)","v":0},0]
["ABA591CR","AB","ABA591",27,"CR","0102021502","Crediti v/Aziende sanitarie pubbliche della Regione per anticipazione ripiano disavanzo programmato dai Piani aziendali di cui all'art. 1, comma 528, L. 208/2015",{"$f":"SUMIF('00 Alimenta'!$B:$B,'00 PDC SP'!$F203,'00 Alimenta'!D:D)","v":0},{"$f":"SUMIF('00 Alimenta'!$B:$B,'00 PDC SP'!$F203,'00 Alimenta'!E:E)","v":0},{"$f":"SUMIF('00 Alimenta'!$B:$B,'00 PDC SP'!$F203,'00 Alimenta'!F:F)","v":0},{"$f":"SUMIF('00 Alimenta'!$B:$B,'00 PDC SP'!$F203,'00 Alimenta'!G:G)","v":0},{"$f":"SUMIF('00 Alimenta'!$B:$B,'00 PDC SP'!$F203,'00 Alimenta'!H:H)","v":0},{"$f":"SUMIF('00 Alimenta'!$B:$B,'00 PDC SP'!$F203,'00 Alimenta'!I:I)","v":0},0]
["ABA600CR","AB","ABA600",27,"CR","0102021601","Crediti v/Aziende sanitarie pubbliche Extraregione",{"$f":"SUMIF('00 Alimenta'!$B:$B,'00 PDC SP'!$F204,'00 Alimenta'!D:D)","v":128586.02},{"$f":"SUMIF('00 Alimenta'!$B:$B,'00 PDC SP'!$F204,'00 Alimenta'!E:E)","v":238832},{"$f":"SUMIF('00 Alimenta'!$B:$B,'00 PDC SP'!$F204,'00 Alimenta'!F:F)","v":210160.77},{"$f":"SUMIF('00 Alimenta'!$B:$B,'00 PDC SP'!$F204,'00 Alimenta'!G:G)","v":157257.25},{"$f":"SUMIF('00 Alimenta'!$B:$B,'00 PDC SP'!$F204,'00 Alimenta'!H:H)","v":98823.23},{"$f":"SUMIF('00 Alimenta'!$B:$B,'00 PDC SP'!$F204,'00 Alimenta'!I:I)","v":127250.19},128830.28999999998]
["ABA600FE","AB","ABA600",27,"FE","0102021602","Fatture da emettere v/Aziende Sanitarie Pubbliche Extraregione",{"$f":"SUMIF('00 Alimenta'!$B:$B,'00 PDC SP'!$F205,'00 Alimenta'!D:D)","v":85649.52},{"$f":"SUMIF('00 Alimenta'!$B:$B,'00 PDC SP'!$F205,'00 Alimenta'!E:E)","v":44097.25},{"$f":"SUMIF('00 Alimenta'!$B:$B,'00 PDC SP'!$F205,'00 Alimenta'!F:F)","v":85649.52},{"$f":"SUMIF('00 Alimenta'!$B:$B,'00 PDC SP'!$F205,'00 Alimenta'!G:G)","v":44097.25},{"$f":"SUMIF('00 Alimenta'!$B:$B,'00 PDC SP'!$F205,'00 Alimenta'!H:H)","v":29023.79},{"$f":"SUMIF('00 Alimenta'!$B:$B,'00 PDC SP'!$F205,'00 Alimenta'!I:I)","v":44522.61},28598.430000000008]
["ABA620CR","AB","ABA620",28,"CR","0102021701","Crediti v/ARTA",{"$f":"SUMIF('00 Alimenta'!$B:$B,'00 PDC SP'!$F206,'00 Alimenta'!D:D)","v":5931.31},{"$f":"SUMIF('00 Alimenta'!$B:$B,'00 PDC SP'!$F206,'00 Alimenta'!E:E)","v":0},{"$f":"SUMIF('00 Alimenta'!$B:$B,'00 PDC SP'!$F206,'00 Alimenta'!F:F)","v":0},{"$f":"SUMIF('00 Alimenta'!$B:$B,'00 PDC SP'!$F206,'00 Alimenta'!G:G)","v":5931.31},{"$f":"SUMIF('00 Alimenta'!$B:$B,'00 PDC SP'!$F206,'00 Alimenta'!H:H)","v":0},{"$f":"SUMIF('00 Alimenta'!$B:$B,'00 PDC SP'!$F206,'00 Alimenta'!I:I)","v":0},5931.31]
["ABA620FE","AB","ABA620",28,"FE","0102021702","Fatture da emettere v/ARTA",{"$f":"SUMIF('00 Alimenta'!$B:$B,'00 PDC SP'!$F207,'00 Alimenta'!D:D)","v":0},{"$f":"SUMIF('00 Alimenta'!$B:$B,'00 PDC SP'!$F207,'00 Alimenta'!E:E)","v":0},{"$f":"SUMIF('00 Alimenta'!$B:$B,'00 PDC SP'!$F207,'00 Alimenta'!F:F)","v":0},{"$f":"SUMIF('00 Alimenta'!$B:$B,'00 PDC SP'!$F207,'00 Alimenta'!G:G)","v":0},{"$f":"SUMIF('00 Alimenta'!$B:$B,'00 PDC SP'!$F207,'00 Alimenta'!H:H)","v":0},{"$f":"SUMIF('00 Alimenta'!$B:$B,'00 PDC SP'!$F207,'00 Alimenta'!I:I)","v":0},0]
["ABA620CR","AB","ABA620",28,"CR","0102021703","Crediti v/Società controllate e collegate (enti regionali)",{"$f":"SUMIF('00 Alimenta'!$B:$B,'00 PDC SP'!$F208,'00 Alimenta'!D:D)","v":0},{"$f":"SUMIF('00 Alimenta'!$B:$B,'00 PDC SP'!$F208,'00 Alimenta'!E:E)","v":0},{"$f":"SUMIF('00 Alimenta'!$B:$B,'00 PDC SP'!$F208,'00 Alimenta'!F:F)","v":0},{"$f":"SUMIF('00 Alimenta'!$B:$B,'00 PDC SP'!$F208,'00 Alimenta'!G:G)","v":0},{"$f":"SUMIF('00 Alimenta'!$B:$B,'00 PDC SP'!$F208,'00 Alimenta'!H:H)","v":0},{"$f":"SUMIF('00 Alimenta'!$B:$B,'00 PDC SP'!$F208,'00 Alimenta'!I:I)","v":0},0]
["ABA620FE","AB","ABA620",28,"FE","0102021704","Fatture da emetterev/Società controllate e collegate",{"$f":"SUMIF('00 Alimenta'!$B:$B,'00 PDC SP'!$F209,'00 Alimenta'!D:D)","v":0},{"$f":"SUMIF('00 Alimenta'!$B:$B,'00 PDC SP'!$F209,'00 Alimenta'!E:E)","v":0},{"$f":"SUMIF('00 Alimenta'!$B:$B,'00 PDC SP'!$F209,'00 Alimenta'!F:F)","v":0},{"$f":"SUMIF('00 Alimenta'!$B:$B,'00 PDC SP'!$F209,'00 Alimenta'!G:G)","v":0},{"$f":"SUMIF('00 Alimenta'!$B:$B,'00 PDC SP'!$F209,'00 Alimenta'!H:H)","v":0},{"$f":"SUMIF('00 Alimenta'!$B:$B,'00 PDC SP'!$F209,'00 Alimenta'!I:I)","v":0},0]
["ABA620CR","AB","ABA620",28,"CR","0102021705","Crediti v/enti regionali",{"$f":"SUMIF('00 Alimenta'!$B:$B,'00 PDC SP'!$F210,'00 Alimenta'!D:D)","v":0},{"$f":"SUMIF('00 Alimenta'!$B:$B,'00 PDC SP'!$F210,'00 Alimenta'!E:E)","v":0},{"$f":"SUMIF('00 Alimenta'!$B:$B,'00 PDC SP'!$F210,'00 Alimenta'!F:F)","v":0},{"$f":"SUMIF('00 Alimenta'!$B:$B,'00 PDC SP'!$F210,'00 Alimenta'!G:G)","v":0},{"$f":"SUMIF('00 Alimenta'!$B:$B,'00 PDC SP'!$F210,'00 Alimenta'!H:H)","v":0},{"$f":"SUMIF('00 Alimenta'!$B:$B,'00 PDC SP'!$F210,'00 Alimenta'!I:I)","v":0},0]
["ABA620FE","AB","ABA620",28,"FE","0102021706","Fatture da emettere v/enti regionali",{"$f":"SUMIF('00 Alimenta'!$B:$B,'00 PDC SP'!$F211,'00 Alimenta'!D:D)","v":0},{"$f":"SUMIF('00 Alimenta'!$B:$B,'00 PDC SP'!$F211,'00 Alimenta'!E:E)","v":0},{"$f":"SUMIF('00 Alimenta'!$B:$B,'00 PDC SP'!$F211,'00 Alimenta'!F:F)","v":0},{"$f":"SUMIF('00 Alimenta'!$B:$B,'00 PDC SP'!$F211,'00 Alimenta'!G:G)","v":0},{"$f":"SUMIF('00 Alimenta'!$B:$B,'00 PDC SP'!$F211,'00 Alimenta'!H:H)","v":0},{"$f":"SUMIF('00 Alimenta'!$B:$B,'00 PDC SP'!$F211,'00 Alimenta'!I:I)","v":0},0]
["ABA630CR","AB","ABA630",28,"CR","0102021801","Crediti v/sperimentazioni gestionali",{"$f":"SUMIF('00 Alimenta'!$B:$B,'00 PDC SP'!$F212,'00 Alimenta'!D:D)","v":0},{"$f":"SUMIF('00 Alimenta'!$B:$B,'00 PDC SP'!$F212,'00 Alimenta'!E:E)","v":0},{"$f":"SUMIF('00 Alimenta'!$B:$B,'00 PDC SP'!$F212,'00 Alimenta'!F:F)","v":0},{"$f":"SUMIF('00 Alimenta'!$B:$B,'00 PDC SP'!$F212,'00 Alimenta'!G:G)","v":0},{"$f":"SUMIF('00 Alimenta'!$B:$B,'00 PDC SP'!$F212,'00 Alimenta'!H:H)","v":0},{"$f":"SUMIF('00 Alimenta'!$B:$B,'00 PDC SP'!$F212,'00 Alimenta'!I:I)","v":0},0]
["ABA630FE","AB","ABA630",28,"FE","0102021802","Fatture da emettere v/sperimentazioni gestionali",{"$f":"SUMIF('00 Alimenta'!$B:$B,'00 PDC SP'!$F213,'00 Alimenta'!D:D)","v":0},{"$f":"SUMIF('00 Alimenta'!$B:$B,'00 PDC SP'!$F213,'00 Alimenta'!E:E)","v":0},{"$f":"SUMIF('00 Alimenta'!$B:$B,'00 PDC SP'!$F213,'00 Alimenta'!F:F)","v":0},{"$f":"SUMIF('00 Alimenta'!$B:$B,'00 PDC SP'!$F213,'00 Alimenta'!G:G)","v":0},{"$f":"SUMIF('00 Alimenta'!$B:$B,'00 PDC SP'!$F213,'00 Alimenta'!H:H)","v":0},{"$f":"SUMIF('00 Alimenta'!$B:$B,'00 PDC SP'!$F213,'00 Alimenta'!I:I)","v":0},0]
["ABA640CR","AB","ABA640",28,"CR","0102021901","Crediti v/altre partecipate",{"$f":"SUMIF('00 Alimenta'!$B:$B,'00 PDC SP'!$F214,'00 Alimenta'!D:D)","v":0},{"$f":"SUMIF('00 Alimenta'!$B:$B,'00 PDC SP'!$F214,'00 Alimenta'!E:E)","v":0},{"$f":"SUMIF('00 Alimenta'!$B:$B,'00 PDC SP'!$F214,'00 Alimenta'!F:F)","v":0},{"$f":"SUMIF('00 Alimenta'!$B:$B,'00 PDC SP'!$F214,'00 Alimenta'!G:G)","v":0},{"$f":"SUMIF('00 Alimenta'!$B:$B,'00 PDC SP'!$F214,'00 Alimenta'!H:H)","v":0},{"$f":"SUMIF('00 Alimenta'!$B:$B,'00 PDC SP'!$F214,'00 Alimenta'!I:I)","v":0},0]
["ABA640FE","AB","ABA640",28,"FE","0102021902","Fatture da emettere v/altre partecipate",{"$f":"SUMIF('00 Alimenta'!$B:$B,'00 PDC SP'!$F215,'00 Alimenta'!D:D)","v":0},{"$f":"SUMIF('00 Alimenta'!$B:$B,'00 PDC SP'!$F215,'00 Alimenta'!E:E)","v":0},{"$f":"SUMIF('00 Alimenta'!$B:$B,'00 PDC SP'!$F215,'00 Alimenta'!F:F)","v":0},{"$f":"SUMIF('00 Alimenta'!$B:$B,'00 PDC SP'!$F215,'00 Alimenta'!G:G)","v":0},{"$f":"SUMIF('00 Alimenta'!$B:$B,'00 PDC SP'!$F215,'00 Alimenta'!H:H)","v":0},{"$f":"SUMIF('00 Alimenta'!$B:$B,'00 PDC SP'!$F215,'00 Alimenta'!I:I)","v":0},0]
["ABA650CR","AB","ABA650",29,"CR","0102022001","Erario c/Ires",{"$f":"SUMIF('00 Alimenta'!$B:$B,'00 PDC SP'!$F216,'00 Alimenta'!D:D)","v":0},{"$f":"SUMIF('00 Alimenta'!$B:$B,'00 PDC SP'!$F216,'00 Alimenta'!E:E)","v":81792},{"$f":"SUMIF('00 Alimenta'!$B:$B,'00 PDC SP'!$F216,'00 Alimenta'!F:F)","v":81792},{"$f":"SUMIF('00 Alimenta'!$B:$B,'00 PDC SP'!$F216,'00 Alimenta'!G:G)","v":0},{"$f":"SUMIF('00 Alimenta'!$B:$B,'00 PDC SP'!$F216,'00 Alimenta'!H:H)","v":0},{"$f":"SUMIF('00 Alimenta'!$B:$B,'00 PDC SP'!$F216,'00 Alimenta'!I:I)","v":0},0]
["ABA650CR","AB","ABA650",29,"CR","0102022002","Erario c/Ires per acconti versati",{"$f":"SUMIF('00 Alimenta'!$B:$B,'00 PDC SP'!$F217,'00 Alimenta'!D:D)","v":0},{"$f":"SUMIF('00 Alimenta'!$B:$B,'00 PDC SP'!$F217,'00 Alimenta'!E:E)","v":408274},{"$f":"SUMIF('00 Alimenta'!$B:$B,'00 PDC SP'!$F217,'00 Alimenta'!F:F)","v":408274},{"$f":"SUMIF('00 Alimenta'!$B:$B,'00 PDC SP'!$F217,'00 Alimenta'!G:G)","v":0},{"$f":"SUMIF('00 Alimenta'!$B:$B,'00 PDC SP'!$F217,'00 Alimenta'!H:H)","v":408988},{"$f":"SUMIF('00 Alimenta'!$B:$B,'00 PDC SP'!$F217,'00 Alimenta'!I:I)","v":408988},0]
["ABA650CR","AB","ABA650",29,"CR","0102022003","Erario c/ritenute",{"$f":"SUMIF('00 Alimenta'!$B:$B,'00 PDC SP'!$F218,'00 Alimenta'!D:D)","v":0},{"$f":"SUMIF('00 Alimenta'!$B:$B,'00 PDC SP'!$F218,'00 Alimenta'!E:E)","v":80.5},{"$f":"SUMIF('00 Alimenta'!$B:$B,'00 PDC SP'!$F218,'00 Alimenta'!F:F)","v":0},{"$f":"SUMIF('00 Alimenta'!$B:$B,'00 PDC SP'!$F218,'00 Alimenta'!G:G)","v":80.5},{"$f":"SUMIF('00 Alimenta'!$B:$B,'00 PDC SP'!$F218,'00 Alimenta'!H:H)","v":38.97},{"$f":"SUMIF('00 Alimenta'!$B:$B,'00 PDC SP'!$F218,'00 Alimenta'!I:I)","v":0},119.47]
["ABA650CR","AB","ABA650",29,"CR","0102022004","Erario c/Iva in sospensione su fatture di acquisto",{"$f":"SUMIF('00 Alimenta'!$B:$B,'00 PDC SP'!$F219,'00 Alimenta'!D:D)","v":0},{"$f":"SUMIF('00 Alimenta'!$B:$B,'00 PDC SP'!$F219,'00 Alimenta'!E:E)","v":0},{"$f":"SUMIF('00 Alimenta'!$B:$B,'00 PDC SP'!$F219,'00 Alimenta'!F:F)","v":0},{"$f":"SUMIF('00 Alimenta'!$B:$B,'00 PDC SP'!$F219,'00 Alimenta'!G:G)","v":0},{"$f":"SUMIF('00 Alimenta'!$B:$B,'00 PDC SP'!$F219,'00 Alimenta'!H:H)","v":0},{"$f":"SUMIF('00 Alimenta'!$B:$B,'00 PDC SP'!$F219,'00 Alimenta'!I:I)","v":0},0]
["ABA650CR","AB","ABA650",29,"CR","0102022005","Erario c/Iva per acconti versati",{"$f":"SUMIF('00 Alimenta'!$B:$B,'00 PDC SP'!$F220,'00 Alimenta'!D:D)","v":6914},{"$f":"SUMIF('00 Alimenta'!$B:$B,'00 PDC SP'!$F220,'00 Alimenta'!E:E)","v":15421},{"$f":"SUMIF('00 Alimenta'!$B:$B,'00 PDC SP'!$F220,'00 Alimenta'!F:F)","v":6806},{"$f":"SUMIF('00 Alimenta'!$B:$B,'00 PDC SP'!$F220,'00 Alimenta'!G:G)","v":15529},{"$f":"SUMIF('00 Alimenta'!$B:$B,'00 PDC SP'!$F220,'00 Alimenta'!H:H)","v":13871},{"$f":"SUMIF('00 Alimenta'!$B:$B,'00 PDC SP'!$F220,'00 Alimenta'!I:I)","v":15421},13979]
["ABA650CR","AB","ABA650",29,"CR","0102022006","Erario c/Iva chiesta a rimborso",{"$f":"SUMIF('00 Alimenta'!$B:$B,'00 PDC SP'!$F221,'00 Alimenta'!D:D)","v":1295.04},{"$f":"SUMIF('00 Alimenta'!$B:$B,'00 PDC SP'!$F221,'00 Alimenta'!E:E)","v":0},{"$f":"SUMIF('00 Alimenta'!$B:$B,'00 PDC SP'!$F221,'00 Alimenta'!F:F)","v":0},{"$f":"SUMIF('00 Alimenta'!$B:$B,'00 PDC SP'!$F221,'00 Alimenta'!G:G)","v":1295.04},{"$f":"SUMIF('00 Alimenta'!$B:$B,'00 PDC SP'!$F221,'00 Alimenta'!H:H)","v":0},{"$f":"SUMIF('00 Alimenta'!$B:$B,'00 PDC SP'!$F221,'00 Alimenta'!I:I)","v":0},1295.04]
["ABA650CR","AB","ABA650",29,"CR","0102022007","Credito verso Erario per imposte anticipate",{"$f":"SUMIF('00 Alimenta'!$B:$B,'00 PDC SP'!$F222,'00 Alimenta'!D:D)","v":0},{"$f":"SUMIF('00 Alimenta'!$B:$B,'00 PDC SP'!$F222,'00 Alimenta'!E:E)","v":0},{"$f":"SUMIF('00 Alimenta'!$B:$B,'00 PDC SP'!$F222,'00 Alimenta'!F:F)","v":0},{"$f":"SUMIF('00 Alimenta'!$B:$B,'00 PDC SP'!$F222,'00 Alimenta'!G:G)","v":0},{"$f":"SUMIF('00 Alimenta'!$B:$B,'00 PDC SP'!$F222,'00 Alimenta'!H:H)","v":0},{"$f":"SUMIF('00 Alimenta'!$B:$B,'00 PDC SP'!$F222,'00 Alimenta'!I:I)","v":0},0]
["ABA650CR","AB","ABA650",29,"CR","0102022008","Erario c/IRAP per acconti versati",{"$f":"SUMIF('00 Alimenta'!$B:$B,'00 PDC SP'!$F223,'00 Alimenta'!D:D)","v":0},{"$f":"SUMIF('00 Alimenta'!$B:$B,'00 PDC SP'!$F223,'00 Alimenta'!E:E)","v":0},{"$f":"SUMIF('00 Alimenta'!$B:$B,'00 PDC SP'!$F223,'00 Alimenta'!F:F)","v":0},{"$f":"SUMIF('00 Alimenta'!$B:$B,'00 PDC SP'!$F223,'00 Alimenta'!G:G)","v":0},{"$f":"SUMIF('00 Alimenta'!$B:$B,'00 PDC SP'!$F223,'00 Alimenta'!H:H)","v":0},{"$f":"SUMIF('00 Alimenta'!$B:$B,'00 PDC SP'!$F223,'00 Alimenta'!I:I)","v":0},0]
["ABA650CR","AB","ABA650",29,"CR","0102022009","Credito per IRAP ",{"$f":"SUMIF('00 Alimenta'!$B:$B,'00 PDC SP'!$F224,'00 Alimenta'!D:D)","v":0},{"$f":"SUMIF('00 Alimenta'!$B:$B,'00 PDC SP'!$F224,'00 Alimenta'!E:E)","v":0},{"$f":"SUMIF('00 Alimenta'!$B:$B,'00 PDC SP'!$F224,'00 Alimenta'!F:F)","v":0},{"$f":"SUMIF('00 Alimenta'!$B:$B,'00 PDC SP'!$F224,'00 Alimenta'!G:G)","v":0},{"$f":"SUMIF('00 Alimenta'!$B:$B,'00 PDC SP'!$F224,'00 Alimenta'!H:H)","v":0},{"$f":"SUMIF('00 Alimenta'!$B:$B,'00 PDC SP'!$F224,'00 Alimenta'!I:I)","v":0},0]
["ABA650CR","AB","ABA650",29,"CR","0102022010","Crediti per imposte esercizi precedenti",{"$f":"SUMIF('00 Alimenta'!$B:$B,'00 PDC SP'!$F225,'00 Alimenta'!D:D)","v":0},{"$f":"SUMIF('00 Alimenta'!$B:$B,'00 PDC SP'!$F225,'00 Alimenta'!E:E)","v":0},{"$f":"SUMIF('00 Alimenta'!$B:$B,'00 PDC SP'!$F225,'00 Alimenta'!F:F)","v":0},{"$f":"SUMIF('00 Alimenta'!$B:$B,'00 PDC SP'!$F225,'00 Alimenta'!G:G)","v":0},{"$f":"SUMIF('00 Alimenta'!$B:$B,'00 PDC SP'!$F225,'00 Alimenta'!H:H)","v":0},{"$f":"SUMIF('00 Alimenta'!$B:$B,'00 PDC SP'!$F225,'00 Alimenta'!I:I)","v":0},0]
["ABA650CR","AB","ABA650",29,"CR","0102022011","Altri crediti verso Erario",{"$f":"SUMIF('00 Alimenta'!$B:$B,'00 PDC SP'!$F226,'00 Alimenta'!D:D)","v":0},{"$f":"SUMIF('00 Alimenta'!$B:$B,'00 PDC SP'!$F226,'00 Alimenta'!E:E)","v":0},{"$f":"SUMIF('00 Alimenta'!$B:$B,'00 PDC SP'!$F226,'00 Alimenta'!F:F)","v":0},{"$f":"SUMIF('00 Alimenta'!$B:$B,'00 PDC SP'!$F226,'00 Alimenta'!G:G)","v":0},{"$f":"SUMIF('00 Alimenta'!$B:$B,'00 PDC SP'!$F226,'00 Alimenta'!H:H)","v":0},{"$f":"SUMIF('00 Alimenta'!$B:$B,'00 PDC SP'!$F226,'00 Alimenta'!I:I)","v":0},0]
["ABA670CR","AB","ABA670",30,"CR","0102022101","Crediti v/clienti privati",{"$f":"SUMIF('00 Alimenta'!$B:$B,'00 PDC SP'!$F227,'00 Alimenta'!D:D)","v":4591562.3899999997},{"$f":"SUMIF('00 Alimenta'!$B:$B,'00 PDC SP'!$F227,'00 Alimenta'!E:E)","v":9715318.3399999999},{"$f":"SUMIF('00 Alimenta'!$B:$B,'00 PDC SP'!$F227,'00 Alimenta'!F:F)","v":9771870.0800000001},{"$f":"SUMIF('00 Alimenta'!$B:$B,'00 PDC SP'!$F227,'00 Alimenta'!G:G)","v":4535010.6500000004},{"$f":"SUMIF('00 Alimenta'!$B:$B,'00 PDC SP'!$F227,'00 Alimenta'!H:H)","v":21132945.949999999},{"$f":"SUMIF('00 Alimenta'!$B:$B,'00 PDC SP'!$F227,'00 Alimenta'!I:I)","v":20182702.73},5485253.870000001]
["ABA670FE","AB","ABA670",30,"FE","0102022102","Fatture da emettere v/clienti privati",{"$f":"SUMIF('00 Alimenta'!$B:$B,'00 PDC SP'!$F228,'00 Alimenta'!D:D)","v":190888.78},{"$f":"SUMIF('00 Alimenta'!$B:$B,'00 PDC SP'!$F228,'00 Alimenta'!E:E)","v":608342.13},{"$f":"SUMIF('00 Alimenta'!$B:$B,'00 PDC SP'!$F228,'00 Alimenta'!F:F)","v":190888.78},{"$f":"SUMIF('00 Alimenta'!$B:$B,'00 PDC SP'!$F228,'00 Alimenta'!G:G)","v":608342.13},{"$f":"SUMIF('00 Alimenta'!$B:$B,'00 PDC SP'!$F228,'00 Alimenta'!H:H)","v":272781.96999999997},{"$f":"SUMIF('00 Alimenta'!$B:$B,'00 PDC SP'!$F228,'00 Alimenta'!I:I)","v":608342.13},272781.96999999997]
["ABA670CR","AB","ABA670",30,"CR","0102022103","Crediti v/utenza per proventi da ticket",{"$f":"SUMIF('00 Alimenta'!$B:$B,'00 PDC SP'!$F229,'00 Alimenta'!D:D)","v":38021.18},{"$f":"SUMIF('00 Alimenta'!$B:$B,'00 PDC SP'!$F229,'00 Alimenta'!E:E)","v":8500208.6999999993},{"$f":"SUMIF('00 Alimenta'!$B:$B,'00 PDC SP'!$F229,'00 Alimenta'!F:F)","v":8524029.6500000004},{"$f":"SUMIF('00 Alimenta'!$B:$B,'00 PDC SP'!$F229,'00 Alimenta'!G:G)","v":14200.23},{"$f":"SUMIF('00 Alimenta'!$B:$B,'00 PDC SP'!$F229,'00 Alimenta'!H:H)","v":8858209.3000000007},{"$f":"SUMIF('00 Alimenta'!$B:$B,'00 PDC SP'!$F229,'00 Alimenta'!I:I)","v":8852587.7599999998},19821.770000001416]
["ABA670FE","AB","ABA670",30,"FE","0102022104","Fatture da emettere v/utenza per proventi da ticket",{"$f":"SUMIF('00 Alimenta'!$B:$B,'00 PDC SP'!$F230,'00 Alimenta'!D:D)","v":0},{"$f":"SUMIF('00 Alimenta'!$B:$B,'00 PDC SP'!$F230,'00 Alimenta'!E:E)","v":0},{"$f":"SUMIF('00 Alimenta'!$B:$B,'00 PDC SP'!$F230,'00 Alimenta'!F:F)","v":0},{"$f":"SUMIF('00 Alimenta'!$B:$B,'00 PDC SP'!$F230,'00 Alimenta'!G:G)","v":0},{"$f":"SUMIF('00 Alimenta'!$B:$B,'00 PDC SP'!$F230,'00 Alimenta'!H:H)","v":0},{"$f":"SUMIF('00 Alimenta'!$B:$B,'00 PDC SP'!$F230,'00 Alimenta'!I:I)","v":0},0]
["ABA670CR","AB","ABA670",30,"CR","0102022105","Crediti v/clienti privati per anticipi mobilità attiva",{"$f":"SUMIF('00 Alimenta'!$B:$B,'00 PDC SP'!$F231,'00 Alimenta'!D:D)","v":0},{"$f":"SUMIF('00 Alimenta'!$B:$B,'00 PDC SP'!$F231,'00 Alimenta'!E:E)","v":0},{"$f":"SUMIF('00 Alimenta'!$B:$B,'00 PDC SP'!$F231,'00 Alimenta'!F:F)","v":0},{"$f":"SUMIF('00 Alimenta'!$B:$B,'00 PDC SP'!$F231,'00 Alimenta'!G:G)","v":0},{"$f":"SUMIF('00 Alimenta'!$B:$B,'00 PDC SP'!$F231,'00 Alimenta'!H:H)","v":0},{"$f":"SUMIF('00 Alimenta'!$B:$B,'00 PDC SP'!$F231,'00 Alimenta'!I:I)","v":0},0]
["ABA670FE","AB","ABA670",30,"FE","0102022106","Fatture da emettere v/clienti privati per anticipi mobilità attiva",{"$f":"SUMIF('00 Alimenta'!$B:$B,'00 PDC SP'!$F232,'00 Alimenta'!D:D)","v":0},{"$f":"SUMIF('00 Alimenta'!$B:$B,'00 PDC SP'!$F232,'00 Alimenta'!E:E)","v":0},{"$f":"SUMIF('00 Alimenta'!$B:$B,'00 PDC SP'!$F232,'00 Alimenta'!F:F)","v":0},{"$f":"SUMIF('00 Alimenta'!$B:$B,'00 PDC SP'!$F232,'00 Alimenta'!G:G)","v":0},{"$f":"SUMIF('00 Alimenta'!$B:$B,'00 PDC SP'!$F232,'00 Alimenta'!H:H)","v":0},{"$f":"SUMIF('00 Alimenta'!$B:$B,'00 PDC SP'!$F232,'00 Alimenta'!I:I)","v":0},0]
["ABA670CR","AB","ABA670",30,"CR","0102022107","Crediti v/società controllate e collegate (clienti privati)",{"$f":"SUMIF('00 Alimenta'!$B:$B,'00 PDC SP'!$F233,'00 Alimenta'!D:D)","v":0},{"$f":"SUMIF('00 Alimenta'!$B:$B,'00 PDC SP'!$F233,'00 Alimenta'!E:E)","v":0},{"$f":"SUMIF('00 Alimenta'!$B:$B,'00 PDC SP'!$F233,'00 Alimenta'!F:F)","v":0},{"$f":"SUMIF('00 Alimenta'!$B:$B,'00 PDC SP'!$F233,'00 Alimenta'!G:G)","v":0},{"$f":"SUMIF('00 Alimenta'!$B:$B,'00 PDC SP'!$F233,'00 Alimenta'!H:H)","v":0},{"$f":"SUMIF('00 Alimenta'!$B:$B,'00 PDC SP'!$F233,'00 Alimenta'!I:I)","v":0},0]
["ABA670FE","AB","ABA670",30,"FE","0102022108","Fatture da emettere v/clienti privati per anticipi mobilità attiva",{"$f":"SUMIF('00 Alimenta'!$B:$B,'00 PDC SP'!$F234,'00 Alimenta'!D:D)","v":0},{"$f":"SUMIF('00 Alimenta'!$B:$B,'00 PDC SP'!$F234,'00 Alimenta'!E:E)","v":0},{"$f":"SUMIF('00 Alimenta'!$B:$B,'00 PDC SP'!$F234,'00 Alimenta'!F:F)","v":0},{"$f":"SUMIF('00 Alimenta'!$B:$B,'00 PDC SP'!$F234,'00 Alimenta'!G:G)","v":0},{"$f":"SUMIF('00 Alimenta'!$B:$B,'00 PDC SP'!$F234,'00 Alimenta'!H:H)","v":0},{"$f":"SUMIF('00 Alimenta'!$B:$B,'00 PDC SP'!$F234,'00 Alimenta'!I:I)","v":0},0]
["ABA670CR","AB","ABA670",30,"CR","0102022109","Crediti v/dipendenti",{"$f":"SUMIF('00 Alimenta'!$B:$B,'00 PDC SP'!$F235,'00 Alimenta'!D:D)","v":77984.42},{"$f":"SUMIF('00 Alimenta'!$B:$B,'00 PDC SP'!$F235,'00 Alimenta'!E:E)","v":103264.73},{"$f":"SUMIF('00 Alimenta'!$B:$B,'00 PDC SP'!$F235,'00 Alimenta'!F:F)","v":179303.71},{"$f":"SUMIF('00 Alimenta'!$B:$B,'00 PDC SP'!$F235,'00 Alimenta'!G:G)","v":1945.44},{"$f":"SUMIF('00 Alimenta'!$B:$B,'00 PDC SP'!$F235,'00 Alimenta'!H:H)","v":6134.4},{"$f":"SUMIF('00 Alimenta'!$B:$B,'00 PDC SP'!$F235,'00 Alimenta'!I:I)","v":6457.39},1622.4499999999998]
["ABA670CR","AB","ABA670",30,"CR","0102022110","Acconti verso erogatori (privati accreditati e convenzionati) di prestazioni sanitarie",{"$f":"SUMIF('00 Alimenta'!$B:$B,'00 PDC SP'!$F236,'00 Alimenta'!D:D)","v":0},{"$f":"SUMIF('00 Alimenta'!$B:$B,'00 PDC SP'!$F236,'00 Alimenta'!E:E)","v":0},{"$f":"SUMIF('00 Alimenta'!$B:$B,'00 PDC SP'!$F236,'00 Alimenta'!F:F)","v":0},{"$f":"SUMIF('00 Alimenta'!$B:$B,'00 PDC SP'!$F236,'00 Alimenta'!G:G)","v":0},{"$f":"SUMIF('00 Alimenta'!$B:$B,'00 PDC SP'!$F236,'00 Alimenta'!H:H)","v":0},{"$f":"SUMIF('00 Alimenta'!$B:$B,'00 PDC SP'!$F236,'00 Alimenta'!I:I)","v":0},0]
["ABA670CR","AB","ABA670",30,"CR","0102022111","Acconti verso altri fornitori",{"$f":"SUMIF('00 Alimenta'!$B:$B,'00 PDC SP'!$F237,'00 Alimenta'!D:D)","v":0},{"$f":"SUMIF('00 Alimenta'!$B:$B,'00 PDC SP'!$F237,'00 Alimenta'!E:E)","v":432985.28},{"$f":"SUMIF('00 Alimenta'!$B:$B,'00 PDC SP'!$F237,'00 Alimenta'!F:F)","v":432985.28},{"$f":"SUMIF('00 Alimenta'!$B:$B,'00 PDC SP'!$F237,'00 Alimenta'!G:G)","v":0},{"$f":"SUMIF('00 Alimenta'!$B:$B,'00 PDC SP'!$F237,'00 Alimenta'!H:H)","v":207813.83},{"$f":"SUMIF('00 Alimenta'!$B:$B,'00 PDC SP'!$F237,'00 Alimenta'!I:I)","v":207813.83},0]
["ABA680CR","AB","ABA680",30,"CR","0102022201","Crediti v/gestioni liquidatorie",{"$f":"SUMIF('00 Alimenta'!$B:$B,'00 PDC SP'!$F238,'00 Alimenta'!D:D)","v":0},{"$f":"SUMIF('00 Alimenta'!$B:$B,'00 PDC SP'!$F238,'00 Alimenta'!E:E)","v":0},{"$f":"SUMIF('00 Alimenta'!$B:$B,'00 PDC SP'!$F238,'00 Alimenta'!F:F)","v":0},{"$f":"SUMIF('00 Alimenta'!$B:$B,'00 PDC SP'!$F238,'00 Alimenta'!G:G)","v":0},{"$f":"SUMIF('00 Alimenta'!$B:$B,'00 PDC SP'!$F238,'00 Alimenta'!H:H)","v":0},{"$f":"SUMIF('00 Alimenta'!$B:$B,'00 PDC SP'!$F238,'00 Alimenta'!I:I)","v":0},0]
["ABA680FE","AB","ABA680",30,"FE","0102022202","Fatture da emettere v/gestioni liquidatorie",{"$f":"SUMIF('00 Alimenta'!$B:$B,'00 PDC SP'!$F239,'00 Alimenta'!D:D)","v":0},{"$f":"SUMIF('00 Alimenta'!$B:$B,'00 PDC SP'!$F239,'00 Alimenta'!E:E)","v":0},{"$f":"SUMIF('00 Alimenta'!$B:$B,'00 PDC SP'!$F239,'00 Alimenta'!F:F)","v":0},{"$f":"SUMIF('00 Alimenta'!$B:$B,'00 PDC SP'!$F239,'00 Alimenta'!G:G)","v":0},{"$f":"SUMIF('00 Alimenta'!$B:$B,'00 PDC SP'!$F239,'00 Alimenta'!H:H)","v":0},{"$f":"SUMIF('00 Alimenta'!$B:$B,'00 PDC SP'!$F239,'00 Alimenta'!I:I)","v":0},0]
["ABA690CR","AB","ABA690",30,"CR","0102022301","Crediti v/altri soggetti pubblici",{"$f":"SUMIF('00 Alimenta'!$B:$B,'00 PDC SP'!$F240,'00 Alimenta'!D:D)","v":393950.55},{"$f":"SUMIF('00 Alimenta'!$B:$B,'00 PDC SP'!$F240,'00 Alimenta'!E:E)","v":288535.49},{"$f":"SUMIF('00 Alimenta'!$B:$B,'00 PDC SP'!$F240,'00 Alimenta'!F:F)","v":464939.33},{"$f":"SUMIF('00 Alimenta'!$B:$B,'00 PDC SP'!$F240,'00 Alimenta'!G:G)","v":217546.71},{"$f":"SUMIF('00 Alimenta'!$B:$B,'00 PDC SP'!$F240,'00 Alimenta'!H:H)","v":155400.41},{"$f":"SUMIF('00 Alimenta'!$B:$B,'00 PDC SP'!$F240,'00 Alimenta'!I:I)","v":137662.29},235284.83]
["ABA690FE","AB","ABA690",30,"FE","0102022302","Fatture da emettere v/altri soggetti pubblici",{"$f":"SUMIF('00 Alimenta'!$B:$B,'00 PDC SP'!$F241,'00 Alimenta'!D:D)","v":585.44000000000005},{"$f":"SUMIF('00 Alimenta'!$B:$B,'00 PDC SP'!$F241,'00 Alimenta'!E:E)","v":0},{"$f":"SUMIF('00 Alimenta'!$B:$B,'00 PDC SP'!$F241,'00 Alimenta'!F:F)","v":585.44000000000005},{"$f":"SUMIF('00 Alimenta'!$B:$B,'00 PDC SP'!$F241,'00 Alimenta'!G:G)","v":0},{"$f":"SUMIF('00 Alimenta'!$B:$B,'00 PDC SP'!$F241,'00 Alimenta'!H:H)","v":0},{"$f":"SUMIF('00 Alimenta'!$B:$B,'00 PDC SP'!$F241,'00 Alimenta'!I:I)","v":0},0]
["ABA700CR","AB","ABA700",30,"CR","0102022401","Crediti v/altri soggetti pubblici per ricerca",{"$f":"SUMIF('00 Alimenta'!$B:$B,'00 PDC SP'!$F242,'00 Alimenta'!D:D)","v":0},{"$f":"SUMIF('00 Alimenta'!$B:$B,'00 PDC SP'!$F242,'00 Alimenta'!E:E)","v":0},{"$f":"SUMIF('00 Alimenta'!$B:$B,'00 PDC SP'!$F242,'00 Alimenta'!F:F)","v":0},{"$f":"SUMIF('00 Alimenta'!$B:$B,'00 PDC SP'!$F242,'00 Alimenta'!G:G)","v":0},{"$f":"SUMIF('00 Alimenta'!$B:$B,'00 PDC SP'!$F242,'00 Alimenta'!H:H)","v":0},{"$f":"SUMIF('00 Alimenta'!$B:$B,'00 PDC SP'!$F242,'00 Alimenta'!I:I)","v":0},0]
["ABA700FE","AB","ABA700",30,"FE","0102022402","Fatture da emettere v/altri soggetti pubblici per ricerca",{"$f":"SUMIF('00 Alimenta'!$B:$B,'00 PDC SP'!$F243,'00 Alimenta'!D:D)","v":0},{"$f":"SUMIF('00 Alimenta'!$B:$B,'00 PDC SP'!$F243,'00 Alimenta'!E:E)","v":0},{"$f":"SUMIF('00 Alimenta'!$B:$B,'00 PDC SP'!$F243,'00 Alimenta'!F:F)","v":0},{"$f":"SUMIF('00 Alimenta'!$B:$B,'00 PDC SP'!$F243,'00 Alimenta'!G:G)","v":0},{"$f":"SUMIF('00 Alimenta'!$B:$B,'00 PDC SP'!$F243,'00 Alimenta'!H:H)","v":0},{"$f":"SUMIF('00 Alimenta'!$B:$B,'00 PDC SP'!$F243,'00 Alimenta'!I:I)","v":0},0]
["ABA711CR","AB","ABA711",30,"CR","0102022501","Altri Crediti diversi",{"$f":"SUMIF('00 Alimenta'!$B:$B,'00 PDC SP'!$F244,'00 Alimenta'!D:D)","v":1185854.96},{"$f":"SUMIF('00 Alimenta'!$B:$B,'00 PDC SP'!$F244,'00 Alimenta'!E:E)","v":739010.91},{"$f":"SUMIF('00 Alimenta'!$B:$B,'00 PDC SP'!$F244,'00 Alimenta'!F:F)","v":1059463.17},{"$f":"SUMIF('00 Alimenta'!$B:$B,'00 PDC SP'!$F244,'00 Alimenta'!G:G)","v":865402.7},{"$f":"SUMIF('00 Alimenta'!$B:$B,'00 PDC SP'!$F244,'00 Alimenta'!H:H)","v":1010408.89},{"$f":"SUMIF('00 Alimenta'!$B:$B,'00 PDC SP'!$F244,'00 Alimenta'!I:I)","v":11935.63},1863875.96]
["ABA711FE","AB","ABA711",30,"FE","0102022502","Fatture da emettere v/Altri Crediti diversi",{"$f":"SUMIF('00 Alimenta'!$B:$B,'00 PDC SP'!$F245,'00 Alimenta'!D:D)","v":0},{"$f":"SUMIF('00 Alimenta'!$B:$B,'00 PDC SP'!$F245,'00 Alimenta'!E:E)","v":0},{"$f":"SUMIF('00 Alimenta'!$B:$B,'00 PDC SP'!$F245,'00 Alimenta'!F:F)","v":0},{"$f":"SUMIF('00 Alimenta'!$B:$B,'00 PDC SP'!$F245,'00 Alimenta'!G:G)","v":0},{"$f":"SUMIF('00 Alimenta'!$B:$B,'00 PDC SP'!$F245,'00 Alimenta'!H:H)","v":0},{"$f":"SUMIF('00 Alimenta'!$B:$B,'00 PDC SP'!$F245,'00 Alimenta'!I:I)","v":0},0]
["ABA711CR","AB","ABA711",30,"CR","0102022503","Acconti a farmacie",{"$f":"SUMIF('00 Alimenta'!$B:$B,'00 PDC SP'!$F246,'00 Alimenta'!D:D)","v":0},{"$f":"SUMIF('00 Alimenta'!$B:$B,'00 PDC SP'!$F246,'00 Alimenta'!E:E)","v":0},{"$f":"SUMIF('00 Alimenta'!$B:$B,'00 PDC SP'!$F246,'00 Alimenta'!F:F)","v":0},{"$f":"SUMIF('00 Alimenta'!$B:$B,'00 PDC SP'!$F246,'00 Alimenta'!G:G)","v":0},{"$f":"SUMIF('00 Alimenta'!$B:$B,'00 PDC SP'!$F246,'00 Alimenta'!H:H)","v":0},{"$f":"SUMIF('00 Alimenta'!$B:$B,'00 PDC SP'!$F246,'00 Alimenta'!I:I)","v":0},0]
["ABA714CR","AB","ABA714",30,"CR","0102022504","Altri Crediti verso erogatori (privati accreditati e convenzionati) di prestazioni sanitarie",{"$f":"SUMIF('00 Alimenta'!$B:$B,'00 PDC SP'!$F247,'00 Alimenta'!D:D)","v":0},{"$f":"SUMIF('00 Alimenta'!$B:$B,'00 PDC SP'!$F247,'00 Alimenta'!E:E)","v":0},{"$f":"SUMIF('00 Alimenta'!$B:$B,'00 PDC SP'!$F247,'00 Alimenta'!F:F)","v":0},{"$f":"SUMIF('00 Alimenta'!$B:$B,'00 PDC SP'!$F247,'00 Alimenta'!G:G)","v":0},{"$f":"SUMIF('00 Alimenta'!$B:$B,'00 PDC SP'!$F247,'00 Alimenta'!H:H)","v":0},{"$f":"SUMIF('00 Alimenta'!$B:$B,'00 PDC SP'!$F247,'00 Alimenta'!I:I)","v":0},0]
["PDA090FR","PD","PDA090",12,"FR","0102022601","Note credito da ricevere verso Regione per mobilità passiva intraregionale",{"$f":"SUMIF('00 Alimenta'!$B:$B,'00 PDC SP'!$F248,'00 Alimenta'!D:D)","v":0},{"$f":"SUMIF('00 Alimenta'!$B:$B,'00 PDC SP'!$F248,'00 Alimenta'!E:E)","v":0},{"$f":"SUMIF('00 Alimenta'!$B:$B,'00 PDC SP'!$F248,'00 Alimenta'!F:F)","v":0},{"$f":"SUMIF('00 Alimenta'!$B:$B,'00 PDC SP'!$F248,'00 Alimenta'!G:G)","v":0},{"$f":"SUMIF('00 Alimenta'!$B:$B,'00 PDC SP'!$F248,'00 Alimenta'!H:H)","v":0},{"$f":"SUMIF('00 Alimenta'!$B:$B,'00 PDC SP'!$F248,'00 Alimenta'!I:I)","v":0},0]
["PDA100FR","PD","PDA100",12,"FR","0102022602","Note credito da ricevere verso Regione per mobilità passiva extraregionale",{"$f":"SUMIF('00 Alimenta'!$B:$B,'00 PDC SP'!$F249,'00 Alimenta'!D:D)","v":0},{"$f":"SUMIF('00 Alimenta'!$B:$B,'00 PDC SP'!$F249,'00 Alimenta'!E:E)","v":0},{"$f":"SUMIF('00 Alimenta'!$B:$B,'00 PDC SP'!$F249,'00 Alimenta'!F:F)","v":0},{"$f":"SUMIF('00 Alimenta'!$B:$B,'00 PDC SP'!$F249,'00 Alimenta'!G:G)","v":0},{"$f":"SUMIF('00 Alimenta'!$B:$B,'00 PDC SP'!$F249,'00 Alimenta'!H:H)","v":0},{"$f":"SUMIF('00 Alimenta'!$B:$B,'00 PDC SP'!$F249,'00 Alimenta'!I:I)","v":0},0]
["PDA120FR","PD","PDA120",12,"FR","0102022603","Note credito da ricevere Altri debiti v/Regione o Provincia Autonoma",{"$f":"SUMIF('00 Alimenta'!$B:$B,'00 PDC SP'!$F250,'00 Alimenta'!D:D)","v":0},{"$f":"SUMIF('00 Alimenta'!$B:$B,'00 PDC SP'!$F250,'00 Alimenta'!E:E)","v":0},{"$f":"SUMIF('00 Alimenta'!$B:$B,'00 PDC SP'!$F250,'00 Alimenta'!F:F)","v":0},{"$f":"SUMIF('00 Alimenta'!$B:$B,'00 PDC SP'!$F250,'00 Alimenta'!G:G)","v":0},{"$f":"SUMIF('00 Alimenta'!$B:$B,'00 PDC SP'!$F250,'00 Alimenta'!H:H)","v":0},{"$f":"SUMIF('00 Alimenta'!$B:$B,'00 PDC SP'!$F250,'00 Alimenta'!I:I)","v":0},0]
["PDA130FR","PD","PDA130",13,"FR","0102022604","Note credito da ricevere verso Comuni",{"$f":"SUMIF('00 Alimenta'!$B:$B,'00 PDC SP'!$F251,'00 Alimenta'!D:D)","v":0},{"$f":"SUMIF('00 Alimenta'!$B:$B,'00 PDC SP'!$F251,'00 Alimenta'!E:E)","v":0},{"$f":"SUMIF('00 Alimenta'!$B:$B,'00 PDC SP'!$F251,'00 Alimenta'!F:F)","v":0},{"$f":"SUMIF('00 Alimenta'!$B:$B,'00 PDC SP'!$F251,'00 Alimenta'!G:G)","v":0},{"$f":"SUMIF('00 Alimenta'!$B:$B,'00 PDC SP'!$F251,'00 Alimenta'!H:H)","v":0},{"$f":"SUMIF('00 Alimenta'!$B:$B,'00 PDC SP'!$F251,'00 Alimenta'!I:I)","v":0},0]
["PDA160FR","PD","PDA160",14,"FR","0102022605","Note di credito da ricevere verso ASL/AO/IRCCS della Regione",{"$f":"SUMIF('00 Alimenta'!$B:$B,'00 PDC SP'!$F252,'00 Alimenta'!D:D)","v":0},{"$f":"SUMIF('00 Alimenta'!$B:$B,'00 PDC SP'!$F252,'00 Alimenta'!E:E)","v":0},{"$f":"SUMIF('00 Alimenta'!$B:$B,'00 PDC SP'!$F252,'00 Alimenta'!F:F)","v":0},{"$f":"SUMIF('00 Alimenta'!$B:$B,'00 PDC SP'!$F252,'00 Alimenta'!G:G)","v":0},{"$f":"SUMIF('00 Alimenta'!$B:$B,'00 PDC SP'!$F252,'00 Alimenta'!H:H)","v":0},{"$f":"SUMIF('00 Alimenta'!$B:$B,'00 PDC SP'!$F252,'00 Alimenta'!I:I)","v":0},0]
["PDA160FR","PD","PDA160",14,"FR","0102022606","Note credito da ricevere v/ASL Avezzano Sulmona L'Aquila per quota FSR",{"$f":"SUMIF('00 Alimenta'!$B:$B,'00 PDC SP'!$F253,'00 Alimenta'!D:D)","v":0},{"$f":"SUMIF('00 Alimenta'!$B:$B,'00 PDC SP'!$F253,'00 Alimenta'!E:E)","v":0},{"$f":"SUMIF('00 Alimenta'!$B:$B,'00 PDC SP'!$F253,'00 Alimenta'!F:F)","v":0},{"$f":"SUMIF('00 Alimenta'!$B:$B,'00 PDC SP'!$F253,'00 Alimenta'!G:G)","v":0},{"$f":"SUMIF('00 Alimenta'!$B:$B,'00 PDC SP'!$F253,'00 Alimenta'!H:H)","v":0},{"$f":"SUMIF('00 Alimenta'!$B:$B,'00 PDC SP'!$F253,'00 Alimenta'!I:I)","v":0},0]
["PDA160FR","PD","PDA160",14,"FR","0102022607","Note credito da ricevere v/ASL Lanciano Vasto Chieti per quota FSR",{"$f":"SUMIF('00 Alimenta'!$B:$B,'00 PDC SP'!$F254,'00 Alimenta'!D:D)","v":0},{"$f":"SUMIF('00 Alimenta'!$B:$B,'00 PDC SP'!$F254,'00 Alimenta'!E:E)","v":0},{"$f":"SUMIF('00 Alimenta'!$B:$B,'00 PDC SP'!$F254,'00 Alimenta'!F:F)","v":0},{"$f":"SUMIF('00 Alimenta'!$B:$B,'00 PDC SP'!$F254,'00 Alimenta'!G:G)","v":0},{"$f":"SUMIF('00 Alimenta'!$B:$B,'00 PDC SP'!$F254,'00 Alimenta'!H:H)","v":0},{"$f":"SUMIF('00 Alimenta'!$B:$B,'00 PDC SP'!$F254,'00 Alimenta'!I:I)","v":0},0]
["PDA160FR","PD","PDA160",14,"FR","0102022608","Note credito da ricevere v/ASL Pescara per quota FSR",{"$f":"SUMIF('00 Alimenta'!$B:$B,'00 PDC SP'!$F255,'00 Alimenta'!D:D)","v":0},{"$f":"SUMIF('00 Alimenta'!$B:$B,'00 PDC SP'!$F255,'00 Alimenta'!E:E)","v":0},{"$f":"SUMIF('00 Alimenta'!$B:$B,'00 PDC SP'!$F255,'00 Alimenta'!F:F)","v":0},{"$f":"SUMIF('00 Alimenta'!$B:$B,'00 PDC SP'!$F255,'00 Alimenta'!G:G)","v":0},{"$f":"SUMIF('00 Alimenta'!$B:$B,'00 PDC SP'!$F255,'00 Alimenta'!H:H)","v":0},{"$f":"SUMIF('00 Alimenta'!$B:$B,'00 PDC SP'!$F255,'00 Alimenta'!I:I)","v":0},0]
["PDA160FR","PD","PDA160",14,"FR","0102022609","Note credito da ricevere v/ASL Teramo per quota FSR",{"$f":"SUMIF('00 Alimenta'!$B:$B,'00 PDC SP'!$F256,'00 Alimenta'!D:D)","v":0},{"$f":"SUMIF('00 Alimenta'!$B:$B,'00 PDC SP'!$F256,'00 Alimenta'!E:E)","v":0},{"$f":"SUMIF('00 Alimenta'!$B:$B,'00 PDC SP'!$F256,'00 Alimenta'!F:F)","v":0},{"$f":"SUMIF('00 Alimenta'!$B:$B,'00 PDC SP'!$F256,'00 Alimenta'!G:G)","v":0},{"$f":"SUMIF('00 Alimenta'!$B:$B,'00 PDC SP'!$F256,'00 Alimenta'!H:H)","v":0},{"$f":"SUMIF('00 Alimenta'!$B:$B,'00 PDC SP'!$F256,'00 Alimenta'!I:I)","v":0},0]
["PDA170FR","PD","PDA170",14,"FR","0102022610","Note credito da ricevere v/ASL Avezzano Sulmona L'Aquila per finanziamento sanitario aggiuntivo corrente LEA",{"$f":"SUMIF('00 Alimenta'!$B:$B,'00 PDC SP'!$F257,'00 Alimenta'!D:D)","v":0},{"$f":"SUMIF('00 Alimenta'!$B:$B,'00 PDC SP'!$F257,'00 Alimenta'!E:E)","v":0},{"$f":"SUMIF('00 Alimenta'!$B:$B,'00 PDC SP'!$F257,'00 Alimenta'!F:F)","v":0},{"$f":"SUMIF('00 Alimenta'!$B:$B,'00 PDC SP'!$F257,'00 Alimenta'!G:G)","v":0},{"$f":"SUMIF('00 Alimenta'!$B:$B,'00 PDC SP'!$F257,'00 Alimenta'!H:H)","v":0},{"$f":"SUMIF('00 Alimenta'!$B:$B,'00 PDC SP'!$F257,'00 Alimenta'!I:I)","v":0},0]
["PDA170FR","PD","PDA170",14,"FR","0102022611","Note credito da ricevere v/ASL Lanciano Vasto Chieti per finanziamento sanitario aggiuntivo corrente LEA",{"$f":"SUMIF('00 Alimenta'!$B:$B,'00 PDC SP'!$F258,'00 Alimenta'!D:D)","v":0},{"$f":"SUMIF('00 Alimenta'!$B:$B,'00 PDC SP'!$F258,'00 Alimenta'!E:E)","v":0},{"$f":"SUMIF('00 Alimenta'!$B:$B,'00 PDC SP'!$F258,'00 Alimenta'!F:F)","v":0},{"$f":"SUMIF('00 Alimenta'!$B:$B,'00 PDC SP'!$F258,'00 Alimenta'!G:G)","v":0},{"$f":"SUMIF('00 Alimenta'!$B:$B,'00 PDC SP'!$F258,'00 Alimenta'!H:H)","v":0},{"$f":"SUMIF('00 Alimenta'!$B:$B,'00 PDC SP'!$F258,'00 Alimenta'!I:I)","v":0},0]
["PDA170FR","PD","PDA170",14,"FR","0102022612","Note credito da ricevere v/ASL Pescara per finanziamento sanitario aggiuntivo corrente LEA",{"$f":"SUMIF('00 Alimenta'!$B:$B,'00 PDC SP'!$F259,'00 Alimenta'!D:D)","v":0},{"$f":"SUMIF('00 Alimenta'!$B:$B,'00 PDC SP'!$F259,'00 Alimenta'!E:E)","v":0},{"$f":"SUMIF('00 Alimenta'!$B:$B,'00 PDC SP'!$F259,'00 Alimenta'!F:F)","v":0},{"$f":"SUMIF('00 Alimenta'!$B:$B,'00 PDC SP'!$F259,'00 Alimenta'!G:G)","v":0},{"$f":"SUMIF('00 Alimenta'!$B:$B,'00 PDC SP'!$F259,'00 Alimenta'!H:H)","v":0},{"$f":"SUMIF('00 Alimenta'!$B:$B,'00 PDC SP'!$F259,'00 Alimenta'!I:I)","v":0},0]
["PDA170FR","PD","PDA170",14,"FR","0102022613","Note credito da ricevere v/ASL Teramo per finanziamento sanitario aggiuntivo corrente LEA",{"$f":"SUMIF('00 Alimenta'!$B:$B,'00 PDC SP'!$F260,'00 Alimenta'!D:D)","v":0},{"$f":"SUMIF('00 Alimenta'!$B:$B,'00 PDC SP'!$F260,'00 Alimenta'!E:E)","v":0},{"$f":"SUMIF('00 Alimenta'!$B:$B,'00 PDC SP'!$F260,'00 Alimenta'!F:F)","v":0},{"$f":"SUMIF('00 Alimenta'!$B:$B,'00 PDC SP'!$F260,'00 Alimenta'!G:G)","v":0},{"$f":"SUMIF('00 Alimenta'!$B:$B,'00 PDC SP'!$F260,'00 Alimenta'!H:H)","v":0},{"$f":"SUMIF('00 Alimenta'!$B:$B,'00 PDC SP'!$F260,'00 Alimenta'!I:I)","v":0},0]
["PDA180FR","PD","PDA180",14,"FR","0102022614","Note credito da ricevere v/ASL Avezzano Sulmona L'Aquila per finanziamento sanitario aggiuntivo corrente extra LEA",{"$f":"SUMIF('00 Alimenta'!$B:$B,'00 PDC SP'!$F261,'00 Alimenta'!D:D)","v":0},{"$f":"SUMIF('00 Alimenta'!$B:$B,'00 PDC SP'!$F261,'00 Alimenta'!E:E)","v":0},{"$f":"SUMIF('00 Alimenta'!$B:$B,'00 PDC SP'!$F261,'00 Alimenta'!F:F)","v":0},{"$f":"SUMIF('00 Alimenta'!$B:$B,'00 PDC SP'!$F261,'00 Alimenta'!G:G)","v":0},{"$f":"SUMIF('00 Alimenta'!$B:$B,'00 PDC SP'!$F261,'00 Alimenta'!H:H)","v":0},{"$f":"SUMIF('00 Alimenta'!$B:$B,'00 PDC SP'!$F261,'00 Alimenta'!I:I)","v":0},0]
["PDA180FR",{"$f":"IF(C262=\"PAA220\",\"UT\",LEFT(C262,2))","v":"PD"},"PDA180",14,"FR","0102022615","Note credito da ricevere v/ASL Lanciano Vasto Chieti per finanziamento sanitario aggiuntivo corrente extra LEA",{"$f":"SUMIF('00 Alimenta'!$B:$B,'00 PDC SP'!$F262,'00 Alimenta'!D:D)","v":0},{"$f":"SUMIF('00 Alimenta'!$B:$B,'00 PDC SP'!$F262,'00 Alimenta'!E:E)","v":0},{"$f":"SUMIF('00 Alimenta'!$B:$B,'00 PDC SP'!$F262,'00 Alimenta'!F:F)","v":0},{"$f":"SUMIF('00 Alimenta'!$B:$B,'00 PDC SP'!$F262,'00 Alimenta'!G:G)","v":0},{"$f":"SUMIF('00 Alimenta'!$B:$B,'00 PDC SP'!$F262,'00 Alimenta'!H:H)","v":0},{"$f":"SUMIF('00 Alimenta'!$B:$B,'00 PDC SP'!$F262,'00 Alimenta'!I:I)","v":0},0]
["PDA180FR","PD","PDA180",14,"FR","0102022616","Note credito da ricevere v/ASL Pescara per finanziamento sanitario aggiuntivo corrente extra LEA",{"$f":"SUMIF('00 Alimenta'!$B:$B,'00 PDC SP'!$F263,'00 Alimenta'!D:D)","v":0},{"$f":"SUMIF('00 Alimenta'!$B:$B,'00 PDC SP'!$F263,'00 Alimenta'!E:E)","v":0},{"$f":"SUMIF('00 Alimenta'!$B:$B,'00 PDC SP'!$F263,'00 Alimenta'!F:F)","v":0},{"$f":"SUMIF('00 Alimenta'!$B:$B,'00 PDC SP'!$F263,'00 Alimenta'!G:G)","v":0},{"$f":"SUMIF('00 Alimenta'!$B:$B,'00 PDC SP'!$F263,'00 Alimenta'!H:H)","v":0},{"$f":"SUMIF('00 Alimenta'!$B:$B,'00 PDC SP'!$F263,'00 Alimenta'!I:I)","v":0},0]
[{"$f":"IF(E264=\"\",C264,C264&E264)","v":"PDA180FR"},"PD","PDA180",14,"FR","0102022617","Note credito da ricevere v/ASL Teramo per finanziamento sanitario aggiuntivo corrente extra LEA",{"$f":"SUMIF('00 Alimenta'!$B:$B,'00 PDC SP'!$F264,'00 Alimenta'!D:D)","v":0},{"$f":"SUMIF('00 Alimenta'!$B:$B,'00 PDC SP'!$F264,'00 Alimenta'!E:E)","v":0},{"$f":"SUMIF('00 Alimenta'!$B:$B,'00 PDC SP'!$F264,'00 Alimenta'!F:F)","v":0},{"$f":"SUMIF('00 Alimenta'!$B:$B,'00 PDC SP'!$F264,'00 Alimenta'!G:G)","v":0},{"$f":"SUMIF('00 Alimenta'!$B:$B,'00 PDC SP'!$F264,'00 Alimenta'!H:H)","v":0},{"$f":"SUMIF('00 Alimenta'!$B:$B,'00 PDC SP'!$F264,'00 Alimenta'!I:I)","v":0},{"$f":"K264+L264-M264","v":0}]
["PDA200FR","PD","PDA200",14,"FR","0102022618","Note credito da ricevere v/ASL Avezzano Sulmona L'Aquila per mobilità non in compensazione",{"$f":"SUMIF('00 Alimenta'!$B:$B,'00 PDC SP'!$F265,'00 Alimenta'!D:D)","v":0},{"$f":"SUMIF('00 Alimenta'!$B:$B,'00 PDC SP'!$F265,'00 Alimenta'!E:E)","v":0},{"$f":"SUMIF('00 Alimenta'!$B:$B,'00 PDC SP'!$F265,'00 Alimenta'!F:F)","v":0},{"$f":"SUMIF('00 Alimenta'!$B:$B,'00 PDC SP'!$F265,'00 Alimenta'!G:G)","v":0},{"$f":"SUMIF('00 Alimenta'!$B:$B,'00 PDC SP'!$F265,'00 Alimenta'!H:H)","v":0},{"$f":"SUMIF('00 Alimenta'!$B:$B,'00 PDC SP'!$F265,'00 Alimenta'!I:I)","v":0},0]
["PDA200FR","PD","PDA200",14,"FR","0102022619","Note credito da ricevere v/ASL Lanciano Vasto Chieti per mobilità non in compensazione",{"$f":"SUMIF('00 Alimenta'!$B:$B,'00 PDC SP'!$F266,'00 Alimenta'!D:D)","v":0},{"$f":"SUMIF('00 Alimenta'!$B:$B,'00 PDC SP'!$F266,'00 Alimenta'!E:E)","v":0},{"$f":"SUMIF('00 Alimenta'!$B:$B,'00 PDC SP'!$F266,'00 Alimenta'!F:F)","v":0},{"$f":"SUMIF('00 Alimenta'!$B:$B,'00 PDC SP'!$F266,'00 Alimenta'!G:G)","v":0},{"$f":"SUMIF('00 Alimenta'!$B:$B,'00 PDC SP'!$F266,'00 Alimenta'!H:H)","v":0},{"$f":"SUMIF('00 Alimenta'!$B:$B,'00 PDC SP'!$F266,'00 Alimenta'!I:I)","v":0},0]
["PDA200FR","PD","PDA200",14,"FR","0102022620","Note credito da ricevere v/ASL Pescara per mobilità non in compensazione",{"$f":"SUMIF('00 Alimenta'!$B:$B,'00 PDC SP'!$F267,'00 Alimenta'!D:D)","v":0},{"$f":"SUMIF('00 Alimenta'!$B:$B,'00 PDC SP'!$F267,'00 Alimenta'!E:E)","v":0},{"$f":"SUMIF('00 Alimenta'!$B:$B,'00 PDC SP'!$F267,'00 Alimenta'!F:F)","v":0},{"$f":"SUMIF('00 Alimenta'!$B:$B,'00 PDC SP'!$F267,'00 Alimenta'!G:G)","v":0},{"$f":"SUMIF('00 Alimenta'!$B:$B,'00 PDC SP'!$F267,'00 Alimenta'!H:H)","v":0},{"$f":"SUMIF('00 Alimenta'!$B:$B,'00 PDC SP'!$F267,'00 Alimenta'!I:I)","v":0},0]
["PDA200FR","PD","PDA200",14,"FR","0102022621","Note credito da ricevere v/ASL Teramo per mobilità non in compensazione",{"$f":"SUMIF('00 Alimenta'!$B:$B,'00 PDC SP'!$F268,'00 Alimenta'!D:D)","v":0},{"$f":"SUMIF('00 Alimenta'!$B:$B,'00 PDC SP'!$F268,'00 Alimenta'!E:E)","v":0},{"$f":"SUMIF('00 Alimenta'!$B:$B,'00 PDC SP'!$F268,'00 Alimenta'!F:F)","v":0},{"$f":"SUMIF('00 Alimenta'!$B:$B,'00 PDC SP'!$F268,'00 Alimenta'!G:G)","v":0},{"$f":"SUMIF('00 Alimenta'!$B:$B,'00 PDC SP'!$F268,'00 Alimenta'!H:H)","v":0},{"$f":"SUMIF('00 Alimenta'!$B:$B,'00 PDC SP'!$F268,'00 Alimenta'!I:I)","v":0},0]
["PDA210FR","PD","PDA210",14,"FR","0102022622","Note credito da ricevere v/ASL Avezzano Sulmona L'Aquila per altre prestazioni",{"$f":"SUMIF('00 Alimenta'!$B:$B,'00 PDC SP'!$F269,'00 Alimenta'!D:D)","v":0},{"$f":"SUMIF('00 Alimenta'!$B:$B,'00 PDC SP'!$F269,'00 Alimenta'!E:E)","v":0},{"$f":"SUMIF('00 Alimenta'!$B:$B,'00 PDC SP'!$F269,'00 Alimenta'!F:F)","v":0},{"$f":"SUMIF('00 Alimenta'!$B:$B,'00 PDC SP'!$F269,'00 Alimenta'!G:G)","v":0},{"$f":"SUMIF('00 Alimenta'!$B:$B,'00 PDC SP'!$F269,'00 Alimenta'!H:H)","v":0},{"$f":"SUMIF('00 Alimenta'!$B:$B,'00 PDC SP'!$F269,'00 Alimenta'!I:I)","v":0},0]
["PDA210FR","PD","PDA210",14,"FR","0102022623","Note credito da ricevere v/ASL Lanciano Vasto Chieti per altre prestazioni",{"$f":"SUMIF('00 Alimenta'!$B:$B,'00 PDC SP'!$F270,'00 Alimenta'!D:D)","v":0},{"$f":"SUMIF('00 Alimenta'!$B:$B,'00 PDC SP'!$F270,'00 Alimenta'!E:E)","v":57.75},{"$f":"SUMIF('00 Alimenta'!$B:$B,'00 PDC SP'!$F270,'00 Alimenta'!F:F)","v":0},{"$f":"SUMIF('00 Alimenta'!$B:$B,'00 PDC SP'!$F270,'00 Alimenta'!G:G)","v":57.75},{"$f":"SUMIF('00 Alimenta'!$B:$B,'00 PDC SP'!$F270,'00 Alimenta'!H:H)","v":23908.5},{"$f":"SUMIF('00 Alimenta'!$B:$B,'00 PDC SP'!$F270,'00 Alimenta'!I:I)","v":57.75},23908.5]
["PDA210FR","PD","PDA210",14,"FR","0102022624","Note credito da ricevere v/ASL Pescara per altre prestazioni",{"$f":"SUMIF('00 Alimenta'!$B:$B,'00 PDC SP'!$F271,'00 Alimenta'!D:D)","v":0},{"$f":"SUMIF('00 Alimenta'!$B:$B,'00 PDC SP'!$F271,'00 Alimenta'!E:E)","v":0},{"$f":"SUMIF('00 Alimenta'!$B:$B,'00 PDC SP'!$F271,'00 Alimenta'!F:F)","v":0},{"$f":"SUMIF('00 Alimenta'!$B:$B,'00 PDC SP'!$F271,'00 Alimenta'!G:G)","v":0},{"$f":"SUMIF('00 Alimenta'!$B:$B,'00 PDC SP'!$F271,'00 Alimenta'!H:H)","v":0},{"$f":"SUMIF('00 Alimenta'!$B:$B,'00 PDC SP'!$F271,'00 Alimenta'!I:I)","v":0},0]
["PDA210FR","PD","PDA210",14,"FR","0102022625","Note credito da ricevere v/ASL Teramo per altre prestazioni",{"$f":"SUMIF('00 Alimenta'!$B:$B,'00 PDC SP'!$F272,'00 Alimenta'!D:D)","v":0},{"$f":"SUMIF('00 Alimenta'!$B:$B,'00 PDC SP'!$F272,'00 Alimenta'!E:E)","v":0},{"$f":"SUMIF('00 Alimenta'!$B:$B,'00 PDC SP'!$F272,'00 Alimenta'!F:F)","v":0},{"$f":"SUMIF('00 Alimenta'!$B:$B,'00 PDC SP'!$F272,'00 Alimenta'!G:G)","v":0},{"$f":"SUMIF('00 Alimenta'!$B:$B,'00 PDC SP'!$F272,'00 Alimenta'!H:H)","v":46.78},{"$f":"SUMIF('00 Alimenta'!$B:$B,'00 PDC SP'!$F272,'00 Alimenta'!I:I)","v":0},46.78]
["PDA220FR","PD","PDA220",14,"FR","0102022626","Note credito da ricevere v/Aziende sanitarie pubbliche Extraregione",{"$f":"SUMIF('00 Alimenta'!$B:$B,'00 PDC SP'!$F273,'00 Alimenta'!D:D)","v":0},{"$f":"SUMIF('00 Alimenta'!$B:$B,'00 PDC SP'!$F273,'00 Alimenta'!E:E)","v":0},{"$f":"SUMIF('00 Alimenta'!$B:$B,'00 PDC SP'!$F273,'00 Alimenta'!F:F)","v":0},{"$f":"SUMIF('00 Alimenta'!$B:$B,'00 PDC SP'!$F273,'00 Alimenta'!G:G)","v":0},{"$f":"SUMIF('00 Alimenta'!$B:$B,'00 PDC SP'!$F273,'00 Alimenta'!H:H)","v":0},{"$f":"SUMIF('00 Alimenta'!$B:$B,'00 PDC SP'!$F273,'00 Alimenta'!I:I)","v":0},0]
["PDA235FR","PD","PDA235",14,"FR","0102022627","Note credito da ricevere v/ASL Avezzano Sulmona L'Aquila per versamenti c/patrimonio netto",{"$f":"SUMIF('00 Alimenta'!$B:$B,'00 PDC SP'!$F274,'00 Alimenta'!D:D)","v":0},{"$f":"SUMIF('00 Alimenta'!$B:$B,'00 PDC SP'!$F274,'00 Alimenta'!E:E)","v":0},{"$f":"SUMIF('00 Alimenta'!$B:$B,'00 PDC SP'!$F274,'00 Alimenta'!F:F)","v":0},{"$f":"SUMIF('00 Alimenta'!$B:$B,'00 PDC SP'!$F274,'00 Alimenta'!G:G)","v":0},{"$f":"SUMIF('00 Alimenta'!$B:$B,'00 PDC SP'!$F274,'00 Alimenta'!H:H)","v":0},{"$f":"SUMIF('00 Alimenta'!$B:$B,'00 PDC SP'!$F274,'00 Alimenta'!I:I)","v":0},0]
["PDA235FR","PD","PDA235",14,"FR","0102022628","Note credito da ricevere v/ASL Lanciano Vasto Chieti per versamenti c/patrimonio netto",{"$f":"SUMIF('00 Alimenta'!$B:$B,'00 PDC SP'!$F275,'00 Alimenta'!D:D)","v":0},{"$f":"SUMIF('00 Alimenta'!$B:$B,'00 PDC SP'!$F275,'00 Alimenta'!E:E)","v":0},{"$f":"SUMIF('00 Alimenta'!$B:$B,'00 PDC SP'!$F275,'00 Alimenta'!F:F)","v":0},{"$f":"SUMIF('00 Alimenta'!$B:$B,'00 PDC SP'!$F275,'00 Alimenta'!G:G)","v":0},{"$f":"SUMIF('00 Alimenta'!$B:$B,'00 PDC SP'!$F275,'00 Alimenta'!H:H)","v":0},{"$f":"SUMIF('00 Alimenta'!$B:$B,'00 PDC SP'!$F275,'00 Alimenta'!I:I)","v":0},0]
["PDA235FR","PD","PDA235",14,"FR","0102022629","Note credito da ricevere v/ASL Pescara per versamenti c/patrimonio netto",{"$f":"SUMIF('00 Alimenta'!$B:$B,'00 PDC SP'!$F276,'00 Alimenta'!D:D)","v":0},{"$f":"SUMIF('00 Alimenta'!$B:$B,'00 PDC SP'!$F276,'00 Alimenta'!E:E)","v":0},{"$f":"SUMIF('00 Alimenta'!$B:$B,'00 PDC SP'!$F276,'00 Alimenta'!F:F)","v":0},{"$f":"SUMIF('00 Alimenta'!$B:$B,'00 PDC SP'!$F276,'00 Alimenta'!G:G)","v":0},{"$f":"SUMIF('00 Alimenta'!$B:$B,'00 PDC SP'!$F276,'00 Alimenta'!H:H)","v":0},{"$f":"SUMIF('00 Alimenta'!$B:$B,'00 PDC SP'!$F276,'00 Alimenta'!I:I)","v":0},0]
["PDA235FR","PD","PDA235",14,"FR","0102022630","Note credito da ricevere v/ASL Teramo per versamenti c/patrimonio netto",{"$f":"SUMIF('00 Alimenta'!$B:$B,'00 PDC SP'!$F277,'00 Alimenta'!D:D)","v":0},{"$f":"SUMIF('00 Alimenta'!$B:$B,'00 PDC SP'!$F277,'00 Alimenta'!E:E)","v":0},{"$f":"SUMIF('00 Alimenta'!$B:$B,'00 PDC SP'!$F277,'00 Alimenta'!F:F)","v":0},{"$f":"SUMIF('00 Alimenta'!$B:$B,'00 PDC SP'!$F277,'00 Alimenta'!G:G)","v":0},{"$f":"SUMIF('00 Alimenta'!$B:$B,'00 PDC SP'!$F277,'00 Alimenta'!H:H)","v":0},{"$f":"SUMIF('00 Alimenta'!$B:$B,'00 PDC SP'!$F277,'00 Alimenta'!I:I)","v":0},0]
["PDA250FR","PD","PDA250",15,"FR","0102022631","Note credito da ricevere v/enti regionali",{"$f":"SUMIF('00 Alimenta'!$B:$B,'00 PDC SP'!$F278,'00 Alimenta'!D:D)","v":0},{"$f":"SUMIF('00 Alimenta'!$B:$B,'00 PDC SP'!$F278,'00 Alimenta'!E:E)","v":0},{"$f":"SUMIF('00 Alimenta'!$B:$B,'00 PDC SP'!$F278,'00 Alimenta'!F:F)","v":0},{"$f":"SUMIF('00 Alimenta'!$B:$B,'00 PDC SP'!$F278,'00 Alimenta'!G:G)","v":0},{"$f":"SUMIF('00 Alimenta'!$B:$B,'00 PDC SP'!$F278,'00 Alimenta'!H:H)","v":0},{"$f":"SUMIF('00 Alimenta'!$B:$B,'00 PDC SP'!$F278,'00 Alimenta'!I:I)","v":0},0]
["PDA260FR","PD","PDA260",15,"FR","0102022632","Note credito da ricevere v/sperimentazioni gestionali",{"$f":"SUMIF('00 Alimenta'!$B:$B,'00 PDC SP'!$F279,'00 Alimenta'!D:D)","v":0},{"$f":"SUMIF('00 Alimenta'!$B:$B,'00 PDC SP'!$F279,'00 Alimenta'!E:E)","v":0},{"$f":"SUMIF('00 Alimenta'!$B:$B,'00 PDC SP'!$F279,'00 Alimenta'!F:F)","v":0},{"$f":"SUMIF('00 Alimenta'!$B:$B,'00 PDC SP'!$F279,'00 Alimenta'!G:G)","v":0},{"$f":"SUMIF('00 Alimenta'!$B:$B,'00 PDC SP'!$F279,'00 Alimenta'!H:H)","v":0},{"$f":"SUMIF('00 Alimenta'!$B:$B,'00 PDC SP'!$F279,'00 Alimenta'!I:I)","v":0},0]
["PDA270FR","PD","PDA270",15,"FR","0102022633","Note credito da ricevere v/altre partecipate",{"$f":"SUMIF('00 Alimenta'!$B:$B,'00 PDC SP'!$F280,'00 Alimenta'!D:D)","v":0},{"$f":"SUMIF('00 Alimenta'!$B:$B,'00 PDC SP'!$F280,'00 Alimenta'!E:E)","v":0},{"$f":"SUMIF('00 Alimenta'!$B:$B,'00 PDC SP'!$F280,'00 Alimenta'!F:F)","v":0},{"$f":"SUMIF('00 Alimenta'!$B:$B,'00 PDC SP'!$F280,'00 Alimenta'!G:G)","v":0},{"$f":"SUMIF('00 Alimenta'!$B:$B,'00 PDC SP'!$F280,'00 Alimenta'!H:H)","v":0},{"$f":"SUMIF('00 Alimenta'!$B:$B,'00 PDC SP'!$F280,'00 Alimenta'!I:I)","v":0},0]
["PDA292FR","PD","PDA292",16,"FR","0102022634","Note di credito v/IRCCS privati e Policlinici",{"$f":"SUMIF('00 Alimenta'!$B:$B,'00 PDC SP'!$F281,'00 Alimenta'!D:D)","v":0},{"$f":"SUMIF('00 Alimenta'!$B:$B,'00 PDC SP'!$F281,'00 Alimenta'!E:E)","v":0},{"$f":"SUMIF('00 Alimenta'!$B:$B,'00 PDC SP'!$F281,'00 Alimenta'!F:F)","v":0},{"$f":"SUMIF('00 Alimenta'!$B:$B,'00 PDC SP'!$F281,'00 Alimenta'!G:G)","v":0},{"$f":"SUMIF('00 Alimenta'!$B:$B,'00 PDC SP'!$F281,'00 Alimenta'!H:H)","v":7956.18},{"$f":"SUMIF('00 Alimenta'!$B:$B,'00 PDC SP'!$F281,'00 Alimenta'!I:I)","v":0},7956.18]
["PDA292FR","PD","PDA292",16,"FR","0102022635","Note credito da ricevere v/Ospedali Classificati",{"$f":"SUMIF('00 Alimenta'!$B:$B,'00 PDC SP'!$F282,'00 Alimenta'!D:D)","v":0},{"$f":"SUMIF('00 Alimenta'!$B:$B,'00 PDC SP'!$F282,'00 Alimenta'!E:E)","v":0},{"$f":"SUMIF('00 Alimenta'!$B:$B,'00 PDC SP'!$F282,'00 Alimenta'!F:F)","v":0},{"$f":"SUMIF('00 Alimenta'!$B:$B,'00 PDC SP'!$F282,'00 Alimenta'!G:G)","v":0},{"$f":"SUMIF('00 Alimenta'!$B:$B,'00 PDC SP'!$F282,'00 Alimenta'!H:H)","v":0},{"$f":"SUMIF('00 Alimenta'!$B:$B,'00 PDC SP'!$F282,'00 Alimenta'!I:I)","v":0},0]
["PDA292FR","PD","PDA292",16,"FR","0102022636","Note credito da ricevere v/Case di Cura",{"$f":"SUMIF('00 Alimenta'!$B:$B,'00 PDC SP'!$F283,'00 Alimenta'!D:D)","v":1930071.03},{"$f":"SUMIF('00 Alimenta'!$B:$B,'00 PDC SP'!$F283,'00 Alimenta'!E:E)","v":4610.6099999999997},{"$f":"SUMIF('00 Alimenta'!$B:$B,'00 PDC SP'!$F283,'00 Alimenta'!F:F)","v":1930071.03},{"$f":"SUMIF('00 Alimenta'!$B:$B,'00 PDC SP'!$F283,'00 Alimenta'!G:G)","v":4610.6099999999997},{"$f":"SUMIF('00 Alimenta'!$B:$B,'00 PDC SP'!$F283,'00 Alimenta'!H:H)","v":126.36},{"$f":"SUMIF('00 Alimenta'!$B:$B,'00 PDC SP'!$F283,'00 Alimenta'!I:I)","v":4610.6099999999997},126.35999999999967]
["PDA292FR","PD","PDA292",16,"FR","0102022637","Note credito da ricevere v/altri erogatori di prestazioni sanitarie - intraregione",{"$f":"SUMIF('00 Alimenta'!$B:$B,'00 PDC SP'!$F284,'00 Alimenta'!D:D)","v":27334117.52},{"$f":"SUMIF('00 Alimenta'!$B:$B,'00 PDC SP'!$F284,'00 Alimenta'!E:E)","v":2829706.77},{"$f":"SUMIF('00 Alimenta'!$B:$B,'00 PDC SP'!$F284,'00 Alimenta'!F:F)","v":4272293.9400000004},{"$f":"SUMIF('00 Alimenta'!$B:$B,'00 PDC SP'!$F284,'00 Alimenta'!G:G)","v":25891530.350000001},{"$f":"SUMIF('00 Alimenta'!$B:$B,'00 PDC SP'!$F284,'00 Alimenta'!H:H)","v":1929388.19},{"$f":"SUMIF('00 Alimenta'!$B:$B,'00 PDC SP'!$F284,'00 Alimenta'!I:I)","v":2833454.09},24987464.450000003]
["PDA302FR","PD","PDA302",16,"FR","0102022638","Note credito da ricevere verso altri fornitori nazionali",{"$f":"SUMIF('00 Alimenta'!$B:$B,'00 PDC SP'!$F285,'00 Alimenta'!D:D)","v":1123439.08},{"$f":"SUMIF('00 Alimenta'!$B:$B,'00 PDC SP'!$F285,'00 Alimenta'!E:E)","v":1282410.6399999999},{"$f":"SUMIF('00 Alimenta'!$B:$B,'00 PDC SP'!$F285,'00 Alimenta'!F:F)","v":1123439.08},{"$f":"SUMIF('00 Alimenta'!$B:$B,'00 PDC SP'!$F285,'00 Alimenta'!G:G)","v":1282410.6399999999},{"$f":"SUMIF('00 Alimenta'!$B:$B,'00 PDC SP'!$F285,'00 Alimenta'!H:H)","v":738479.34},{"$f":"SUMIF('00 Alimenta'!$B:$B,'00 PDC SP'!$F285,'00 Alimenta'!I:I)","v":1282410.6399999999},738479.34000000008]
["PDA302FR","PD","PDA302",16,"FR","0102022639","Note credito da ricevere verso altri fornitori esteri",{"$f":"SUMIF('00 Alimenta'!$B:$B,'00 PDC SP'!$F286,'00 Alimenta'!D:D)","v":6362},{"$f":"SUMIF('00 Alimenta'!$B:$B,'00 PDC SP'!$F286,'00 Alimenta'!E:E)","v":0},{"$f":"SUMIF('00 Alimenta'!$B:$B,'00 PDC SP'!$F286,'00 Alimenta'!F:F)","v":6362},{"$f":"SUMIF('00 Alimenta'!$B:$B,'00 PDC SP'!$F286,'00 Alimenta'!G:G)","v":0},{"$f":"SUMIF('00 Alimenta'!$B:$B,'00 PDC SP'!$F286,'00 Alimenta'!H:H)","v":0},{"$f":"SUMIF('00 Alimenta'!$B:$B,'00 PDC SP'!$F286,'00 Alimenta'!I:I)","v":0},0]
["PDA370FR","PD","PDA370",19,"FR","0102022640","Note credito da ricevere v/gestioni liquidatorie",{"$f":"SUMIF('00 Alimenta'!$B:$B,'00 PDC SP'!$F287,'00 Alimenta'!D:D)","v":0},{"$f":"SUMIF('00 Alimenta'!$B:$B,'00 PDC SP'!$F287,'00 Alimenta'!E:E)","v":0},{"$f":"SUMIF('00 Alimenta'!$B:$B,'00 PDC SP'!$F287,'00 Alimenta'!F:F)","v":0},{"$f":"SUMIF('00 Alimenta'!$B:$B,'00 PDC SP'!$F287,'00 Alimenta'!G:G)","v":0},{"$f":"SUMIF('00 Alimenta'!$B:$B,'00 PDC SP'!$F287,'00 Alimenta'!H:H)","v":0},{"$f":"SUMIF('00 Alimenta'!$B:$B,'00 PDC SP'!$F287,'00 Alimenta'!I:I)","v":0},0]
["PDA380FR","PD","PDA380",19,"FR","0102022641","Note credito da ricevere per altri debiti diversi",{"$f":"SUMIF('00 Alimenta'!$B:$B,'00 PDC SP'!$F288,'00 Alimenta'!D:D)","v":5013.58},{"$f":"SUMIF('00 Alimenta'!$B:$B,'00 PDC SP'!$F288,'00 Alimenta'!E:E)","v":2286.0100000000002},{"$f":"SUMIF('00 Alimenta'!$B:$B,'00 PDC SP'!$F288,'00 Alimenta'!F:F)","v":5013.58},{"$f":"SUMIF('00 Alimenta'!$B:$B,'00 PDC SP'!$F288,'00 Alimenta'!G:G)","v":2286.0100000000002},{"$f":"SUMIF('00 Alimenta'!$B:$B,'00 PDC SP'!$F288,'00 Alimenta'!H:H)","v":6757.61},{"$f":"SUMIF('00 Alimenta'!$B:$B,'00 PDC SP'!$F288,'00 Alimenta'!I:I)","v":2286.0100000000002},6757.6099999999988]
["ABA730CN","AB","ABA730",9,"CN","0102030101","Partecipazioni in imprese controllate",{"$f":"SUMIF('00 Alimenta'!$B:$B,'00 PDC SP'!$F289,'00 Alimenta'!D:D)","v":0},{"$f":"SUMIF('00 Alimenta'!$B:$B,'00 PDC SP'!$F289,'00 Alimenta'!E:E)","v":0},{"$f":"SUMIF('00 Alimenta'!$B:$B,'00 PDC SP'!$F289,'00 Alimenta'!F:F)","v":0},{"$f":"SUMIF('00 Alimenta'!$B:$B,'00 PDC SP'!$F289,'00 Alimenta'!G:G)","v":0},{"$f":"SUMIF('00 Alimenta'!$B:$B,'00 PDC SP'!$F289,'00 Alimenta'!H:H)","v":0},{"$f":"SUMIF('00 Alimenta'!$B:$B,'00 PDC SP'!$F289,'00 Alimenta'!I:I)","v":0},0]
["ABA730CL","AB","ABA730",9,"CL","0102030102","Partecipazioni in imprese collegate",{"$f":"SUMIF('00 Alimenta'!$B:$B,'00 PDC SP'!$F290,'00 Alimenta'!D:D)","v":0},{"$f":"SUMIF('00 Alimenta'!$B:$B,'00 PDC SP'!$F290,'00 Alimenta'!E:E)","v":0},{"$f":"SUMIF('00 Alimenta'!$B:$B,'00 PDC SP'!$F290,'00 Alimenta'!F:F)","v":0},{"$f":"SUMIF('00 Alimenta'!$B:$B,'00 PDC SP'!$F290,'00 Alimenta'!G:G)","v":0},{"$f":"SUMIF('00 Alimenta'!$B:$B,'00 PDC SP'!$F290,'00 Alimenta'!H:H)","v":0},{"$f":"SUMIF('00 Alimenta'!$B:$B,'00 PDC SP'!$F290,'00 Alimenta'!I:I)","v":0},0]
["ABA730AI","AB","ABA730",9,"AI","0102030103","Partecipazioni in altre imprese",{"$f":"SUMIF('00 Alimenta'!$B:$B,'00 PDC SP'!$F291,'00 Alimenta'!D:D)","v":0},{"$f":"SUMIF('00 Alimenta'!$B:$B,'00 PDC SP'!$F291,'00 Alimenta'!E:E)","v":0},{"$f":"SUMIF('00 Alimenta'!$B:$B,'00 PDC SP'!$F291,'00 Alimenta'!F:F)","v":0},{"$f":"SUMIF('00 Alimenta'!$B:$B,'00 PDC SP'!$F291,'00 Alimenta'!G:G)","v":0},{"$f":"SUMIF('00 Alimenta'!$B:$B,'00 PDC SP'!$F291,'00 Alimenta'!H:H)","v":0},{"$f":"SUMIF('00 Alimenta'!$B:$B,'00 PDC SP'!$F291,'00 Alimenta'!I:I)","v":0},0]
["ABA740","AB","ABA740",9,"","0102030201","Altri titoli che non costituiscono immobilizzazioni",{"$f":"SUMIF('00 Alimenta'!$B:$B,'00 PDC SP'!$F292,'00 Alimenta'!D:D)","v":0},{"$f":"SUMIF('00 Alimenta'!$B:$B,'00 PDC SP'!$F292,'00 Alimenta'!E:E)","v":0},{"$f":"SUMIF('00 Alimenta'!$B:$B,'00 PDC SP'!$F292,'00 Alimenta'!F:F)","v":0},{"$f":"SUMIF('00 Alimenta'!$B:$B,'00 PDC SP'!$F292,'00 Alimenta'!G:G)","v":0},{"$f":"SUMIF('00 Alimenta'!$B:$B,'00 PDC SP'!$F292,'00 Alimenta'!H:H)","v":0},{"$f":"SUMIF('00 Alimenta'!$B:$B,'00 PDC SP'!$F292,'00 Alimenta'!I:I)","v":0},0]
["ABA760","AB","ABA760",57,"","0102040101","Cassa ticket",{"$f":"SUMIF('00 Alimenta'!$B:$B,'00 PDC SP'!$F293,'00 Alimenta'!D:D)","v":20000},{"$f":"SUMIF('00 Alimenta'!$B:$B,'00 PDC SP'!$F293,'00 Alimenta'!E:E)","v":0},{"$f":"SUMIF('00 Alimenta'!$B:$B,'00 PDC SP'!$F293,'00 Alimenta'!F:F)","v":0},{"$f":"SUMIF('00 Alimenta'!$B:$B,'00 PDC SP'!$F293,'00 Alimenta'!G:G)","v":20000},{"$f":"SUMIF('00 Alimenta'!$B:$B,'00 PDC SP'!$F293,'00 Alimenta'!H:H)","v":0},{"$f":"SUMIF('00 Alimenta'!$B:$B,'00 PDC SP'!$F293,'00 Alimenta'!I:I)","v":0},20000]
["ABA760","AB","ABA760",57,"","0102040102","Cassa economale",{"$f":"SUMIF('00 Alimenta'!$B:$B,'00 PDC SP'!$F294,'00 Alimenta'!D:D)","v":0},{"$f":"SUMIF('00 Alimenta'!$B:$B,'00 PDC SP'!$F294,'00 Alimenta'!E:E)","v":52671.15},{"$f":"SUMIF('00 Alimenta'!$B:$B,'00 PDC SP'!$F294,'00 Alimenta'!F:F)","v":52671.15},{"$f":"SUMIF('00 Alimenta'!$B:$B,'00 PDC SP'!$F294,'00 Alimenta'!G:G)","v":0},{"$f":"SUMIF('00 Alimenta'!$B:$B,'00 PDC SP'!$F294,'00 Alimenta'!H:H)","v":49747.05},{"$f":"SUMIF('00 Alimenta'!$B:$B,'00 PDC SP'!$F294,'00 Alimenta'!I:I)","v":49747.05},0]
["ABA770","AB","ABA770",57,"","0102040201","Istituto Tesoriere",{"$f":"SUMIF('00 Alimenta'!$B:$B,'00 PDC SP'!$F295,'00 Alimenta'!D:D)","v":69558966.349999994},{"$f":"SUMIF('00 Alimenta'!$B:$B,'00 PDC SP'!$F295,'00 Alimenta'!E:E)","v":625609944.79999995},{"$f":"SUMIF('00 Alimenta'!$B:$B,'00 PDC SP'!$F295,'00 Alimenta'!F:F)","v":648972836.83000004},{"$f":"SUMIF('00 Alimenta'!$B:$B,'00 PDC SP'!$F295,'00 Alimenta'!G:G)","v":46196074.32},{"$f":"SUMIF('00 Alimenta'!$B:$B,'00 PDC SP'!$F295,'00 Alimenta'!H:H)","v":690539043.51999998},{"$f":"SUMIF('00 Alimenta'!$B:$B,'00 PDC SP'!$F295,'00 Alimenta'!I:I)","v":662428963.20000005},74306154.639999986]
["ABA780","AB","ABA780",57,"","0102040301","Tesoreria Unica",{"$f":"SUMIF('00 Alimenta'!$B:$B,'00 PDC SP'!$F296,'00 Alimenta'!D:D)","v":0},{"$f":"SUMIF('00 Alimenta'!$B:$B,'00 PDC SP'!$F296,'00 Alimenta'!E:E)","v":0},{"$f":"SUMIF('00 Alimenta'!$B:$B,'00 PDC SP'!$F296,'00 Alimenta'!F:F)","v":0},{"$f":"SUMIF('00 Alimenta'!$B:$B,'00 PDC SP'!$F296,'00 Alimenta'!G:G)","v":0},{"$f":"SUMIF('00 Alimenta'!$B:$B,'00 PDC SP'!$F296,'00 Alimenta'!H:H)","v":0},{"$f":"SUMIF('00 Alimenta'!$B:$B,'00 PDC SP'!$F296,'00 Alimenta'!I:I)","v":0},0]
["ABA790","AB","ABA790",57,"","0102040401","Conto corrente postale",{"$f":"SUMIF('00 Alimenta'!$B:$B,'00 PDC SP'!$F297,'00 Alimenta'!D:D)","v":3227616.17},{"$f":"SUMIF('00 Alimenta'!$B:$B,'00 PDC SP'!$F297,'00 Alimenta'!E:E)","v":1458253.24},{"$f":"SUMIF('00 Alimenta'!$B:$B,'00 PDC SP'!$F297,'00 Alimenta'!F:F)","v":3393835},{"$f":"SUMIF('00 Alimenta'!$B:$B,'00 PDC SP'!$F297,'00 Alimenta'!G:G)","v":1292034.4099999999},{"$f":"SUMIF('00 Alimenta'!$B:$B,'00 PDC SP'!$F297,'00 Alimenta'!H:H)","v":1221581.3999999999},{"$f":"SUMIF('00 Alimenta'!$B:$B,'00 PDC SP'!$F297,'00 Alimenta'!I:I)","v":1514988.6},998627.2099999995]
["ACA010","AC","ACA010",33,"","0103010101","Ratei attivi",{"$f":"SUMIF('00 Alimenta'!$B:$B,'00 PDC SP'!$F298,'00 Alimenta'!D:D)","v":0},{"$f":"SUMIF('00 Alimenta'!$B:$B,'00 PDC SP'!$F298,'00 Alimenta'!E:E)","v":0},{"$f":"SUMIF('00 Alimenta'!$B:$B,'00 PDC SP'!$F298,'00 Alimenta'!F:F)","v":0},{"$f":"SUMIF('00 Alimenta'!$B:$B,'00 PDC SP'!$F298,'00 Alimenta'!G:G)","v":0},{"$f":"SUMIF('00 Alimenta'!$B:$B,'00 PDC SP'!$F298,'00 Alimenta'!H:H)","v":0},{"$f":"SUMIF('00 Alimenta'!$B:$B,'00 PDC SP'!$F298,'00 Alimenta'!I:I)","v":0},0]
["ACA020","AC","ACA020",33,"","0103010201","Ratei attivi v/Aziende sanitarie pubbliche della Regione",{"$f":"SUMIF('00 Alimenta'!$B:$B,'00 PDC SP'!$F299,'00 Alimenta'!D:D)","v":0},{"$f":"SUMIF('00 Alimenta'!$B:$B,'00 PDC SP'!$F299,'00 Alimenta'!E:E)","v":0},{"$f":"SUMIF('00 Alimenta'!$B:$B,'00 PDC SP'!$F299,'00 Alimenta'!F:F)","v":0},{"$f":"SUMIF('00 Alimenta'!$B:$B,'00 PDC SP'!$F299,'00 Alimenta'!G:G)","v":0},{"$f":"SUMIF('00 Alimenta'!$B:$B,'00 PDC SP'!$F299,'00 Alimenta'!H:H)","v":0},{"$f":"SUMIF('00 Alimenta'!$B:$B,'00 PDC SP'!$F299,'00 Alimenta'!I:I)","v":0},0]
["ACA040","AC","ACA040",33,"","0103020101","Risconti attivi",{"$f":"SUMIF('00 Alimenta'!$B:$B,'00 PDC SP'!$F300,'00 Alimenta'!D:D)","v":8698.51},{"$f":"SUMIF('00 Alimenta'!$B:$B,'00 PDC SP'!$F300,'00 Alimenta'!E:E)","v":10533.97},{"$f":"SUMIF('00 Alimenta'!$B:$B,'00 PDC SP'!$F300,'00 Alimenta'!F:F)","v":8698.51},{"$f":"SUMIF('00 Alimenta'!$B:$B,'00 PDC SP'!$F300,'00 Alimenta'!G:G)","v":10533.97},{"$f":"SUMIF('00 Alimenta'!$B:$B,'00 PDC SP'!$F300,'00 Alimenta'!H:H)","v":8697.9699999999993},{"$f":"SUMIF('00 Alimenta'!$B:$B,'00 PDC SP'!$F300,'00 Alimenta'!I:I)","v":10533.97},8697.9699999999993]
["ACA050","AC","ACA050",33,"","0103020201","Risconti attivi v/Aziende sanitarie pubbliche della Regione",{"$f":"SUMIF('00 Alimenta'!$B:$B,'00 PDC SP'!$F301,'00 Alimenta'!D:D)","v":0},{"$f":"SUMIF('00 Alimenta'!$B:$B,'00 PDC SP'!$F301,'00 Alimenta'!E:E)","v":0},{"$f":"SUMIF('00 Alimenta'!$B:$B,'00 PDC SP'!$F301,'00 Alimenta'!F:F)","v":0},{"$f":"SUMIF('00 Alimenta'!$B:$B,'00 PDC SP'!$F301,'00 Alimenta'!G:G)","v":0},{"$f":"SUMIF('00 Alimenta'!$B:$B,'00 PDC SP'!$F301,'00 Alimenta'!H:H)","v":0},{"$f":"SUMIF('00 Alimenta'!$B:$B,'00 PDC SP'!$F301,'00 Alimenta'!I:I)","v":0},0]
["ADA000","AD","ADA000",0,"","0104010101","Canoni di leasing ancora da pagare",{"$f":"SUMIF('00 Alimenta'!$B:$B,'00 PDC SP'!$F302,'00 Alimenta'!D:D)","v":0},{"$f":"SUMIF('00 Alimenta'!$B:$B,'00 PDC SP'!$F302,'00 Alimenta'!E:E)","v":0},{"$f":"SUMIF('00 Alimenta'!$B:$B,'00 PDC SP'!$F302,'00 Alimenta'!F:F)","v":0},{"$f":"SUMIF('00 Alimenta'!$B:$B,'00 PDC SP'!$F302,'00 Alimenta'!G:G)","v":0},{"$f":"SUMIF('00 Alimenta'!$B:$B,'00 PDC SP'!$F302,'00 Alimenta'!H:H)","v":0},{"$f":"SUMIF('00 Alimenta'!$B:$B,'00 PDC SP'!$F302,'00 Alimenta'!I:I)","v":0},0]
["ADA010","AD","ADA010",0,"","0104020101","Depositi cauzionali",{"$f":"SUMIF('00 Alimenta'!$B:$B,'00 PDC SP'!$F303,'00 Alimenta'!D:D)","v":0},{"$f":"SUMIF('00 Alimenta'!$B:$B,'00 PDC SP'!$F303,'00 Alimenta'!E:E)","v":0},{"$f":"SUMIF('00 Alimenta'!$B:$B,'00 PDC SP'!$F303,'00 Alimenta'!F:F)","v":0},{"$f":"SUMIF('00 Alimenta'!$B:$B,'00 PDC SP'!$F303,'00 Alimenta'!G:G)","v":0},{"$f":"SUMIF('00 Alimenta'!$B:$B,'00 PDC SP'!$F303,'00 Alimenta'!H:H)","v":0},{"$f":"SUMIF('00 Alimenta'!$B:$B,'00 PDC SP'!$F303,'00 Alimenta'!I:I)","v":0},0]
["ADA020","AD","ADA020",0,"","0104030101","Beni in comodato",{"$f":"SUMIF('00 Alimenta'!$B:$B,'00 PDC SP'!$F304,'00 Alimenta'!D:D)","v":0},{"$f":"SUMIF('00 Alimenta'!$B:$B,'00 PDC SP'!$F304,'00 Alimenta'!E:E)","v":0},{"$f":"SUMIF('00 Alimenta'!$B:$B,'00 PDC SP'!$F304,'00 Alimenta'!F:F)","v":0},{"$f":"SUMIF('00 Alimenta'!$B:$B,'00 PDC SP'!$F304,'00 Alimenta'!G:G)","v":0},{"$f":"SUMIF('00 Alimenta'!$B:$B,'00 PDC SP'!$F304,'00 Alimenta'!H:H)","v":0},{"$f":"SUMIF('00 Alimenta'!$B:$B,'00 PDC SP'!$F304,'00 Alimenta'!I:I)","v":0},0]
["ADA030","AD","ADA030",0,"","0104040101","Garanzie prestate",{"$f":"SUMIF('00 Alimenta'!$B:$B,'00 PDC SP'!$F305,'00 Alimenta'!D:D)","v":0},{"$f":"SUMIF('00 Alimenta'!$B:$B,'00 PDC SP'!$F305,'00 Alimenta'!E:E)","v":0},{"$f":"SUMIF('00 Alimenta'!$B:$B,'00 PDC SP'!$F305,'00 Alimenta'!F:F)","v":0},{"$f":"SUMIF('00 Alimenta'!$B:$B,'00 PDC SP'!$F305,'00 Alimenta'!G:G)","v":0},{"$f":"SUMIF('00 Alimenta'!$B:$B,'00 PDC SP'!$F305,'00 Alimenta'!H:H)","v":0},{"$f":"SUMIF('00 Alimenta'!$B:$B,'00 PDC SP'!$F305,'00 Alimenta'!I:I)","v":0},0]
["ADA030","AD","ADA030",0,"","0104040102","Garanzie ricevute",{"$f":"SUMIF('00 Alimenta'!$B:$B,'00 PDC SP'!$F306,'00 Alimenta'!D:D)","v":0},{"$f":"SUMIF('00 Alimenta'!$B:$B,'00 PDC SP'!$F306,'00 Alimenta'!E:E)","v":0},{"$f":"SUMIF('00 Alimenta'!$B:$B,'00 PDC SP'!$F306,'00 Alimenta'!F:F)","v":0},{"$f":"SUMIF('00 Alimenta'!$B:$B,'00 PDC SP'!$F306,'00 Alimenta'!G:G)","v":0},{"$f":"SUMIF('00 Alimenta'!$B:$B,'00 PDC SP'!$F306,'00 Alimenta'!H:H)","v":0},{"$f":"SUMIF('00 Alimenta'!$B:$B,'00 PDC SP'!$F306,'00 Alimenta'!I:I)","v":0},0]
["ADA030","AD","ADA030",0,"","0104040103","Beni presso terzi",{"$f":"SUMIF('00 Alimenta'!$B:$B,'00 PDC SP'!$F307,'00 Alimenta'!D:D)","v":0},{"$f":"SUMIF('00 Alimenta'!$B:$B,'00 PDC SP'!$F307,'00 Alimenta'!E:E)","v":0},{"$f":"SUMIF('00 Alimenta'!$B:$B,'00 PDC SP'!$F307,'00 Alimenta'!F:F)","v":0},{"$f":"SUMIF('00 Alimenta'!$B:$B,'00 PDC SP'!$F307,'00 Alimenta'!G:G)","v":0},{"$f":"SUMIF('00 Alimenta'!$B:$B,'00 PDC SP'!$F307,'00 Alimenta'!H:H)","v":0},{"$f":"SUMIF('00 Alimenta'!$B:$B,'00 PDC SP'!$F307,'00 Alimenta'!I:I)","v":0},0]
["ADA030","AD","ADA030",0,"","0104040104","Beni in contenzioso",{"$f":"SUMIF('00 Alimenta'!$B:$B,'00 PDC SP'!$F308,'00 Alimenta'!D:D)","v":0},{"$f":"SUMIF('00 Alimenta'!$B:$B,'00 PDC SP'!$F308,'00 Alimenta'!E:E)","v":0},{"$f":"SUMIF('00 Alimenta'!$B:$B,'00 PDC SP'!$F308,'00 Alimenta'!F:F)","v":0},{"$f":"SUMIF('00 Alimenta'!$B:$B,'00 PDC SP'!$F308,'00 Alimenta'!G:G)","v":0},{"$f":"SUMIF('00 Alimenta'!$B:$B,'00 PDC SP'!$F308,'00 Alimenta'!H:H)","v":0},{"$f":"SUMIF('00 Alimenta'!$B:$B,'00 PDC SP'!$F308,'00 Alimenta'!I:I)","v":0},0]
["ADA030","AD","ADA030",0,"","0104040105","Altri impegni assunti",{"$f":"SUMIF('00 Alimenta'!$B:$B,'00 PDC SP'!$F309,'00 Alimenta'!D:D)","v":0},{"$f":"SUMIF('00 Alimenta'!$B:$B,'00 PDC SP'!$F309,'00 Alimenta'!E:E)","v":0},{"$f":"SUMIF('00 Alimenta'!$B:$B,'00 PDC SP'!$F309,'00 Alimenta'!F:F)","v":0},{"$f":"SUMIF('00 Alimenta'!$B:$B,'00 PDC SP'!$F309,'00 Alimenta'!G:G)","v":0},{"$f":"SUMIF('00 Alimenta'!$B:$B,'00 PDC SP'!$F309,'00 Alimenta'!H:H)","v":0},{"$f":"SUMIF('00 Alimenta'!$B:$B,'00 PDC SP'!$F309,'00 Alimenta'!I:I)","v":0},0]
["ADA030","AD","ADA030",0,"","0104040106","Altri contri d'ordine",{"$f":"SUMIF('00 Alimenta'!$B:$B,'00 PDC SP'!$F310,'00 Alimenta'!D:D)","v":0},{"$f":"SUMIF('00 Alimenta'!$B:$B,'00 PDC SP'!$F310,'00 Alimenta'!E:E)","v":0},{"$f":"SUMIF('00 Alimenta'!$B:$B,'00 PDC SP'!$F310,'00 Alimenta'!F:F)","v":0},{"$f":"SUMIF('00 Alimenta'!$B:$B,'00 PDC SP'!$F310,'00 Alimenta'!G:G)","v":0},{"$f":"SUMIF('00 Alimenta'!$B:$B,'00 PDC SP'!$F310,'00 Alimenta'!H:H)","v":0},{"$f":"SUMIF('00 Alimenta'!$B:$B,'00 PDC SP'!$F310,'00 Alimenta'!I:I)","v":0},0]
["ADA021","AD","ADA021",0,null,"0104050101","Canoni di project financing ancora da pagare",{"$f":"SUMIF('00 Alimenta'!$B:$B,'00 PDC SP'!$F311,'00 Alimenta'!D:D)","v":0},{"$f":"SUMIF('00 Alimenta'!$B:$B,'00 PDC SP'!$F311,'00 Alimenta'!E:E)","v":0},{"$f":"SUMIF('00 Alimenta'!$B:$B,'00 PDC SP'!$F311,'00 Alimenta'!F:F)","v":0},{"$f":"SUMIF('00 Alimenta'!$B:$B,'00 PDC SP'!$F311,'00 Alimenta'!G:G)","v":0},{"$f":"SUMIF('00 Alimenta'!$B:$B,'00 PDC SP'!$F311,'00 Alimenta'!H:H)","v":0},{"$f":"SUMIF('00 Alimenta'!$B:$B,'00 PDC SP'!$F311,'00 Alimenta'!I:I)","v":0},0]
["PAA000","PA","PAA000",53,"","0201010101","Fondo di dotazione",{"$f":"SUMIF('00 Alimenta'!$B:$B,'00 PDC SP'!$F312,'00 Alimenta'!D:D)","v":0},{"$f":"SUMIF('00 Alimenta'!$B:$B,'00 PDC SP'!$F312,'00 Alimenta'!E:E)","v":0},{"$f":"SUMIF('00 Alimenta'!$B:$B,'00 PDC SP'!$F312,'00 Alimenta'!F:F)","v":0},{"$f":"SUMIF('00 Alimenta'!$B:$B,'00 PDC SP'!$F312,'00 Alimenta'!G:G)","v":0},{"$f":"SUMIF('00 Alimenta'!$B:$B,'00 PDC SP'!$F312,'00 Alimenta'!H:H)","v":0},{"$f":"SUMIF('00 Alimenta'!$B:$B,'00 PDC SP'!$F312,'00 Alimenta'!I:I)","v":0},0]
["PAA020","PA","PAA020",5,"","0201020101","Finanziamenti per beni di prima dotazione",{"$f":"SUMIF('00 Alimenta'!$B:$B,'00 PDC SP'!$F313,'00 Alimenta'!D:D)","v":63708881.740000002},{"$f":"SUMIF('00 Alimenta'!$B:$B,'00 PDC SP'!$F313,'00 Alimenta'!E:E)","v":0},{"$f":"SUMIF('00 Alimenta'!$B:$B,'00 PDC SP'!$F313,'00 Alimenta'!F:F)","v":3577467.93},{"$f":"SUMIF('00 Alimenta'!$B:$B,'00 PDC SP'!$F313,'00 Alimenta'!G:G)","v":60131413.810000002},{"$f":"SUMIF('00 Alimenta'!$B:$B,'00 PDC SP'!$F313,'00 Alimenta'!H:H)","v":0},{"$f":"SUMIF('00 Alimenta'!$B:$B,'00 PDC SP'!$F313,'00 Alimenta'!I:I)","v":3577467.93},56553945.880000003]
["PAA040","PA","PAA040",5,"","0201020201","Finanziamenti da Stato per investimenti - ex art. 20 legge 67/88",{"$f":"SUMIF('00 Alimenta'!$B:$B,'00 PDC SP'!$F314,'00 Alimenta'!D:D)","v":0},{"$f":"SUMIF('00 Alimenta'!$B:$B,'00 PDC SP'!$F314,'00 Alimenta'!E:E)","v":0},{"$f":"SUMIF('00 Alimenta'!$B:$B,'00 PDC SP'!$F314,'00 Alimenta'!F:F)","v":0},{"$f":"SUMIF('00 Alimenta'!$B:$B,'00 PDC SP'!$F314,'00 Alimenta'!G:G)","v":0},{"$f":"SUMIF('00 Alimenta'!$B:$B,'00 PDC SP'!$F314,'00 Alimenta'!H:H)","v":0},{"$f":"SUMIF('00 Alimenta'!$B:$B,'00 PDC SP'!$F314,'00 Alimenta'!I:I)","v":0},0]
["PAA050","PA","PAA050",5,"","0201020301","Finanziamenti da Stato per investimenti - ricerca",{"$f":"SUMIF('00 Alimenta'!$B:$B,'00 PDC SP'!$F315,'00 Alimenta'!D:D)","v":0},{"$f":"SUMIF('00 Alimenta'!$B:$B,'00 PDC SP'!$F315,'00 Alimenta'!E:E)","v":0},{"$f":"SUMIF('00 Alimenta'!$B:$B,'00 PDC SP'!$F315,'00 Alimenta'!F:F)","v":0},{"$f":"SUMIF('00 Alimenta'!$B:$B,'00 PDC SP'!$F315,'00 Alimenta'!G:G)","v":0},{"$f":"SUMIF('00 Alimenta'!$B:$B,'00 PDC SP'!$F315,'00 Alimenta'!H:H)","v":0},{"$f":"SUMIF('00 Alimenta'!$B:$B,'00 PDC SP'!$F315,'00 Alimenta'!I:I)","v":0},0]
["PAA060","PA","PAA060",5,"","0201020401","Finanziamenti da Stato per investimenti - altro",{"$f":"SUMIF('00 Alimenta'!$B:$B,'00 PDC SP'!$F316,'00 Alimenta'!D:D)","v":0},{"$f":"SUMIF('00 Alimenta'!$B:$B,'00 PDC SP'!$F316,'00 Alimenta'!E:E)","v":0},{"$f":"SUMIF('00 Alimenta'!$B:$B,'00 PDC SP'!$F316,'00 Alimenta'!F:F)","v":0},{"$f":"SUMIF('00 Alimenta'!$B:$B,'00 PDC SP'!$F316,'00 Alimenta'!G:G)","v":0},{"$f":"SUMIF('00 Alimenta'!$B:$B,'00 PDC SP'!$F316,'00 Alimenta'!H:H)","v":0},{"$f":"SUMIF('00 Alimenta'!$B:$B,'00 PDC SP'!$F316,'00 Alimenta'!I:I)","v":0},0]
["PAA070","PA","PAA070",5,"","0201020501","Finanziamenti da Regione per investimenti",{"$f":"SUMIF('00 Alimenta'!$B:$B,'00 PDC SP'!$F317,'00 Alimenta'!D:D)","v":37556665.460000001},{"$f":"SUMIF('00 Alimenta'!$B:$B,'00 PDC SP'!$F317,'00 Alimenta'!E:E)","v":2138846.64},{"$f":"SUMIF('00 Alimenta'!$B:$B,'00 PDC SP'!$F317,'00 Alimenta'!F:F)","v":1674245.68},{"$f":"SUMIF('00 Alimenta'!$B:$B,'00 PDC SP'!$F317,'00 Alimenta'!G:G)","v":38021266.420000002},{"$f":"SUMIF('00 Alimenta'!$B:$B,'00 PDC SP'!$F317,'00 Alimenta'!H:H)","v":13499505.02},{"$f":"SUMIF('00 Alimenta'!$B:$B,'00 PDC SP'!$F317,'00 Alimenta'!I:I)","v":15486369.17},36034402.269999996]
["PAA080","PA","PAA080",5,"","0201020601","Finanziamenti da altri soggetti pubblici per investimenti",{"$f":"SUMIF('00 Alimenta'!$B:$B,'00 PDC SP'!$F318,'00 Alimenta'!D:D)","v":0},{"$f":"SUMIF('00 Alimenta'!$B:$B,'00 PDC SP'!$F318,'00 Alimenta'!E:E)","v":0},{"$f":"SUMIF('00 Alimenta'!$B:$B,'00 PDC SP'!$F318,'00 Alimenta'!F:F)","v":0},{"$f":"SUMIF('00 Alimenta'!$B:$B,'00 PDC SP'!$F318,'00 Alimenta'!G:G)","v":0},{"$f":"SUMIF('00 Alimenta'!$B:$B,'00 PDC SP'!$F318,'00 Alimenta'!H:H)","v":0},{"$f":"SUMIF('00 Alimenta'!$B:$B,'00 PDC SP'!$F318,'00 Alimenta'!I:I)","v":0},0]
["PAA090","PA","PAA090",5,"","0201020701","Finanziamenti per investimenti da rettifica contributi in conto esercizio",{"$f":"SUMIF('00 Alimenta'!$B:$B,'00 PDC SP'!$F319,'00 Alimenta'!D:D)","v":17897222.850000001},{"$f":"SUMIF('00 Alimenta'!$B:$B,'00 PDC SP'!$F319,'00 Alimenta'!E:E)","v":4347846.8099999996},{"$f":"SUMIF('00 Alimenta'!$B:$B,'00 PDC SP'!$F319,'00 Alimenta'!F:F)","v":5185207.28},{"$f":"SUMIF('00 Alimenta'!$B:$B,'00 PDC SP'!$F319,'00 Alimenta'!G:G)","v":17059862.379999999},{"$f":"SUMIF('00 Alimenta'!$B:$B,'00 PDC SP'!$F319,'00 Alimenta'!H:H)","v":3379701.26},{"$f":"SUMIF('00 Alimenta'!$B:$B,'00 PDC SP'!$F319,'00 Alimenta'!I:I)","v":5079640.42},15359923.220000001]
["PAA100","PA","PAA100",53,"","0201030101","Riserve da donazioni e lasciti vincolati ad investimenti",{"$f":"SUMIF('00 Alimenta'!$B:$B,'00 PDC SP'!$F320,'00 Alimenta'!D:D)","v":201195.25},{"$f":"SUMIF('00 Alimenta'!$B:$B,'00 PDC SP'!$F320,'00 Alimenta'!E:E)","v":114032.88},{"$f":"SUMIF('00 Alimenta'!$B:$B,'00 PDC SP'!$F320,'00 Alimenta'!F:F)","v":54754.03},{"$f":"SUMIF('00 Alimenta'!$B:$B,'00 PDC SP'!$F320,'00 Alimenta'!G:G)","v":260474.1},{"$f":"SUMIF('00 Alimenta'!$B:$B,'00 PDC SP'!$F320,'00 Alimenta'!H:H)","v":308827.12},{"$f":"SUMIF('00 Alimenta'!$B:$B,'00 PDC SP'!$F320,'00 Alimenta'!I:I)","v":86964.13},482337.08999999997]
["PAA120","PA","PAA120",6,"","0201040101","Riserve da rivalutazioni",{"$f":"SUMIF('00 Alimenta'!$B:$B,'00 PDC SP'!$F321,'00 Alimenta'!D:D)","v":0},{"$f":"SUMIF('00 Alimenta'!$B:$B,'00 PDC SP'!$F321,'00 Alimenta'!E:E)","v":0},{"$f":"SUMIF('00 Alimenta'!$B:$B,'00 PDC SP'!$F321,'00 Alimenta'!F:F)","v":0},{"$f":"SUMIF('00 Alimenta'!$B:$B,'00 PDC SP'!$F321,'00 Alimenta'!G:G)","v":0},{"$f":"SUMIF('00 Alimenta'!$B:$B,'00 PDC SP'!$F321,'00 Alimenta'!H:H)","v":0},{"$f":"SUMIF('00 Alimenta'!$B:$B,'00 PDC SP'!$F321,'00 Alimenta'!I:I)","v":0},0]
["PAA130","PA","PAA130",6,"","0201040201","Riserve da plusvalenze da reinvestire",{"$f":"SUMIF('00 Alimenta'!$B:$B,'00 PDC SP'!$F322,'00 Alimenta'!D:D)","v":0},{"$f":"SUMIF('00 Alimenta'!$B:$B,'00 PDC SP'!$F322,'00 Alimenta'!E:E)","v":0},{"$f":"SUMIF('00 Alimenta'!$B:$B,'00 PDC SP'!$F322,'00 Alimenta'!F:F)","v":0},{"$f":"SUMIF('00 Alimenta'!$B:$B,'00 PDC SP'!$F322,'00 Alimenta'!G:G)","v":0},{"$f":"SUMIF('00 Alimenta'!$B:$B,'00 PDC SP'!$F322,'00 Alimenta'!H:H)","v":0},{"$f":"SUMIF('00 Alimenta'!$B:$B,'00 PDC SP'!$F322,'00 Alimenta'!I:I)","v":0},0]
["PAA140","PA","PAA140",6,"","0201040301","Contributi da reinvestire",{"$f":"SUMIF('00 Alimenta'!$B:$B,'00 PDC SP'!$F323,'00 Alimenta'!D:D)","v":0},{"$f":"SUMIF('00 Alimenta'!$B:$B,'00 PDC SP'!$F323,'00 Alimenta'!E:E)","v":0},{"$f":"SUMIF('00 Alimenta'!$B:$B,'00 PDC SP'!$F323,'00 Alimenta'!F:F)","v":0},{"$f":"SUMIF('00 Alimenta'!$B:$B,'00 PDC SP'!$F323,'00 Alimenta'!G:G)","v":0},{"$f":"SUMIF('00 Alimenta'!$B:$B,'00 PDC SP'!$F323,'00 Alimenta'!H:H)","v":0},{"$f":"SUMIF('00 Alimenta'!$B:$B,'00 PDC SP'!$F323,'00 Alimenta'!I:I)","v":0},0]
["PAA150","PA","PAA150",6,"","0201040401","Riserve da utili di esercizio destinati ad investimenti",{"$f":"SUMIF('00 Alimenta'!$B:$B,'00 PDC SP'!$F324,'00 Alimenta'!D:D)","v":0},{"$f":"SUMIF('00 Alimenta'!$B:$B,'00 PDC SP'!$F324,'00 Alimenta'!E:E)","v":0},{"$f":"SUMIF('00 Alimenta'!$B:$B,'00 PDC SP'!$F324,'00 Alimenta'!F:F)","v":0},{"$f":"SUMIF('00 Alimenta'!$B:$B,'00 PDC SP'!$F324,'00 Alimenta'!G:G)","v":0},{"$f":"SUMIF('00 Alimenta'!$B:$B,'00 PDC SP'!$F324,'00 Alimenta'!H:H)","v":0},{"$f":"SUMIF('00 Alimenta'!$B:$B,'00 PDC SP'!$F324,'00 Alimenta'!I:I)","v":0},0]
["PAA160","PA","PAA160",6,"","0201040501","Riserve diverse",{"$f":"SUMIF('00 Alimenta'!$B:$B,'00 PDC SP'!$F325,'00 Alimenta'!D:D)","v":2730000},{"$f":"SUMIF('00 Alimenta'!$B:$B,'00 PDC SP'!$F325,'00 Alimenta'!E:E)","v":0},{"$f":"SUMIF('00 Alimenta'!$B:$B,'00 PDC SP'!$F325,'00 Alimenta'!F:F)","v":0},{"$f":"SUMIF('00 Alimenta'!$B:$B,'00 PDC SP'!$F325,'00 Alimenta'!G:G)","v":2730000},{"$f":"SUMIF('00 Alimenta'!$B:$B,'00 PDC SP'!$F325,'00 Alimenta'!H:H)","v":0},{"$f":"SUMIF('00 Alimenta'!$B:$B,'00 PDC SP'!$F325,'00 Alimenta'!I:I)","v":0},2730000]
["PAA180",{"$f":"IF(C326=\"PAA220\",\"UT\",LEFT(C326,2))","v":"PA"},"PAA180",53,"","0201050101","Contributi per copertura debiti al 31/12/2005",{"$f":"SUMIF('00 Alimenta'!$B:$B,'00 PDC SP'!$F326,'00 Alimenta'!D:D)","v":0},{"$f":"SUMIF('00 Alimenta'!$B:$B,'00 PDC SP'!$F326,'00 Alimenta'!E:E)","v":0},{"$f":"SUMIF('00 Alimenta'!$B:$B,'00 PDC SP'!$F326,'00 Alimenta'!F:F)","v":0},{"$f":"SUMIF('00 Alimenta'!$B:$B,'00 PDC SP'!$F326,'00 Alimenta'!G:G)","v":0},{"$f":"SUMIF('00 Alimenta'!$B:$B,'00 PDC SP'!$F326,'00 Alimenta'!H:H)","v":0},{"$f":"SUMIF('00 Alimenta'!$B:$B,'00 PDC SP'!$F326,'00 Alimenta'!I:I)","v":0},0]
["PAA190","PA","PAA190",53,"","0201050201","Contributi per ricostituzione risorse da investimenti esercizi precedenti",{"$f":"SUMIF('00 Alimenta'!$B:$B,'00 PDC SP'!$F327,'00 Alimenta'!D:D)","v":0},{"$f":"SUMIF('00 Alimenta'!$B:$B,'00 PDC SP'!$F327,'00 Alimenta'!E:E)","v":0},{"$f":"SUMIF('00 Alimenta'!$B:$B,'00 PDC SP'!$F327,'00 Alimenta'!F:F)","v":0},{"$f":"SUMIF('00 Alimenta'!$B:$B,'00 PDC SP'!$F327,'00 Alimenta'!G:G)","v":0},{"$f":"SUMIF('00 Alimenta'!$B:$B,'00 PDC SP'!$F327,'00 Alimenta'!H:H)","v":0},{"$f":"SUMIF('00 Alimenta'!$B:$B,'00 PDC SP'!$F327,'00 Alimenta'!I:I)","v":0},0]
[{"$f":"IF(E328=\"\",C328,C328&E328)","v":"PAA200"},"PA","PAA200",53,"","0201050301","Altro - contributi per ripiano perdite",{"$f":"SUMIF('00 Alimenta'!$B:$B,'00 PDC SP'!$F328,'00 Alimenta'!D:D)","v":14264710},{"$f":"SUMIF('00 Alimenta'!$B:$B,'00 PDC SP'!$F328,'00 Alimenta'!E:E)","v":13609624},{"$f":"SUMIF('00 Alimenta'!$B:$B,'00 PDC SP'!$F328,'00 Alimenta'!F:F)","v":0},{"$f":"SUMIF('00 Alimenta'!$B:$B,'00 PDC SP'!$F328,'00 Alimenta'!G:G)","v":27874334},{"$f":"SUMIF('00 Alimenta'!$B:$B,'00 PDC SP'!$F328,'00 Alimenta'!H:H)","v":0},{"$f":"SUMIF('00 Alimenta'!$B:$B,'00 PDC SP'!$F328,'00 Alimenta'!I:I)","v":0},{"$f":"K328+L328-M328","v":27874334}]
["PAA210","PA","PAA210",53,"","0201060101","UTILI PORTATI A NUOVO",{"$f":"SUMIF('00 Alimenta'!$B:$B,'00 PDC SP'!$F329,'00 Alimenta'!D:D)","v":0},{"$f":"SUMIF('00 Alimenta'!$B:$B,'00 PDC SP'!$F329,'00 Alimenta'!E:E)","v":0},{"$f":"SUMIF('00 Alimenta'!$B:$B,'00 PDC SP'!$F329,'00 Alimenta'!F:F)","v":0},{"$f":"SUMIF('00 Alimenta'!$B:$B,'00 PDC SP'!$F329,'00 Alimenta'!G:G)","v":0},{"$f":"SUMIF('00 Alimenta'!$B:$B,'00 PDC SP'!$F329,'00 Alimenta'!H:H)","v":1677.34},{"$f":"SUMIF('00 Alimenta'!$B:$B,'00 PDC SP'!$F329,'00 Alimenta'!I:I)","v":0},1677.34]
["PAA210","PA","PAA210",53,"","0201060102","PERDITE PORTATI A NUOVO",{"$f":"SUMIF('00 Alimenta'!$B:$B,'00 PDC SP'!$F330,'00 Alimenta'!D:D)","v":-14264709.560000001},{"$f":"SUMIF('00 Alimenta'!$B:$B,'00 PDC SP'!$F330,'00 Alimenta'!E:E)","v":0},{"$f":"SUMIF('00 Alimenta'!$B:$B,'00 PDC SP'!$F330,'00 Alimenta'!F:F)","v":13609624.26},{"$f":"SUMIF('00 Alimenta'!$B:$B,'00 PDC SP'!$F330,'00 Alimenta'!G:G)","v":-27874333.82},{"$f":"SUMIF('00 Alimenta'!$B:$B,'00 PDC SP'!$F330,'00 Alimenta'!H:H)","v":0},{"$f":"SUMIF('00 Alimenta'!$B:$B,'00 PDC SP'!$F330,'00 Alimenta'!I:I)","v":0},-27874333.82]
["PAA220","UT","PAA220",53,"","0201070101","UTILE D'ESERCIZIO",{"$f":"SUMIF('00 Alimenta'!$B:$B,'00 PDC SP'!$F331,'00 Alimenta'!D:D)","v":0},{"$f":"SUMIF('00 Alimenta'!$B:$B,'00 PDC SP'!$F331,'00 Alimenta'!E:E)","v":1677.34},{"$f":"SUMIF('00 Alimenta'!$B:$B,'00 PDC SP'!$F331,'00 Alimenta'!F:F)","v":0},{"$f":"SUMIF('00 Alimenta'!$B:$B,'00 PDC SP'!$F331,'00 Alimenta'!G:G)","v":1677.34},{"$f":"SUMIF('00 Alimenta'!$B:$B,'00 PDC SP'!$F331,'00 Alimenta'!H:H)","v":0},{"$f":"SUMIF('00 Alimenta'!$B:$B,'00 PDC SP'!$F331,'00 Alimenta'!I:I)","v":1677.34},0]
["PAA220","UT","PAA220",53,"","0201070102","PERDITA D'ESERCIZIO",{"$f":"SUMIF('00 Alimenta'!$B:$B,'00 PDC SP'!$F332,'00 Alimenta'!D:D)","v":-13609624.26},{"$f":"SUMIF('00 Alimenta'!$B:$B,'00 PDC SP'!$F332,'00 Alimenta'!E:E)","v":13609624.26},{"$f":"SUMIF('00 Alimenta'!$B:$B,'00 PDC SP'!$F332,'00 Alimenta'!F:F)","v":0},{"$f":"SUMIF('00 Alimenta'!$B:$B,'00 PDC SP'!$F332,'00 Alimenta'!G:G)","v":0},{"$f":"SUMIF('00 Alimenta'!$B:$B,'00 PDC SP'!$F332,'00 Alimenta'!H:H)","v":0},{"$f":"SUMIF('00 Alimenta'!$B:$B,'00 PDC SP'!$F332,'00 Alimenta'!I:I)","v":10236853},-10236853]
["AAA030","AA","AAA030",4,"","0202010101","F.do Amm.to costi di impianto e di ampliamento",{"$f":"SUMIF('00 Alimenta'!$B:$B,'00 PDC SP'!$F333,'00 Alimenta'!D:D)","v":0},{"$f":"SUMIF('00 Alimenta'!$B:$B,'00 PDC SP'!$F333,'00 Alimenta'!E:E)","v":0},{"$f":"SUMIF('00 Alimenta'!$B:$B,'00 PDC SP'!$F333,'00 Alimenta'!F:F)","v":0},{"$f":"SUMIF('00 Alimenta'!$B:$B,'00 PDC SP'!$F333,'00 Alimenta'!G:G)","v":0},{"$f":"SUMIF('00 Alimenta'!$B:$B,'00 PDC SP'!$F333,'00 Alimenta'!H:H)","v":0},{"$f":"SUMIF('00 Alimenta'!$B:$B,'00 PDC SP'!$F333,'00 Alimenta'!I:I)","v":0},0]
["AAA060","AA","AAA060",4,"","0202010201","F.do Amm.to costi di ricerca e sviluppo",{"$f":"SUMIF('00 Alimenta'!$B:$B,'00 PDC SP'!$F334,'00 Alimenta'!D:D)","v":0},{"$f":"SUMIF('00 Alimenta'!$B:$B,'00 PDC SP'!$F334,'00 Alimenta'!E:E)","v":0},{"$f":"SUMIF('00 Alimenta'!$B:$B,'00 PDC SP'!$F334,'00 Alimenta'!F:F)","v":0},{"$f":"SUMIF('00 Alimenta'!$B:$B,'00 PDC SP'!$F334,'00 Alimenta'!G:G)","v":0},{"$f":"SUMIF('00 Alimenta'!$B:$B,'00 PDC SP'!$F334,'00 Alimenta'!H:H)","v":0},{"$f":"SUMIF('00 Alimenta'!$B:$B,'00 PDC SP'!$F334,'00 Alimenta'!I:I)","v":0},0]
["AAA090","AA","AAA090",4,"","0202010301","F.do Amm.to diritti di brevetto e diritti di utilizzazione delle opere d'ingegno - derivanti dall'attività di ricerca",{"$f":"SUMIF('00 Alimenta'!$B:$B,'00 PDC SP'!$F335,'00 Alimenta'!D:D)","v":0},{"$f":"SUMIF('00 Alimenta'!$B:$B,'00 PDC SP'!$F335,'00 Alimenta'!E:E)","v":0},{"$f":"SUMIF('00 Alimenta'!$B:$B,'00 PDC SP'!$F335,'00 Alimenta'!F:F)","v":0},{"$f":"SUMIF('00 Alimenta'!$B:$B,'00 PDC SP'!$F335,'00 Alimenta'!G:G)","v":0},{"$f":"SUMIF('00 Alimenta'!$B:$B,'00 PDC SP'!$F335,'00 Alimenta'!H:H)","v":0},{"$f":"SUMIF('00 Alimenta'!$B:$B,'00 PDC SP'!$F335,'00 Alimenta'!I:I)","v":0},0]
["AAA110","AA","AAA110",4,"","0202010401","F.do Amm.to diritti di brevetto e diritti di utilizzazione delle opere d'ingegno - altri",{"$f":"SUMIF('00 Alimenta'!$B:$B,'00 PDC SP'!$F336,'00 Alimenta'!D:D)","v":0},{"$f":"SUMIF('00 Alimenta'!$B:$B,'00 PDC SP'!$F336,'00 Alimenta'!E:E)","v":0},{"$f":"SUMIF('00 Alimenta'!$B:$B,'00 PDC SP'!$F336,'00 Alimenta'!F:F)","v":0},{"$f":"SUMIF('00 Alimenta'!$B:$B,'00 PDC SP'!$F336,'00 Alimenta'!G:G)","v":0},{"$f":"SUMIF('00 Alimenta'!$B:$B,'00 PDC SP'!$F336,'00 Alimenta'!H:H)","v":0},{"$f":"SUMIF('00 Alimenta'!$B:$B,'00 PDC SP'!$F336,'00 Alimenta'!I:I)","v":0},0]
["AAA150","AA","AAA150",4,"","0202010501","F.do Amm.to concessioni pluriennali",{"$f":"SUMIF('00 Alimenta'!$B:$B,'00 PDC SP'!$F337,'00 Alimenta'!D:D)","v":0},{"$f":"SUMIF('00 Alimenta'!$B:$B,'00 PDC SP'!$F337,'00 Alimenta'!E:E)","v":0},{"$f":"SUMIF('00 Alimenta'!$B:$B,'00 PDC SP'!$F337,'00 Alimenta'!F:F)","v":0},{"$f":"SUMIF('00 Alimenta'!$B:$B,'00 PDC SP'!$F337,'00 Alimenta'!G:G)","v":0},{"$f":"SUMIF('00 Alimenta'!$B:$B,'00 PDC SP'!$F337,'00 Alimenta'!H:H)","v":0},{"$f":"SUMIF('00 Alimenta'!$B:$B,'00 PDC SP'!$F337,'00 Alimenta'!I:I)","v":0},0]
["AAA150","AA","AAA150",4,"","0202010601","F.do Amm.to licenze d'uso software",{"$f":"SUMIF('00 Alimenta'!$B:$B,'00 PDC SP'!$F338,'00 Alimenta'!D:D)","v":-1695177.54},{"$f":"SUMIF('00 Alimenta'!$B:$B,'00 PDC SP'!$F338,'00 Alimenta'!E:E)","v":-160938.81},{"$f":"SUMIF('00 Alimenta'!$B:$B,'00 PDC SP'!$F338,'00 Alimenta'!F:F)","v":-11461.65},{"$f":"SUMIF('00 Alimenta'!$B:$B,'00 PDC SP'!$F338,'00 Alimenta'!G:G)","v":-1844654.7},{"$f":"SUMIF('00 Alimenta'!$B:$B,'00 PDC SP'!$F338,'00 Alimenta'!H:H)","v":-155437.62},{"$f":"SUMIF('00 Alimenta'!$B:$B,'00 PDC SP'!$F338,'00 Alimenta'!I:I)","v":0},-2000092.3199999998]
["AAA150","AA","AAA150",4,"","0202010701","F.do amm.to marchi e diritti simili",{"$f":"SUMIF('00 Alimenta'!$B:$B,'00 PDC SP'!$F339,'00 Alimenta'!D:D)","v":0},{"$f":"SUMIF('00 Alimenta'!$B:$B,'00 PDC SP'!$F339,'00 Alimenta'!E:E)","v":0},{"$f":"SUMIF('00 Alimenta'!$B:$B,'00 PDC SP'!$F339,'00 Alimenta'!F:F)","v":0},{"$f":"SUMIF('00 Alimenta'!$B:$B,'00 PDC SP'!$F339,'00 Alimenta'!G:G)","v":0},{"$f":"SUMIF('00 Alimenta'!$B:$B,'00 PDC SP'!$F339,'00 Alimenta'!H:H)","v":0},{"$f":"SUMIF('00 Alimenta'!$B:$B,'00 PDC SP'!$F339,'00 Alimenta'!I:I)","v":0},0]
["AAA170","AA","AAA170",4,"","0202010801","F.do Amm.to migliorie su beni di terzi",{"$f":"SUMIF('00 Alimenta'!$B:$B,'00 PDC SP'!$F340,'00 Alimenta'!D:D)","v":0},{"$f":"SUMIF('00 Alimenta'!$B:$B,'00 PDC SP'!$F340,'00 Alimenta'!E:E)","v":0},{"$f":"SUMIF('00 Alimenta'!$B:$B,'00 PDC SP'!$F340,'00 Alimenta'!F:F)","v":0},{"$f":"SUMIF('00 Alimenta'!$B:$B,'00 PDC SP'!$F340,'00 Alimenta'!G:G)","v":0},{"$f":"SUMIF('00 Alimenta'!$B:$B,'00 PDC SP'!$F340,'00 Alimenta'!H:H)","v":0},{"$f":"SUMIF('00 Alimenta'!$B:$B,'00 PDC SP'!$F340,'00 Alimenta'!I:I)","v":0},0]
["AAA190","AA","AAA190",4,"","0202010901","F.do Amm.to pubblicità",{"$f":"SUMIF('00 Alimenta'!$B:$B,'00 PDC SP'!$F341,'00 Alimenta'!D:D)","v":0},{"$f":"SUMIF('00 Alimenta'!$B:$B,'00 PDC SP'!$F341,'00 Alimenta'!E:E)","v":0},{"$f":"SUMIF('00 Alimenta'!$B:$B,'00 PDC SP'!$F341,'00 Alimenta'!F:F)","v":0},{"$f":"SUMIF('00 Alimenta'!$B:$B,'00 PDC SP'!$F341,'00 Alimenta'!G:G)","v":0},{"$f":"SUMIF('00 Alimenta'!$B:$B,'00 PDC SP'!$F341,'00 Alimenta'!H:H)","v":0},{"$f":"SUMIF('00 Alimenta'!$B:$B,'00 PDC SP'!$F341,'00 Alimenta'!I:I)","v":0},0]
["AAA210","AA","AAA210",4,"","0202011001","F.do Amm.to altre immobilizzazioni immateriali",{"$f":"SUMIF('00 Alimenta'!$B:$B,'00 PDC SP'!$F342,'00 Alimenta'!D:D)","v":0},{"$f":"SUMIF('00 Alimenta'!$B:$B,'00 PDC SP'!$F342,'00 Alimenta'!E:E)","v":0},{"$f":"SUMIF('00 Alimenta'!$B:$B,'00 PDC SP'!$F342,'00 Alimenta'!F:F)","v":0},{"$f":"SUMIF('00 Alimenta'!$B:$B,'00 PDC SP'!$F342,'00 Alimenta'!G:G)","v":0},{"$f":"SUMIF('00 Alimenta'!$B:$B,'00 PDC SP'!$F342,'00 Alimenta'!H:H)","v":0},{"$f":"SUMIF('00 Alimenta'!$B:$B,'00 PDC SP'!$F342,'00 Alimenta'!I:I)","v":0},0]
["AAA340","AA","AAA340",2,"","0202020101","F.do Amm.to Fabbricati non strumentali (disponibili)",{"$f":"SUMIF('00 Alimenta'!$B:$B,'00 PDC SP'!$F343,'00 Alimenta'!D:D)","v":0},{"$f":"SUMIF('00 Alimenta'!$B:$B,'00 PDC SP'!$F343,'00 Alimenta'!E:E)","v":0},{"$f":"SUMIF('00 Alimenta'!$B:$B,'00 PDC SP'!$F343,'00 Alimenta'!F:F)","v":0},{"$f":"SUMIF('00 Alimenta'!$B:$B,'00 PDC SP'!$F343,'00 Alimenta'!G:G)","v":0},{"$f":"SUMIF('00 Alimenta'!$B:$B,'00 PDC SP'!$F343,'00 Alimenta'!H:H)","v":0},{"$f":"SUMIF('00 Alimenta'!$B:$B,'00 PDC SP'!$F343,'00 Alimenta'!I:I)","v":0},0]
["AAA340","AA","AAA340",2,"","0202020201","F.do Amm.to costruzioni leggere",{"$f":"SUMIF('00 Alimenta'!$B:$B,'00 PDC SP'!$F344,'00 Alimenta'!D:D)","v":0},{"$f":"SUMIF('00 Alimenta'!$B:$B,'00 PDC SP'!$F344,'00 Alimenta'!E:E)","v":0},{"$f":"SUMIF('00 Alimenta'!$B:$B,'00 PDC SP'!$F344,'00 Alimenta'!F:F)","v":0},{"$f":"SUMIF('00 Alimenta'!$B:$B,'00 PDC SP'!$F344,'00 Alimenta'!G:G)","v":0},{"$f":"SUMIF('00 Alimenta'!$B:$B,'00 PDC SP'!$F344,'00 Alimenta'!H:H)","v":0},{"$f":"SUMIF('00 Alimenta'!$B:$B,'00 PDC SP'!$F344,'00 Alimenta'!I:I)","v":0},0]
["AAA370","AA","AAA370",2,"","0202020301","F.do Amm.to Fabbricati strumentali (indisponibili)",{"$f":"SUMIF('00 Alimenta'!$B:$B,'00 PDC SP'!$F345,'00 Alimenta'!D:D)","v":-90881774.340000004},{"$f":"SUMIF('00 Alimenta'!$B:$B,'00 PDC SP'!$F345,'00 Alimenta'!E:E)","v":-4970458.6100000003},{"$f":"SUMIF('00 Alimenta'!$B:$B,'00 PDC SP'!$F345,'00 Alimenta'!F:F)","v":0},{"$f":"SUMIF('00 Alimenta'!$B:$B,'00 PDC SP'!$F345,'00 Alimenta'!G:G)","v":-95852232.950000003},{"$f":"SUMIF('00 Alimenta'!$B:$B,'00 PDC SP'!$F345,'00 Alimenta'!H:H)","v":-5032903.95},{"$f":"SUMIF('00 Alimenta'!$B:$B,'00 PDC SP'!$F345,'00 Alimenta'!I:I)","v":0},-100885136.90000001]
["AAA400","AA","AAA400",3,"","0202020401","F.do ammortamento impianti sanitari",{"$f":"SUMIF('00 Alimenta'!$B:$B,'00 PDC SP'!$F346,'00 Alimenta'!D:D)","v":0},{"$f":"SUMIF('00 Alimenta'!$B:$B,'00 PDC SP'!$F346,'00 Alimenta'!E:E)","v":0},{"$f":"SUMIF('00 Alimenta'!$B:$B,'00 PDC SP'!$F346,'00 Alimenta'!F:F)","v":0},{"$f":"SUMIF('00 Alimenta'!$B:$B,'00 PDC SP'!$F346,'00 Alimenta'!G:G)","v":0},{"$f":"SUMIF('00 Alimenta'!$B:$B,'00 PDC SP'!$F346,'00 Alimenta'!H:H)","v":0},{"$f":"SUMIF('00 Alimenta'!$B:$B,'00 PDC SP'!$F346,'00 Alimenta'!I:I)","v":0},0]
["AAA400","AA","AAA400",3,"","0202020501","F.do ammortamento impianti generici",{"$f":"SUMIF('00 Alimenta'!$B:$B,'00 PDC SP'!$F347,'00 Alimenta'!D:D)","v":0},{"$f":"SUMIF('00 Alimenta'!$B:$B,'00 PDC SP'!$F347,'00 Alimenta'!E:E)","v":0},{"$f":"SUMIF('00 Alimenta'!$B:$B,'00 PDC SP'!$F347,'00 Alimenta'!F:F)","v":0},{"$f":"SUMIF('00 Alimenta'!$B:$B,'00 PDC SP'!$F347,'00 Alimenta'!G:G)","v":0},{"$f":"SUMIF('00 Alimenta'!$B:$B,'00 PDC SP'!$F347,'00 Alimenta'!H:H)","v":0},{"$f":"SUMIF('00 Alimenta'!$B:$B,'00 PDC SP'!$F347,'00 Alimenta'!I:I)","v":0},0]
["AAA400","AA","AAA400",3,"","0202020601","F.do amm.to macchinari sanitari",{"$f":"SUMIF('00 Alimenta'!$B:$B,'00 PDC SP'!$F348,'00 Alimenta'!D:D)","v":0},{"$f":"SUMIF('00 Alimenta'!$B:$B,'00 PDC SP'!$F348,'00 Alimenta'!E:E)","v":0},{"$f":"SUMIF('00 Alimenta'!$B:$B,'00 PDC SP'!$F348,'00 Alimenta'!F:F)","v":0},{"$f":"SUMIF('00 Alimenta'!$B:$B,'00 PDC SP'!$F348,'00 Alimenta'!G:G)","v":0},{"$f":"SUMIF('00 Alimenta'!$B:$B,'00 PDC SP'!$F348,'00 Alimenta'!H:H)","v":0},{"$f":"SUMIF('00 Alimenta'!$B:$B,'00 PDC SP'!$F348,'00 Alimenta'!I:I)","v":0},0]
["AAA400","AA","AAA400",3,"","0202020701","F.do ammortamento macchinari generici",{"$f":"SUMIF('00 Alimenta'!$B:$B,'00 PDC SP'!$F349,'00 Alimenta'!D:D)","v":-5151096.58},{"$f":"SUMIF('00 Alimenta'!$B:$B,'00 PDC SP'!$F349,'00 Alimenta'!E:E)","v":-243006.53},{"$f":"SUMIF('00 Alimenta'!$B:$B,'00 PDC SP'!$F349,'00 Alimenta'!F:F)","v":-244.8},{"$f":"SUMIF('00 Alimenta'!$B:$B,'00 PDC SP'!$F349,'00 Alimenta'!G:G)","v":-5393858.3099999996},{"$f":"SUMIF('00 Alimenta'!$B:$B,'00 PDC SP'!$F349,'00 Alimenta'!H:H)","v":-319573.24},{"$f":"SUMIF('00 Alimenta'!$B:$B,'00 PDC SP'!$F349,'00 Alimenta'!I:I)","v":-32590.799999999999},-5680840.75]
["AAA400","AA","AAA400",3,"","0202020801","F.do Amm.to impianti e macchinari < 516 euro",{"$f":"SUMIF('00 Alimenta'!$B:$B,'00 PDC SP'!$F350,'00 Alimenta'!D:D)","v":0},{"$f":"SUMIF('00 Alimenta'!$B:$B,'00 PDC SP'!$F350,'00 Alimenta'!E:E)","v":0},{"$f":"SUMIF('00 Alimenta'!$B:$B,'00 PDC SP'!$F350,'00 Alimenta'!F:F)","v":0},{"$f":"SUMIF('00 Alimenta'!$B:$B,'00 PDC SP'!$F350,'00 Alimenta'!G:G)","v":0},{"$f":"SUMIF('00 Alimenta'!$B:$B,'00 PDC SP'!$F350,'00 Alimenta'!H:H)","v":0},{"$f":"SUMIF('00 Alimenta'!$B:$B,'00 PDC SP'!$F350,'00 Alimenta'!I:I)","v":0},0]
["AAA430","AA","AAA430",3,"","0202020901","F.do Amm.to Attrezzature sanitarie e scientifiche",{"$f":"SUMIF('00 Alimenta'!$B:$B,'00 PDC SP'!$F351,'00 Alimenta'!D:D)","v":0},{"$f":"SUMIF('00 Alimenta'!$B:$B,'00 PDC SP'!$F351,'00 Alimenta'!E:E)","v":0},{"$f":"SUMIF('00 Alimenta'!$B:$B,'00 PDC SP'!$F351,'00 Alimenta'!F:F)","v":0},{"$f":"SUMIF('00 Alimenta'!$B:$B,'00 PDC SP'!$F351,'00 Alimenta'!G:G)","v":0},{"$f":"SUMIF('00 Alimenta'!$B:$B,'00 PDC SP'!$F351,'00 Alimenta'!H:H)","v":0},{"$f":"SUMIF('00 Alimenta'!$B:$B,'00 PDC SP'!$F351,'00 Alimenta'!I:I)","v":0},0]
["AAA430","AA","AAA430",3,"","0202021001","F.do Amm.to Attrezzature generiche",{"$f":"SUMIF('00 Alimenta'!$B:$B,'00 PDC SP'!$F352,'00 Alimenta'!D:D)","v":-70497398.359999999},{"$f":"SUMIF('00 Alimenta'!$B:$B,'00 PDC SP'!$F352,'00 Alimenta'!E:E)","v":-4807326.2300000004},{"$f":"SUMIF('00 Alimenta'!$B:$B,'00 PDC SP'!$F352,'00 Alimenta'!F:F)","v":-5868448.4900000002},{"$f":"SUMIF('00 Alimenta'!$B:$B,'00 PDC SP'!$F352,'00 Alimenta'!G:G)","v":-69436276.099999994},{"$f":"SUMIF('00 Alimenta'!$B:$B,'00 PDC SP'!$F352,'00 Alimenta'!H:H)","v":-4807029.55},{"$f":"SUMIF('00 Alimenta'!$B:$B,'00 PDC SP'!$F352,'00 Alimenta'!I:I)","v":-879884.2},-73363421.449999988]
["AAA430","AA","AAA430",3,"","0202021101","F.do amm.to attrezzature sanitarie e scientifiche < 516 euro",{"$f":"SUMIF('00 Alimenta'!$B:$B,'00 PDC SP'!$F353,'00 Alimenta'!D:D)","v":0},{"$f":"SUMIF('00 Alimenta'!$B:$B,'00 PDC SP'!$F353,'00 Alimenta'!E:E)","v":0},{"$f":"SUMIF('00 Alimenta'!$B:$B,'00 PDC SP'!$F353,'00 Alimenta'!F:F)","v":0},{"$f":"SUMIF('00 Alimenta'!$B:$B,'00 PDC SP'!$F353,'00 Alimenta'!G:G)","v":0},{"$f":"SUMIF('00 Alimenta'!$B:$B,'00 PDC SP'!$F353,'00 Alimenta'!H:H)","v":0},{"$f":"SUMIF('00 Alimenta'!$B:$B,'00 PDC SP'!$F353,'00 Alimenta'!I:I)","v":0},0]
["AAA460","AA","AAA460",3,"","0202021201","F.do Amm.to mobili e arredi",{"$f":"SUMIF('00 Alimenta'!$B:$B,'00 PDC SP'!$F354,'00 Alimenta'!D:D)","v":-9083783.9600000009},{"$f":"SUMIF('00 Alimenta'!$B:$B,'00 PDC SP'!$F354,'00 Alimenta'!E:E)","v":-354383.59},{"$f":"SUMIF('00 Alimenta'!$B:$B,'00 PDC SP'!$F354,'00 Alimenta'!F:F)","v":-89444.45},{"$f":"SUMIF('00 Alimenta'!$B:$B,'00 PDC SP'!$F354,'00 Alimenta'!G:G)","v":-9348723.0999999996},{"$f":"SUMIF('00 Alimenta'!$B:$B,'00 PDC SP'!$F354,'00 Alimenta'!H:H)","v":-361509.62},{"$f":"SUMIF('00 Alimenta'!$B:$B,'00 PDC SP'!$F354,'00 Alimenta'!I:I)","v":-21894.7},-9688338.0199999996]
["AAA460","AA","AAA460",3,"","0202021301","F.do Amm.to mobili d'ufficio",{"$f":"SUMIF('00 Alimenta'!$B:$B,'00 PDC SP'!$F355,'00 Alimenta'!D:D)","v":0},{"$f":"SUMIF('00 Alimenta'!$B:$B,'00 PDC SP'!$F355,'00 Alimenta'!E:E)","v":0},{"$f":"SUMIF('00 Alimenta'!$B:$B,'00 PDC SP'!$F355,'00 Alimenta'!F:F)","v":0},{"$f":"SUMIF('00 Alimenta'!$B:$B,'00 PDC SP'!$F355,'00 Alimenta'!G:G)","v":0},{"$f":"SUMIF('00 Alimenta'!$B:$B,'00 PDC SP'!$F355,'00 Alimenta'!H:H)","v":0},{"$f":"SUMIF('00 Alimenta'!$B:$B,'00 PDC SP'!$F355,'00 Alimenta'!I:I)","v":0},0]
["AAA460","AA","AAA460",3,"","0202021401","F.do amm.to mobili d'ufficio < 516 euro",{"$f":"SUMIF('00 Alimenta'!$B:$B,'00 PDC SP'!$F356,'00 Alimenta'!D:D)","v":0},{"$f":"SUMIF('00 Alimenta'!$B:$B,'00 PDC SP'!$F356,'00 Alimenta'!E:E)","v":0},{"$f":"SUMIF('00 Alimenta'!$B:$B,'00 PDC SP'!$F356,'00 Alimenta'!F:F)","v":0},{"$f":"SUMIF('00 Alimenta'!$B:$B,'00 PDC SP'!$F356,'00 Alimenta'!G:G)","v":0},{"$f":"SUMIF('00 Alimenta'!$B:$B,'00 PDC SP'!$F356,'00 Alimenta'!H:H)","v":0},{"$f":"SUMIF('00 Alimenta'!$B:$B,'00 PDC SP'!$F356,'00 Alimenta'!I:I)","v":0},0]
["AAA490","AA","AAA490",3,"","0202021501","F.do Amm.to Elicotteri",{"$f":"SUMIF('00 Alimenta'!$B:$B,'00 PDC SP'!$F357,'00 Alimenta'!D:D)","v":0},{"$f":"SUMIF('00 Alimenta'!$B:$B,'00 PDC SP'!$F357,'00 Alimenta'!E:E)","v":0},{"$f":"SUMIF('00 Alimenta'!$B:$B,'00 PDC SP'!$F357,'00 Alimenta'!F:F)","v":0},{"$f":"SUMIF('00 Alimenta'!$B:$B,'00 PDC SP'!$F357,'00 Alimenta'!G:G)","v":0},{"$f":"SUMIF('00 Alimenta'!$B:$B,'00 PDC SP'!$F357,'00 Alimenta'!H:H)","v":0},{"$f":"SUMIF('00 Alimenta'!$B:$B,'00 PDC SP'!$F357,'00 Alimenta'!I:I)","v":0},0]
["AAA490","AA","AAA490",3,"","0202021601","F.do Amm.to Ambulanze ",{"$f":"SUMIF('00 Alimenta'!$B:$B,'00 PDC SP'!$F358,'00 Alimenta'!D:D)","v":0},{"$f":"SUMIF('00 Alimenta'!$B:$B,'00 PDC SP'!$F358,'00 Alimenta'!E:E)","v":-601.44000000000005},{"$f":"SUMIF('00 Alimenta'!$B:$B,'00 PDC SP'!$F358,'00 Alimenta'!F:F)","v":0},{"$f":"SUMIF('00 Alimenta'!$B:$B,'00 PDC SP'!$F358,'00 Alimenta'!G:G)","v":-601.44000000000005},{"$f":"SUMIF('00 Alimenta'!$B:$B,'00 PDC SP'!$F358,'00 Alimenta'!H:H)","v":-47981.85},{"$f":"SUMIF('00 Alimenta'!$B:$B,'00 PDC SP'!$F358,'00 Alimenta'!I:I)","v":0},-48583.29]
["AAA490","AA","AAA490",3,"","0202021701","F.do Amm.to Altri mezzi di trasporto",{"$f":"SUMIF('00 Alimenta'!$B:$B,'00 PDC SP'!$F359,'00 Alimenta'!D:D)","v":-1728549.97},{"$f":"SUMIF('00 Alimenta'!$B:$B,'00 PDC SP'!$F359,'00 Alimenta'!E:E)","v":-92937.66},{"$f":"SUMIF('00 Alimenta'!$B:$B,'00 PDC SP'!$F359,'00 Alimenta'!F:F)","v":-149825.10999999999},{"$f":"SUMIF('00 Alimenta'!$B:$B,'00 PDC SP'!$F359,'00 Alimenta'!G:G)","v":-1671662.52},{"$f":"SUMIF('00 Alimenta'!$B:$B,'00 PDC SP'!$F359,'00 Alimenta'!H:H)","v":-85729.9},{"$f":"SUMIF('00 Alimenta'!$B:$B,'00 PDC SP'!$F359,'00 Alimenta'!I:I)","v":0},-1757392.42]
["AAA530","AA","AAA530",3,"","0202021801","F.do Amm.to attrezzature e macchine d'ufficio",{"$f":"SUMIF('00 Alimenta'!$B:$B,'00 PDC SP'!$F360,'00 Alimenta'!D:D)","v":0},{"$f":"SUMIF('00 Alimenta'!$B:$B,'00 PDC SP'!$F360,'00 Alimenta'!E:E)","v":0},{"$f":"SUMIF('00 Alimenta'!$B:$B,'00 PDC SP'!$F360,'00 Alimenta'!F:F)","v":0},{"$f":"SUMIF('00 Alimenta'!$B:$B,'00 PDC SP'!$F360,'00 Alimenta'!G:G)","v":0},{"$f":"SUMIF('00 Alimenta'!$B:$B,'00 PDC SP'!$F360,'00 Alimenta'!H:H)","v":0},{"$f":"SUMIF('00 Alimenta'!$B:$B,'00 PDC SP'!$F360,'00 Alimenta'!I:I)","v":0},0]
["AAA530","AA","AAA530",3,"","0202021901","F.do Amm.to attrezzature tecnico - economali",{"$f":"SUMIF('00 Alimenta'!$B:$B,'00 PDC SP'!$F361,'00 Alimenta'!D:D)","v":0},{"$f":"SUMIF('00 Alimenta'!$B:$B,'00 PDC SP'!$F361,'00 Alimenta'!E:E)","v":0},{"$f":"SUMIF('00 Alimenta'!$B:$B,'00 PDC SP'!$F361,'00 Alimenta'!F:F)","v":0},{"$f":"SUMIF('00 Alimenta'!$B:$B,'00 PDC SP'!$F361,'00 Alimenta'!G:G)","v":0},{"$f":"SUMIF('00 Alimenta'!$B:$B,'00 PDC SP'!$F361,'00 Alimenta'!H:H)","v":0},{"$f":"SUMIF('00 Alimenta'!$B:$B,'00 PDC SP'!$F361,'00 Alimenta'!I:I)","v":0},0]
["AAA530","AA","AAA530",3,"","0202022001","F.do Amm.to computer e macchinari elettronici",{"$f":"SUMIF('00 Alimenta'!$B:$B,'00 PDC SP'!$F362,'00 Alimenta'!D:D)","v":-4859556.0199999996},{"$f":"SUMIF('00 Alimenta'!$B:$B,'00 PDC SP'!$F362,'00 Alimenta'!E:E)","v":-237629.17},{"$f":"SUMIF('00 Alimenta'!$B:$B,'00 PDC SP'!$F362,'00 Alimenta'!F:F)","v":-308936.13},{"$f":"SUMIF('00 Alimenta'!$B:$B,'00 PDC SP'!$F362,'00 Alimenta'!G:G)","v":-4788249.0599999996},{"$f":"SUMIF('00 Alimenta'!$B:$B,'00 PDC SP'!$F362,'00 Alimenta'!H:H)","v":-250059.58},{"$f":"SUMIF('00 Alimenta'!$B:$B,'00 PDC SP'!$F362,'00 Alimenta'!I:I)","v":-616.61},-5037692.0299999993]
["AAA530","AA","AAA530",3,"","0202022101","F.do Amm.to altri beni materiali",{"$f":"SUMIF('00 Alimenta'!$B:$B,'00 PDC SP'!$F363,'00 Alimenta'!D:D)","v":-396136.9},{"$f":"SUMIF('00 Alimenta'!$B:$B,'00 PDC SP'!$F363,'00 Alimenta'!E:E)","v":-14155.8},{"$f":"SUMIF('00 Alimenta'!$B:$B,'00 PDC SP'!$F363,'00 Alimenta'!F:F)","v":-3249.6},{"$f":"SUMIF('00 Alimenta'!$B:$B,'00 PDC SP'!$F363,'00 Alimenta'!G:G)","v":-407043.1},{"$f":"SUMIF('00 Alimenta'!$B:$B,'00 PDC SP'!$F363,'00 Alimenta'!H:H)","v":-11964.03},{"$f":"SUMIF('00 Alimenta'!$B:$B,'00 PDC SP'!$F363,'00 Alimenta'!I:I)","v":-651},-418356.13]
["AAA530","AA","AAA530",3,"","0202022201","F.do Amm.to altri beni < 516 euro",{"$f":"SUMIF('00 Alimenta'!$B:$B,'00 PDC SP'!$F364,'00 Alimenta'!D:D)","v":0},{"$f":"SUMIF('00 Alimenta'!$B:$B,'00 PDC SP'!$F364,'00 Alimenta'!E:E)","v":0},{"$f":"SUMIF('00 Alimenta'!$B:$B,'00 PDC SP'!$F364,'00 Alimenta'!F:F)","v":0},{"$f":"SUMIF('00 Alimenta'!$B:$B,'00 PDC SP'!$F364,'00 Alimenta'!G:G)","v":0},{"$f":"SUMIF('00 Alimenta'!$B:$B,'00 PDC SP'!$F364,'00 Alimenta'!H:H)","v":0},{"$f":"SUMIF('00 Alimenta'!$B:$B,'00 PDC SP'!$F364,'00 Alimenta'!I:I)","v":0},0]
["AAA230","AA","AAA230",34,"","0202030101","F.do Svalut. Costi di impianto e di ampliamento",{"$f":"SUMIF('00 Alimenta'!$B:$B,'00 PDC SP'!$F365,'00 Alimenta'!D:D)","v":0},{"$f":"SUMIF('00 Alimenta'!$B:$B,'00 PDC SP'!$F365,'00 Alimenta'!E:E)","v":0},{"$f":"SUMIF('00 Alimenta'!$B:$B,'00 PDC SP'!$F365,'00 Alimenta'!F:F)","v":0},{"$f":"SUMIF('00 Alimenta'!$B:$B,'00 PDC SP'!$F365,'00 Alimenta'!G:G)","v":0},{"$f":"SUMIF('00 Alimenta'!$B:$B,'00 PDC SP'!$F365,'00 Alimenta'!H:H)","v":0},{"$f":"SUMIF('00 Alimenta'!$B:$B,'00 PDC SP'!$F365,'00 Alimenta'!I:I)","v":0},0]
["AAA240","AA","AAA240",35,"","0202030102","F.do Svalut. Costi di ricerca e sviluppo",{"$f":"SUMIF('00 Alimenta'!$B:$B,'00 PDC SP'!$F366,'00 Alimenta'!D:D)","v":0},{"$f":"SUMIF('00 Alimenta'!$B:$B,'00 PDC SP'!$F366,'00 Alimenta'!E:E)","v":0},{"$f":"SUMIF('00 Alimenta'!$B:$B,'00 PDC SP'!$F366,'00 Alimenta'!F:F)","v":0},{"$f":"SUMIF('00 Alimenta'!$B:$B,'00 PDC SP'!$F366,'00 Alimenta'!G:G)","v":0},{"$f":"SUMIF('00 Alimenta'!$B:$B,'00 PDC SP'!$F366,'00 Alimenta'!H:H)","v":0},{"$f":"SUMIF('00 Alimenta'!$B:$B,'00 PDC SP'!$F366,'00 Alimenta'!I:I)","v":0},0]
["AAA250","AA","AAA250",36,"","0202030103","F.do Svalut. Diritti di brevetto e diritti di utilizzazione delle opere d'ingegno",{"$f":"SUMIF('00 Alimenta'!$B:$B,'00 PDC SP'!$F367,'00 Alimenta'!D:D)","v":0},{"$f":"SUMIF('00 Alimenta'!$B:$B,'00 PDC SP'!$F367,'00 Alimenta'!E:E)","v":0},{"$f":"SUMIF('00 Alimenta'!$B:$B,'00 PDC SP'!$F367,'00 Alimenta'!F:F)","v":0},{"$f":"SUMIF('00 Alimenta'!$B:$B,'00 PDC SP'!$F367,'00 Alimenta'!G:G)","v":0},{"$f":"SUMIF('00 Alimenta'!$B:$B,'00 PDC SP'!$F367,'00 Alimenta'!H:H)","v":0},{"$f":"SUMIF('00 Alimenta'!$B:$B,'00 PDC SP'!$F367,'00 Alimenta'!I:I)","v":0},0]
["AAA260","AA","AAA260",38,"","0202030104","F.do Svalut.  Concessioni pluriennali",{"$f":"SUMIF('00 Alimenta'!$B:$B,'00 PDC SP'!$F368,'00 Alimenta'!D:D)","v":0},{"$f":"SUMIF('00 Alimenta'!$B:$B,'00 PDC SP'!$F368,'00 Alimenta'!E:E)","v":0},{"$f":"SUMIF('00 Alimenta'!$B:$B,'00 PDC SP'!$F368,'00 Alimenta'!F:F)","v":0},{"$f":"SUMIF('00 Alimenta'!$B:$B,'00 PDC SP'!$F368,'00 Alimenta'!G:G)","v":0},{"$f":"SUMIF('00 Alimenta'!$B:$B,'00 PDC SP'!$F368,'00 Alimenta'!H:H)","v":0},{"$f":"SUMIF('00 Alimenta'!$B:$B,'00 PDC SP'!$F368,'00 Alimenta'!I:I)","v":0},0]
["AAA260","AA","AAA260",38,"","0202030105","F.do Svalut. Licenze d'uso software",{"$f":"SUMIF('00 Alimenta'!$B:$B,'00 PDC SP'!$F369,'00 Alimenta'!D:D)","v":0},{"$f":"SUMIF('00 Alimenta'!$B:$B,'00 PDC SP'!$F369,'00 Alimenta'!E:E)","v":0},{"$f":"SUMIF('00 Alimenta'!$B:$B,'00 PDC SP'!$F369,'00 Alimenta'!F:F)","v":0},{"$f":"SUMIF('00 Alimenta'!$B:$B,'00 PDC SP'!$F369,'00 Alimenta'!G:G)","v":0},{"$f":"SUMIF('00 Alimenta'!$B:$B,'00 PDC SP'!$F369,'00 Alimenta'!H:H)","v":0},{"$f":"SUMIF('00 Alimenta'!$B:$B,'00 PDC SP'!$F369,'00 Alimenta'!I:I)","v":0},0]
["AAA260","AA","AAA260",38,"","0202030106","F.do Svalut. Marchi",{"$f":"SUMIF('00 Alimenta'!$B:$B,'00 PDC SP'!$F370,'00 Alimenta'!D:D)","v":0},{"$f":"SUMIF('00 Alimenta'!$B:$B,'00 PDC SP'!$F370,'00 Alimenta'!E:E)","v":0},{"$f":"SUMIF('00 Alimenta'!$B:$B,'00 PDC SP'!$F370,'00 Alimenta'!F:F)","v":0},{"$f":"SUMIF('00 Alimenta'!$B:$B,'00 PDC SP'!$F370,'00 Alimenta'!G:G)","v":0},{"$f":"SUMIF('00 Alimenta'!$B:$B,'00 PDC SP'!$F370,'00 Alimenta'!H:H)","v":0},{"$f":"SUMIF('00 Alimenta'!$B:$B,'00 PDC SP'!$F370,'00 Alimenta'!I:I)","v":0},0]
["AAA260","AA","AAA260",38,"","0202030107","F.do Svalut. Altre immobilizzazioni immateriali",{"$f":"SUMIF('00 Alimenta'!$B:$B,'00 PDC SP'!$F371,'00 Alimenta'!D:D)","v":0},{"$f":"SUMIF('00 Alimenta'!$B:$B,'00 PDC SP'!$F371,'00 Alimenta'!E:E)","v":0},{"$f":"SUMIF('00 Alimenta'!$B:$B,'00 PDC SP'!$F371,'00 Alimenta'!F:F)","v":0},{"$f":"SUMIF('00 Alimenta'!$B:$B,'00 PDC SP'!$F371,'00 Alimenta'!G:G)","v":0},{"$f":"SUMIF('00 Alimenta'!$B:$B,'00 PDC SP'!$F371,'00 Alimenta'!H:H)","v":0},{"$f":"SUMIF('00 Alimenta'!$B:$B,'00 PDC SP'!$F371,'00 Alimenta'!I:I)","v":0},0]
["AAA560","AA","AAA560",39,"","0202030201","F.do Svalut. Terreni",{"$f":"SUMIF('00 Alimenta'!$B:$B,'00 PDC SP'!$F372,'00 Alimenta'!D:D)","v":0},{"$f":"SUMIF('00 Alimenta'!$B:$B,'00 PDC SP'!$F372,'00 Alimenta'!E:E)","v":0},{"$f":"SUMIF('00 Alimenta'!$B:$B,'00 PDC SP'!$F372,'00 Alimenta'!F:F)","v":0},{"$f":"SUMIF('00 Alimenta'!$B:$B,'00 PDC SP'!$F372,'00 Alimenta'!G:G)","v":0},{"$f":"SUMIF('00 Alimenta'!$B:$B,'00 PDC SP'!$F372,'00 Alimenta'!H:H)","v":0},{"$f":"SUMIF('00 Alimenta'!$B:$B,'00 PDC SP'!$F372,'00 Alimenta'!I:I)","v":0},0]
["AAA570","AA","AAA570",40,"","0202030202","F.do Svalut. Fabbricati non strumentali (disponibili)",{"$f":"SUMIF('00 Alimenta'!$B:$B,'00 PDC SP'!$F373,'00 Alimenta'!D:D)","v":0},{"$f":"SUMIF('00 Alimenta'!$B:$B,'00 PDC SP'!$F373,'00 Alimenta'!E:E)","v":0},{"$f":"SUMIF('00 Alimenta'!$B:$B,'00 PDC SP'!$F373,'00 Alimenta'!F:F)","v":0},{"$f":"SUMIF('00 Alimenta'!$B:$B,'00 PDC SP'!$F373,'00 Alimenta'!G:G)","v":0},{"$f":"SUMIF('00 Alimenta'!$B:$B,'00 PDC SP'!$F373,'00 Alimenta'!H:H)","v":0},{"$f":"SUMIF('00 Alimenta'!$B:$B,'00 PDC SP'!$F373,'00 Alimenta'!I:I)","v":0},0]
["AAA570","AA","AAA570",40,"","0202030203","F.do Svalut. Fabbricati strumentali (indisponibili)",{"$f":"SUMIF('00 Alimenta'!$B:$B,'00 PDC SP'!$F374,'00 Alimenta'!D:D)","v":0},{"$f":"SUMIF('00 Alimenta'!$B:$B,'00 PDC SP'!$F374,'00 Alimenta'!E:E)","v":0},{"$f":"SUMIF('00 Alimenta'!$B:$B,'00 PDC SP'!$F374,'00 Alimenta'!F:F)","v":0},{"$f":"SUMIF('00 Alimenta'!$B:$B,'00 PDC SP'!$F374,'00 Alimenta'!G:G)","v":0},{"$f":"SUMIF('00 Alimenta'!$B:$B,'00 PDC SP'!$F374,'00 Alimenta'!H:H)","v":0},{"$f":"SUMIF('00 Alimenta'!$B:$B,'00 PDC SP'!$F374,'00 Alimenta'!I:I)","v":0},0]
["AAA580","AA","AAA580",41,"","0202030204","F.do Svalut. Impianti e macchinari",{"$f":"SUMIF('00 Alimenta'!$B:$B,'00 PDC SP'!$F375,'00 Alimenta'!D:D)","v":0},{"$f":"SUMIF('00 Alimenta'!$B:$B,'00 PDC SP'!$F375,'00 Alimenta'!E:E)","v":0},{"$f":"SUMIF('00 Alimenta'!$B:$B,'00 PDC SP'!$F375,'00 Alimenta'!F:F)","v":0},{"$f":"SUMIF('00 Alimenta'!$B:$B,'00 PDC SP'!$F375,'00 Alimenta'!G:G)","v":0},{"$f":"SUMIF('00 Alimenta'!$B:$B,'00 PDC SP'!$F375,'00 Alimenta'!H:H)","v":0},{"$f":"SUMIF('00 Alimenta'!$B:$B,'00 PDC SP'!$F375,'00 Alimenta'!I:I)","v":0},0]
["AAA590","AA","AAA590",42,"","0202030205","F.do Svalut. Attrezzature sanitarie e scientifiche",{"$f":"SUMIF('00 Alimenta'!$B:$B,'00 PDC SP'!$F376,'00 Alimenta'!D:D)","v":0},{"$f":"SUMIF('00 Alimenta'!$B:$B,'00 PDC SP'!$F376,'00 Alimenta'!E:E)","v":0},{"$f":"SUMIF('00 Alimenta'!$B:$B,'00 PDC SP'!$F376,'00 Alimenta'!F:F)","v":0},{"$f":"SUMIF('00 Alimenta'!$B:$B,'00 PDC SP'!$F376,'00 Alimenta'!G:G)","v":0},{"$f":"SUMIF('00 Alimenta'!$B:$B,'00 PDC SP'!$F376,'00 Alimenta'!H:H)","v":0},{"$f":"SUMIF('00 Alimenta'!$B:$B,'00 PDC SP'!$F376,'00 Alimenta'!I:I)","v":0},0]
["AAA600","AA","AAA600",43,"","0202030206","F.do Svalut. Mobili e arredi",{"$f":"SUMIF('00 Alimenta'!$B:$B,'00 PDC SP'!$F377,'00 Alimenta'!D:D)","v":0},{"$f":"SUMIF('00 Alimenta'!$B:$B,'00 PDC SP'!$F377,'00 Alimenta'!E:E)","v":0},{"$f":"SUMIF('00 Alimenta'!$B:$B,'00 PDC SP'!$F377,'00 Alimenta'!F:F)","v":0},{"$f":"SUMIF('00 Alimenta'!$B:$B,'00 PDC SP'!$F377,'00 Alimenta'!G:G)","v":0},{"$f":"SUMIF('00 Alimenta'!$B:$B,'00 PDC SP'!$F377,'00 Alimenta'!H:H)","v":0},{"$f":"SUMIF('00 Alimenta'!$B:$B,'00 PDC SP'!$F377,'00 Alimenta'!I:I)","v":0},0]
["AAA610","AA","AAA610",44,"","0202030207","F.do Svalut. Automezzi e altri mezzi di trasporto",{"$f":"SUMIF('00 Alimenta'!$B:$B,'00 PDC SP'!$F378,'00 Alimenta'!D:D)","v":0},{"$f":"SUMIF('00 Alimenta'!$B:$B,'00 PDC SP'!$F378,'00 Alimenta'!E:E)","v":0},{"$f":"SUMIF('00 Alimenta'!$B:$B,'00 PDC SP'!$F378,'00 Alimenta'!F:F)","v":0},{"$f":"SUMIF('00 Alimenta'!$B:$B,'00 PDC SP'!$F378,'00 Alimenta'!G:G)","v":0},{"$f":"SUMIF('00 Alimenta'!$B:$B,'00 PDC SP'!$F378,'00 Alimenta'!H:H)","v":0},{"$f":"SUMIF('00 Alimenta'!$B:$B,'00 PDC SP'!$F378,'00 Alimenta'!I:I)","v":0},0]
["AAA620","AA","AAA620",45,"","0202030208","F.do Svalut. Oggetti d'arte",{"$f":"SUMIF('00 Alimenta'!$B:$B,'00 PDC SP'!$F379,'00 Alimenta'!D:D)","v":0},{"$f":"SUMIF('00 Alimenta'!$B:$B,'00 PDC SP'!$F379,'00 Alimenta'!E:E)","v":0},{"$f":"SUMIF('00 Alimenta'!$B:$B,'00 PDC SP'!$F379,'00 Alimenta'!F:F)","v":0},{"$f":"SUMIF('00 Alimenta'!$B:$B,'00 PDC SP'!$F379,'00 Alimenta'!G:G)","v":0},{"$f":"SUMIF('00 Alimenta'!$B:$B,'00 PDC SP'!$F379,'00 Alimenta'!H:H)","v":0},{"$f":"SUMIF('00 Alimenta'!$B:$B,'00 PDC SP'!$F379,'00 Alimenta'!I:I)","v":0},0]
["AAA630","AA","AAA630",45,"","0202030209","F.do Svalut. Altre immobilizzazioni materiali",{"$f":"SUMIF('00 Alimenta'!$B:$B,'00 PDC SP'!$F380,'00 Alimenta'!D:D)","v":0},{"$f":"SUMIF('00 Alimenta'!$B:$B,'00 PDC SP'!$F380,'00 Alimenta'!E:E)","v":0},{"$f":"SUMIF('00 Alimenta'!$B:$B,'00 PDC SP'!$F380,'00 Alimenta'!F:F)","v":0},{"$f":"SUMIF('00 Alimenta'!$B:$B,'00 PDC SP'!$F380,'00 Alimenta'!G:G)","v":0},{"$f":"SUMIF('00 Alimenta'!$B:$B,'00 PDC SP'!$F380,'00 Alimenta'!H:H)","v":0},{"$f":"SUMIF('00 Alimenta'!$B:$B,'00 PDC SP'!$F380,'00 Alimenta'!I:I)","v":0},0]
["AAA690","AA","AAA690",46,"","0202030301","F.do svalutazione crediti finanziari",{"$f":"SUMIF('00 Alimenta'!$B:$B,'00 PDC SP'!$F381,'00 Alimenta'!D:D)","v":0},{"$f":"SUMIF('00 Alimenta'!$B:$B,'00 PDC SP'!$F381,'00 Alimenta'!E:E)","v":0},{"$f":"SUMIF('00 Alimenta'!$B:$B,'00 PDC SP'!$F381,'00 Alimenta'!F:F)","v":0},{"$f":"SUMIF('00 Alimenta'!$B:$B,'00 PDC SP'!$F381,'00 Alimenta'!G:G)","v":0},{"$f":"SUMIF('00 Alimenta'!$B:$B,'00 PDC SP'!$F381,'00 Alimenta'!H:H)","v":0},{"$f":"SUMIF('00 Alimenta'!$B:$B,'00 PDC SP'!$F381,'00 Alimenta'!I:I)","v":0},0]
["ABA090","AB","ABA090",10,"","0202030401","F.do deprezzamento magazzino beni sanitari",{"$f":"SUMIF('00 Alimenta'!$B:$B,'00 PDC SP'!$F382,'00 Alimenta'!D:D)","v":0},{"$f":"SUMIF('00 Alimenta'!$B:$B,'00 PDC SP'!$F382,'00 Alimenta'!E:E)","v":0},{"$f":"SUMIF('00 Alimenta'!$B:$B,'00 PDC SP'!$F382,'00 Alimenta'!F:F)","v":0},{"$f":"SUMIF('00 Alimenta'!$B:$B,'00 PDC SP'!$F382,'00 Alimenta'!G:G)","v":0},{"$f":"SUMIF('00 Alimenta'!$B:$B,'00 PDC SP'!$F382,'00 Alimenta'!H:H)","v":0},{"$f":"SUMIF('00 Alimenta'!$B:$B,'00 PDC SP'!$F382,'00 Alimenta'!I:I)","v":0},0]
["ABA170","AB","ABA170",10,"","0202030402","F.do deprezzamento magazzino beni non sanitari",{"$f":"SUMIF('00 Alimenta'!$B:$B,'00 PDC SP'!$F383,'00 Alimenta'!D:D)","v":0},{"$f":"SUMIF('00 Alimenta'!$B:$B,'00 PDC SP'!$F383,'00 Alimenta'!E:E)","v":0},{"$f":"SUMIF('00 Alimenta'!$B:$B,'00 PDC SP'!$F383,'00 Alimenta'!F:F)","v":0},{"$f":"SUMIF('00 Alimenta'!$B:$B,'00 PDC SP'!$F383,'00 Alimenta'!G:G)","v":0},{"$f":"SUMIF('00 Alimenta'!$B:$B,'00 PDC SP'!$F383,'00 Alimenta'!H:H)","v":0},{"$f":"SUMIF('00 Alimenta'!$B:$B,'00 PDC SP'!$F383,'00 Alimenta'!I:I)","v":0},0]
["ABA230FS","AB","ABA230",10,"FS","0202030501","F.do svalutazione crediti v/Stato per mobilità attiva pubblica extraregionale",{"$f":"SUMIF('00 Alimenta'!$B:$B,'00 PDC SP'!$F384,'00 Alimenta'!D:D)","v":0},{"$f":"SUMIF('00 Alimenta'!$B:$B,'00 PDC SP'!$F384,'00 Alimenta'!E:E)","v":0},{"$f":"SUMIF('00 Alimenta'!$B:$B,'00 PDC SP'!$F384,'00 Alimenta'!F:F)","v":0},{"$f":"SUMIF('00 Alimenta'!$B:$B,'00 PDC SP'!$F384,'00 Alimenta'!G:G)","v":0},{"$f":"SUMIF('00 Alimenta'!$B:$B,'00 PDC SP'!$F384,'00 Alimenta'!H:H)","v":0},{"$f":"SUMIF('00 Alimenta'!$B:$B,'00 PDC SP'!$F384,'00 Alimenta'!I:I)","v":0},0]
["ABA230FS","AB","ABA230",10,"FS","0202030502","F.do svalutazione crediti v/Stato per mobilità attiva privata extraregionale",{"$f":"SUMIF('00 Alimenta'!$B:$B,'00 PDC SP'!$F385,'00 Alimenta'!D:D)","v":0},{"$f":"SUMIF('00 Alimenta'!$B:$B,'00 PDC SP'!$F385,'00 Alimenta'!E:E)","v":0},{"$f":"SUMIF('00 Alimenta'!$B:$B,'00 PDC SP'!$F385,'00 Alimenta'!F:F)","v":0},{"$f":"SUMIF('00 Alimenta'!$B:$B,'00 PDC SP'!$F385,'00 Alimenta'!G:G)","v":0},{"$f":"SUMIF('00 Alimenta'!$B:$B,'00 PDC SP'!$F385,'00 Alimenta'!H:H)","v":0},{"$f":"SUMIF('00 Alimenta'!$B:$B,'00 PDC SP'!$F385,'00 Alimenta'!I:I)","v":0},0]
["ABA240FS","AB","ABA240",10,"FS","0202030503","F.do svalutazione crediti v/Stato per mobilità attiva internazionale",{"$f":"SUMIF('00 Alimenta'!$B:$B,'00 PDC SP'!$F386,'00 Alimenta'!D:D)","v":0},{"$f":"SUMIF('00 Alimenta'!$B:$B,'00 PDC SP'!$F386,'00 Alimenta'!E:E)","v":0},{"$f":"SUMIF('00 Alimenta'!$B:$B,'00 PDC SP'!$F386,'00 Alimenta'!F:F)","v":0},{"$f":"SUMIF('00 Alimenta'!$B:$B,'00 PDC SP'!$F386,'00 Alimenta'!G:G)","v":0},{"$f":"SUMIF('00 Alimenta'!$B:$B,'00 PDC SP'!$F386,'00 Alimenta'!H:H)","v":0},{"$f":"SUMIF('00 Alimenta'!$B:$B,'00 PDC SP'!$F386,'00 Alimenta'!I:I)","v":0},0]
["ABA250FS","AB","ABA250",10,"FS","0202030504","F.do svalutazione crediti v/Stato per acconto quota fabbisogno sanitario regionale standard",{"$f":"SUMIF('00 Alimenta'!$B:$B,'00 PDC SP'!$F387,'00 Alimenta'!D:D)","v":0},{"$f":"SUMIF('00 Alimenta'!$B:$B,'00 PDC SP'!$F387,'00 Alimenta'!E:E)","v":0},{"$f":"SUMIF('00 Alimenta'!$B:$B,'00 PDC SP'!$F387,'00 Alimenta'!F:F)","v":0},{"$f":"SUMIF('00 Alimenta'!$B:$B,'00 PDC SP'!$F387,'00 Alimenta'!G:G)","v":0},{"$f":"SUMIF('00 Alimenta'!$B:$B,'00 PDC SP'!$F387,'00 Alimenta'!H:H)","v":0},{"$f":"SUMIF('00 Alimenta'!$B:$B,'00 PDC SP'!$F387,'00 Alimenta'!I:I)","v":0},0]
["ABA270FS","AB","ABA270",10,"FS","0202030505","F.do svalutazione crediti v/Stato per spesa corrente - altro",{"$f":"SUMIF('00 Alimenta'!$B:$B,'00 PDC SP'!$F388,'00 Alimenta'!D:D)","v":0},{"$f":"SUMIF('00 Alimenta'!$B:$B,'00 PDC SP'!$F388,'00 Alimenta'!E:E)","v":0},{"$f":"SUMIF('00 Alimenta'!$B:$B,'00 PDC SP'!$F388,'00 Alimenta'!F:F)","v":0},{"$f":"SUMIF('00 Alimenta'!$B:$B,'00 PDC SP'!$F388,'00 Alimenta'!G:G)","v":0},{"$f":"SUMIF('00 Alimenta'!$B:$B,'00 PDC SP'!$F388,'00 Alimenta'!H:H)","v":0},{"$f":"SUMIF('00 Alimenta'!$B:$B,'00 PDC SP'!$F388,'00 Alimenta'!I:I)","v":0},0]
["ABA280FS","AB","ABA280",10,"FS","0202030506","F.do svalutazione crediti v/Stato per finanziamenti per investimenti",{"$f":"SUMIF('00 Alimenta'!$B:$B,'00 PDC SP'!$F389,'00 Alimenta'!D:D)","v":0},{"$f":"SUMIF('00 Alimenta'!$B:$B,'00 PDC SP'!$F389,'00 Alimenta'!E:E)","v":0},{"$f":"SUMIF('00 Alimenta'!$B:$B,'00 PDC SP'!$F389,'00 Alimenta'!F:F)","v":0},{"$f":"SUMIF('00 Alimenta'!$B:$B,'00 PDC SP'!$F389,'00 Alimenta'!G:G)","v":0},{"$f":"SUMIF('00 Alimenta'!$B:$B,'00 PDC SP'!$F389,'00 Alimenta'!H:H)","v":0},{"$f":"SUMIF('00 Alimenta'!$B:$B,'00 PDC SP'!$F389,'00 Alimenta'!I:I)","v":0},0]
["ABA300FS",{"$f":"IF(C390=\"PAA220\",\"UT\",LEFT(C390,2))","v":"AB"},"ABA300",10,"FS","0202030507","F.do svalutazione crediti v/Stato per ricerca corrente - Ministero della Salute",{"$f":"SUMIF('00 Alimenta'!$B:$B,'00 PDC SP'!$F390,'00 Alimenta'!D:D)","v":0},{"$f":"SUMIF('00 Alimenta'!$B:$B,'00 PDC SP'!$F390,'00 Alimenta'!E:E)","v":0},{"$f":"SUMIF('00 Alimenta'!$B:$B,'00 PDC SP'!$F390,'00 Alimenta'!F:F)","v":0},{"$f":"SUMIF('00 Alimenta'!$B:$B,'00 PDC SP'!$F390,'00 Alimenta'!G:G)","v":0},{"$f":"SUMIF('00 Alimenta'!$B:$B,'00 PDC SP'!$F390,'00 Alimenta'!H:H)","v":0},{"$f":"SUMIF('00 Alimenta'!$B:$B,'00 PDC SP'!$F390,'00 Alimenta'!I:I)","v":0},0]
["ABA310FS","AB","ABA310",10,"FS","0202030508","F.do svalutazione crediti v/Stato per ricerca finalizzata - Ministero della Salute",{"$f":"SUMIF('00 Alimenta'!$B:$B,'00 PDC SP'!$F391,'00 Alimenta'!D:D)","v":0},{"$f":"SUMIF('00 Alimenta'!$B:$B,'00 PDC SP'!$F391,'00 Alimenta'!E:E)","v":0},{"$f":"SUMIF('00 Alimenta'!$B:$B,'00 PDC SP'!$F391,'00 Alimenta'!F:F)","v":0},{"$f":"SUMIF('00 Alimenta'!$B:$B,'00 PDC SP'!$F391,'00 Alimenta'!G:G)","v":0},{"$f":"SUMIF('00 Alimenta'!$B:$B,'00 PDC SP'!$F391,'00 Alimenta'!H:H)","v":0},{"$f":"SUMIF('00 Alimenta'!$B:$B,'00 PDC SP'!$F391,'00 Alimenta'!I:I)","v":0},0]
[{"$f":"IF(E392=\"\",C392,C392&E392)","v":"ABA320FS"},"AB","ABA320",10,"FS","0202030509","F.do svalutazione crediti v/Stato per ricerca - altre Amministrazioni centrali",{"$f":"SUMIF('00 Alimenta'!$B:$B,'00 PDC SP'!$F392,'00 Alimenta'!D:D)","v":0},{"$f":"SUMIF('00 Alimenta'!$B:$B,'00 PDC SP'!$F392,'00 Alimenta'!E:E)","v":0},{"$f":"SUMIF('00 Alimenta'!$B:$B,'00 PDC SP'!$F392,'00 Alimenta'!F:F)","v":0},{"$f":"SUMIF('00 Alimenta'!$B:$B,'00 PDC SP'!$F392,'00 Alimenta'!G:G)","v":0},{"$f":"SUMIF('00 Alimenta'!$B:$B,'00 PDC SP'!$F392,'00 Alimenta'!H:H)","v":0},{"$f":"SUMIF('00 Alimenta'!$B:$B,'00 PDC SP'!$F392,'00 Alimenta'!I:I)","v":0},{"$f":"K392+L392-M392","v":0}]
["ABA330FS","AB","ABA330",10,"FS","0202030510","F.do svalutazione crediti v/Stato per ricerca - finanziamenti per investimenti",{"$f":"SUMIF('00 Alimenta'!$B:$B,'00 PDC SP'!$F393,'00 Alimenta'!D:D)","v":0},{"$f":"SUMIF('00 Alimenta'!$B:$B,'00 PDC SP'!$F393,'00 Alimenta'!E:E)","v":0},{"$f":"SUMIF('00 Alimenta'!$B:$B,'00 PDC SP'!$F393,'00 Alimenta'!F:F)","v":0},{"$f":"SUMIF('00 Alimenta'!$B:$B,'00 PDC SP'!$F393,'00 Alimenta'!G:G)","v":0},{"$f":"SUMIF('00 Alimenta'!$B:$B,'00 PDC SP'!$F393,'00 Alimenta'!H:H)","v":0},{"$f":"SUMIF('00 Alimenta'!$B:$B,'00 PDC SP'!$F393,'00 Alimenta'!I:I)","v":0},0]
["ABA340FS","AB","ABA340",10,"FS","0202030511","F.do svalutazione crediti v/prefetture",{"$f":"SUMIF('00 Alimenta'!$B:$B,'00 PDC SP'!$F394,'00 Alimenta'!D:D)","v":0},{"$f":"SUMIF('00 Alimenta'!$B:$B,'00 PDC SP'!$F394,'00 Alimenta'!E:E)","v":0},{"$f":"SUMIF('00 Alimenta'!$B:$B,'00 PDC SP'!$F394,'00 Alimenta'!F:F)","v":0},{"$f":"SUMIF('00 Alimenta'!$B:$B,'00 PDC SP'!$F394,'00 Alimenta'!G:G)","v":0},{"$f":"SUMIF('00 Alimenta'!$B:$B,'00 PDC SP'!$F394,'00 Alimenta'!H:H)","v":0},{"$f":"SUMIF('00 Alimenta'!$B:$B,'00 PDC SP'!$F394,'00 Alimenta'!I:I)","v":0},0]
["ABA460FS","AB","ABA460",10,"FS","0202030512","F.do svalutazione crediti v/Regione o Provincia Autonoma per ricerca",{"$f":"SUMIF('00 Alimenta'!$B:$B,'00 PDC SP'!$F395,'00 Alimenta'!D:D)","v":0},{"$f":"SUMIF('00 Alimenta'!$B:$B,'00 PDC SP'!$F395,'00 Alimenta'!E:E)","v":0},{"$f":"SUMIF('00 Alimenta'!$B:$B,'00 PDC SP'!$F395,'00 Alimenta'!F:F)","v":0},{"$f":"SUMIF('00 Alimenta'!$B:$B,'00 PDC SP'!$F395,'00 Alimenta'!G:G)","v":0},{"$f":"SUMIF('00 Alimenta'!$B:$B,'00 PDC SP'!$F395,'00 Alimenta'!H:H)","v":0},{"$f":"SUMIF('00 Alimenta'!$B:$B,'00 PDC SP'!$F395,'00 Alimenta'!I:I)","v":0},0]
["ABA480FS","AB","ABA480",10,"FS","0202030513","F.do svalutazione crediti v/Regione o Provincia Autonoma per finanziamenti per investimenti",{"$f":"SUMIF('00 Alimenta'!$B:$B,'00 PDC SP'!$F396,'00 Alimenta'!D:D)","v":0},{"$f":"SUMIF('00 Alimenta'!$B:$B,'00 PDC SP'!$F396,'00 Alimenta'!E:E)","v":0},{"$f":"SUMIF('00 Alimenta'!$B:$B,'00 PDC SP'!$F396,'00 Alimenta'!F:F)","v":0},{"$f":"SUMIF('00 Alimenta'!$B:$B,'00 PDC SP'!$F396,'00 Alimenta'!G:G)","v":0},{"$f":"SUMIF('00 Alimenta'!$B:$B,'00 PDC SP'!$F396,'00 Alimenta'!H:H)","v":0},{"$f":"SUMIF('00 Alimenta'!$B:$B,'00 PDC SP'!$F396,'00 Alimenta'!I:I)","v":0},0]
["ABA490FS","AB","ABA490",10,"FS","0202030514","F.do svalutazione crediti v/Regione per incremento fondo di dotazione",{"$f":"SUMIF('00 Alimenta'!$B:$B,'00 PDC SP'!$F397,'00 Alimenta'!D:D)","v":0},{"$f":"SUMIF('00 Alimenta'!$B:$B,'00 PDC SP'!$F397,'00 Alimenta'!E:E)","v":0},{"$f":"SUMIF('00 Alimenta'!$B:$B,'00 PDC SP'!$F397,'00 Alimenta'!F:F)","v":0},{"$f":"SUMIF('00 Alimenta'!$B:$B,'00 PDC SP'!$F397,'00 Alimenta'!G:G)","v":0},{"$f":"SUMIF('00 Alimenta'!$B:$B,'00 PDC SP'!$F397,'00 Alimenta'!H:H)","v":0},{"$f":"SUMIF('00 Alimenta'!$B:$B,'00 PDC SP'!$F397,'00 Alimenta'!I:I)","v":0},0]
["ABA500FS","AB","ABA500",10,"FS","0202030515","F.do svalutazione crediti v/Regione per ripiano perdite",{"$f":"SUMIF('00 Alimenta'!$B:$B,'00 PDC SP'!$F398,'00 Alimenta'!D:D)","v":0},{"$f":"SUMIF('00 Alimenta'!$B:$B,'00 PDC SP'!$F398,'00 Alimenta'!E:E)","v":0},{"$f":"SUMIF('00 Alimenta'!$B:$B,'00 PDC SP'!$F398,'00 Alimenta'!F:F)","v":0},{"$f":"SUMIF('00 Alimenta'!$B:$B,'00 PDC SP'!$F398,'00 Alimenta'!G:G)","v":0},{"$f":"SUMIF('00 Alimenta'!$B:$B,'00 PDC SP'!$F398,'00 Alimenta'!H:H)","v":0},{"$f":"SUMIF('00 Alimenta'!$B:$B,'00 PDC SP'!$F398,'00 Alimenta'!I:I)","v":0},0]
["ABA510FS","AB","ABA510",10,"FS","0202030516","F.do svalutazione crediti v/Regione per copertura debiti al 31/12/2005",{"$f":"SUMIF('00 Alimenta'!$B:$B,'00 PDC SP'!$F399,'00 Alimenta'!D:D)","v":0},{"$f":"SUMIF('00 Alimenta'!$B:$B,'00 PDC SP'!$F399,'00 Alimenta'!E:E)","v":0},{"$f":"SUMIF('00 Alimenta'!$B:$B,'00 PDC SP'!$F399,'00 Alimenta'!F:F)","v":0},{"$f":"SUMIF('00 Alimenta'!$B:$B,'00 PDC SP'!$F399,'00 Alimenta'!G:G)","v":0},{"$f":"SUMIF('00 Alimenta'!$B:$B,'00 PDC SP'!$F399,'00 Alimenta'!H:H)","v":0},{"$f":"SUMIF('00 Alimenta'!$B:$B,'00 PDC SP'!$F399,'00 Alimenta'!I:I)","v":0},0]
["ABA530FS","AB","ABA530",10,"FS","0202030517","F.do svalutazione crediti v/Comuni",{"$f":"SUMIF('00 Alimenta'!$B:$B,'00 PDC SP'!$F400,'00 Alimenta'!D:D)","v":0},{"$f":"SUMIF('00 Alimenta'!$B:$B,'00 PDC SP'!$F400,'00 Alimenta'!E:E)","v":0},{"$f":"SUMIF('00 Alimenta'!$B:$B,'00 PDC SP'!$F400,'00 Alimenta'!F:F)","v":0},{"$f":"SUMIF('00 Alimenta'!$B:$B,'00 PDC SP'!$F400,'00 Alimenta'!G:G)","v":0},{"$f":"SUMIF('00 Alimenta'!$B:$B,'00 PDC SP'!$F400,'00 Alimenta'!H:H)","v":0},{"$f":"SUMIF('00 Alimenta'!$B:$B,'00 PDC SP'!$F400,'00 Alimenta'!I:I)","v":0},0]
["ABA580FS","AB","ABA580",10,"FS","0202030518","F.do svalutazione Crediti  v/Aziende sanitarie pubbliche della Regione",{"$f":"SUMIF('00 Alimenta'!$B:$B,'00 PDC SP'!$F401,'00 Alimenta'!D:D)","v":-3259926.7},{"$f":"SUMIF('00 Alimenta'!$B:$B,'00 PDC SP'!$F401,'00 Alimenta'!E:E)","v":0},{"$f":"SUMIF('00 Alimenta'!$B:$B,'00 PDC SP'!$F401,'00 Alimenta'!F:F)","v":0},{"$f":"SUMIF('00 Alimenta'!$B:$B,'00 PDC SP'!$F401,'00 Alimenta'!G:G)","v":-3259926.7},{"$f":"SUMIF('00 Alimenta'!$B:$B,'00 PDC SP'!$F401,'00 Alimenta'!H:H)","v":0},{"$f":"SUMIF('00 Alimenta'!$B:$B,'00 PDC SP'!$F401,'00 Alimenta'!I:I)","v":0},-3259926.7]
["ABA600FS","AB","ABA600",10,"FS","0202030519","F.do svalutazione crediti v/Aziende sanitarie pubbliche Extraregione",{"$f":"SUMIF('00 Alimenta'!$B:$B,'00 PDC SP'!$F402,'00 Alimenta'!D:D)","v":0},{"$f":"SUMIF('00 Alimenta'!$B:$B,'00 PDC SP'!$F402,'00 Alimenta'!E:E)","v":0},{"$f":"SUMIF('00 Alimenta'!$B:$B,'00 PDC SP'!$F402,'00 Alimenta'!F:F)","v":0},{"$f":"SUMIF('00 Alimenta'!$B:$B,'00 PDC SP'!$F402,'00 Alimenta'!G:G)","v":0},{"$f":"SUMIF('00 Alimenta'!$B:$B,'00 PDC SP'!$F402,'00 Alimenta'!H:H)","v":0},{"$f":"SUMIF('00 Alimenta'!$B:$B,'00 PDC SP'!$F402,'00 Alimenta'!I:I)","v":0},0]
["ABA620FS","AB","ABA620",10,"FS","0202030520","F.do svalutazione crediti v/enti regionali",{"$f":"SUMIF('00 Alimenta'!$B:$B,'00 PDC SP'!$F403,'00 Alimenta'!D:D)","v":0},{"$f":"SUMIF('00 Alimenta'!$B:$B,'00 PDC SP'!$F403,'00 Alimenta'!E:E)","v":0},{"$f":"SUMIF('00 Alimenta'!$B:$B,'00 PDC SP'!$F403,'00 Alimenta'!F:F)","v":0},{"$f":"SUMIF('00 Alimenta'!$B:$B,'00 PDC SP'!$F403,'00 Alimenta'!G:G)","v":0},{"$f":"SUMIF('00 Alimenta'!$B:$B,'00 PDC SP'!$F403,'00 Alimenta'!H:H)","v":0},{"$f":"SUMIF('00 Alimenta'!$B:$B,'00 PDC SP'!$F403,'00 Alimenta'!I:I)","v":0},0]
["ABA630FS","AB","ABA630",10,"FS","0202030521","F.do svalutazione crediti verso sperimentazioni gestionali",{"$f":"SUMIF('00 Alimenta'!$B:$B,'00 PDC SP'!$F404,'00 Alimenta'!D:D)","v":0},{"$f":"SUMIF('00 Alimenta'!$B:$B,'00 PDC SP'!$F404,'00 Alimenta'!E:E)","v":0},{"$f":"SUMIF('00 Alimenta'!$B:$B,'00 PDC SP'!$F404,'00 Alimenta'!F:F)","v":0},{"$f":"SUMIF('00 Alimenta'!$B:$B,'00 PDC SP'!$F404,'00 Alimenta'!G:G)","v":0},{"$f":"SUMIF('00 Alimenta'!$B:$B,'00 PDC SP'!$F404,'00 Alimenta'!H:H)","v":0},{"$f":"SUMIF('00 Alimenta'!$B:$B,'00 PDC SP'!$F404,'00 Alimenta'!I:I)","v":0},0]
["ABA640FS","AB","ABA640",10,"FS","0202030522","F.do svalutazione crediti v/altre partecipate",{"$f":"SUMIF('00 Alimenta'!$B:$B,'00 PDC SP'!$F405,'00 Alimenta'!D:D)","v":0},{"$f":"SUMIF('00 Alimenta'!$B:$B,'00 PDC SP'!$F405,'00 Alimenta'!E:E)","v":0},{"$f":"SUMIF('00 Alimenta'!$B:$B,'00 PDC SP'!$F405,'00 Alimenta'!F:F)","v":0},{"$f":"SUMIF('00 Alimenta'!$B:$B,'00 PDC SP'!$F405,'00 Alimenta'!G:G)","v":0},{"$f":"SUMIF('00 Alimenta'!$B:$B,'00 PDC SP'!$F405,'00 Alimenta'!H:H)","v":0},{"$f":"SUMIF('00 Alimenta'!$B:$B,'00 PDC SP'!$F405,'00 Alimenta'!I:I)","v":0},0]
["ABA650FS","AB","ABA650",10,"FS","0202030523","F.do svalutazione crediti verso Erario",{"$f":"SUMIF('00 Alimenta'!$B:$B,'00 PDC SP'!$F406,'00 Alimenta'!D:D)","v":0},{"$f":"SUMIF('00 Alimenta'!$B:$B,'00 PDC SP'!$F406,'00 Alimenta'!E:E)","v":0},{"$f":"SUMIF('00 Alimenta'!$B:$B,'00 PDC SP'!$F406,'00 Alimenta'!F:F)","v":0},{"$f":"SUMIF('00 Alimenta'!$B:$B,'00 PDC SP'!$F406,'00 Alimenta'!G:G)","v":0},{"$f":"SUMIF('00 Alimenta'!$B:$B,'00 PDC SP'!$F406,'00 Alimenta'!H:H)","v":0},{"$f":"SUMIF('00 Alimenta'!$B:$B,'00 PDC SP'!$F406,'00 Alimenta'!I:I)","v":0},0]
["ABA670FS","AB","ABA670",10,"FS","0202030524","F.do svalutazione crediti  verso clienti privati ",{"$f":"SUMIF('00 Alimenta'!$B:$B,'00 PDC SP'!$F407,'00 Alimenta'!D:D)","v":-2874726.99},{"$f":"SUMIF('00 Alimenta'!$B:$B,'00 PDC SP'!$F407,'00 Alimenta'!E:E)","v":0},{"$f":"SUMIF('00 Alimenta'!$B:$B,'00 PDC SP'!$F407,'00 Alimenta'!F:F)","v":0},{"$f":"SUMIF('00 Alimenta'!$B:$B,'00 PDC SP'!$F407,'00 Alimenta'!G:G)","v":-2874726.99},{"$f":"SUMIF('00 Alimenta'!$B:$B,'00 PDC SP'!$F407,'00 Alimenta'!H:H)","v":0},{"$f":"SUMIF('00 Alimenta'!$B:$B,'00 PDC SP'!$F407,'00 Alimenta'!I:I)","v":0},-2874726.99]
["ABA680FS","AB","ABA680",10,"FS","0202030525","F.do svalutazione crediti v/gestioni liquidatorie",{"$f":"SUMIF('00 Alimenta'!$B:$B,'00 PDC SP'!$F408,'00 Alimenta'!D:D)","v":0},{"$f":"SUMIF('00 Alimenta'!$B:$B,'00 PDC SP'!$F408,'00 Alimenta'!E:E)","v":0},{"$f":"SUMIF('00 Alimenta'!$B:$B,'00 PDC SP'!$F408,'00 Alimenta'!F:F)","v":0},{"$f":"SUMIF('00 Alimenta'!$B:$B,'00 PDC SP'!$F408,'00 Alimenta'!G:G)","v":0},{"$f":"SUMIF('00 Alimenta'!$B:$B,'00 PDC SP'!$F408,'00 Alimenta'!H:H)","v":0},{"$f":"SUMIF('00 Alimenta'!$B:$B,'00 PDC SP'!$F408,'00 Alimenta'!I:I)","v":0},0]
["ABA690FS","AB","ABA690",10,"FS","0202030526","F.do svalutazione crediti v/altri enti pubblici",{"$f":"SUMIF('00 Alimenta'!$B:$B,'00 PDC SP'!$F409,'00 Alimenta'!D:D)","v":0},{"$f":"SUMIF('00 Alimenta'!$B:$B,'00 PDC SP'!$F409,'00 Alimenta'!E:E)","v":0},{"$f":"SUMIF('00 Alimenta'!$B:$B,'00 PDC SP'!$F409,'00 Alimenta'!F:F)","v":0},{"$f":"SUMIF('00 Alimenta'!$B:$B,'00 PDC SP'!$F409,'00 Alimenta'!G:G)","v":0},{"$f":"SUMIF('00 Alimenta'!$B:$B,'00 PDC SP'!$F409,'00 Alimenta'!H:H)","v":0},{"$f":"SUMIF('00 Alimenta'!$B:$B,'00 PDC SP'!$F409,'00 Alimenta'!I:I)","v":0},0]
["ABA700FS","AB","ABA700",10,"FS","0202030527","F.do svalutazione crediti v/altri enti pubblici per ricerca",{"$f":"SUMIF('00 Alimenta'!$B:$B,'00 PDC SP'!$F410,'00 Alimenta'!D:D)","v":0},{"$f":"SUMIF('00 Alimenta'!$B:$B,'00 PDC SP'!$F410,'00 Alimenta'!E:E)","v":0},{"$f":"SUMIF('00 Alimenta'!$B:$B,'00 PDC SP'!$F410,'00 Alimenta'!F:F)","v":0},{"$f":"SUMIF('00 Alimenta'!$B:$B,'00 PDC SP'!$F410,'00 Alimenta'!G:G)","v":0},{"$f":"SUMIF('00 Alimenta'!$B:$B,'00 PDC SP'!$F410,'00 Alimenta'!H:H)","v":0},{"$f":"SUMIF('00 Alimenta'!$B:$B,'00 PDC SP'!$F410,'00 Alimenta'!I:I)","v":0},0]
["ABA711FS","AB","ABA711",10,"FS","0202030528","F.do svalutazione altri crediti diversi",{"$f":"SUMIF('00 Alimenta'!$B:$B,'00 PDC SP'!$F411,'00 Alimenta'!D:D)","v":-300000},{"$f":"SUMIF('00 Alimenta'!$B:$B,'00 PDC SP'!$F411,'00 Alimenta'!E:E)","v":0},{"$f":"SUMIF('00 Alimenta'!$B:$B,'00 PDC SP'!$F411,'00 Alimenta'!F:F)","v":0},{"$f":"SUMIF('00 Alimenta'!$B:$B,'00 PDC SP'!$F411,'00 Alimenta'!G:G)","v":-300000},{"$f":"SUMIF('00 Alimenta'!$B:$B,'00 PDC SP'!$F411,'00 Alimenta'!H:H)","v":0},{"$f":"SUMIF('00 Alimenta'!$B:$B,'00 PDC SP'!$F411,'00 Alimenta'!I:I)","v":0},-300000]
["ABA390FS","AB","ABA390",10,"FS","0202030529","F.do svalutazione crediti v/Regione o Provincia Autonoma per quota FSR",{"$f":"SUMIF('00 Alimenta'!$B:$B,'00 PDC SP'!$F412,'00 Alimenta'!D:D)","v":-3047520.97},{"$f":"SUMIF('00 Alimenta'!$B:$B,'00 PDC SP'!$F412,'00 Alimenta'!E:E)","v":0},{"$f":"SUMIF('00 Alimenta'!$B:$B,'00 PDC SP'!$F412,'00 Alimenta'!F:F)","v":0},{"$f":"SUMIF('00 Alimenta'!$B:$B,'00 PDC SP'!$F412,'00 Alimenta'!G:G)","v":-3047520.97},{"$f":"SUMIF('00 Alimenta'!$B:$B,'00 PDC SP'!$F412,'00 Alimenta'!H:H)","v":0},{"$f":"SUMIF('00 Alimenta'!$B:$B,'00 PDC SP'!$F412,'00 Alimenta'!I:I)","v":0},-3047520.97]
["ABA400FS","AB","ABA400",10,"FS","0202030530","F.do svalutazione crediti v/Regione o Provincia Autonoma per mobilità attiva intraregionale",{"$f":"SUMIF('00 Alimenta'!$B:$B,'00 PDC SP'!$F413,'00 Alimenta'!D:D)","v":0},{"$f":"SUMIF('00 Alimenta'!$B:$B,'00 PDC SP'!$F413,'00 Alimenta'!E:E)","v":0},{"$f":"SUMIF('00 Alimenta'!$B:$B,'00 PDC SP'!$F413,'00 Alimenta'!F:F)","v":0},{"$f":"SUMIF('00 Alimenta'!$B:$B,'00 PDC SP'!$F413,'00 Alimenta'!G:G)","v":0},{"$f":"SUMIF('00 Alimenta'!$B:$B,'00 PDC SP'!$F413,'00 Alimenta'!H:H)","v":0},{"$f":"SUMIF('00 Alimenta'!$B:$B,'00 PDC SP'!$F413,'00 Alimenta'!I:I)","v":0},0]
["ABA410FS","AB","ABA410",10,"FS","0202030531","F.do svalutazione crediti v/Regione o Provincia Autonoma per mobilità attiva extraregionale",{"$f":"SUMIF('00 Alimenta'!$B:$B,'00 PDC SP'!$F414,'00 Alimenta'!D:D)","v":0},{"$f":"SUMIF('00 Alimenta'!$B:$B,'00 PDC SP'!$F414,'00 Alimenta'!E:E)","v":0},{"$f":"SUMIF('00 Alimenta'!$B:$B,'00 PDC SP'!$F414,'00 Alimenta'!F:F)","v":0},{"$f":"SUMIF('00 Alimenta'!$B:$B,'00 PDC SP'!$F414,'00 Alimenta'!G:G)","v":0},{"$f":"SUMIF('00 Alimenta'!$B:$B,'00 PDC SP'!$F414,'00 Alimenta'!H:H)","v":0},{"$f":"SUMIF('00 Alimenta'!$B:$B,'00 PDC SP'!$F414,'00 Alimenta'!I:I)","v":0},0]
["ABA420FS","AB","ABA420",10,"FS","0202030532","F.do svalutazione crediti v/Regione o Provincia Autonoma per acconto quota FSR",{"$f":"SUMIF('00 Alimenta'!$B:$B,'00 PDC SP'!$F415,'00 Alimenta'!D:D)","v":0},{"$f":"SUMIF('00 Alimenta'!$B:$B,'00 PDC SP'!$F415,'00 Alimenta'!E:E)","v":0},{"$f":"SUMIF('00 Alimenta'!$B:$B,'00 PDC SP'!$F415,'00 Alimenta'!F:F)","v":0},{"$f":"SUMIF('00 Alimenta'!$B:$B,'00 PDC SP'!$F415,'00 Alimenta'!G:G)","v":0},{"$f":"SUMIF('00 Alimenta'!$B:$B,'00 PDC SP'!$F415,'00 Alimenta'!H:H)","v":0},{"$f":"SUMIF('00 Alimenta'!$B:$B,'00 PDC SP'!$F415,'00 Alimenta'!I:I)","v":0},0]
["ABA430FS","AB","ABA430",10,"FS","0202030533","F.do svalutazione crediti v/Regione o Provincia Autonoma per finanziamento sanitario aggiuntivo corrente LEA",{"$f":"SUMIF('00 Alimenta'!$B:$B,'00 PDC SP'!$F416,'00 Alimenta'!D:D)","v":0},{"$f":"SUMIF('00 Alimenta'!$B:$B,'00 PDC SP'!$F416,'00 Alimenta'!E:E)","v":0},{"$f":"SUMIF('00 Alimenta'!$B:$B,'00 PDC SP'!$F416,'00 Alimenta'!F:F)","v":0},{"$f":"SUMIF('00 Alimenta'!$B:$B,'00 PDC SP'!$F416,'00 Alimenta'!G:G)","v":0},{"$f":"SUMIF('00 Alimenta'!$B:$B,'00 PDC SP'!$F416,'00 Alimenta'!H:H)","v":0},{"$f":"SUMIF('00 Alimenta'!$B:$B,'00 PDC SP'!$F416,'00 Alimenta'!I:I)","v":0},0]
["ABA440FS","AB","ABA440",10,"FS","0202030534","F.do svalutazione crediti v/Regione o Provincia Autonoma per finanziamento sanitario aggiuntivo corrente extra LEA",{"$f":"SUMIF('00 Alimenta'!$B:$B,'00 PDC SP'!$F417,'00 Alimenta'!D:D)","v":0},{"$f":"SUMIF('00 Alimenta'!$B:$B,'00 PDC SP'!$F417,'00 Alimenta'!E:E)","v":0},{"$f":"SUMIF('00 Alimenta'!$B:$B,'00 PDC SP'!$F417,'00 Alimenta'!F:F)","v":0},{"$f":"SUMIF('00 Alimenta'!$B:$B,'00 PDC SP'!$F417,'00 Alimenta'!G:G)","v":0},{"$f":"SUMIF('00 Alimenta'!$B:$B,'00 PDC SP'!$F417,'00 Alimenta'!H:H)","v":0},{"$f":"SUMIF('00 Alimenta'!$B:$B,'00 PDC SP'!$F417,'00 Alimenta'!I:I)","v":0},0]
["ABA450FS","AB","ABA450",10,"FS","0202030535","F.do svalutazione crediti v/Regione o Provincia Autonoma per spesa corrente - altro",{"$f":"SUMIF('00 Alimenta'!$B:$B,'00 PDC SP'!$F418,'00 Alimenta'!D:D)","v":0},{"$f":"SUMIF('00 Alimenta'!$B:$B,'00 PDC SP'!$F418,'00 Alimenta'!E:E)","v":0},{"$f":"SUMIF('00 Alimenta'!$B:$B,'00 PDC SP'!$F418,'00 Alimenta'!F:F)","v":0},{"$f":"SUMIF('00 Alimenta'!$B:$B,'00 PDC SP'!$F418,'00 Alimenta'!G:G)","v":0},{"$f":"SUMIF('00 Alimenta'!$B:$B,'00 PDC SP'!$F418,'00 Alimenta'!H:H)","v":0},{"$f":"SUMIF('00 Alimenta'!$B:$B,'00 PDC SP'!$F418,'00 Alimenta'!I:I)","v":0},0]
["ABA520FS","AB","ABA520",10,"FS","0202030536","F.do svalutazione crediti v/Regione o Provincia Autonoma per ricostituzione risorse da investimenti esercizi precedenti",{"$f":"SUMIF('00 Alimenta'!$B:$B,'00 PDC SP'!$F419,'00 Alimenta'!D:D)","v":0},{"$f":"SUMIF('00 Alimenta'!$B:$B,'00 PDC SP'!$F419,'00 Alimenta'!E:E)","v":0},{"$f":"SUMIF('00 Alimenta'!$B:$B,'00 PDC SP'!$F419,'00 Alimenta'!F:F)","v":0},{"$f":"SUMIF('00 Alimenta'!$B:$B,'00 PDC SP'!$F419,'00 Alimenta'!G:G)","v":0},{"$f":"SUMIF('00 Alimenta'!$B:$B,'00 PDC SP'!$F419,'00 Alimenta'!H:H)","v":0},{"$f":"SUMIF('00 Alimenta'!$B:$B,'00 PDC SP'!$F419,'00 Alimenta'!I:I)","v":0},0]
["ABA271FS","AB","ABA271",10,"FS","0202030537","F.do svalutazione crediti v/Stato per spesa corrente per STP (ex D.lgs. 286/98)",{"$f":"SUMIF('00 Alimenta'!$B:$B,'00 PDC SP'!$F420,'00 Alimenta'!D:D)","v":0},{"$f":"SUMIF('00 Alimenta'!$B:$B,'00 PDC SP'!$F420,'00 Alimenta'!E:E)","v":0},{"$f":"SUMIF('00 Alimenta'!$B:$B,'00 PDC SP'!$F420,'00 Alimenta'!F:F)","v":0},{"$f":"SUMIF('00 Alimenta'!$B:$B,'00 PDC SP'!$F420,'00 Alimenta'!G:G)","v":0},{"$f":"SUMIF('00 Alimenta'!$B:$B,'00 PDC SP'!$F420,'00 Alimenta'!H:H)","v":0},{"$f":"SUMIF('00 Alimenta'!$B:$B,'00 PDC SP'!$F420,'00 Alimenta'!I:I)","v":0},0]
["ABA451FS","AB","ABA451",10,"FS","0202030538","F.do svalutazione crediti v/Regione o Provincia Autonoma per spesa corrente - STP (ex D.lgs. 286/98)",{"$f":"SUMIF('00 Alimenta'!$B:$B,'00 PDC SP'!$F421,'00 Alimenta'!D:D)","v":0},{"$f":"SUMIF('00 Alimenta'!$B:$B,'00 PDC SP'!$F421,'00 Alimenta'!E:E)","v":0},{"$f":"SUMIF('00 Alimenta'!$B:$B,'00 PDC SP'!$F421,'00 Alimenta'!F:F)","v":0},{"$f":"SUMIF('00 Alimenta'!$B:$B,'00 PDC SP'!$F421,'00 Alimenta'!G:G)","v":0},{"$f":"SUMIF('00 Alimenta'!$B:$B,'00 PDC SP'!$F421,'00 Alimenta'!H:H)","v":0},{"$f":"SUMIF('00 Alimenta'!$B:$B,'00 PDC SP'!$F421,'00 Alimenta'!I:I)","v":0},0]
["ABA461FS","AB","ABA461",10,"FS","0202030539","F.do svalutazione crediti v/Regione o Provincia Autonoma per mobilità attiva internazionale",{"$f":"SUMIF('00 Alimenta'!$B:$B,'00 PDC SP'!$F422,'00 Alimenta'!D:D)","v":0},{"$f":"SUMIF('00 Alimenta'!$B:$B,'00 PDC SP'!$F422,'00 Alimenta'!E:E)","v":0},{"$f":"SUMIF('00 Alimenta'!$B:$B,'00 PDC SP'!$F422,'00 Alimenta'!F:F)","v":0},{"$f":"SUMIF('00 Alimenta'!$B:$B,'00 PDC SP'!$F422,'00 Alimenta'!G:G)","v":0},{"$f":"SUMIF('00 Alimenta'!$B:$B,'00 PDC SP'!$F422,'00 Alimenta'!H:H)","v":0},{"$f":"SUMIF('00 Alimenta'!$B:$B,'00 PDC SP'!$F422,'00 Alimenta'!I:I)","v":0},0]
["ABA501FS","AB","ABA501",10,"FS","0202030540","F.do svalutazione crediti v/Regione o Provincia Autonoma per anticipazione ripiano disavanzo programmato dai Piani aziendali di cui all'art. 1, comma 528, L. 208/2015",{"$f":"SUMIF('00 Alimenta'!$B:$B,'00 PDC SP'!$F423,'00 Alimenta'!D:D)","v":0},{"$f":"SUMIF('00 Alimenta'!$B:$B,'00 PDC SP'!$F423,'00 Alimenta'!E:E)","v":0},{"$f":"SUMIF('00 Alimenta'!$B:$B,'00 PDC SP'!$F423,'00 Alimenta'!F:F)","v":0},{"$f":"SUMIF('00 Alimenta'!$B:$B,'00 PDC SP'!$F423,'00 Alimenta'!G:G)","v":0},{"$f":"SUMIF('00 Alimenta'!$B:$B,'00 PDC SP'!$F423,'00 Alimenta'!H:H)","v":0},{"$f":"SUMIF('00 Alimenta'!$B:$B,'00 PDC SP'!$F423,'00 Alimenta'!I:I)","v":0},0]
["ABA521FS","AB","ABA521",10,"FS","0202030541","Crediti v/Regione o Provincia Autonoma per contributi L. 210/92",{"$f":"SUMIF('00 Alimenta'!$B:$B,'00 PDC SP'!$F424,'00 Alimenta'!D:D)","v":0},{"$f":"SUMIF('00 Alimenta'!$B:$B,'00 PDC SP'!$F424,'00 Alimenta'!E:E)","v":0},{"$f":"SUMIF('00 Alimenta'!$B:$B,'00 PDC SP'!$F424,'00 Alimenta'!F:F)","v":0},{"$f":"SUMIF('00 Alimenta'!$B:$B,'00 PDC SP'!$F424,'00 Alimenta'!G:G)","v":0},{"$f":"SUMIF('00 Alimenta'!$B:$B,'00 PDC SP'!$F424,'00 Alimenta'!H:H)","v":0},{"$f":"SUMIF('00 Alimenta'!$B:$B,'00 PDC SP'!$F424,'00 Alimenta'!I:I)","v":0},0]
["ABA522FS","AB","ABA522",10,"FS","0202030542","Crediti v/Regione o Provincia Autonoma per contributi L. 210/92 ¿ aziende sanitarie",{"$f":"SUMIF('00 Alimenta'!$B:$B,'00 PDC SP'!$F425,'00 Alimenta'!D:D)","v":0},{"$f":"SUMIF('00 Alimenta'!$B:$B,'00 PDC SP'!$F425,'00 Alimenta'!E:E)","v":0},{"$f":"SUMIF('00 Alimenta'!$B:$B,'00 PDC SP'!$F425,'00 Alimenta'!F:F)","v":0},{"$f":"SUMIF('00 Alimenta'!$B:$B,'00 PDC SP'!$F425,'00 Alimenta'!G:G)","v":0},{"$f":"SUMIF('00 Alimenta'!$B:$B,'00 PDC SP'!$F425,'00 Alimenta'!H:H)","v":0},{"$f":"SUMIF('00 Alimenta'!$B:$B,'00 PDC SP'!$F425,'00 Alimenta'!I:I)","v":0},0]
["ABA601FS","AB","ABA601",10,"FS","0202030543","Crediti v/Aziende sanitarie pubbliche della Regione - per Contributi da Aziende sanitarie pubbliche della Regione o Prov. Aut. (extra fondo) ",{"$f":"SUMIF('00 Alimenta'!$B:$B,'00 PDC SP'!$F426,'00 Alimenta'!D:D)","v":0},{"$f":"SUMIF('00 Alimenta'!$B:$B,'00 PDC SP'!$F426,'00 Alimenta'!E:E)","v":0},{"$f":"SUMIF('00 Alimenta'!$B:$B,'00 PDC SP'!$F426,'00 Alimenta'!F:F)","v":0},{"$f":"SUMIF('00 Alimenta'!$B:$B,'00 PDC SP'!$F426,'00 Alimenta'!G:G)","v":0},{"$f":"SUMIF('00 Alimenta'!$B:$B,'00 PDC SP'!$F426,'00 Alimenta'!H:H)","v":0},{"$f":"SUMIF('00 Alimenta'!$B:$B,'00 PDC SP'!$F426,'00 Alimenta'!I:I)","v":0},0]
["PBA000","PB","PBA000",11,"","0203010101","Fondi per imposte, anche differite",{"$f":"SUMIF('00 Alimenta'!$B:$B,'00 PDC SP'!$F427,'00 Alimenta'!D:D)","v":0},{"$f":"SUMIF('00 Alimenta'!$B:$B,'00 PDC SP'!$F427,'00 Alimenta'!E:E)","v":0},{"$f":"SUMIF('00 Alimenta'!$B:$B,'00 PDC SP'!$F427,'00 Alimenta'!F:F)","v":0},{"$f":"SUMIF('00 Alimenta'!$B:$B,'00 PDC SP'!$F427,'00 Alimenta'!G:G)","v":0},{"$f":"SUMIF('00 Alimenta'!$B:$B,'00 PDC SP'!$F427,'00 Alimenta'!H:H)","v":0},{"$f":"SUMIF('00 Alimenta'!$B:$B,'00 PDC SP'!$F427,'00 Alimenta'!I:I)","v":0},0]
["PBA020","PB","PBA020",11,"","0203020101","Fondo rischi per cause civili ed oneri processuali",{"$f":"SUMIF('00 Alimenta'!$B:$B,'00 PDC SP'!$F428,'00 Alimenta'!D:D)","v":-16265222},{"$f":"SUMIF('00 Alimenta'!$B:$B,'00 PDC SP'!$F428,'00 Alimenta'!E:E)","v":-1357811.38},{"$f":"SUMIF('00 Alimenta'!$B:$B,'00 PDC SP'!$F428,'00 Alimenta'!F:F)","v":-6579085.1600000001},{"$f":"SUMIF('00 Alimenta'!$B:$B,'00 PDC SP'!$F428,'00 Alimenta'!G:G)","v":-11043948.220000001},{"$f":"SUMIF('00 Alimenta'!$B:$B,'00 PDC SP'!$F428,'00 Alimenta'!H:H)","v":-6378882.71},{"$f":"SUMIF('00 Alimenta'!$B:$B,'00 PDC SP'!$F428,'00 Alimenta'!I:I)","v":-2138381.25},-15284449.68]
["PBA030","PB","PBA030",11,"","0203020201","Fondo rischi per contenzioso personale dipendente",{"$f":"SUMIF('00 Alimenta'!$B:$B,'00 PDC SP'!$F429,'00 Alimenta'!D:D)","v":-1250000},{"$f":"SUMIF('00 Alimenta'!$B:$B,'00 PDC SP'!$F429,'00 Alimenta'!E:E)","v":0},{"$f":"SUMIF('00 Alimenta'!$B:$B,'00 PDC SP'!$F429,'00 Alimenta'!F:F)","v":-254237.67},{"$f":"SUMIF('00 Alimenta'!$B:$B,'00 PDC SP'!$F429,'00 Alimenta'!G:G)","v":-995762.33},{"$f":"SUMIF('00 Alimenta'!$B:$B,'00 PDC SP'!$F429,'00 Alimenta'!H:H)","v":-811978.17},{"$f":"SUMIF('00 Alimenta'!$B:$B,'00 PDC SP'!$F429,'00 Alimenta'!I:I)","v":-252340.5},-1555400]
["PBA040","PB","PBA040",11,"","0203020301","Fondo rischi connessi all'acquisto di prestazioni sanitarie da privato",{"$f":"SUMIF('00 Alimenta'!$B:$B,'00 PDC SP'!$F430,'00 Alimenta'!D:D)","v":-23324836.510000002},{"$f":"SUMIF('00 Alimenta'!$B:$B,'00 PDC SP'!$F430,'00 Alimenta'!E:E)","v":-272176.8},{"$f":"SUMIF('00 Alimenta'!$B:$B,'00 PDC SP'!$F430,'00 Alimenta'!F:F)","v":-1311382.44},{"$f":"SUMIF('00 Alimenta'!$B:$B,'00 PDC SP'!$F430,'00 Alimenta'!G:G)","v":-22285630.870000001},{"$f":"SUMIF('00 Alimenta'!$B:$B,'00 PDC SP'!$F430,'00 Alimenta'!H:H)","v":-1823614},{"$f":"SUMIF('00 Alimenta'!$B:$B,'00 PDC SP'!$F430,'00 Alimenta'!I:I)","v":-275924.12},-23833320.75]
["PBA050","PB","PBA050",11,"","0203020401","Fondo rischi per copertura diretta dei rischi (autoassicurazione)",{"$f":"SUMIF('00 Alimenta'!$B:$B,'00 PDC SP'!$F431,'00 Alimenta'!D:D)","v":-5500000},{"$f":"SUMIF('00 Alimenta'!$B:$B,'00 PDC SP'!$F431,'00 Alimenta'!E:E)","v":-2297725.7799999998},{"$f":"SUMIF('00 Alimenta'!$B:$B,'00 PDC SP'!$F431,'00 Alimenta'!F:F)","v":-2297725.6800000002},{"$f":"SUMIF('00 Alimenta'!$B:$B,'00 PDC SP'!$F431,'00 Alimenta'!G:G)","v":-5500000.0999999996},{"$f":"SUMIF('00 Alimenta'!$B:$B,'00 PDC SP'!$F431,'00 Alimenta'!H:H)","v":0},{"$f":"SUMIF('00 Alimenta'!$B:$B,'00 PDC SP'!$F431,'00 Alimenta'!I:I)","v":-5500000.0999999996},0]
["PBA051","PB","PBA051",11,null,"0203020402","B.II.5) Fondo rischi per franchigia assicurativa",{"$f":"SUMIF('00 Alimenta'!$B:$B,'00 PDC SP'!$F432,'00 Alimenta'!D:D)","v":0},{"$f":"SUMIF('00 Alimenta'!$B:$B,'00 PDC SP'!$F432,'00 Alimenta'!E:E)","v":0},{"$f":"SUMIF('00 Alimenta'!$B:$B,'00 PDC SP'!$F432,'00 Alimenta'!F:F)","v":0},{"$f":"SUMIF('00 Alimenta'!$B:$B,'00 PDC SP'!$F432,'00 Alimenta'!G:G)","v":0},{"$f":"SUMIF('00 Alimenta'!$B:$B,'00 PDC SP'!$F432,'00 Alimenta'!H:H)","v":-4900000},{"$f":"SUMIF('00 Alimenta'!$B:$B,'00 PDC SP'!$F432,'00 Alimenta'!I:I)","v":0},-4900000]
["PBA052","PB","PBA052",11,null,"0203020403","B.II.6) Fondo rischi per interessi di mora",{"$f":"SUMIF('00 Alimenta'!$B:$B,'00 PDC SP'!$F433,'00 Alimenta'!D:D)","v":0},{"$f":"SUMIF('00 Alimenta'!$B:$B,'00 PDC SP'!$F433,'00 Alimenta'!E:E)","v":0},{"$f":"SUMIF('00 Alimenta'!$B:$B,'00 PDC SP'!$F433,'00 Alimenta'!F:F)","v":0},{"$f":"SUMIF('00 Alimenta'!$B:$B,'00 PDC SP'!$F433,'00 Alimenta'!G:G)","v":0},{"$f":"SUMIF('00 Alimenta'!$B:$B,'00 PDC SP'!$F433,'00 Alimenta'!H:H)","v":0},{"$f":"SUMIF('00 Alimenta'!$B:$B,'00 PDC SP'!$F433,'00 Alimenta'!I:I)","v":0},0]
["PBA060","PB","PBA060",11,"","0203020501","Altri fondi rischi",{"$f":"SUMIF('00 Alimenta'!$B:$B,'00 PDC SP'!$F434,'00 Alimenta'!D:D)","v":0},{"$f":"SUMIF('00 Alimenta'!$B:$B,'00 PDC SP'!$F434,'00 Alimenta'!E:E)","v":0},{"$f":"SUMIF('00 Alimenta'!$B:$B,'00 PDC SP'!$F434,'00 Alimenta'!F:F)","v":0},{"$f":"SUMIF('00 Alimenta'!$B:$B,'00 PDC SP'!$F434,'00 Alimenta'!G:G)","v":0},{"$f":"SUMIF('00 Alimenta'!$B:$B,'00 PDC SP'!$F434,'00 Alimenta'!H:H)","v":0},{"$f":"SUMIF('00 Alimenta'!$B:$B,'00 PDC SP'!$F434,'00 Alimenta'!I:I)","v":0},0]
["PBA080","PB","PBA080",11,"","0203030101","FSR indistinto da distribuire",{"$f":"SUMIF('00 Alimenta'!$B:$B,'00 PDC SP'!$F435,'00 Alimenta'!D:D)","v":0},{"$f":"SUMIF('00 Alimenta'!$B:$B,'00 PDC SP'!$F435,'00 Alimenta'!E:E)","v":0},{"$f":"SUMIF('00 Alimenta'!$B:$B,'00 PDC SP'!$F435,'00 Alimenta'!F:F)","v":0},{"$f":"SUMIF('00 Alimenta'!$B:$B,'00 PDC SP'!$F435,'00 Alimenta'!G:G)","v":0},{"$f":"SUMIF('00 Alimenta'!$B:$B,'00 PDC SP'!$F435,'00 Alimenta'!H:H)","v":0},{"$f":"SUMIF('00 Alimenta'!$B:$B,'00 PDC SP'!$F435,'00 Alimenta'!I:I)","v":0},0]
["PBA080","PB","PBA080",11,"","0203030102","FSR indistinto disimpegni",{"$f":"SUMIF('00 Alimenta'!$B:$B,'00 PDC SP'!$F436,'00 Alimenta'!D:D)","v":0},{"$f":"SUMIF('00 Alimenta'!$B:$B,'00 PDC SP'!$F436,'00 Alimenta'!E:E)","v":0},{"$f":"SUMIF('00 Alimenta'!$B:$B,'00 PDC SP'!$F436,'00 Alimenta'!F:F)","v":0},{"$f":"SUMIF('00 Alimenta'!$B:$B,'00 PDC SP'!$F436,'00 Alimenta'!G:G)","v":0},{"$f":"SUMIF('00 Alimenta'!$B:$B,'00 PDC SP'!$F436,'00 Alimenta'!H:H)","v":0},{"$f":"SUMIF('00 Alimenta'!$B:$B,'00 PDC SP'!$F436,'00 Alimenta'!I:I)","v":0},0]
["PBA090","PB","PBA090",11,"","0203030201","Quota per rinnovo convenzioni L 133/08",{"$f":"SUMIF('00 Alimenta'!$B:$B,'00 PDC SP'!$F437,'00 Alimenta'!D:D)","v":0},{"$f":"SUMIF('00 Alimenta'!$B:$B,'00 PDC SP'!$F437,'00 Alimenta'!E:E)","v":0},{"$f":"SUMIF('00 Alimenta'!$B:$B,'00 PDC SP'!$F437,'00 Alimenta'!F:F)","v":0},{"$f":"SUMIF('00 Alimenta'!$B:$B,'00 PDC SP'!$F437,'00 Alimenta'!G:G)","v":0},{"$f":"SUMIF('00 Alimenta'!$B:$B,'00 PDC SP'!$F437,'00 Alimenta'!H:H)","v":0},{"$f":"SUMIF('00 Alimenta'!$B:$B,'00 PDC SP'!$F437,'00 Alimenta'!I:I)","v":0},0]
["PBA090","PB","PBA090",11,"","0203030202","Quota per emersione extracomunitari L. 102/09 art. 1 ter, comma 17 e D.Lgs. 109/2012 art. 5, comma 16",{"$f":"SUMIF('00 Alimenta'!$B:$B,'00 PDC SP'!$F438,'00 Alimenta'!D:D)","v":0},{"$f":"SUMIF('00 Alimenta'!$B:$B,'00 PDC SP'!$F438,'00 Alimenta'!E:E)","v":0},{"$f":"SUMIF('00 Alimenta'!$B:$B,'00 PDC SP'!$F438,'00 Alimenta'!F:F)","v":0},{"$f":"SUMIF('00 Alimenta'!$B:$B,'00 PDC SP'!$F438,'00 Alimenta'!G:G)","v":0},{"$f":"SUMIF('00 Alimenta'!$B:$B,'00 PDC SP'!$F438,'00 Alimenta'!H:H)","v":0},{"$f":"SUMIF('00 Alimenta'!$B:$B,'00 PDC SP'!$F438,'00 Alimenta'!I:I)","v":0},0]
["PBA090","PB","PBA090",11,"","0203030203","Quota per medicina Penitenziaria art. 2 co. 283 L. 244/07",{"$f":"SUMIF('00 Alimenta'!$B:$B,'00 PDC SP'!$F439,'00 Alimenta'!D:D)","v":0},{"$f":"SUMIF('00 Alimenta'!$B:$B,'00 PDC SP'!$F439,'00 Alimenta'!E:E)","v":0},{"$f":"SUMIF('00 Alimenta'!$B:$B,'00 PDC SP'!$F439,'00 Alimenta'!F:F)","v":0},{"$f":"SUMIF('00 Alimenta'!$B:$B,'00 PDC SP'!$F439,'00 Alimenta'!G:G)","v":0},{"$f":"SUMIF('00 Alimenta'!$B:$B,'00 PDC SP'!$F439,'00 Alimenta'!H:H)","v":0},{"$f":"SUMIF('00 Alimenta'!$B:$B,'00 PDC SP'!$F439,'00 Alimenta'!I:I)","v":0},0]
["PBA090","PB","PBA090",11,"","0203030204","Quota per medicina Penitenziaria D.Lgs 230/99",{"$f":"SUMIF('00 Alimenta'!$B:$B,'00 PDC SP'!$F440,'00 Alimenta'!D:D)","v":0},{"$f":"SUMIF('00 Alimenta'!$B:$B,'00 PDC SP'!$F440,'00 Alimenta'!E:E)","v":0},{"$f":"SUMIF('00 Alimenta'!$B:$B,'00 PDC SP'!$F440,'00 Alimenta'!F:F)","v":0},{"$f":"SUMIF('00 Alimenta'!$B:$B,'00 PDC SP'!$F440,'00 Alimenta'!G:G)","v":0},{"$f":"SUMIF('00 Alimenta'!$B:$B,'00 PDC SP'!$F440,'00 Alimenta'!H:H)","v":0},{"$f":"SUMIF('00 Alimenta'!$B:$B,'00 PDC SP'!$F440,'00 Alimenta'!I:I)","v":0},0]
["PBA090","PB","PBA090",11,"","0203030205","Quota per hanseniani L. 31/86",{"$f":"SUMIF('00 Alimenta'!$B:$B,'00 PDC SP'!$F441,'00 Alimenta'!D:D)","v":0},{"$f":"SUMIF('00 Alimenta'!$B:$B,'00 PDC SP'!$F441,'00 Alimenta'!E:E)","v":0},{"$f":"SUMIF('00 Alimenta'!$B:$B,'00 PDC SP'!$F441,'00 Alimenta'!F:F)","v":0},{"$f":"SUMIF('00 Alimenta'!$B:$B,'00 PDC SP'!$F441,'00 Alimenta'!G:G)","v":0},{"$f":"SUMIF('00 Alimenta'!$B:$B,'00 PDC SP'!$F441,'00 Alimenta'!H:H)","v":0},{"$f":"SUMIF('00 Alimenta'!$B:$B,'00 PDC SP'!$F441,'00 Alimenta'!I:I)","v":0},0]
["PBA090","PB","PBA090",11,"","0203030206","Quota per fibrosi Cistica L. 362/98",{"$f":"SUMIF('00 Alimenta'!$B:$B,'00 PDC SP'!$F442,'00 Alimenta'!D:D)","v":0},{"$f":"SUMIF('00 Alimenta'!$B:$B,'00 PDC SP'!$F442,'00 Alimenta'!E:E)","v":0},{"$f":"SUMIF('00 Alimenta'!$B:$B,'00 PDC SP'!$F442,'00 Alimenta'!F:F)","v":0},{"$f":"SUMIF('00 Alimenta'!$B:$B,'00 PDC SP'!$F442,'00 Alimenta'!G:G)","v":0},{"$f":"SUMIF('00 Alimenta'!$B:$B,'00 PDC SP'!$F442,'00 Alimenta'!H:H)","v":0},{"$f":"SUMIF('00 Alimenta'!$B:$B,'00 PDC SP'!$F442,'00 Alimenta'!I:I)","v":0},0]
["PBA090","PB","PBA090",11,"","0203030207","Quota per extracomunitari irregolari L. 40/98",{"$f":"SUMIF('00 Alimenta'!$B:$B,'00 PDC SP'!$F443,'00 Alimenta'!D:D)","v":0},{"$f":"SUMIF('00 Alimenta'!$B:$B,'00 PDC SP'!$F443,'00 Alimenta'!E:E)","v":0},{"$f":"SUMIF('00 Alimenta'!$B:$B,'00 PDC SP'!$F443,'00 Alimenta'!F:F)","v":0},{"$f":"SUMIF('00 Alimenta'!$B:$B,'00 PDC SP'!$F443,'00 Alimenta'!G:G)","v":0},{"$f":"SUMIF('00 Alimenta'!$B:$B,'00 PDC SP'!$F443,'00 Alimenta'!H:H)","v":0},{"$f":"SUMIF('00 Alimenta'!$B:$B,'00 PDC SP'!$F443,'00 Alimenta'!I:I)","v":0},0]
["PBA090","PB","PBA090",11,"","0203030208","Quota per fondo esclusività L. 488/99",{"$f":"SUMIF('00 Alimenta'!$B:$B,'00 PDC SP'!$F444,'00 Alimenta'!D:D)","v":0},{"$f":"SUMIF('00 Alimenta'!$B:$B,'00 PDC SP'!$F444,'00 Alimenta'!E:E)","v":0},{"$f":"SUMIF('00 Alimenta'!$B:$B,'00 PDC SP'!$F444,'00 Alimenta'!F:F)","v":0},{"$f":"SUMIF('00 Alimenta'!$B:$B,'00 PDC SP'!$F444,'00 Alimenta'!G:G)","v":0},{"$f":"SUMIF('00 Alimenta'!$B:$B,'00 PDC SP'!$F444,'00 Alimenta'!H:H)","v":0},{"$f":"SUMIF('00 Alimenta'!$B:$B,'00 PDC SP'!$F444,'00 Alimenta'!I:I)","v":0},0]
["PBA090","PB","PBA090",11,"","0203030209","Quota per borse studio MG L. 109/88",{"$f":"SUMIF('00 Alimenta'!$B:$B,'00 PDC SP'!$F445,'00 Alimenta'!D:D)","v":0},{"$f":"SUMIF('00 Alimenta'!$B:$B,'00 PDC SP'!$F445,'00 Alimenta'!E:E)","v":0},{"$f":"SUMIF('00 Alimenta'!$B:$B,'00 PDC SP'!$F445,'00 Alimenta'!F:F)","v":0},{"$f":"SUMIF('00 Alimenta'!$B:$B,'00 PDC SP'!$F445,'00 Alimenta'!G:G)","v":0},{"$f":"SUMIF('00 Alimenta'!$B:$B,'00 PDC SP'!$F445,'00 Alimenta'!H:H)","v":0},{"$f":"SUMIF('00 Alimenta'!$B:$B,'00 PDC SP'!$F445,'00 Alimenta'!I:I)","v":0},0]
["PBA090","PB","PBA090",11,"","0203030210","Quota per veterinaria L. 218/88",{"$f":"SUMIF('00 Alimenta'!$B:$B,'00 PDC SP'!$F446,'00 Alimenta'!D:D)","v":0},{"$f":"SUMIF('00 Alimenta'!$B:$B,'00 PDC SP'!$F446,'00 Alimenta'!E:E)","v":0},{"$f":"SUMIF('00 Alimenta'!$B:$B,'00 PDC SP'!$F446,'00 Alimenta'!F:F)","v":0},{"$f":"SUMIF('00 Alimenta'!$B:$B,'00 PDC SP'!$F446,'00 Alimenta'!G:G)","v":0},{"$f":"SUMIF('00 Alimenta'!$B:$B,'00 PDC SP'!$F446,'00 Alimenta'!H:H)","v":0},{"$f":"SUMIF('00 Alimenta'!$B:$B,'00 PDC SP'!$F446,'00 Alimenta'!I:I)","v":0},0]
["PBA090","PB","PBA090",11,"","0203030211","Quota per Aids L.135/90",{"$f":"SUMIF('00 Alimenta'!$B:$B,'00 PDC SP'!$F447,'00 Alimenta'!D:D)","v":0},{"$f":"SUMIF('00 Alimenta'!$B:$B,'00 PDC SP'!$F447,'00 Alimenta'!E:E)","v":0},{"$f":"SUMIF('00 Alimenta'!$B:$B,'00 PDC SP'!$F447,'00 Alimenta'!F:F)","v":0},{"$f":"SUMIF('00 Alimenta'!$B:$B,'00 PDC SP'!$F447,'00 Alimenta'!G:G)","v":0},{"$f":"SUMIF('00 Alimenta'!$B:$B,'00 PDC SP'!$F447,'00 Alimenta'!H:H)","v":0},{"$f":"SUMIF('00 Alimenta'!$B:$B,'00 PDC SP'!$F447,'00 Alimenta'!I:I)","v":0},0]
["PBA090","PB","PBA090",11,"","0203030212","Quota per progetti di PSN L. 662/96",{"$f":"SUMIF('00 Alimenta'!$B:$B,'00 PDC SP'!$F448,'00 Alimenta'!D:D)","v":0},{"$f":"SUMIF('00 Alimenta'!$B:$B,'00 PDC SP'!$F448,'00 Alimenta'!E:E)","v":0},{"$f":"SUMIF('00 Alimenta'!$B:$B,'00 PDC SP'!$F448,'00 Alimenta'!F:F)","v":0},{"$f":"SUMIF('00 Alimenta'!$B:$B,'00 PDC SP'!$F448,'00 Alimenta'!G:G)","v":0},{"$f":"SUMIF('00 Alimenta'!$B:$B,'00 PDC SP'!$F448,'00 Alimenta'!H:H)","v":0},{"$f":"SUMIF('00 Alimenta'!$B:$B,'00 PDC SP'!$F448,'00 Alimenta'!I:I)","v":0},0]
["PBA090","PB","PBA090",11,"","0203030213","Quota per mutui pre-riforma",{"$f":"SUMIF('00 Alimenta'!$B:$B,'00 PDC SP'!$F449,'00 Alimenta'!D:D)","v":0},{"$f":"SUMIF('00 Alimenta'!$B:$B,'00 PDC SP'!$F449,'00 Alimenta'!E:E)","v":0},{"$f":"SUMIF('00 Alimenta'!$B:$B,'00 PDC SP'!$F449,'00 Alimenta'!F:F)","v":0},{"$f":"SUMIF('00 Alimenta'!$B:$B,'00 PDC SP'!$F449,'00 Alimenta'!G:G)","v":0},{"$f":"SUMIF('00 Alimenta'!$B:$B,'00 PDC SP'!$F449,'00 Alimenta'!H:H)","v":0},{"$f":"SUMIF('00 Alimenta'!$B:$B,'00 PDC SP'!$F449,'00 Alimenta'!I:I)","v":0},0]
["PBA090","PB","PBA090",11,"","0203030214","Quota per borse studio specializzandi",{"$f":"SUMIF('00 Alimenta'!$B:$B,'00 PDC SP'!$F450,'00 Alimenta'!D:D)","v":0},{"$f":"SUMIF('00 Alimenta'!$B:$B,'00 PDC SP'!$F450,'00 Alimenta'!E:E)","v":0},{"$f":"SUMIF('00 Alimenta'!$B:$B,'00 PDC SP'!$F450,'00 Alimenta'!F:F)","v":0},{"$f":"SUMIF('00 Alimenta'!$B:$B,'00 PDC SP'!$F450,'00 Alimenta'!G:G)","v":0},{"$f":"SUMIF('00 Alimenta'!$B:$B,'00 PDC SP'!$F450,'00 Alimenta'!H:H)","v":0},{"$f":"SUMIF('00 Alimenta'!$B:$B,'00 PDC SP'!$F450,'00 Alimenta'!I:I)","v":0},0]
["PBA090","PB","PBA090",11,"","0203030215","Quota per per superamento degli ospedali psichiatrici giudiziari (O.P.G.) L. 9/2012, art. 3 ter, comma 7",{"$f":"SUMIF('00 Alimenta'!$B:$B,'00 PDC SP'!$F451,'00 Alimenta'!D:D)","v":0},{"$f":"SUMIF('00 Alimenta'!$B:$B,'00 PDC SP'!$F451,'00 Alimenta'!E:E)","v":0},{"$f":"SUMIF('00 Alimenta'!$B:$B,'00 PDC SP'!$F451,'00 Alimenta'!F:F)","v":0},{"$f":"SUMIF('00 Alimenta'!$B:$B,'00 PDC SP'!$F451,'00 Alimenta'!G:G)","v":0},{"$f":"SUMIF('00 Alimenta'!$B:$B,'00 PDC SP'!$F451,'00 Alimenta'!H:H)","v":0},{"$f":"SUMIF('00 Alimenta'!$B:$B,'00 PDC SP'!$F451,'00 Alimenta'!I:I)","v":0},0]
["PBA090","PB","PBA090",11,"","0203030216","FSR vincolato da distribuire",{"$f":"SUMIF('00 Alimenta'!$B:$B,'00 PDC SP'!$F452,'00 Alimenta'!D:D)","v":0},{"$f":"SUMIF('00 Alimenta'!$B:$B,'00 PDC SP'!$F452,'00 Alimenta'!E:E)","v":0},{"$f":"SUMIF('00 Alimenta'!$B:$B,'00 PDC SP'!$F452,'00 Alimenta'!F:F)","v":0},{"$f":"SUMIF('00 Alimenta'!$B:$B,'00 PDC SP'!$F452,'00 Alimenta'!G:G)","v":0},{"$f":"SUMIF('00 Alimenta'!$B:$B,'00 PDC SP'!$F452,'00 Alimenta'!H:H)","v":0},{"$f":"SUMIF('00 Alimenta'!$B:$B,'00 PDC SP'!$F452,'00 Alimenta'!I:I)","v":0},0]
["PBA090","PB","PBA090",11,null,"0203030217","Quota per rimborsi maggiore spesa sostenuta per incremento Tariffe Termali",{"$f":"SUMIF('00 Alimenta'!$B:$B,'00 PDC SP'!$F453,'00 Alimenta'!D:D)","v":0},{"$f":"SUMIF('00 Alimenta'!$B:$B,'00 PDC SP'!$F453,'00 Alimenta'!E:E)","v":0},{"$f":"SUMIF('00 Alimenta'!$B:$B,'00 PDC SP'!$F453,'00 Alimenta'!F:F)","v":0},{"$f":"SUMIF('00 Alimenta'!$B:$B,'00 PDC SP'!$F453,'00 Alimenta'!G:G)","v":0},{"$f":"SUMIF('00 Alimenta'!$B:$B,'00 PDC SP'!$F453,'00 Alimenta'!H:H)","v":0},{"$f":"SUMIF('00 Alimenta'!$B:$B,'00 PDC SP'!$F453,'00 Alimenta'!I:I)","v":0},0]
["PBA090",{"$f":"IF(C454=\"PAA220\",\"UT\",LEFT(C454,2))","v":"PB"},"PBA090",11,null,"0203030218","Quota per Emergenza Avicola L. 205/2017, art. 1, comma 509",{"$f":"SUMIF('00 Alimenta'!$B:$B,'00 PDC SP'!$F454,'00 Alimenta'!D:D)","v":0},{"$f":"SUMIF('00 Alimenta'!$B:$B,'00 PDC SP'!$F454,'00 Alimenta'!E:E)","v":0},{"$f":"SUMIF('00 Alimenta'!$B:$B,'00 PDC SP'!$F454,'00 Alimenta'!F:F)","v":0},{"$f":"SUMIF('00 Alimenta'!$B:$B,'00 PDC SP'!$F454,'00 Alimenta'!G:G)","v":0},{"$f":"SUMIF('00 Alimenta'!$B:$B,'00 PDC SP'!$F454,'00 Alimenta'!H:H)","v":0},{"$f":"SUMIF('00 Alimenta'!$B:$B,'00 PDC SP'!$F454,'00 Alimenta'!I:I)","v":0},0]
["PBA100","PB","PBA100",11,"","0203030301","Fondo per ripiano disavanzi pregressi",{"$f":"SUMIF('00 Alimenta'!$B:$B,'00 PDC SP'!$F455,'00 Alimenta'!D:D)","v":0},{"$f":"SUMIF('00 Alimenta'!$B:$B,'00 PDC SP'!$F455,'00 Alimenta'!E:E)","v":0},{"$f":"SUMIF('00 Alimenta'!$B:$B,'00 PDC SP'!$F455,'00 Alimenta'!F:F)","v":0},{"$f":"SUMIF('00 Alimenta'!$B:$B,'00 PDC SP'!$F455,'00 Alimenta'!G:G)","v":0},{"$f":"SUMIF('00 Alimenta'!$B:$B,'00 PDC SP'!$F455,'00 Alimenta'!H:H)","v":0},{"$f":"SUMIF('00 Alimenta'!$B:$B,'00 PDC SP'!$F455,'00 Alimenta'!I:I)","v":0},0]
[{"$f":"IF(E456=\"\",C456,C456&E456)","v":"PBA110"},"PB","PBA110",11,"","0203030401","Fondo finanziamento sanitario aggiuntivo corrente LEA da distribuire DG1",{"$f":"SUMIF('00 Alimenta'!$B:$B,'00 PDC SP'!$F456,'00 Alimenta'!D:D)","v":0},{"$f":"SUMIF('00 Alimenta'!$B:$B,'00 PDC SP'!$F456,'00 Alimenta'!E:E)","v":0},{"$f":"SUMIF('00 Alimenta'!$B:$B,'00 PDC SP'!$F456,'00 Alimenta'!F:F)","v":0},{"$f":"SUMIF('00 Alimenta'!$B:$B,'00 PDC SP'!$F456,'00 Alimenta'!G:G)","v":0},{"$f":"SUMIF('00 Alimenta'!$B:$B,'00 PDC SP'!$F456,'00 Alimenta'!H:H)","v":0},{"$f":"SUMIF('00 Alimenta'!$B:$B,'00 PDC SP'!$F456,'00 Alimenta'!I:I)","v":0},{"$f":"K456+L456-M456","v":0}]
["PBA110","PB","PBA110",11,"","0203030402","Fondo finanziamento sanitario aggiuntivo corrente LEA da distribuire DG8",{"$f":"SUMIF('00 Alimenta'!$B:$B,'00 PDC SP'!$F457,'00 Alimenta'!D:D)","v":0},{"$f":"SUMIF('00 Alimenta'!$B:$B,'00 PDC SP'!$F457,'00 Alimenta'!E:E)","v":0},{"$f":"SUMIF('00 Alimenta'!$B:$B,'00 PDC SP'!$F457,'00 Alimenta'!F:F)","v":0},{"$f":"SUMIF('00 Alimenta'!$B:$B,'00 PDC SP'!$F457,'00 Alimenta'!G:G)","v":0},{"$f":"SUMIF('00 Alimenta'!$B:$B,'00 PDC SP'!$F457,'00 Alimenta'!H:H)","v":0},{"$f":"SUMIF('00 Alimenta'!$B:$B,'00 PDC SP'!$F457,'00 Alimenta'!I:I)","v":0},0]
["PBA110","PB","PBA110",11,"","0203030403","Fondo finanziamento sanitario aggiuntivo corrente LEA da distribuire DG12",{"$f":"SUMIF('00 Alimenta'!$B:$B,'00 PDC SP'!$F458,'00 Alimenta'!D:D)","v":0},{"$f":"SUMIF('00 Alimenta'!$B:$B,'00 PDC SP'!$F458,'00 Alimenta'!E:E)","v":0},{"$f":"SUMIF('00 Alimenta'!$B:$B,'00 PDC SP'!$F458,'00 Alimenta'!F:F)","v":0},{"$f":"SUMIF('00 Alimenta'!$B:$B,'00 PDC SP'!$F458,'00 Alimenta'!G:G)","v":0},{"$f":"SUMIF('00 Alimenta'!$B:$B,'00 PDC SP'!$F458,'00 Alimenta'!H:H)","v":0},{"$f":"SUMIF('00 Alimenta'!$B:$B,'00 PDC SP'!$F458,'00 Alimenta'!I:I)","v":0},0]
["PBA110","PB","PBA110",11,"","0203030404","Fondo finanziamento sanitario aggiuntivo corrente LEA da distribuire DG13",{"$f":"SUMIF('00 Alimenta'!$B:$B,'00 PDC SP'!$F459,'00 Alimenta'!D:D)","v":0},{"$f":"SUMIF('00 Alimenta'!$B:$B,'00 PDC SP'!$F459,'00 Alimenta'!E:E)","v":0},{"$f":"SUMIF('00 Alimenta'!$B:$B,'00 PDC SP'!$F459,'00 Alimenta'!F:F)","v":0},{"$f":"SUMIF('00 Alimenta'!$B:$B,'00 PDC SP'!$F459,'00 Alimenta'!G:G)","v":0},{"$f":"SUMIF('00 Alimenta'!$B:$B,'00 PDC SP'!$F459,'00 Alimenta'!H:H)","v":0},{"$f":"SUMIF('00 Alimenta'!$B:$B,'00 PDC SP'!$F459,'00 Alimenta'!I:I)","v":0},0]
["PBA110","PB","PBA110",11,"","0203030405","Fondo finanziamento sanitario aggiuntivo corrente LEA da distribuire DG16",{"$f":"SUMIF('00 Alimenta'!$B:$B,'00 PDC SP'!$F460,'00 Alimenta'!D:D)","v":0},{"$f":"SUMIF('00 Alimenta'!$B:$B,'00 PDC SP'!$F460,'00 Alimenta'!E:E)","v":0},{"$f":"SUMIF('00 Alimenta'!$B:$B,'00 PDC SP'!$F460,'00 Alimenta'!F:F)","v":0},{"$f":"SUMIF('00 Alimenta'!$B:$B,'00 PDC SP'!$F460,'00 Alimenta'!G:G)","v":0},{"$f":"SUMIF('00 Alimenta'!$B:$B,'00 PDC SP'!$F460,'00 Alimenta'!H:H)","v":0},{"$f":"SUMIF('00 Alimenta'!$B:$B,'00 PDC SP'!$F460,'00 Alimenta'!I:I)","v":0},0]
["PBA110","PB","PBA110",11,"","0203030406","Fondo finanziamento sanitario aggiuntivo corrente LEA da distribuire DG18",{"$f":"SUMIF('00 Alimenta'!$B:$B,'00 PDC SP'!$F461,'00 Alimenta'!D:D)","v":0},{"$f":"SUMIF('00 Alimenta'!$B:$B,'00 PDC SP'!$F461,'00 Alimenta'!E:E)","v":0},{"$f":"SUMIF('00 Alimenta'!$B:$B,'00 PDC SP'!$F461,'00 Alimenta'!F:F)","v":0},{"$f":"SUMIF('00 Alimenta'!$B:$B,'00 PDC SP'!$F461,'00 Alimenta'!G:G)","v":0},{"$f":"SUMIF('00 Alimenta'!$B:$B,'00 PDC SP'!$F461,'00 Alimenta'!H:H)","v":0},{"$f":"SUMIF('00 Alimenta'!$B:$B,'00 PDC SP'!$F461,'00 Alimenta'!I:I)","v":0},0]
["PBA110","PB","PBA110",11,"","0203030407","Fondo finanziamento sanitario aggiuntivo corrente LEA da distribuire DG19",{"$f":"SUMIF('00 Alimenta'!$B:$B,'00 PDC SP'!$F462,'00 Alimenta'!D:D)","v":0},{"$f":"SUMIF('00 Alimenta'!$B:$B,'00 PDC SP'!$F462,'00 Alimenta'!E:E)","v":0},{"$f":"SUMIF('00 Alimenta'!$B:$B,'00 PDC SP'!$F462,'00 Alimenta'!F:F)","v":0},{"$f":"SUMIF('00 Alimenta'!$B:$B,'00 PDC SP'!$F462,'00 Alimenta'!G:G)","v":0},{"$f":"SUMIF('00 Alimenta'!$B:$B,'00 PDC SP'!$F462,'00 Alimenta'!H:H)","v":0},{"$f":"SUMIF('00 Alimenta'!$B:$B,'00 PDC SP'!$F462,'00 Alimenta'!I:I)","v":0},0]
["PBA110","PB","PBA110",11,"","0203030408","Fondo finanziamento sanitario aggiuntivo corrente LEA da distribuire DG20",{"$f":"SUMIF('00 Alimenta'!$B:$B,'00 PDC SP'!$F463,'00 Alimenta'!D:D)","v":0},{"$f":"SUMIF('00 Alimenta'!$B:$B,'00 PDC SP'!$F463,'00 Alimenta'!E:E)","v":0},{"$f":"SUMIF('00 Alimenta'!$B:$B,'00 PDC SP'!$F463,'00 Alimenta'!F:F)","v":0},{"$f":"SUMIF('00 Alimenta'!$B:$B,'00 PDC SP'!$F463,'00 Alimenta'!G:G)","v":0},{"$f":"SUMIF('00 Alimenta'!$B:$B,'00 PDC SP'!$F463,'00 Alimenta'!H:H)","v":0},{"$f":"SUMIF('00 Alimenta'!$B:$B,'00 PDC SP'!$F463,'00 Alimenta'!I:I)","v":0},0]
["PBA110","PB","PBA110",11,"","0203030409","Fondo finanziamento sanitario aggiuntivo corrente LEA da distribuire DG21",{"$f":"SUMIF('00 Alimenta'!$B:$B,'00 PDC SP'!$F464,'00 Alimenta'!D:D)","v":0},{"$f":"SUMIF('00 Alimenta'!$B:$B,'00 PDC SP'!$F464,'00 Alimenta'!E:E)","v":0},{"$f":"SUMIF('00 Alimenta'!$B:$B,'00 PDC SP'!$F464,'00 Alimenta'!F:F)","v":0},{"$f":"SUMIF('00 Alimenta'!$B:$B,'00 PDC SP'!$F464,'00 Alimenta'!G:G)","v":0},{"$f":"SUMIF('00 Alimenta'!$B:$B,'00 PDC SP'!$F464,'00 Alimenta'!H:H)","v":0},{"$f":"SUMIF('00 Alimenta'!$B:$B,'00 PDC SP'!$F464,'00 Alimenta'!I:I)","v":0},0]
["PBA110","PB","PBA110",11,"","0203030410","Fondo finanziamento sanitario aggiuntivo corrente LEA da distribuire DG22",{"$f":"SUMIF('00 Alimenta'!$B:$B,'00 PDC SP'!$F465,'00 Alimenta'!D:D)","v":0},{"$f":"SUMIF('00 Alimenta'!$B:$B,'00 PDC SP'!$F465,'00 Alimenta'!E:E)","v":0},{"$f":"SUMIF('00 Alimenta'!$B:$B,'00 PDC SP'!$F465,'00 Alimenta'!F:F)","v":0},{"$f":"SUMIF('00 Alimenta'!$B:$B,'00 PDC SP'!$F465,'00 Alimenta'!G:G)","v":0},{"$f":"SUMIF('00 Alimenta'!$B:$B,'00 PDC SP'!$F465,'00 Alimenta'!H:H)","v":0},{"$f":"SUMIF('00 Alimenta'!$B:$B,'00 PDC SP'!$F465,'00 Alimenta'!I:I)","v":0},0]
["PBA110","PB","PBA110",11,"","0203030411","Fondo trasferimenti da AIFA",{"$f":"SUMIF('00 Alimenta'!$B:$B,'00 PDC SP'!$F466,'00 Alimenta'!D:D)","v":0},{"$f":"SUMIF('00 Alimenta'!$B:$B,'00 PDC SP'!$F466,'00 Alimenta'!E:E)","v":0},{"$f":"SUMIF('00 Alimenta'!$B:$B,'00 PDC SP'!$F466,'00 Alimenta'!F:F)","v":0},{"$f":"SUMIF('00 Alimenta'!$B:$B,'00 PDC SP'!$F466,'00 Alimenta'!G:G)","v":0},{"$f":"SUMIF('00 Alimenta'!$B:$B,'00 PDC SP'!$F466,'00 Alimenta'!H:H)","v":0},{"$f":"SUMIF('00 Alimenta'!$B:$B,'00 PDC SP'!$F466,'00 Alimenta'!I:I)","v":0},0]
["PBA110","PB","PBA110",11,null,"0203030412","Fondo finanziamento sanitario aggiuntivo corrente LEA da distribuire DPF002",{"$f":"SUMIF('00 Alimenta'!$B:$B,'00 PDC SP'!$F467,'00 Alimenta'!D:D)","v":0},{"$f":"SUMIF('00 Alimenta'!$B:$B,'00 PDC SP'!$F467,'00 Alimenta'!E:E)","v":0},{"$f":"SUMIF('00 Alimenta'!$B:$B,'00 PDC SP'!$F467,'00 Alimenta'!F:F)","v":0},{"$f":"SUMIF('00 Alimenta'!$B:$B,'00 PDC SP'!$F467,'00 Alimenta'!G:G)","v":0},{"$f":"SUMIF('00 Alimenta'!$B:$B,'00 PDC SP'!$F467,'00 Alimenta'!H:H)","v":0},{"$f":"SUMIF('00 Alimenta'!$B:$B,'00 PDC SP'!$F467,'00 Alimenta'!I:I)","v":0},0]
["PBA110","PB","PBA110",11,null,"0203030413","Fondo finanziamento sanitario aggiuntivo corrente LEA da distribuire DPF003",{"$f":"SUMIF('00 Alimenta'!$B:$B,'00 PDC SP'!$F468,'00 Alimenta'!D:D)","v":0},{"$f":"SUMIF('00 Alimenta'!$B:$B,'00 PDC SP'!$F468,'00 Alimenta'!E:E)","v":0},{"$f":"SUMIF('00 Alimenta'!$B:$B,'00 PDC SP'!$F468,'00 Alimenta'!F:F)","v":0},{"$f":"SUMIF('00 Alimenta'!$B:$B,'00 PDC SP'!$F468,'00 Alimenta'!G:G)","v":0},{"$f":"SUMIF('00 Alimenta'!$B:$B,'00 PDC SP'!$F468,'00 Alimenta'!H:H)","v":0},{"$f":"SUMIF('00 Alimenta'!$B:$B,'00 PDC SP'!$F468,'00 Alimenta'!I:I)","v":0},0]
["PBA110","PB","PBA110",11,null,"0203030414","Fondo finanziamento sanitario aggiuntivo corrente LEA da distribuire DPF004",{"$f":"SUMIF('00 Alimenta'!$B:$B,'00 PDC SP'!$F469,'00 Alimenta'!D:D)","v":0},{"$f":"SUMIF('00 Alimenta'!$B:$B,'00 PDC SP'!$F469,'00 Alimenta'!E:E)","v":0},{"$f":"SUMIF('00 Alimenta'!$B:$B,'00 PDC SP'!$F469,'00 Alimenta'!F:F)","v":0},{"$f":"SUMIF('00 Alimenta'!$B:$B,'00 PDC SP'!$F469,'00 Alimenta'!G:G)","v":0},{"$f":"SUMIF('00 Alimenta'!$B:$B,'00 PDC SP'!$F469,'00 Alimenta'!H:H)","v":0},{"$f":"SUMIF('00 Alimenta'!$B:$B,'00 PDC SP'!$F469,'00 Alimenta'!I:I)","v":0},0]
["PBA110","PB","PBA110",11,null,"0203030415","Fondo finanziamento sanitario aggiuntivo corrente LEA da distribuire DPF006",{"$f":"SUMIF('00 Alimenta'!$B:$B,'00 PDC SP'!$F470,'00 Alimenta'!D:D)","v":0},{"$f":"SUMIF('00 Alimenta'!$B:$B,'00 PDC SP'!$F470,'00 Alimenta'!E:E)","v":0},{"$f":"SUMIF('00 Alimenta'!$B:$B,'00 PDC SP'!$F470,'00 Alimenta'!F:F)","v":0},{"$f":"SUMIF('00 Alimenta'!$B:$B,'00 PDC SP'!$F470,'00 Alimenta'!G:G)","v":0},{"$f":"SUMIF('00 Alimenta'!$B:$B,'00 PDC SP'!$F470,'00 Alimenta'!H:H)","v":0},{"$f":"SUMIF('00 Alimenta'!$B:$B,'00 PDC SP'!$F470,'00 Alimenta'!I:I)","v":0},0]
[{"$f":"IF(E471=\"\",C471,C471&E471)","v":"PBA110"},"PB","PBA110",11,null,"0203030416","Fondo finanziamento sanitario aggiuntivo corrente LEA da distribuire DPF007",{"$f":"SUMIF('00 Alimenta'!$B:$B,'00 PDC SP'!$F471,'00 Alimenta'!D:D)","v":0},{"$f":"SUMIF('00 Alimenta'!$B:$B,'00 PDC SP'!$F471,'00 Alimenta'!E:E)","v":0},{"$f":"SUMIF('00 Alimenta'!$B:$B,'00 PDC SP'!$F471,'00 Alimenta'!F:F)","v":0},{"$f":"SUMIF('00 Alimenta'!$B:$B,'00 PDC SP'!$F471,'00 Alimenta'!G:G)","v":0},{"$f":"SUMIF('00 Alimenta'!$B:$B,'00 PDC SP'!$F471,'00 Alimenta'!H:H)","v":0},{"$f":"SUMIF('00 Alimenta'!$B:$B,'00 PDC SP'!$F471,'00 Alimenta'!I:I)","v":0},{"$f":"K471+L471-M471","v":0}]
["PBA110","PB","PBA110",11,null,"0203030417","Fondo finanziamento sanitario aggiuntivo corrente LEA da distribuire DPF009",{"$f":"SUMIF('00 Alimenta'!$B:$B,'00 PDC SP'!$F472,'00 Alimenta'!D:D)","v":0},{"$f":"SUMIF('00 Alimenta'!$B:$B,'00 PDC SP'!$F472,'00 Alimenta'!E:E)","v":0},{"$f":"SUMIF('00 Alimenta'!$B:$B,'00 PDC SP'!$F472,'00 Alimenta'!F:F)","v":0},{"$f":"SUMIF('00 Alimenta'!$B:$B,'00 PDC SP'!$F472,'00 Alimenta'!G:G)","v":0},{"$f":"SUMIF('00 Alimenta'!$B:$B,'00 PDC SP'!$F472,'00 Alimenta'!H:H)","v":0},{"$f":"SUMIF('00 Alimenta'!$B:$B,'00 PDC SP'!$F472,'00 Alimenta'!I:I)","v":0},0]
["PBA110","PB","PBA110",11,null,"0203030418","Fondo finanziamento sanitario aggiuntivo corrente LEA da distribuire DPF010",{"$f":"SUMIF('00 Alimenta'!$B:$B,'00 PDC SP'!$F473,'00 Alimenta'!D:D)","v":0},{"$f":"SUMIF('00 Alimenta'!$B:$B,'00 PDC SP'!$F473,'00 Alimenta'!E:E)","v":0},{"$f":"SUMIF('00 Alimenta'!$B:$B,'00 PDC SP'!$F473,'00 Alimenta'!F:F)","v":0},{"$f":"SUMIF('00 Alimenta'!$B:$B,'00 PDC SP'!$F473,'00 Alimenta'!G:G)","v":0},{"$f":"SUMIF('00 Alimenta'!$B:$B,'00 PDC SP'!$F473,'00 Alimenta'!H:H)","v":0},{"$f":"SUMIF('00 Alimenta'!$B:$B,'00 PDC SP'!$F473,'00 Alimenta'!I:I)","v":0},0]
["PBA110","PB","PBA110",11,null,"0203030419","Fondo finanziamento sanitario aggiuntivo corrente LEA da distribuire DPF011",{"$f":"SUMIF('00 Alimenta'!$B:$B,'00 PDC SP'!$F474,'00 Alimenta'!D:D)","v":0},{"$f":"SUMIF('00 Alimenta'!$B:$B,'00 PDC SP'!$F474,'00 Alimenta'!E:E)","v":0},{"$f":"SUMIF('00 Alimenta'!$B:$B,'00 PDC SP'!$F474,'00 Alimenta'!F:F)","v":0},{"$f":"SUMIF('00 Alimenta'!$B:$B,'00 PDC SP'!$F474,'00 Alimenta'!G:G)","v":0},{"$f":"SUMIF('00 Alimenta'!$B:$B,'00 PDC SP'!$F474,'00 Alimenta'!H:H)","v":0},{"$f":"SUMIF('00 Alimenta'!$B:$B,'00 PDC SP'!$F474,'00 Alimenta'!I:I)","v":0},0]
["PBA110","PB","PBA110",11,null,"0203030420","Fondo finanziamento sanitario aggiuntivo corrente LEA da distribuire DPF012",{"$f":"SUMIF('00 Alimenta'!$B:$B,'00 PDC SP'!$F475,'00 Alimenta'!D:D)","v":0},{"$f":"SUMIF('00 Alimenta'!$B:$B,'00 PDC SP'!$F475,'00 Alimenta'!E:E)","v":0},{"$f":"SUMIF('00 Alimenta'!$B:$B,'00 PDC SP'!$F475,'00 Alimenta'!F:F)","v":0},{"$f":"SUMIF('00 Alimenta'!$B:$B,'00 PDC SP'!$F475,'00 Alimenta'!G:G)","v":0},{"$f":"SUMIF('00 Alimenta'!$B:$B,'00 PDC SP'!$F475,'00 Alimenta'!H:H)","v":0},{"$f":"SUMIF('00 Alimenta'!$B:$B,'00 PDC SP'!$F475,'00 Alimenta'!I:I)","v":0},0]
["PBA110","PB","PBA110",11,null,"0203030421","Fondo finanziamento sanitario aggiuntivo corrente LEA da distribuire DPF013",{"$f":"SUMIF('00 Alimenta'!$B:$B,'00 PDC SP'!$F476,'00 Alimenta'!D:D)","v":0},{"$f":"SUMIF('00 Alimenta'!$B:$B,'00 PDC SP'!$F476,'00 Alimenta'!E:E)","v":0},{"$f":"SUMIF('00 Alimenta'!$B:$B,'00 PDC SP'!$F476,'00 Alimenta'!F:F)","v":0},{"$f":"SUMIF('00 Alimenta'!$B:$B,'00 PDC SP'!$F476,'00 Alimenta'!G:G)","v":0},{"$f":"SUMIF('00 Alimenta'!$B:$B,'00 PDC SP'!$F476,'00 Alimenta'!H:H)","v":0},{"$f":"SUMIF('00 Alimenta'!$B:$B,'00 PDC SP'!$F476,'00 Alimenta'!I:I)","v":0},0]
["PBA110","PB","PBA110",11,null,"0203030422","Fondo finanziamento sanitario aggiuntivo corrente LEA da distribuire DPF014",{"$f":"SUMIF('00 Alimenta'!$B:$B,'00 PDC SP'!$F477,'00 Alimenta'!D:D)","v":0},{"$f":"SUMIF('00 Alimenta'!$B:$B,'00 PDC SP'!$F477,'00 Alimenta'!E:E)","v":0},{"$f":"SUMIF('00 Alimenta'!$B:$B,'00 PDC SP'!$F477,'00 Alimenta'!F:F)","v":0},{"$f":"SUMIF('00 Alimenta'!$B:$B,'00 PDC SP'!$F477,'00 Alimenta'!G:G)","v":0},{"$f":"SUMIF('00 Alimenta'!$B:$B,'00 PDC SP'!$F477,'00 Alimenta'!H:H)","v":0},{"$f":"SUMIF('00 Alimenta'!$B:$B,'00 PDC SP'!$F477,'00 Alimenta'!I:I)","v":0},0]
["PBA110","PB","PBA110",11,null,"0203030423","Fondo finanziamento sanitario aggiuntivo corrente LEA da distribuire DPF015",{"$f":"SUMIF('00 Alimenta'!$B:$B,'00 PDC SP'!$F478,'00 Alimenta'!D:D)","v":0},{"$f":"SUMIF('00 Alimenta'!$B:$B,'00 PDC SP'!$F478,'00 Alimenta'!E:E)","v":0},{"$f":"SUMIF('00 Alimenta'!$B:$B,'00 PDC SP'!$F478,'00 Alimenta'!F:F)","v":0},{"$f":"SUMIF('00 Alimenta'!$B:$B,'00 PDC SP'!$F478,'00 Alimenta'!G:G)","v":0},{"$f":"SUMIF('00 Alimenta'!$B:$B,'00 PDC SP'!$F478,'00 Alimenta'!H:H)","v":0},{"$f":"SUMIF('00 Alimenta'!$B:$B,'00 PDC SP'!$F478,'00 Alimenta'!I:I)","v":0},0]
["PBA110","PB","PBA110",11,null,"0203030424","Fondo finanziamento sanitario aggiuntivo corrente LEA da distribuire DPF016",{"$f":"SUMIF('00 Alimenta'!$B:$B,'00 PDC SP'!$F479,'00 Alimenta'!D:D)","v":0},{"$f":"SUMIF('00 Alimenta'!$B:$B,'00 PDC SP'!$F479,'00 Alimenta'!E:E)","v":0},{"$f":"SUMIF('00 Alimenta'!$B:$B,'00 PDC SP'!$F479,'00 Alimenta'!F:F)","v":0},{"$f":"SUMIF('00 Alimenta'!$B:$B,'00 PDC SP'!$F479,'00 Alimenta'!G:G)","v":0},{"$f":"SUMIF('00 Alimenta'!$B:$B,'00 PDC SP'!$F479,'00 Alimenta'!H:H)","v":0},{"$f":"SUMIF('00 Alimenta'!$B:$B,'00 PDC SP'!$F479,'00 Alimenta'!I:I)","v":0},0]
["PBA110","PB","PBA110",11,null,"0203030425","Fondo finanziamento sanitario aggiuntivo corrente LEA da distribuire DPF017",{"$f":"SUMIF('00 Alimenta'!$B:$B,'00 PDC SP'!$F480,'00 Alimenta'!D:D)","v":0},{"$f":"SUMIF('00 Alimenta'!$B:$B,'00 PDC SP'!$F480,'00 Alimenta'!E:E)","v":0},{"$f":"SUMIF('00 Alimenta'!$B:$B,'00 PDC SP'!$F480,'00 Alimenta'!F:F)","v":0},{"$f":"SUMIF('00 Alimenta'!$B:$B,'00 PDC SP'!$F480,'00 Alimenta'!G:G)","v":0},{"$f":"SUMIF('00 Alimenta'!$B:$B,'00 PDC SP'!$F480,'00 Alimenta'!H:H)","v":0},{"$f":"SUMIF('00 Alimenta'!$B:$B,'00 PDC SP'!$F480,'00 Alimenta'!I:I)","v":0},0]
["PBA110","PB","PBA110",11,null,"0203030426","Fondo finanziamento sanitario aggiuntivo corrente LEA da distribuire DPF ",{"$f":"SUMIF('00 Alimenta'!$B:$B,'00 PDC SP'!$F481,'00 Alimenta'!D:D)","v":0},{"$f":"SUMIF('00 Alimenta'!$B:$B,'00 PDC SP'!$F481,'00 Alimenta'!E:E)","v":0},{"$f":"SUMIF('00 Alimenta'!$B:$B,'00 PDC SP'!$F481,'00 Alimenta'!F:F)","v":0},{"$f":"SUMIF('00 Alimenta'!$B:$B,'00 PDC SP'!$F481,'00 Alimenta'!G:G)","v":0},{"$f":"SUMIF('00 Alimenta'!$B:$B,'00 PDC SP'!$F481,'00 Alimenta'!H:H)","v":0},{"$f":"SUMIF('00 Alimenta'!$B:$B,'00 PDC SP'!$F481,'00 Alimenta'!I:I)","v":0},0]
["PBA120","PB","PBA120",11,"","0203030501","Fondo finanziamento sanitario aggiuntivo corrente extra LEA da distribuire DG1",{"$f":"SUMIF('00 Alimenta'!$B:$B,'00 PDC SP'!$F482,'00 Alimenta'!D:D)","v":0},{"$f":"SUMIF('00 Alimenta'!$B:$B,'00 PDC SP'!$F482,'00 Alimenta'!E:E)","v":0},{"$f":"SUMIF('00 Alimenta'!$B:$B,'00 PDC SP'!$F482,'00 Alimenta'!F:F)","v":0},{"$f":"SUMIF('00 Alimenta'!$B:$B,'00 PDC SP'!$F482,'00 Alimenta'!G:G)","v":0},{"$f":"SUMIF('00 Alimenta'!$B:$B,'00 PDC SP'!$F482,'00 Alimenta'!H:H)","v":0},{"$f":"SUMIF('00 Alimenta'!$B:$B,'00 PDC SP'!$F482,'00 Alimenta'!I:I)","v":0},0]
["PBA120","PB","PBA120",11,"","0203030502","Fondo finanziamento sanitario aggiuntivo corrente extra LEA da distribuire DG8",{"$f":"SUMIF('00 Alimenta'!$B:$B,'00 PDC SP'!$F483,'00 Alimenta'!D:D)","v":0},{"$f":"SUMIF('00 Alimenta'!$B:$B,'00 PDC SP'!$F483,'00 Alimenta'!E:E)","v":0},{"$f":"SUMIF('00 Alimenta'!$B:$B,'00 PDC SP'!$F483,'00 Alimenta'!F:F)","v":0},{"$f":"SUMIF('00 Alimenta'!$B:$B,'00 PDC SP'!$F483,'00 Alimenta'!G:G)","v":0},{"$f":"SUMIF('00 Alimenta'!$B:$B,'00 PDC SP'!$F483,'00 Alimenta'!H:H)","v":0},{"$f":"SUMIF('00 Alimenta'!$B:$B,'00 PDC SP'!$F483,'00 Alimenta'!I:I)","v":0},0]
["PBA120","PB","PBA120",11,"","0203030503","Fondo finanziamento sanitario aggiuntivo corrente extra LEA da distribuire DG12",{"$f":"SUMIF('00 Alimenta'!$B:$B,'00 PDC SP'!$F484,'00 Alimenta'!D:D)","v":0},{"$f":"SUMIF('00 Alimenta'!$B:$B,'00 PDC SP'!$F484,'00 Alimenta'!E:E)","v":0},{"$f":"SUMIF('00 Alimenta'!$B:$B,'00 PDC SP'!$F484,'00 Alimenta'!F:F)","v":0},{"$f":"SUMIF('00 Alimenta'!$B:$B,'00 PDC SP'!$F484,'00 Alimenta'!G:G)","v":0},{"$f":"SUMIF('00 Alimenta'!$B:$B,'00 PDC SP'!$F484,'00 Alimenta'!H:H)","v":0},{"$f":"SUMIF('00 Alimenta'!$B:$B,'00 PDC SP'!$F484,'00 Alimenta'!I:I)","v":0},0]
["PBA120","PB","PBA120",11,"","0203030504","Fondo finanziamento sanitario aggiuntivo corrente extra LEA da distribuire DG13",{"$f":"SUMIF('00 Alimenta'!$B:$B,'00 PDC SP'!$F485,'00 Alimenta'!D:D)","v":0},{"$f":"SUMIF('00 Alimenta'!$B:$B,'00 PDC SP'!$F485,'00 Alimenta'!E:E)","v":0},{"$f":"SUMIF('00 Alimenta'!$B:$B,'00 PDC SP'!$F485,'00 Alimenta'!F:F)","v":0},{"$f":"SUMIF('00 Alimenta'!$B:$B,'00 PDC SP'!$F485,'00 Alimenta'!G:G)","v":0},{"$f":"SUMIF('00 Alimenta'!$B:$B,'00 PDC SP'!$F485,'00 Alimenta'!H:H)","v":0},{"$f":"SUMIF('00 Alimenta'!$B:$B,'00 PDC SP'!$F485,'00 Alimenta'!I:I)","v":0},0]
["PBA120","PB","PBA120",11,"","0203030505","Fondo finanziamento sanitario aggiuntivo corrente extra LEA da distribuire DG16",{"$f":"SUMIF('00 Alimenta'!$B:$B,'00 PDC SP'!$F486,'00 Alimenta'!D:D)","v":0},{"$f":"SUMIF('00 Alimenta'!$B:$B,'00 PDC SP'!$F486,'00 Alimenta'!E:E)","v":0},{"$f":"SUMIF('00 Alimenta'!$B:$B,'00 PDC SP'!$F486,'00 Alimenta'!F:F)","v":0},{"$f":"SUMIF('00 Alimenta'!$B:$B,'00 PDC SP'!$F486,'00 Alimenta'!G:G)","v":0},{"$f":"SUMIF('00 Alimenta'!$B:$B,'00 PDC SP'!$F486,'00 Alimenta'!H:H)","v":0},{"$f":"SUMIF('00 Alimenta'!$B:$B,'00 PDC SP'!$F486,'00 Alimenta'!I:I)","v":0},0]
["PBA120","PB","PBA120",11,"","0203030506","Fondo finanziamento sanitario aggiuntivo corrente extra LEA da distribuire DG18",{"$f":"SUMIF('00 Alimenta'!$B:$B,'00 PDC SP'!$F487,'00 Alimenta'!D:D)","v":0},{"$f":"SUMIF('00 Alimenta'!$B:$B,'00 PDC SP'!$F487,'00 Alimenta'!E:E)","v":0},{"$f":"SUMIF('00 Alimenta'!$B:$B,'00 PDC SP'!$F487,'00 Alimenta'!F:F)","v":0},{"$f":"SUMIF('00 Alimenta'!$B:$B,'00 PDC SP'!$F487,'00 Alimenta'!G:G)","v":0},{"$f":"SUMIF('00 Alimenta'!$B:$B,'00 PDC SP'!$F487,'00 Alimenta'!H:H)","v":0},{"$f":"SUMIF('00 Alimenta'!$B:$B,'00 PDC SP'!$F487,'00 Alimenta'!I:I)","v":0},0]
["PBA120","PB","PBA120",11,"","0203030507","Fondo finanziamento sanitario aggiuntivo corrente extra LEA da distribuire DG19",{"$f":"SUMIF('00 Alimenta'!$B:$B,'00 PDC SP'!$F488,'00 Alimenta'!D:D)","v":0},{"$f":"SUMIF('00 Alimenta'!$B:$B,'00 PDC SP'!$F488,'00 Alimenta'!E:E)","v":0},{"$f":"SUMIF('00 Alimenta'!$B:$B,'00 PDC SP'!$F488,'00 Alimenta'!F:F)","v":0},{"$f":"SUMIF('00 Alimenta'!$B:$B,'00 PDC SP'!$F488,'00 Alimenta'!G:G)","v":0},{"$f":"SUMIF('00 Alimenta'!$B:$B,'00 PDC SP'!$F488,'00 Alimenta'!H:H)","v":0},{"$f":"SUMIF('00 Alimenta'!$B:$B,'00 PDC SP'!$F488,'00 Alimenta'!I:I)","v":0},0]
["PBA120","PB","PBA120",11,"","0203030508","Fondo finanziamento sanitario aggiuntivo corrente extra LEA da distribuire DG20",{"$f":"SUMIF('00 Alimenta'!$B:$B,'00 PDC SP'!$F489,'00 Alimenta'!D:D)","v":0},{"$f":"SUMIF('00 Alimenta'!$B:$B,'00 PDC SP'!$F489,'00 Alimenta'!E:E)","v":0},{"$f":"SUMIF('00 Alimenta'!$B:$B,'00 PDC SP'!$F489,'00 Alimenta'!F:F)","v":0},{"$f":"SUMIF('00 Alimenta'!$B:$B,'00 PDC SP'!$F489,'00 Alimenta'!G:G)","v":0},{"$f":"SUMIF('00 Alimenta'!$B:$B,'00 PDC SP'!$F489,'00 Alimenta'!H:H)","v":0},{"$f":"SUMIF('00 Alimenta'!$B:$B,'00 PDC SP'!$F489,'00 Alimenta'!I:I)","v":0},0]
["PBA120","PB","PBA120",11,"","0203030509","Fondo finanziamento sanitario aggiuntivo corrente extra LEA da distribuire DG21",{"$f":"SUMIF('00 Alimenta'!$B:$B,'00 PDC SP'!$F490,'00 Alimenta'!D:D)","v":0},{"$f":"SUMIF('00 Alimenta'!$B:$B,'00 PDC SP'!$F490,'00 Alimenta'!E:E)","v":0},{"$f":"SUMIF('00 Alimenta'!$B:$B,'00 PDC SP'!$F490,'00 Alimenta'!F:F)","v":0},{"$f":"SUMIF('00 Alimenta'!$B:$B,'00 PDC SP'!$F490,'00 Alimenta'!G:G)","v":0},{"$f":"SUMIF('00 Alimenta'!$B:$B,'00 PDC SP'!$F490,'00 Alimenta'!H:H)","v":0},{"$f":"SUMIF('00 Alimenta'!$B:$B,'00 PDC SP'!$F490,'00 Alimenta'!I:I)","v":0},0]
["PBA120","PB","PBA120",11,"","0203030510","Fondo finanziamento sanitario aggiuntivo corrente extra LEA da distribuire DG22",{"$f":"SUMIF('00 Alimenta'!$B:$B,'00 PDC SP'!$F491,'00 Alimenta'!D:D)","v":0},{"$f":"SUMIF('00 Alimenta'!$B:$B,'00 PDC SP'!$F491,'00 Alimenta'!E:E)","v":0},{"$f":"SUMIF('00 Alimenta'!$B:$B,'00 PDC SP'!$F491,'00 Alimenta'!F:F)","v":0},{"$f":"SUMIF('00 Alimenta'!$B:$B,'00 PDC SP'!$F491,'00 Alimenta'!G:G)","v":0},{"$f":"SUMIF('00 Alimenta'!$B:$B,'00 PDC SP'!$F491,'00 Alimenta'!H:H)","v":0},{"$f":"SUMIF('00 Alimenta'!$B:$B,'00 PDC SP'!$F491,'00 Alimenta'!I:I)","v":0},0]
["PBA120","PB","PBA120",11,null,"0203030511","Fondo finanziamento sanitario aggiuntivo corrente extra LEA da distribuire DPF002",{"$f":"SUMIF('00 Alimenta'!$B:$B,'00 PDC SP'!$F492,'00 Alimenta'!D:D)","v":0},{"$f":"SUMIF('00 Alimenta'!$B:$B,'00 PDC SP'!$F492,'00 Alimenta'!E:E)","v":0},{"$f":"SUMIF('00 Alimenta'!$B:$B,'00 PDC SP'!$F492,'00 Alimenta'!F:F)","v":0},{"$f":"SUMIF('00 Alimenta'!$B:$B,'00 PDC SP'!$F492,'00 Alimenta'!G:G)","v":0},{"$f":"SUMIF('00 Alimenta'!$B:$B,'00 PDC SP'!$F492,'00 Alimenta'!H:H)","v":0},{"$f":"SUMIF('00 Alimenta'!$B:$B,'00 PDC SP'!$F492,'00 Alimenta'!I:I)","v":0},0]
["PBA120","PB","PBA120",11,null,"0203030512","Fondo finanziamento sanitario aggiuntivo corrente extra LEA da distribuire DPF003",{"$f":"SUMIF('00 Alimenta'!$B:$B,'00 PDC SP'!$F493,'00 Alimenta'!D:D)","v":0},{"$f":"SUMIF('00 Alimenta'!$B:$B,'00 PDC SP'!$F493,'00 Alimenta'!E:E)","v":0},{"$f":"SUMIF('00 Alimenta'!$B:$B,'00 PDC SP'!$F493,'00 Alimenta'!F:F)","v":0},{"$f":"SUMIF('00 Alimenta'!$B:$B,'00 PDC SP'!$F493,'00 Alimenta'!G:G)","v":0},{"$f":"SUMIF('00 Alimenta'!$B:$B,'00 PDC SP'!$F493,'00 Alimenta'!H:H)","v":0},{"$f":"SUMIF('00 Alimenta'!$B:$B,'00 PDC SP'!$F493,'00 Alimenta'!I:I)","v":0},0]
["PBA120","PB","PBA120",11,null,"0203030513","Fondo finanziamento sanitario aggiuntivo corrente extra LEA da distribuire DPF004",{"$f":"SUMIF('00 Alimenta'!$B:$B,'00 PDC SP'!$F494,'00 Alimenta'!D:D)","v":0},{"$f":"SUMIF('00 Alimenta'!$B:$B,'00 PDC SP'!$F494,'00 Alimenta'!E:E)","v":0},{"$f":"SUMIF('00 Alimenta'!$B:$B,'00 PDC SP'!$F494,'00 Alimenta'!F:F)","v":0},{"$f":"SUMIF('00 Alimenta'!$B:$B,'00 PDC SP'!$F494,'00 Alimenta'!G:G)","v":0},{"$f":"SUMIF('00 Alimenta'!$B:$B,'00 PDC SP'!$F494,'00 Alimenta'!H:H)","v":0},{"$f":"SUMIF('00 Alimenta'!$B:$B,'00 PDC SP'!$F494,'00 Alimenta'!I:I)","v":0},0]
["PBA120","PB","PBA120",11,null,"0203030514","Fondo finanziamento sanitario aggiuntivo corrente extra LEA da distribuire DPF006",{"$f":"SUMIF('00 Alimenta'!$B:$B,'00 PDC SP'!$F495,'00 Alimenta'!D:D)","v":0},{"$f":"SUMIF('00 Alimenta'!$B:$B,'00 PDC SP'!$F495,'00 Alimenta'!E:E)","v":0},{"$f":"SUMIF('00 Alimenta'!$B:$B,'00 PDC SP'!$F495,'00 Alimenta'!F:F)","v":0},{"$f":"SUMIF('00 Alimenta'!$B:$B,'00 PDC SP'!$F495,'00 Alimenta'!G:G)","v":0},{"$f":"SUMIF('00 Alimenta'!$B:$B,'00 PDC SP'!$F495,'00 Alimenta'!H:H)","v":0},{"$f":"SUMIF('00 Alimenta'!$B:$B,'00 PDC SP'!$F495,'00 Alimenta'!I:I)","v":0},0]
["PBA120","PB","PBA120",11,null,"0203030515","Fondo finanziamento sanitario aggiuntivo corrente extra LEA da distribuire DPF007",{"$f":"SUMIF('00 Alimenta'!$B:$B,'00 PDC SP'!$F496,'00 Alimenta'!D:D)","v":0},{"$f":"SUMIF('00 Alimenta'!$B:$B,'00 PDC SP'!$F496,'00 Alimenta'!E:E)","v":0},{"$f":"SUMIF('00 Alimenta'!$B:$B,'00 PDC SP'!$F496,'00 Alimenta'!F:F)","v":0},{"$f":"SUMIF('00 Alimenta'!$B:$B,'00 PDC SP'!$F496,'00 Alimenta'!G:G)","v":0},{"$f":"SUMIF('00 Alimenta'!$B:$B,'00 PDC SP'!$F496,'00 Alimenta'!H:H)","v":0},{"$f":"SUMIF('00 Alimenta'!$B:$B,'00 PDC SP'!$F496,'00 Alimenta'!I:I)","v":0},0]
["PBA120","PB","PBA120",11,null,"0203030516","Fondo finanziamento sanitario aggiuntivo corrente extra LEA da distribuire DPF009",{"$f":"SUMIF('00 Alimenta'!$B:$B,'00 PDC SP'!$F497,'00 Alimenta'!D:D)","v":0},{"$f":"SUMIF('00 Alimenta'!$B:$B,'00 PDC SP'!$F497,'00 Alimenta'!E:E)","v":0},{"$f":"SUMIF('00 Alimenta'!$B:$B,'00 PDC SP'!$F497,'00 Alimenta'!F:F)","v":0},{"$f":"SUMIF('00 Alimenta'!$B:$B,'00 PDC SP'!$F497,'00 Alimenta'!G:G)","v":0},{"$f":"SUMIF('00 Alimenta'!$B:$B,'00 PDC SP'!$F497,'00 Alimenta'!H:H)","v":0},{"$f":"SUMIF('00 Alimenta'!$B:$B,'00 PDC SP'!$F497,'00 Alimenta'!I:I)","v":0},0]
["PBA120","PB","PBA120",11,null,"0203030517","Fondo finanziamento sanitario aggiuntivo corrente extra LEA da distribuire DPF010",{"$f":"SUMIF('00 Alimenta'!$B:$B,'00 PDC SP'!$F498,'00 Alimenta'!D:D)","v":0},{"$f":"SUMIF('00 Alimenta'!$B:$B,'00 PDC SP'!$F498,'00 Alimenta'!E:E)","v":0},{"$f":"SUMIF('00 Alimenta'!$B:$B,'00 PDC SP'!$F498,'00 Alimenta'!F:F)","v":0},{"$f":"SUMIF('00 Alimenta'!$B:$B,'00 PDC SP'!$F498,'00 Alimenta'!G:G)","v":0},{"$f":"SUMIF('00 Alimenta'!$B:$B,'00 PDC SP'!$F498,'00 Alimenta'!H:H)","v":0},{"$f":"SUMIF('00 Alimenta'!$B:$B,'00 PDC SP'!$F498,'00 Alimenta'!I:I)","v":0},0]
["PBA120","PB","PBA120",11,null,"0203030518","Fondo finanziamento sanitario aggiuntivo corrente extra LEA da distribuire DPF011",{"$f":"SUMIF('00 Alimenta'!$B:$B,'00 PDC SP'!$F499,'00 Alimenta'!D:D)","v":0},{"$f":"SUMIF('00 Alimenta'!$B:$B,'00 PDC SP'!$F499,'00 Alimenta'!E:E)","v":0},{"$f":"SUMIF('00 Alimenta'!$B:$B,'00 PDC SP'!$F499,'00 Alimenta'!F:F)","v":0},{"$f":"SUMIF('00 Alimenta'!$B:$B,'00 PDC SP'!$F499,'00 Alimenta'!G:G)","v":0},{"$f":"SUMIF('00 Alimenta'!$B:$B,'00 PDC SP'!$F499,'00 Alimenta'!H:H)","v":0},{"$f":"SUMIF('00 Alimenta'!$B:$B,'00 PDC SP'!$F499,'00 Alimenta'!I:I)","v":0},0]
["PBA120","PB","PBA120",11,null,"0203030519","Fondo finanziamento sanitario aggiuntivo corrente extra LEA da distribuire DPF012",{"$f":"SUMIF('00 Alimenta'!$B:$B,'00 PDC SP'!$F500,'00 Alimenta'!D:D)","v":0},{"$f":"SUMIF('00 Alimenta'!$B:$B,'00 PDC SP'!$F500,'00 Alimenta'!E:E)","v":0},{"$f":"SUMIF('00 Alimenta'!$B:$B,'00 PDC SP'!$F500,'00 Alimenta'!F:F)","v":0},{"$f":"SUMIF('00 Alimenta'!$B:$B,'00 PDC SP'!$F500,'00 Alimenta'!G:G)","v":0},{"$f":"SUMIF('00 Alimenta'!$B:$B,'00 PDC SP'!$F500,'00 Alimenta'!H:H)","v":0},{"$f":"SUMIF('00 Alimenta'!$B:$B,'00 PDC SP'!$F500,'00 Alimenta'!I:I)","v":0},0]
["PBA120","PB","PBA120",11,null,"0203030520","Fondo finanziamento sanitario aggiuntivo corrente extra LEA da distribuire DPF013",{"$f":"SUMIF('00 Alimenta'!$B:$B,'00 PDC SP'!$F501,'00 Alimenta'!D:D)","v":0},{"$f":"SUMIF('00 Alimenta'!$B:$B,'00 PDC SP'!$F501,'00 Alimenta'!E:E)","v":0},{"$f":"SUMIF('00 Alimenta'!$B:$B,'00 PDC SP'!$F501,'00 Alimenta'!F:F)","v":0},{"$f":"SUMIF('00 Alimenta'!$B:$B,'00 PDC SP'!$F501,'00 Alimenta'!G:G)","v":0},{"$f":"SUMIF('00 Alimenta'!$B:$B,'00 PDC SP'!$F501,'00 Alimenta'!H:H)","v":0},{"$f":"SUMIF('00 Alimenta'!$B:$B,'00 PDC SP'!$F501,'00 Alimenta'!I:I)","v":0},0]
["PBA120","PB","PBA120",11,null,"0203030521","Fondo finanziamento sanitario aggiuntivo corrente extra LEA da distribuire DPF014",{"$f":"SUMIF('00 Alimenta'!$B:$B,'00 PDC SP'!$F502,'00 Alimenta'!D:D)","v":0},{"$f":"SUMIF('00 Alimenta'!$B:$B,'00 PDC SP'!$F502,'00 Alimenta'!E:E)","v":0},{"$f":"SUMIF('00 Alimenta'!$B:$B,'00 PDC SP'!$F502,'00 Alimenta'!F:F)","v":0},{"$f":"SUMIF('00 Alimenta'!$B:$B,'00 PDC SP'!$F502,'00 Alimenta'!G:G)","v":0},{"$f":"SUMIF('00 Alimenta'!$B:$B,'00 PDC SP'!$F502,'00 Alimenta'!H:H)","v":0},{"$f":"SUMIF('00 Alimenta'!$B:$B,'00 PDC SP'!$F502,'00 Alimenta'!I:I)","v":0},0]
["PBA120","PB","PBA120",11,null,"0203030522","Fondo finanziamento sanitario aggiuntivo corrente extra LEA da distribuire DPF015",{"$f":"SUMIF('00 Alimenta'!$B:$B,'00 PDC SP'!$F503,'00 Alimenta'!D:D)","v":0},{"$f":"SUMIF('00 Alimenta'!$B:$B,'00 PDC SP'!$F503,'00 Alimenta'!E:E)","v":0},{"$f":"SUMIF('00 Alimenta'!$B:$B,'00 PDC SP'!$F503,'00 Alimenta'!F:F)","v":0},{"$f":"SUMIF('00 Alimenta'!$B:$B,'00 PDC SP'!$F503,'00 Alimenta'!G:G)","v":0},{"$f":"SUMIF('00 Alimenta'!$B:$B,'00 PDC SP'!$F503,'00 Alimenta'!H:H)","v":0},{"$f":"SUMIF('00 Alimenta'!$B:$B,'00 PDC SP'!$F503,'00 Alimenta'!I:I)","v":0},0]
["PBA120","PB","PBA120",11,null,"0203030523","Fondo finanziamento sanitario aggiuntivo corrente extra LEA da distribuire DPF016",{"$f":"SUMIF('00 Alimenta'!$B:$B,'00 PDC SP'!$F504,'00 Alimenta'!D:D)","v":0},{"$f":"SUMIF('00 Alimenta'!$B:$B,'00 PDC SP'!$F504,'00 Alimenta'!E:E)","v":0},{"$f":"SUMIF('00 Alimenta'!$B:$B,'00 PDC SP'!$F504,'00 Alimenta'!F:F)","v":0},{"$f":"SUMIF('00 Alimenta'!$B:$B,'00 PDC SP'!$F504,'00 Alimenta'!G:G)","v":0},{"$f":"SUMIF('00 Alimenta'!$B:$B,'00 PDC SP'!$F504,'00 Alimenta'!H:H)","v":0},{"$f":"SUMIF('00 Alimenta'!$B:$B,'00 PDC SP'!$F504,'00 Alimenta'!I:I)","v":0},0]
["PBA120","PB","PBA120",11,null,"0203030524","Fondo finanziamento sanitario aggiuntivo corrente extra LEA da distribuire DPF017",{"$f":"SUMIF('00 Alimenta'!$B:$B,'00 PDC SP'!$F505,'00 Alimenta'!D:D)","v":0},{"$f":"SUMIF('00 Alimenta'!$B:$B,'00 PDC SP'!$F505,'00 Alimenta'!E:E)","v":0},{"$f":"SUMIF('00 Alimenta'!$B:$B,'00 PDC SP'!$F505,'00 Alimenta'!F:F)","v":0},{"$f":"SUMIF('00 Alimenta'!$B:$B,'00 PDC SP'!$F505,'00 Alimenta'!G:G)","v":0},{"$f":"SUMIF('00 Alimenta'!$B:$B,'00 PDC SP'!$F505,'00 Alimenta'!H:H)","v":0},{"$f":"SUMIF('00 Alimenta'!$B:$B,'00 PDC SP'!$F505,'00 Alimenta'!I:I)","v":0},0]
[{"$f":"IF(E506=\"\",C506,C506&E506)","v":"PBA130"},"PB","PBA130",11,"","0203030601","Fondo finanziamento per ricerca ",null,null,null,{"$f":"SUMIF('00 Alimenta'!$B:$B,'00 PDC SP'!$F506,'00 Alimenta'!G:G)","v":0},{"$f":"SUMIF('00 Alimenta'!$B:$B,'00 PDC SP'!$F506,'00 Alimenta'!H:H)","v":0},{"$f":"SUMIF('00 Alimenta'!$B:$B,'00 PDC SP'!$F506,'00 Alimenta'!I:I)","v":0},{"$f":"K506+L506-M506","v":0}]
["PBA140","PB","PBA140",11,"","0203030701","Fondo finanziamento per investimenti  ",{"$f":"SUMIF('00 Alimenta'!$B:$B,'00 PDC SP'!$F507,'00 Alimenta'!D:D)","v":0},{"$f":"SUMIF('00 Alimenta'!$B:$B,'00 PDC SP'!$F507,'00 Alimenta'!E:E)","v":0},{"$f":"SUMIF('00 Alimenta'!$B:$B,'00 PDC SP'!$F507,'00 Alimenta'!F:F)","v":0},{"$f":"SUMIF('00 Alimenta'!$B:$B,'00 PDC SP'!$F507,'00 Alimenta'!G:G)","v":0},{"$f":"SUMIF('00 Alimenta'!$B:$B,'00 PDC SP'!$F507,'00 Alimenta'!H:H)","v":0},{"$f":"SUMIF('00 Alimenta'!$B:$B,'00 PDC SP'!$F507,'00 Alimenta'!I:I)","v":0},0]
["PBA141","PB","PBA141",11,null,"0203030702","Fondo finanziamento sanitario aggiuntivo corrente (extra fondo) - Risorse aggiuntive da bilancio regionale a titolo di copertura extra LEA",{"$f":"SUMIF('00 Alimenta'!$B:$B,'00 PDC SP'!$F508,'00 Alimenta'!D:D)","v":0},{"$f":"SUMIF('00 Alimenta'!$B:$B,'00 PDC SP'!$F508,'00 Alimenta'!E:E)","v":0},{"$f":"SUMIF('00 Alimenta'!$B:$B,'00 PDC SP'!$F508,'00 Alimenta'!F:F)","v":0},{"$f":"SUMIF('00 Alimenta'!$B:$B,'00 PDC SP'!$F508,'00 Alimenta'!G:G)","v":0},{"$f":"SUMIF('00 Alimenta'!$B:$B,'00 PDC SP'!$F508,'00 Alimenta'!H:H)","v":0},{"$f":"SUMIF('00 Alimenta'!$B:$B,'00 PDC SP'!$F508,'00 Alimenta'!I:I)","v":0},0]
["PBA160","PB","PBA160",11,"","0203040101","Quote inutilizzate contributi da Regione o Prov. Aut. per quota F.S. vincolato",{"$f":"SUMIF('00 Alimenta'!$B:$B,'00 PDC SP'!$F509,'00 Alimenta'!D:D)","v":0},{"$f":"SUMIF('00 Alimenta'!$B:$B,'00 PDC SP'!$F509,'00 Alimenta'!E:E)","v":0},{"$f":"SUMIF('00 Alimenta'!$B:$B,'00 PDC SP'!$F509,'00 Alimenta'!F:F)","v":0},{"$f":"SUMIF('00 Alimenta'!$B:$B,'00 PDC SP'!$F509,'00 Alimenta'!G:G)","v":0},{"$f":"SUMIF('00 Alimenta'!$B:$B,'00 PDC SP'!$F509,'00 Alimenta'!H:H)","v":0},{"$f":"SUMIF('00 Alimenta'!$B:$B,'00 PDC SP'!$F509,'00 Alimenta'!I:I)","v":0},0]
["PBA160","PB","PBA160",11,"","0203040102","Quote inutilizzate contributi da Regione per rinnovo convenzioni L 133/08",{"$f":"SUMIF('00 Alimenta'!$B:$B,'00 PDC SP'!$F510,'00 Alimenta'!D:D)","v":0},{"$f":"SUMIF('00 Alimenta'!$B:$B,'00 PDC SP'!$F510,'00 Alimenta'!E:E)","v":0},{"$f":"SUMIF('00 Alimenta'!$B:$B,'00 PDC SP'!$F510,'00 Alimenta'!F:F)","v":0},{"$f":"SUMIF('00 Alimenta'!$B:$B,'00 PDC SP'!$F510,'00 Alimenta'!G:G)","v":0},{"$f":"SUMIF('00 Alimenta'!$B:$B,'00 PDC SP'!$F510,'00 Alimenta'!H:H)","v":0},{"$f":"SUMIF('00 Alimenta'!$B:$B,'00 PDC SP'!$F510,'00 Alimenta'!I:I)","v":0},0]
["PBA160","PB","PBA160",11,"","0203040103","Quote inutilizzate contributi da Regione per emersione extracomunitari L. 102/09 art. 1 ter, comma 17 e D.Lgs. 109/2012 art. 5, comma 16",{"$f":"SUMIF('00 Alimenta'!$B:$B,'00 PDC SP'!$F511,'00 Alimenta'!D:D)","v":0},{"$f":"SUMIF('00 Alimenta'!$B:$B,'00 PDC SP'!$F511,'00 Alimenta'!E:E)","v":0},{"$f":"SUMIF('00 Alimenta'!$B:$B,'00 PDC SP'!$F511,'00 Alimenta'!F:F)","v":0},{"$f":"SUMIF('00 Alimenta'!$B:$B,'00 PDC SP'!$F511,'00 Alimenta'!G:G)","v":0},{"$f":"SUMIF('00 Alimenta'!$B:$B,'00 PDC SP'!$F511,'00 Alimenta'!H:H)","v":0},{"$f":"SUMIF('00 Alimenta'!$B:$B,'00 PDC SP'!$F511,'00 Alimenta'!I:I)","v":0},0]
["PBA160","PB","PBA160",11,"","0203040104","Quote inutilizzate contributi da Regione per medicina Penitenziaria art. 2 co. 283 L. 244/07",{"$f":"SUMIF('00 Alimenta'!$B:$B,'00 PDC SP'!$F512,'00 Alimenta'!D:D)","v":0},{"$f":"SUMIF('00 Alimenta'!$B:$B,'00 PDC SP'!$F512,'00 Alimenta'!E:E)","v":0},{"$f":"SUMIF('00 Alimenta'!$B:$B,'00 PDC SP'!$F512,'00 Alimenta'!F:F)","v":0},{"$f":"SUMIF('00 Alimenta'!$B:$B,'00 PDC SP'!$F512,'00 Alimenta'!G:G)","v":0},{"$f":"SUMIF('00 Alimenta'!$B:$B,'00 PDC SP'!$F512,'00 Alimenta'!H:H)","v":0},{"$f":"SUMIF('00 Alimenta'!$B:$B,'00 PDC SP'!$F512,'00 Alimenta'!I:I)","v":0},0]
["PBA160","PB","PBA160",11,"","0203040105","Quote inutilizzate contributi da Regione per medicina Penitenziaria Dlvo 230/99",{"$f":"SUMIF('00 Alimenta'!$B:$B,'00 PDC SP'!$F513,'00 Alimenta'!D:D)","v":0},{"$f":"SUMIF('00 Alimenta'!$B:$B,'00 PDC SP'!$F513,'00 Alimenta'!E:E)","v":0},{"$f":"SUMIF('00 Alimenta'!$B:$B,'00 PDC SP'!$F513,'00 Alimenta'!F:F)","v":0},{"$f":"SUMIF('00 Alimenta'!$B:$B,'00 PDC SP'!$F513,'00 Alimenta'!G:G)","v":0},{"$f":"SUMIF('00 Alimenta'!$B:$B,'00 PDC SP'!$F513,'00 Alimenta'!H:H)","v":0},{"$f":"SUMIF('00 Alimenta'!$B:$B,'00 PDC SP'!$F513,'00 Alimenta'!I:I)","v":0},0]
["PBA160","PB","PBA160",11,"","0203040106","Quote inutilizzate contributi da Regione per hanseniani L 31/86",{"$f":"SUMIF('00 Alimenta'!$B:$B,'00 PDC SP'!$F514,'00 Alimenta'!D:D)","v":0},{"$f":"SUMIF('00 Alimenta'!$B:$B,'00 PDC SP'!$F514,'00 Alimenta'!E:E)","v":0},{"$f":"SUMIF('00 Alimenta'!$B:$B,'00 PDC SP'!$F514,'00 Alimenta'!F:F)","v":0},{"$f":"SUMIF('00 Alimenta'!$B:$B,'00 PDC SP'!$F514,'00 Alimenta'!G:G)","v":0},{"$f":"SUMIF('00 Alimenta'!$B:$B,'00 PDC SP'!$F514,'00 Alimenta'!H:H)","v":0},{"$f":"SUMIF('00 Alimenta'!$B:$B,'00 PDC SP'!$F514,'00 Alimenta'!I:I)","v":0},0]
["PBA160","PB","PBA160",11,"","0203040107","Quote inutilizzate contributi da Regione per Fibrosi Cistica L 362/98",{"$f":"SUMIF('00 Alimenta'!$B:$B,'00 PDC SP'!$F515,'00 Alimenta'!D:D)","v":0},{"$f":"SUMIF('00 Alimenta'!$B:$B,'00 PDC SP'!$F515,'00 Alimenta'!E:E)","v":0},{"$f":"SUMIF('00 Alimenta'!$B:$B,'00 PDC SP'!$F515,'00 Alimenta'!F:F)","v":0},{"$f":"SUMIF('00 Alimenta'!$B:$B,'00 PDC SP'!$F515,'00 Alimenta'!G:G)","v":0},{"$f":"SUMIF('00 Alimenta'!$B:$B,'00 PDC SP'!$F515,'00 Alimenta'!H:H)","v":0},{"$f":"SUMIF('00 Alimenta'!$B:$B,'00 PDC SP'!$F515,'00 Alimenta'!I:I)","v":0},0]
["PBA160","PB","PBA160",11,"","0203040108","Quote inutilizzate contributi da Regione per Extracomunitari irregolari L 40/98",{"$f":"SUMIF('00 Alimenta'!$B:$B,'00 PDC SP'!$F516,'00 Alimenta'!D:D)","v":0},{"$f":"SUMIF('00 Alimenta'!$B:$B,'00 PDC SP'!$F516,'00 Alimenta'!E:E)","v":0},{"$f":"SUMIF('00 Alimenta'!$B:$B,'00 PDC SP'!$F516,'00 Alimenta'!F:F)","v":0},{"$f":"SUMIF('00 Alimenta'!$B:$B,'00 PDC SP'!$F516,'00 Alimenta'!G:G)","v":0},{"$f":"SUMIF('00 Alimenta'!$B:$B,'00 PDC SP'!$F516,'00 Alimenta'!H:H)","v":0},{"$f":"SUMIF('00 Alimenta'!$B:$B,'00 PDC SP'!$F516,'00 Alimenta'!I:I)","v":0},0]
["PBA160","PB","PBA160",11,"","0203040109","Quote inutilizzate contributi da Regione per Fondo esclusività L 488/99",{"$f":"SUMIF('00 Alimenta'!$B:$B,'00 PDC SP'!$F517,'00 Alimenta'!D:D)","v":0},{"$f":"SUMIF('00 Alimenta'!$B:$B,'00 PDC SP'!$F517,'00 Alimenta'!E:E)","v":0},{"$f":"SUMIF('00 Alimenta'!$B:$B,'00 PDC SP'!$F517,'00 Alimenta'!F:F)","v":0},{"$f":"SUMIF('00 Alimenta'!$B:$B,'00 PDC SP'!$F517,'00 Alimenta'!G:G)","v":0},{"$f":"SUMIF('00 Alimenta'!$B:$B,'00 PDC SP'!$F517,'00 Alimenta'!H:H)","v":0},{"$f":"SUMIF('00 Alimenta'!$B:$B,'00 PDC SP'!$F517,'00 Alimenta'!I:I)","v":0},0]
["PBA160",{"$f":"IF(C518=\"PAA220\",\"UT\",LEFT(C518,2))","v":"PB"},"PBA160",11,"","0203040110","Quote inutilizzate contributi da Regione per Borse studio MG L 109/88",{"$f":"SUMIF('00 Alimenta'!$B:$B,'00 PDC SP'!$F518,'00 Alimenta'!D:D)","v":0},{"$f":"SUMIF('00 Alimenta'!$B:$B,'00 PDC SP'!$F518,'00 Alimenta'!E:E)","v":0},{"$f":"SUMIF('00 Alimenta'!$B:$B,'00 PDC SP'!$F518,'00 Alimenta'!F:F)","v":0},{"$f":"SUMIF('00 Alimenta'!$B:$B,'00 PDC SP'!$F518,'00 Alimenta'!G:G)","v":0},{"$f":"SUMIF('00 Alimenta'!$B:$B,'00 PDC SP'!$F518,'00 Alimenta'!H:H)","v":0},{"$f":"SUMIF('00 Alimenta'!$B:$B,'00 PDC SP'!$F518,'00 Alimenta'!I:I)","v":0},0]
["PBA160","PB","PBA160",11,"","0203040111","Quote inutilizzate contributi da Regione per Veterinaria L 218/88",{"$f":"SUMIF('00 Alimenta'!$B:$B,'00 PDC SP'!$F519,'00 Alimenta'!D:D)","v":0},{"$f":"SUMIF('00 Alimenta'!$B:$B,'00 PDC SP'!$F519,'00 Alimenta'!E:E)","v":0},{"$f":"SUMIF('00 Alimenta'!$B:$B,'00 PDC SP'!$F519,'00 Alimenta'!F:F)","v":0},{"$f":"SUMIF('00 Alimenta'!$B:$B,'00 PDC SP'!$F519,'00 Alimenta'!G:G)","v":0},{"$f":"SUMIF('00 Alimenta'!$B:$B,'00 PDC SP'!$F519,'00 Alimenta'!H:H)","v":0},{"$f":"SUMIF('00 Alimenta'!$B:$B,'00 PDC SP'!$F519,'00 Alimenta'!I:I)","v":0},0]
["PBA160","PB","PBA160",11,"","0203040112","Quote inutilizzate contributi da Regione per Aids L 135/90",{"$f":"SUMIF('00 Alimenta'!$B:$B,'00 PDC SP'!$F520,'00 Alimenta'!D:D)","v":0},{"$f":"SUMIF('00 Alimenta'!$B:$B,'00 PDC SP'!$F520,'00 Alimenta'!E:E)","v":0},{"$f":"SUMIF('00 Alimenta'!$B:$B,'00 PDC SP'!$F520,'00 Alimenta'!F:F)","v":0},{"$f":"SUMIF('00 Alimenta'!$B:$B,'00 PDC SP'!$F520,'00 Alimenta'!G:G)","v":0},{"$f":"SUMIF('00 Alimenta'!$B:$B,'00 PDC SP'!$F520,'00 Alimenta'!H:H)","v":0},{"$f":"SUMIF('00 Alimenta'!$B:$B,'00 PDC SP'!$F520,'00 Alimenta'!I:I)","v":0},0]
["PBA160","PB","PBA160",11,"","0203040113","Quote inutilizzate contributi da Regione per Progetti di PSN L 662/96",{"$f":"SUMIF('00 Alimenta'!$B:$B,'00 PDC SP'!$F521,'00 Alimenta'!D:D)","v":-32509804.77},{"$f":"SUMIF('00 Alimenta'!$B:$B,'00 PDC SP'!$F521,'00 Alimenta'!E:E)","v":-7216729.6299999999},{"$f":"SUMIF('00 Alimenta'!$B:$B,'00 PDC SP'!$F521,'00 Alimenta'!F:F)","v":-6978711.7300000004},{"$f":"SUMIF('00 Alimenta'!$B:$B,'00 PDC SP'!$F521,'00 Alimenta'!G:G)","v":-32747822.670000002},{"$f":"SUMIF('00 Alimenta'!$B:$B,'00 PDC SP'!$F521,'00 Alimenta'!H:H)","v":-23473893.68},{"$f":"SUMIF('00 Alimenta'!$B:$B,'00 PDC SP'!$F521,'00 Alimenta'!I:I)","v":-34572661.670000002},-21649054.68]
[{"$f":"IF(E522=\"\",C522,C522&E522)","v":"PBA160"},"PB","PBA160",11,"","0203040114","Quote inutilizzate contributi da Regione per Mutui pre-riforma",{"$f":"SUMIF('00 Alimenta'!$B:$B,'00 PDC SP'!$F522,'00 Alimenta'!D:D)","v":0},{"$f":"SUMIF('00 Alimenta'!$B:$B,'00 PDC SP'!$F522,'00 Alimenta'!E:E)","v":0},{"$f":"SUMIF('00 Alimenta'!$B:$B,'00 PDC SP'!$F522,'00 Alimenta'!F:F)","v":0},{"$f":"SUMIF('00 Alimenta'!$B:$B,'00 PDC SP'!$F522,'00 Alimenta'!G:G)","v":0},{"$f":"SUMIF('00 Alimenta'!$B:$B,'00 PDC SP'!$F522,'00 Alimenta'!H:H)","v":0},{"$f":"SUMIF('00 Alimenta'!$B:$B,'00 PDC SP'!$F522,'00 Alimenta'!I:I)","v":0},{"$f":"K522+L522-M522","v":0}]
["PBA160","PB","PBA160",11,"","0203040115","Quote inutilizzate contributi da Regione per Borse studio specializzandi",{"$f":"SUMIF('00 Alimenta'!$B:$B,'00 PDC SP'!$F523,'00 Alimenta'!D:D)","v":0},{"$f":"SUMIF('00 Alimenta'!$B:$B,'00 PDC SP'!$F523,'00 Alimenta'!E:E)","v":0},{"$f":"SUMIF('00 Alimenta'!$B:$B,'00 PDC SP'!$F523,'00 Alimenta'!F:F)","v":0},{"$f":"SUMIF('00 Alimenta'!$B:$B,'00 PDC SP'!$F523,'00 Alimenta'!G:G)","v":0},{"$f":"SUMIF('00 Alimenta'!$B:$B,'00 PDC SP'!$F523,'00 Alimenta'!H:H)","v":0},{"$f":"SUMIF('00 Alimenta'!$B:$B,'00 PDC SP'!$F523,'00 Alimenta'!I:I)","v":0},0]
["PBA160","PB","PBA160",11,"","0203040116","Quote inutilizzate contributi da Regione per superamento degli ospedali psichiatrici giudiziari (O.P.G.) L. 9/2012, art. 3 ter, comma 7",{"$f":"SUMIF('00 Alimenta'!$B:$B,'00 PDC SP'!$F524,'00 Alimenta'!D:D)","v":0},{"$f":"SUMIF('00 Alimenta'!$B:$B,'00 PDC SP'!$F524,'00 Alimenta'!E:E)","v":0},{"$f":"SUMIF('00 Alimenta'!$B:$B,'00 PDC SP'!$F524,'00 Alimenta'!F:F)","v":0},{"$f":"SUMIF('00 Alimenta'!$B:$B,'00 PDC SP'!$F524,'00 Alimenta'!G:G)","v":0},{"$f":"SUMIF('00 Alimenta'!$B:$B,'00 PDC SP'!$F524,'00 Alimenta'!H:H)","v":0},{"$f":"SUMIF('00 Alimenta'!$B:$B,'00 PDC SP'!$F524,'00 Alimenta'!I:I)","v":0},0]
["PBA160","PB","PBA160",11,null,"0203040117","Quote inutilizzate contributi da Regione per accertamenti medico-legali disposti dalle AA.PP per dipendenti assenti dal servizio per malattia (art.2, co38, D.L.225/10)",{"$f":"SUMIF('00 Alimenta'!$B:$B,'00 PDC SP'!$F525,'00 Alimenta'!D:D)","v":0},{"$f":"SUMIF('00 Alimenta'!$B:$B,'00 PDC SP'!$F525,'00 Alimenta'!E:E)","v":0},{"$f":"SUMIF('00 Alimenta'!$B:$B,'00 PDC SP'!$F525,'00 Alimenta'!F:F)","v":0},{"$f":"SUMIF('00 Alimenta'!$B:$B,'00 PDC SP'!$F525,'00 Alimenta'!G:G)","v":0},{"$f":"SUMIF('00 Alimenta'!$B:$B,'00 PDC SP'!$F525,'00 Alimenta'!H:H)","v":0},{"$f":"SUMIF('00 Alimenta'!$B:$B,'00 PDC SP'!$F525,'00 Alimenta'!I:I)","v":0},0]
["PBA160","PB","PBA160",11,"","0203040118","Quote inutilizzate contributi da Regione per quota gioco d'azzardo patologico (GAP) Legge n. 190/2014 e ss.mm.ii.",{"$f":"SUMIF('00 Alimenta'!$B:$B,'00 PDC SP'!$F526,'00 Alimenta'!D:D)","v":-220805},{"$f":"SUMIF('00 Alimenta'!$B:$B,'00 PDC SP'!$F526,'00 Alimenta'!E:E)","v":0},{"$f":"SUMIF('00 Alimenta'!$B:$B,'00 PDC SP'!$F526,'00 Alimenta'!F:F)","v":-220805},{"$f":"SUMIF('00 Alimenta'!$B:$B,'00 PDC SP'!$F526,'00 Alimenta'!G:G)","v":0},{"$f":"SUMIF('00 Alimenta'!$B:$B,'00 PDC SP'!$F526,'00 Alimenta'!H:H)","v":0},{"$f":"SUMIF('00 Alimenta'!$B:$B,'00 PDC SP'!$F526,'00 Alimenta'!I:I)","v":0},0]
["PBA151","PB","PBA151",11,null,"0203040119","B.IV.1) Quote inutilizzate contributi da Regione o Prov. Aut. per quota F.S. indistinto finalizzato",{"$f":"SUMIF('00 Alimenta'!$B:$B,'00 PDC SP'!$F527,'00 Alimenta'!D:D)","v":0},{"$f":"SUMIF('00 Alimenta'!$B:$B,'00 PDC SP'!$F527,'00 Alimenta'!E:E)","v":0},{"$f":"SUMIF('00 Alimenta'!$B:$B,'00 PDC SP'!$F527,'00 Alimenta'!F:F)","v":0},{"$f":"SUMIF('00 Alimenta'!$B:$B,'00 PDC SP'!$F527,'00 Alimenta'!G:G)","v":0},{"$f":"SUMIF('00 Alimenta'!$B:$B,'00 PDC SP'!$F527,'00 Alimenta'!H:H)","v":0},{"$f":"SUMIF('00 Alimenta'!$B:$B,'00 PDC SP'!$F527,'00 Alimenta'!I:I)","v":0},0]
["PBA170","PB","PBA170",11,"","0203040201","Quote inutilizzate contributi vincolati da soggetti pubblici (extra fondo)",{"$f":"SUMIF('00 Alimenta'!$B:$B,'00 PDC SP'!$F528,'00 Alimenta'!D:D)","v":-138455.9},{"$f":"SUMIF('00 Alimenta'!$B:$B,'00 PDC SP'!$F528,'00 Alimenta'!E:E)","v":-53105.86},{"$f":"SUMIF('00 Alimenta'!$B:$B,'00 PDC SP'!$F528,'00 Alimenta'!F:F)","v":0},{"$f":"SUMIF('00 Alimenta'!$B:$B,'00 PDC SP'!$F528,'00 Alimenta'!G:G)","v":-191561.76},{"$f":"SUMIF('00 Alimenta'!$B:$B,'00 PDC SP'!$F528,'00 Alimenta'!H:H)","v":0},{"$f":"SUMIF('00 Alimenta'!$B:$B,'00 PDC SP'!$F528,'00 Alimenta'!I:I)","v":-191561.76},0]
["PBA180","PB","PBA180",11,"","0203040301","Quote inutilizzate contributi per ricerca",{"$f":"SUMIF('00 Alimenta'!$B:$B,'00 PDC SP'!$F529,'00 Alimenta'!D:D)","v":0},{"$f":"SUMIF('00 Alimenta'!$B:$B,'00 PDC SP'!$F529,'00 Alimenta'!E:E)","v":0},{"$f":"SUMIF('00 Alimenta'!$B:$B,'00 PDC SP'!$F529,'00 Alimenta'!F:F)","v":0},{"$f":"SUMIF('00 Alimenta'!$B:$B,'00 PDC SP'!$F529,'00 Alimenta'!G:G)","v":0},{"$f":"SUMIF('00 Alimenta'!$B:$B,'00 PDC SP'!$F529,'00 Alimenta'!H:H)","v":0},{"$f":"SUMIF('00 Alimenta'!$B:$B,'00 PDC SP'!$F529,'00 Alimenta'!I:I)","v":0},0]
["PBA190","PB","PBA190",11,"","0203040401","Quote inutilizzate contributi vincolati da privati",{"$f":"SUMIF('00 Alimenta'!$B:$B,'00 PDC SP'!$F530,'00 Alimenta'!D:D)","v":0},{"$f":"SUMIF('00 Alimenta'!$B:$B,'00 PDC SP'!$F530,'00 Alimenta'!E:E)","v":0},{"$f":"SUMIF('00 Alimenta'!$B:$B,'00 PDC SP'!$F530,'00 Alimenta'!F:F)","v":0},{"$f":"SUMIF('00 Alimenta'!$B:$B,'00 PDC SP'!$F530,'00 Alimenta'!G:G)","v":0},{"$f":"SUMIF('00 Alimenta'!$B:$B,'00 PDC SP'!$F530,'00 Alimenta'!H:H)","v":0},{"$f":"SUMIF('00 Alimenta'!$B:$B,'00 PDC SP'!$F530,'00 Alimenta'!I:I)","v":0},0]
["PBA210","PB","PBA210",11,"","0203050101","Fondi integrativi pensione",{"$f":"SUMIF('00 Alimenta'!$B:$B,'00 PDC SP'!$F531,'00 Alimenta'!D:D)","v":0},{"$f":"SUMIF('00 Alimenta'!$B:$B,'00 PDC SP'!$F531,'00 Alimenta'!E:E)","v":0},{"$f":"SUMIF('00 Alimenta'!$B:$B,'00 PDC SP'!$F531,'00 Alimenta'!F:F)","v":0},{"$f":"SUMIF('00 Alimenta'!$B:$B,'00 PDC SP'!$F531,'00 Alimenta'!G:G)","v":0},{"$f":"SUMIF('00 Alimenta'!$B:$B,'00 PDC SP'!$F531,'00 Alimenta'!H:H)","v":0},{"$f":"SUMIF('00 Alimenta'!$B:$B,'00 PDC SP'!$F531,'00 Alimenta'!I:I)","v":0},0]
["PBA230","PB","PBA230",11,"","0203050201","Fondo rinnovi contrattuali personale dipendente",{"$f":"SUMIF('00 Alimenta'!$B:$B,'00 PDC SP'!$F532,'00 Alimenta'!D:D)","v":-2516697},{"$f":"SUMIF('00 Alimenta'!$B:$B,'00 PDC SP'!$F532,'00 Alimenta'!E:E)","v":-2658672},{"$f":"SUMIF('00 Alimenta'!$B:$B,'00 PDC SP'!$F532,'00 Alimenta'!F:F)","v":-1421530.85},{"$f":"SUMIF('00 Alimenta'!$B:$B,'00 PDC SP'!$F532,'00 Alimenta'!G:G)","v":-3753838.15},{"$f":"SUMIF('00 Alimenta'!$B:$B,'00 PDC SP'!$F532,'00 Alimenta'!H:H)","v":-820311.55},{"$f":"SUMIF('00 Alimenta'!$B:$B,'00 PDC SP'!$F532,'00 Alimenta'!I:I)","v":-686937},-3887212.7]
["PBA240","PB","PBA240",11,"","0203050301","Fondo rinnovi convenzioni MMG/PLS/MCA",{"$f":"SUMIF('00 Alimenta'!$B:$B,'00 PDC SP'!$F533,'00 Alimenta'!D:D)","v":-3807702.15},{"$f":"SUMIF('00 Alimenta'!$B:$B,'00 PDC SP'!$F533,'00 Alimenta'!E:E)","v":-1507157},{"$f":"SUMIF('00 Alimenta'!$B:$B,'00 PDC SP'!$F533,'00 Alimenta'!F:F)","v":-1600163.8400000001},{"$f":"SUMIF('00 Alimenta'!$B:$B,'00 PDC SP'!$F533,'00 Alimenta'!G:G)","v":-3714695.31},{"$f":"SUMIF('00 Alimenta'!$B:$B,'00 PDC SP'!$F533,'00 Alimenta'!H:H)","v":-1990220},{"$f":"SUMIF('00 Alimenta'!$B:$B,'00 PDC SP'!$F533,'00 Alimenta'!I:I)","v":0},-5704915.3100000005]
["PBA250","PB","PBA250",11,"","0203050401","Fondo rinnovi convenzioni medici Sumai",{"$f":"SUMIF('00 Alimenta'!$B:$B,'00 PDC SP'!$F534,'00 Alimenta'!D:D)","v":-219050},{"$f":"SUMIF('00 Alimenta'!$B:$B,'00 PDC SP'!$F534,'00 Alimenta'!E:E)","v":-309790.5},{"$f":"SUMIF('00 Alimenta'!$B:$B,'00 PDC SP'!$F534,'00 Alimenta'!F:F)","v":-327842.5},{"$f":"SUMIF('00 Alimenta'!$B:$B,'00 PDC SP'!$F534,'00 Alimenta'!G:G)","v":-200998},{"$f":"SUMIF('00 Alimenta'!$B:$B,'00 PDC SP'!$F534,'00 Alimenta'!H:H)","v":-261948},{"$f":"SUMIF('00 Alimenta'!$B:$B,'00 PDC SP'!$F534,'00 Alimenta'!I:I)","v":0},-462946]
["PBA260","PB","PBA260",11,"","0203050501","Altri fondi per oneri e spese",{"$f":"SUMIF('00 Alimenta'!$B:$B,'00 PDC SP'!$F535,'00 Alimenta'!D:D)","v":0},{"$f":"SUMIF('00 Alimenta'!$B:$B,'00 PDC SP'!$F535,'00 Alimenta'!E:E)","v":-2400000},{"$f":"SUMIF('00 Alimenta'!$B:$B,'00 PDC SP'!$F535,'00 Alimenta'!F:F)","v":0},{"$f":"SUMIF('00 Alimenta'!$B:$B,'00 PDC SP'!$F535,'00 Alimenta'!G:G)","v":-2400000},{"$f":"SUMIF('00 Alimenta'!$B:$B,'00 PDC SP'!$F535,'00 Alimenta'!H:H)","v":0},{"$f":"SUMIF('00 Alimenta'!$B:$B,'00 PDC SP'!$F535,'00 Alimenta'!I:I)","v":0},-2400000]
["PBA260","PB","PBA260",11,"","0203050502","Fondo incentivazioni",{"$f":"SUMIF('00 Alimenta'!$B:$B,'00 PDC SP'!$F536,'00 Alimenta'!D:D)","v":0},{"$f":"SUMIF('00 Alimenta'!$B:$B,'00 PDC SP'!$F536,'00 Alimenta'!E:E)","v":0},{"$f":"SUMIF('00 Alimenta'!$B:$B,'00 PDC SP'!$F536,'00 Alimenta'!F:F)","v":0},{"$f":"SUMIF('00 Alimenta'!$B:$B,'00 PDC SP'!$F536,'00 Alimenta'!G:G)","v":0},{"$f":"SUMIF('00 Alimenta'!$B:$B,'00 PDC SP'!$F536,'00 Alimenta'!H:H)","v":0},{"$f":"SUMIF('00 Alimenta'!$B:$B,'00 PDC SP'!$F536,'00 Alimenta'!I:I)","v":0},0]
["PBA260","PB","PBA260",11,"","0203050503","Fondi per straordinari ",{"$f":"SUMIF('00 Alimenta'!$B:$B,'00 PDC SP'!$F537,'00 Alimenta'!D:D)","v":0},{"$f":"SUMIF('00 Alimenta'!$B:$B,'00 PDC SP'!$F537,'00 Alimenta'!E:E)","v":0},{"$f":"SUMIF('00 Alimenta'!$B:$B,'00 PDC SP'!$F537,'00 Alimenta'!F:F)","v":0},{"$f":"SUMIF('00 Alimenta'!$B:$B,'00 PDC SP'!$F537,'00 Alimenta'!G:G)","v":0},{"$f":"SUMIF('00 Alimenta'!$B:$B,'00 PDC SP'!$F537,'00 Alimenta'!H:H)","v":0},{"$f":"SUMIF('00 Alimenta'!$B:$B,'00 PDC SP'!$F537,'00 Alimenta'!I:I)","v":0},0]
["PBA260","PB","PBA260",11,"","0203050504","Fondi per altre competenze accessorie",{"$f":"SUMIF('00 Alimenta'!$B:$B,'00 PDC SP'!$F538,'00 Alimenta'!D:D)","v":0},{"$f":"SUMIF('00 Alimenta'!$B:$B,'00 PDC SP'!$F538,'00 Alimenta'!E:E)","v":0},{"$f":"SUMIF('00 Alimenta'!$B:$B,'00 PDC SP'!$F538,'00 Alimenta'!F:F)","v":0},{"$f":"SUMIF('00 Alimenta'!$B:$B,'00 PDC SP'!$F538,'00 Alimenta'!G:G)","v":0},{"$f":"SUMIF('00 Alimenta'!$B:$B,'00 PDC SP'!$F538,'00 Alimenta'!H:H)","v":0},{"$f":"SUMIF('00 Alimenta'!$B:$B,'00 PDC SP'!$F538,'00 Alimenta'!I:I)","v":0},0]
["PBA260","PB","PBA260",11,"","0203050505","Fondi per indennità a fine esercizio ",{"$f":"SUMIF('00 Alimenta'!$B:$B,'00 PDC SP'!$F539,'00 Alimenta'!D:D)","v":0},{"$f":"SUMIF('00 Alimenta'!$B:$B,'00 PDC SP'!$F539,'00 Alimenta'!E:E)","v":0},{"$f":"SUMIF('00 Alimenta'!$B:$B,'00 PDC SP'!$F539,'00 Alimenta'!F:F)","v":0},{"$f":"SUMIF('00 Alimenta'!$B:$B,'00 PDC SP'!$F539,'00 Alimenta'!G:G)","v":0},{"$f":"SUMIF('00 Alimenta'!$B:$B,'00 PDC SP'!$F539,'00 Alimenta'!H:H)","v":0},{"$f":"SUMIF('00 Alimenta'!$B:$B,'00 PDC SP'!$F539,'00 Alimenta'!I:I)","v":0},0]
["PBA260","PB","PBA260",11,"","0203050506","Fondi equo indennizzo ",{"$f":"SUMIF('00 Alimenta'!$B:$B,'00 PDC SP'!$F540,'00 Alimenta'!D:D)","v":0},{"$f":"SUMIF('00 Alimenta'!$B:$B,'00 PDC SP'!$F540,'00 Alimenta'!E:E)","v":0},{"$f":"SUMIF('00 Alimenta'!$B:$B,'00 PDC SP'!$F540,'00 Alimenta'!F:F)","v":0},{"$f":"SUMIF('00 Alimenta'!$B:$B,'00 PDC SP'!$F540,'00 Alimenta'!G:G)","v":0},{"$f":"SUMIF('00 Alimenta'!$B:$B,'00 PDC SP'!$F540,'00 Alimenta'!H:H)","v":0},{"$f":"SUMIF('00 Alimenta'!$B:$B,'00 PDC SP'!$F540,'00 Alimenta'!I:I)","v":0},0]
["PBA260","PB","PBA260",11,"","0203050507","Fondi oneri differiti per attività libero professionale ",{"$f":"SUMIF('00 Alimenta'!$B:$B,'00 PDC SP'!$F541,'00 Alimenta'!D:D)","v":0},{"$f":"SUMIF('00 Alimenta'!$B:$B,'00 PDC SP'!$F541,'00 Alimenta'!E:E)","v":0},{"$f":"SUMIF('00 Alimenta'!$B:$B,'00 PDC SP'!$F541,'00 Alimenta'!F:F)","v":0},{"$f":"SUMIF('00 Alimenta'!$B:$B,'00 PDC SP'!$F541,'00 Alimenta'!G:G)","v":0},{"$f":"SUMIF('00 Alimenta'!$B:$B,'00 PDC SP'!$F541,'00 Alimenta'!H:H)","v":0},{"$f":"SUMIF('00 Alimenta'!$B:$B,'00 PDC SP'!$F541,'00 Alimenta'!I:I)","v":0},0]
["PBA260","PB","PBA260",11,"","0203050508","Fondi per altri oneri da liquidare al personale ",{"$f":"SUMIF('00 Alimenta'!$B:$B,'00 PDC SP'!$F542,'00 Alimenta'!D:D)","v":0},{"$f":"SUMIF('00 Alimenta'!$B:$B,'00 PDC SP'!$F542,'00 Alimenta'!E:E)","v":0},{"$f":"SUMIF('00 Alimenta'!$B:$B,'00 PDC SP'!$F542,'00 Alimenta'!F:F)","v":0},{"$f":"SUMIF('00 Alimenta'!$B:$B,'00 PDC SP'!$F542,'00 Alimenta'!G:G)","v":0},{"$f":"SUMIF('00 Alimenta'!$B:$B,'00 PDC SP'!$F542,'00 Alimenta'!H:H)","v":0},{"$f":"SUMIF('00 Alimenta'!$B:$B,'00 PDC SP'!$F542,'00 Alimenta'!I:I)","v":0},0]
["PBA270","PB","PBA270",11,null,"0203050509","Altri Fondi incentivi funzioni tecniche Art. 113 D.Lgs 50/2016",{"$f":"SUMIF('00 Alimenta'!$B:$B,'00 PDC SP'!$F543,'00 Alimenta'!D:D)","v":0},{"$f":"SUMIF('00 Alimenta'!$B:$B,'00 PDC SP'!$F543,'00 Alimenta'!E:E)","v":0},{"$f":"SUMIF('00 Alimenta'!$B:$B,'00 PDC SP'!$F543,'00 Alimenta'!F:F)","v":0},{"$f":"SUMIF('00 Alimenta'!$B:$B,'00 PDC SP'!$F543,'00 Alimenta'!G:G)","v":0},{"$f":"SUMIF('00 Alimenta'!$B:$B,'00 PDC SP'!$F543,'00 Alimenta'!H:H)","v":0},{"$f":"SUMIF('00 Alimenta'!$B:$B,'00 PDC SP'!$F543,'00 Alimenta'!I:I)","v":0},0]
["PCA000","PC","PCA000",7,"","0204010101","Fondo per premi operosità medici SUMAI",{"$f":"SUMIF('00 Alimenta'!$B:$B,'00 PDC SP'!$F544,'00 Alimenta'!D:D)","v":-2201092.41},{"$f":"SUMIF('00 Alimenta'!$B:$B,'00 PDC SP'!$F544,'00 Alimenta'!E:E)","v":-264664.11},{"$f":"SUMIF('00 Alimenta'!$B:$B,'00 PDC SP'!$F544,'00 Alimenta'!F:F)","v":-197944.41},{"$f":"SUMIF('00 Alimenta'!$B:$B,'00 PDC SP'!$F544,'00 Alimenta'!G:G)","v":-2267812.11},{"$f":"SUMIF('00 Alimenta'!$B:$B,'00 PDC SP'!$F544,'00 Alimenta'!H:H)","v":-277851.92},{"$f":"SUMIF('00 Alimenta'!$B:$B,'00 PDC SP'!$F544,'00 Alimenta'!I:I)","v":-441070.23},-2104593.7999999998]
["PCA010","PC","PCA010",8,"","0204020101","Fondo per trattamento di fine rapporto dipendenti",{"$f":"SUMIF('00 Alimenta'!$B:$B,'00 PDC SP'!$F545,'00 Alimenta'!D:D)","v":0},{"$f":"SUMIF('00 Alimenta'!$B:$B,'00 PDC SP'!$F545,'00 Alimenta'!E:E)","v":0},{"$f":"SUMIF('00 Alimenta'!$B:$B,'00 PDC SP'!$F545,'00 Alimenta'!F:F)","v":0},{"$f":"SUMIF('00 Alimenta'!$B:$B,'00 PDC SP'!$F545,'00 Alimenta'!G:G)","v":0},{"$f":"SUMIF('00 Alimenta'!$B:$B,'00 PDC SP'!$F545,'00 Alimenta'!H:H)","v":0},{"$f":"SUMIF('00 Alimenta'!$B:$B,'00 PDC SP'!$F545,'00 Alimenta'!I:I)","v":0},0]
["PCA020","PC","PCA020",8,null,"0204020201","Fondo per trattamenti di quiescenza e simili",{"$f":"SUMIF('00 Alimenta'!$B:$B,'00 PDC SP'!$F546,'00 Alimenta'!D:D)","v":0},{"$f":"SUMIF('00 Alimenta'!$B:$B,'00 PDC SP'!$F546,'00 Alimenta'!E:E)","v":0},{"$f":"SUMIF('00 Alimenta'!$B:$B,'00 PDC SP'!$F546,'00 Alimenta'!F:F)","v":0},{"$f":"SUMIF('00 Alimenta'!$B:$B,'00 PDC SP'!$F546,'00 Alimenta'!G:G)","v":0},{"$f":"SUMIF('00 Alimenta'!$B:$B,'00 PDC SP'!$F546,'00 Alimenta'!H:H)","v":0},{"$f":"SUMIF('00 Alimenta'!$B:$B,'00 PDC SP'!$F546,'00 Alimenta'!I:I)","v":0},0]
["PDA000DB","PD","PDA000",55,"DB","0205010101","Debiti per mutui passivi",{"$f":"SUMIF('00 Alimenta'!$B:$B,'00 PDC SP'!$F547,'00 Alimenta'!D:D)","v":0},{"$f":"SUMIF('00 Alimenta'!$B:$B,'00 PDC SP'!$F547,'00 Alimenta'!E:E)","v":0},{"$f":"SUMIF('00 Alimenta'!$B:$B,'00 PDC SP'!$F547,'00 Alimenta'!F:F)","v":0},{"$f":"SUMIF('00 Alimenta'!$B:$B,'00 PDC SP'!$F547,'00 Alimenta'!G:G)","v":0},{"$f":"SUMIF('00 Alimenta'!$B:$B,'00 PDC SP'!$F547,'00 Alimenta'!H:H)","v":0},{"$f":"SUMIF('00 Alimenta'!$B:$B,'00 PDC SP'!$F547,'00 Alimenta'!I:I)","v":0},0]
["PDA020DB","PD","PDA020",12,"DB","0205020101","Debiti v/Stato per mobilità passiva extraregionale",{"$f":"SUMIF('00 Alimenta'!$B:$B,'00 PDC SP'!$F548,'00 Alimenta'!D:D)","v":0},{"$f":"SUMIF('00 Alimenta'!$B:$B,'00 PDC SP'!$F548,'00 Alimenta'!E:E)","v":0},{"$f":"SUMIF('00 Alimenta'!$B:$B,'00 PDC SP'!$F548,'00 Alimenta'!F:F)","v":0},{"$f":"SUMIF('00 Alimenta'!$B:$B,'00 PDC SP'!$F548,'00 Alimenta'!G:G)","v":0},{"$f":"SUMIF('00 Alimenta'!$B:$B,'00 PDC SP'!$F548,'00 Alimenta'!H:H)","v":0},{"$f":"SUMIF('00 Alimenta'!$B:$B,'00 PDC SP'!$F548,'00 Alimenta'!I:I)","v":0},0]
["PDA030DB","PD","PDA030",12,"DB","0205020201","Debiti v/Stato per mobilità passiva internazionale",{"$f":"SUMIF('00 Alimenta'!$B:$B,'00 PDC SP'!$F549,'00 Alimenta'!D:D)","v":0},{"$f":"SUMIF('00 Alimenta'!$B:$B,'00 PDC SP'!$F549,'00 Alimenta'!E:E)","v":0},{"$f":"SUMIF('00 Alimenta'!$B:$B,'00 PDC SP'!$F549,'00 Alimenta'!F:F)","v":0},{"$f":"SUMIF('00 Alimenta'!$B:$B,'00 PDC SP'!$F549,'00 Alimenta'!G:G)","v":0},{"$f":"SUMIF('00 Alimenta'!$B:$B,'00 PDC SP'!$F549,'00 Alimenta'!H:H)","v":0},{"$f":"SUMIF('00 Alimenta'!$B:$B,'00 PDC SP'!$F549,'00 Alimenta'!I:I)","v":0},0]
["PDA040DB","PD","PDA040",12,"DB","0205020301","Acconto quota FSR v/Stato",{"$f":"SUMIF('00 Alimenta'!$B:$B,'00 PDC SP'!$F550,'00 Alimenta'!D:D)","v":0},{"$f":"SUMIF('00 Alimenta'!$B:$B,'00 PDC SP'!$F550,'00 Alimenta'!E:E)","v":0},{"$f":"SUMIF('00 Alimenta'!$B:$B,'00 PDC SP'!$F550,'00 Alimenta'!F:F)","v":0},{"$f":"SUMIF('00 Alimenta'!$B:$B,'00 PDC SP'!$F550,'00 Alimenta'!G:G)","v":0},{"$f":"SUMIF('00 Alimenta'!$B:$B,'00 PDC SP'!$F550,'00 Alimenta'!H:H)","v":0},{"$f":"SUMIF('00 Alimenta'!$B:$B,'00 PDC SP'!$F550,'00 Alimenta'!I:I)","v":0},0]
["PDA040DB","PD","PDA040",12,"DB","0205020302","Acconto quota FSR v/Stato IRAP",{"$f":"SUMIF('00 Alimenta'!$B:$B,'00 PDC SP'!$F551,'00 Alimenta'!D:D)","v":0},{"$f":"SUMIF('00 Alimenta'!$B:$B,'00 PDC SP'!$F551,'00 Alimenta'!E:E)","v":0},{"$f":"SUMIF('00 Alimenta'!$B:$B,'00 PDC SP'!$F551,'00 Alimenta'!F:F)","v":0},{"$f":"SUMIF('00 Alimenta'!$B:$B,'00 PDC SP'!$F551,'00 Alimenta'!G:G)","v":0},{"$f":"SUMIF('00 Alimenta'!$B:$B,'00 PDC SP'!$F551,'00 Alimenta'!H:H)","v":0},{"$f":"SUMIF('00 Alimenta'!$B:$B,'00 PDC SP'!$F551,'00 Alimenta'!I:I)","v":0},0]
["PDA040DB","PD","PDA040",12,"DB","0205020303","Acconto quota FSR v/Stato IRPEF",{"$f":"SUMIF('00 Alimenta'!$B:$B,'00 PDC SP'!$F552,'00 Alimenta'!D:D)","v":0},{"$f":"SUMIF('00 Alimenta'!$B:$B,'00 PDC SP'!$F552,'00 Alimenta'!E:E)","v":0},{"$f":"SUMIF('00 Alimenta'!$B:$B,'00 PDC SP'!$F552,'00 Alimenta'!F:F)","v":0},{"$f":"SUMIF('00 Alimenta'!$B:$B,'00 PDC SP'!$F552,'00 Alimenta'!G:G)","v":0},{"$f":"SUMIF('00 Alimenta'!$B:$B,'00 PDC SP'!$F552,'00 Alimenta'!H:H)","v":0},{"$f":"SUMIF('00 Alimenta'!$B:$B,'00 PDC SP'!$F552,'00 Alimenta'!I:I)","v":0},0]
["PDA040DB","PD","PDA040",12,"DB","0205020304","Acconto quota FSR v/Stato compartecipazione IVA",{"$f":"SUMIF('00 Alimenta'!$B:$B,'00 PDC SP'!$F553,'00 Alimenta'!D:D)","v":0},{"$f":"SUMIF('00 Alimenta'!$B:$B,'00 PDC SP'!$F553,'00 Alimenta'!E:E)","v":0},{"$f":"SUMIF('00 Alimenta'!$B:$B,'00 PDC SP'!$F553,'00 Alimenta'!F:F)","v":0},{"$f":"SUMIF('00 Alimenta'!$B:$B,'00 PDC SP'!$F553,'00 Alimenta'!G:G)","v":0},{"$f":"SUMIF('00 Alimenta'!$B:$B,'00 PDC SP'!$F553,'00 Alimenta'!H:H)","v":0},{"$f":"SUMIF('00 Alimenta'!$B:$B,'00 PDC SP'!$F553,'00 Alimenta'!I:I)","v":0},0]
["PDA040DB","PD","PDA040",12,"DB","0205020305","Debiti per acconto v/Stato",{"$f":"SUMIF('00 Alimenta'!$B:$B,'00 PDC SP'!$F554,'00 Alimenta'!D:D)","v":0},{"$f":"SUMIF('00 Alimenta'!$B:$B,'00 PDC SP'!$F554,'00 Alimenta'!E:E)","v":0},{"$f":"SUMIF('00 Alimenta'!$B:$B,'00 PDC SP'!$F554,'00 Alimenta'!F:F)","v":0},{"$f":"SUMIF('00 Alimenta'!$B:$B,'00 PDC SP'!$F554,'00 Alimenta'!G:G)","v":0},{"$f":"SUMIF('00 Alimenta'!$B:$B,'00 PDC SP'!$F554,'00 Alimenta'!H:H)","v":0},{"$f":"SUMIF('00 Alimenta'!$B:$B,'00 PDC SP'!$F554,'00 Alimenta'!I:I)","v":0},0]
["PDA050DB","PD","PDA050",12,"DB","0205020401","Debiti v/Stato per restituzione finanziamenti - per ricerca",{"$f":"SUMIF('00 Alimenta'!$B:$B,'00 PDC SP'!$F555,'00 Alimenta'!D:D)","v":0},{"$f":"SUMIF('00 Alimenta'!$B:$B,'00 PDC SP'!$F555,'00 Alimenta'!E:E)","v":0},{"$f":"SUMIF('00 Alimenta'!$B:$B,'00 PDC SP'!$F555,'00 Alimenta'!F:F)","v":0},{"$f":"SUMIF('00 Alimenta'!$B:$B,'00 PDC SP'!$F555,'00 Alimenta'!G:G)","v":0},{"$f":"SUMIF('00 Alimenta'!$B:$B,'00 PDC SP'!$F555,'00 Alimenta'!H:H)","v":0},{"$f":"SUMIF('00 Alimenta'!$B:$B,'00 PDC SP'!$F555,'00 Alimenta'!I:I)","v":0},0]
["PDA060DB","PD","PDA060",12,"DB","0205020501","Altri debiti v/Stato",{"$f":"SUMIF('00 Alimenta'!$B:$B,'00 PDC SP'!$F556,'00 Alimenta'!D:D)","v":0},{"$f":"SUMIF('00 Alimenta'!$B:$B,'00 PDC SP'!$F556,'00 Alimenta'!E:E)","v":0},{"$f":"SUMIF('00 Alimenta'!$B:$B,'00 PDC SP'!$F556,'00 Alimenta'!F:F)","v":0},{"$f":"SUMIF('00 Alimenta'!$B:$B,'00 PDC SP'!$F556,'00 Alimenta'!G:G)","v":0},{"$f":"SUMIF('00 Alimenta'!$B:$B,'00 PDC SP'!$F556,'00 Alimenta'!H:H)","v":0},{"$f":"SUMIF('00 Alimenta'!$B:$B,'00 PDC SP'!$F556,'00 Alimenta'!I:I)","v":0},0]
["PDA060DB","PD","PDA060",12,"DB","0205020502","Debiti per acconto v/altri soggetti pubblici",{"$f":"SUMIF('00 Alimenta'!$B:$B,'00 PDC SP'!$F557,'00 Alimenta'!D:D)","v":0},{"$f":"SUMIF('00 Alimenta'!$B:$B,'00 PDC SP'!$F557,'00 Alimenta'!E:E)","v":0},{"$f":"SUMIF('00 Alimenta'!$B:$B,'00 PDC SP'!$F557,'00 Alimenta'!F:F)","v":0},{"$f":"SUMIF('00 Alimenta'!$B:$B,'00 PDC SP'!$F557,'00 Alimenta'!G:G)","v":0},{"$f":"SUMIF('00 Alimenta'!$B:$B,'00 PDC SP'!$F557,'00 Alimenta'!H:H)","v":0},{"$f":"SUMIF('00 Alimenta'!$B:$B,'00 PDC SP'!$F557,'00 Alimenta'!I:I)","v":0},0]
["PDA080DB","PD","PDA080",12,"DB","0205030101","Debiti v/Regione o Provincia Autonoma per finanziamenti - GSA",{"$f":"SUMIF('00 Alimenta'!$B:$B,'00 PDC SP'!$F558,'00 Alimenta'!D:D)","v":0},{"$f":"SUMIF('00 Alimenta'!$B:$B,'00 PDC SP'!$F558,'00 Alimenta'!E:E)","v":0},{"$f":"SUMIF('00 Alimenta'!$B:$B,'00 PDC SP'!$F558,'00 Alimenta'!F:F)","v":0},{"$f":"SUMIF('00 Alimenta'!$B:$B,'00 PDC SP'!$F558,'00 Alimenta'!G:G)","v":0},{"$f":"SUMIF('00 Alimenta'!$B:$B,'00 PDC SP'!$F558,'00 Alimenta'!H:H)","v":0},{"$f":"SUMIF('00 Alimenta'!$B:$B,'00 PDC SP'!$F558,'00 Alimenta'!I:I)","v":0},0]
["PDA081DB","PD","PDA081",12,"DB","0205030102","Debiti v/Regione o Provincia Autonoma per finanziamenti",{"$f":"SUMIF('00 Alimenta'!$B:$B,'00 PDC SP'!$F559,'00 Alimenta'!D:D)","v":0},{"$f":"SUMIF('00 Alimenta'!$B:$B,'00 PDC SP'!$F559,'00 Alimenta'!E:E)","v":0},{"$f":"SUMIF('00 Alimenta'!$B:$B,'00 PDC SP'!$F559,'00 Alimenta'!F:F)","v":0},{"$f":"SUMIF('00 Alimenta'!$B:$B,'00 PDC SP'!$F559,'00 Alimenta'!G:G)","v":0},{"$f":"SUMIF('00 Alimenta'!$B:$B,'00 PDC SP'!$F559,'00 Alimenta'!H:H)","v":0},{"$f":"SUMIF('00 Alimenta'!$B:$B,'00 PDC SP'!$F559,'00 Alimenta'!I:I)","v":0},0]
["PDA090DB","PD","PDA090",12,"DB","0205030201","Debiti v/Regione o Provincia Autonoma per mobilità passiva intraregionale",{"$f":"SUMIF('00 Alimenta'!$B:$B,'00 PDC SP'!$F560,'00 Alimenta'!D:D)","v":-20765655.579999998},{"$f":"SUMIF('00 Alimenta'!$B:$B,'00 PDC SP'!$F560,'00 Alimenta'!E:E)","v":-49387581.229999997},{"$f":"SUMIF('00 Alimenta'!$B:$B,'00 PDC SP'!$F560,'00 Alimenta'!F:F)","v":-49387581.229999997},{"$f":"SUMIF('00 Alimenta'!$B:$B,'00 PDC SP'!$F560,'00 Alimenta'!G:G)","v":-20765655.579999998},{"$f":"SUMIF('00 Alimenta'!$B:$B,'00 PDC SP'!$F560,'00 Alimenta'!H:H)","v":-52055370.390000001},{"$f":"SUMIF('00 Alimenta'!$B:$B,'00 PDC SP'!$F560,'00 Alimenta'!I:I)","v":-52055370.390000001},-20765655.579999998]
["PDA090FR","PD","PDA090",12,"FR","0205030202","Fatture da ricevere verso Regione per mobilità passiva intraregionale",{"$f":"SUMIF('00 Alimenta'!$B:$B,'00 PDC SP'!$F561,'00 Alimenta'!D:D)","v":0},{"$f":"SUMIF('00 Alimenta'!$B:$B,'00 PDC SP'!$F561,'00 Alimenta'!E:E)","v":0},{"$f":"SUMIF('00 Alimenta'!$B:$B,'00 PDC SP'!$F561,'00 Alimenta'!F:F)","v":0},{"$f":"SUMIF('00 Alimenta'!$B:$B,'00 PDC SP'!$F561,'00 Alimenta'!G:G)","v":0},{"$f":"SUMIF('00 Alimenta'!$B:$B,'00 PDC SP'!$F561,'00 Alimenta'!H:H)","v":0},{"$f":"SUMIF('00 Alimenta'!$B:$B,'00 PDC SP'!$F561,'00 Alimenta'!I:I)","v":0},0]
["PDA100DB","PD","PDA100",12,"DB","0205030301","Debiti v/Regione o Provincia Autonoma per mobilità passiva extraregionale",{"$f":"SUMIF('00 Alimenta'!$B:$B,'00 PDC SP'!$F562,'00 Alimenta'!D:D)","v":-9530548.0899999999},{"$f":"SUMIF('00 Alimenta'!$B:$B,'00 PDC SP'!$F562,'00 Alimenta'!E:E)","v":-33463665.77},{"$f":"SUMIF('00 Alimenta'!$B:$B,'00 PDC SP'!$F562,'00 Alimenta'!F:F)","v":-33463665.77},{"$f":"SUMIF('00 Alimenta'!$B:$B,'00 PDC SP'!$F562,'00 Alimenta'!G:G)","v":-9530548.0899999999},{"$f":"SUMIF('00 Alimenta'!$B:$B,'00 PDC SP'!$F562,'00 Alimenta'!H:H)","v":-36714312.75},{"$f":"SUMIF('00 Alimenta'!$B:$B,'00 PDC SP'!$F562,'00 Alimenta'!I:I)","v":-36714312.75},-9530548.0900000036]
["PDA100FR","PD","PDA100",12,"FR","0205030302","Fatture da ricevere verso Regione per mobilità passiva extraregionale",{"$f":"SUMIF('00 Alimenta'!$B:$B,'00 PDC SP'!$F563,'00 Alimenta'!D:D)","v":0},{"$f":"SUMIF('00 Alimenta'!$B:$B,'00 PDC SP'!$F563,'00 Alimenta'!E:E)","v":0},{"$f":"SUMIF('00 Alimenta'!$B:$B,'00 PDC SP'!$F563,'00 Alimenta'!F:F)","v":0},{"$f":"SUMIF('00 Alimenta'!$B:$B,'00 PDC SP'!$F563,'00 Alimenta'!G:G)","v":0},{"$f":"SUMIF('00 Alimenta'!$B:$B,'00 PDC SP'!$F563,'00 Alimenta'!H:H)","v":0},{"$f":"SUMIF('00 Alimenta'!$B:$B,'00 PDC SP'!$F563,'00 Alimenta'!I:I)","v":0},0]
["PDA110DB","PD","PDA110",12,"DB","0205030401","Acconto quota FSR da Regione o Provincia Autonoma",{"$f":"SUMIF('00 Alimenta'!$B:$B,'00 PDC SP'!$F564,'00 Alimenta'!D:D)","v":0},{"$f":"SUMIF('00 Alimenta'!$B:$B,'00 PDC SP'!$F564,'00 Alimenta'!E:E)","v":-565644818.47000003},{"$f":"SUMIF('00 Alimenta'!$B:$B,'00 PDC SP'!$F564,'00 Alimenta'!F:F)","v":-565644818.47000003},{"$f":"SUMIF('00 Alimenta'!$B:$B,'00 PDC SP'!$F564,'00 Alimenta'!G:G)","v":0},{"$f":"SUMIF('00 Alimenta'!$B:$B,'00 PDC SP'!$F564,'00 Alimenta'!H:H)","v":-549671037},{"$f":"SUMIF('00 Alimenta'!$B:$B,'00 PDC SP'!$F564,'00 Alimenta'!I:I)","v":-549671037},0]
["PDA110DB","PD","PDA110",12,"DB","0205030402","Acconto quota FSR per DPC da Regione o Provincia Autonoma",{"$f":"SUMIF('00 Alimenta'!$B:$B,'00 PDC SP'!$F565,'00 Alimenta'!D:D)","v":0},{"$f":"SUMIF('00 Alimenta'!$B:$B,'00 PDC SP'!$F565,'00 Alimenta'!E:E)","v":-15884750},{"$f":"SUMIF('00 Alimenta'!$B:$B,'00 PDC SP'!$F565,'00 Alimenta'!F:F)","v":-15884750},{"$f":"SUMIF('00 Alimenta'!$B:$B,'00 PDC SP'!$F565,'00 Alimenta'!G:G)","v":0},{"$f":"SUMIF('00 Alimenta'!$B:$B,'00 PDC SP'!$F565,'00 Alimenta'!H:H)","v":-47835198},{"$f":"SUMIF('00 Alimenta'!$B:$B,'00 PDC SP'!$F565,'00 Alimenta'!I:I)","v":-47835198},0]
["PDA120DB","PD","PDA120",12,"DB","0205030501","Altri debiti v/Regione o Provincia Autonoma - GSA",{"$f":"SUMIF('00 Alimenta'!$B:$B,'00 PDC SP'!$F566,'00 Alimenta'!D:D)","v":0},{"$f":"SUMIF('00 Alimenta'!$B:$B,'00 PDC SP'!$F566,'00 Alimenta'!E:E)","v":0},{"$f":"SUMIF('00 Alimenta'!$B:$B,'00 PDC SP'!$F566,'00 Alimenta'!F:F)","v":0},{"$f":"SUMIF('00 Alimenta'!$B:$B,'00 PDC SP'!$F566,'00 Alimenta'!G:G)","v":0},{"$f":"SUMIF('00 Alimenta'!$B:$B,'00 PDC SP'!$F566,'00 Alimenta'!H:H)","v":-5596298.9400000004},{"$f":"SUMIF('00 Alimenta'!$B:$B,'00 PDC SP'!$F566,'00 Alimenta'!I:I)","v":0},-5596298.9400000004]
["PDA120FR","PD","PDA120",12,"FR","0205030502","Fatture da ricevere Altri debiti v/Regione o Provincia Autonoma - GSA",{"$f":"SUMIF('00 Alimenta'!$B:$B,'00 PDC SP'!$F567,'00 Alimenta'!D:D)","v":0},{"$f":"SUMIF('00 Alimenta'!$B:$B,'00 PDC SP'!$F567,'00 Alimenta'!E:E)","v":0},{"$f":"SUMIF('00 Alimenta'!$B:$B,'00 PDC SP'!$F567,'00 Alimenta'!F:F)","v":0},{"$f":"SUMIF('00 Alimenta'!$B:$B,'00 PDC SP'!$F567,'00 Alimenta'!G:G)","v":0},{"$f":"SUMIF('00 Alimenta'!$B:$B,'00 PDC SP'!$F567,'00 Alimenta'!H:H)","v":0},{"$f":"SUMIF('00 Alimenta'!$B:$B,'00 PDC SP'!$F567,'00 Alimenta'!I:I)","v":0},0]
["PDA112DB","PD","PDA112",12,"DB","0205030503","Debiti v/Regione o Provincia Autonoma per contributi L. 210/92 ",{"$f":"SUMIF('00 Alimenta'!$B:$B,'00 PDC SP'!$F568,'00 Alimenta'!D:D)","v":0},{"$f":"SUMIF('00 Alimenta'!$B:$B,'00 PDC SP'!$F568,'00 Alimenta'!E:E)","v":0},{"$f":"SUMIF('00 Alimenta'!$B:$B,'00 PDC SP'!$F568,'00 Alimenta'!F:F)","v":0},{"$f":"SUMIF('00 Alimenta'!$B:$B,'00 PDC SP'!$F568,'00 Alimenta'!G:G)","v":0},{"$f":"SUMIF('00 Alimenta'!$B:$B,'00 PDC SP'!$F568,'00 Alimenta'!H:H)","v":0},{"$f":"SUMIF('00 Alimenta'!$B:$B,'00 PDC SP'!$F568,'00 Alimenta'!I:I)","v":0},0]
["PDA121DB","PD","PDA121",12,"DB","0205030504","Altri debiti v/Regione o Provincia Autonoma",{"$f":"SUMIF('00 Alimenta'!$B:$B,'00 PDC SP'!$F569,'00 Alimenta'!D:D)","v":0},{"$f":"SUMIF('00 Alimenta'!$B:$B,'00 PDC SP'!$F569,'00 Alimenta'!E:E)","v":0},{"$f":"SUMIF('00 Alimenta'!$B:$B,'00 PDC SP'!$F569,'00 Alimenta'!F:F)","v":0},{"$f":"SUMIF('00 Alimenta'!$B:$B,'00 PDC SP'!$F569,'00 Alimenta'!G:G)","v":0},{"$f":"SUMIF('00 Alimenta'!$B:$B,'00 PDC SP'!$F569,'00 Alimenta'!H:H)","v":0},{"$f":"SUMIF('00 Alimenta'!$B:$B,'00 PDC SP'!$F569,'00 Alimenta'!I:I)","v":0},0]
["PDA101DB","PD","PDA101",12,"DB","0205030601","Debiti v/Regione o Provincia Autonoma per mobilità passiva internazionale",{"$f":"SUMIF('00 Alimenta'!$B:$B,'00 PDC SP'!$F570,'00 Alimenta'!D:D)","v":0},{"$f":"SUMIF('00 Alimenta'!$B:$B,'00 PDC SP'!$F570,'00 Alimenta'!E:E)","v":0},{"$f":"SUMIF('00 Alimenta'!$B:$B,'00 PDC SP'!$F570,'00 Alimenta'!F:F)","v":0},{"$f":"SUMIF('00 Alimenta'!$B:$B,'00 PDC SP'!$F570,'00 Alimenta'!G:G)","v":0},{"$f":"SUMIF('00 Alimenta'!$B:$B,'00 PDC SP'!$F570,'00 Alimenta'!H:H)","v":-2330052.7799999998},{"$f":"SUMIF('00 Alimenta'!$B:$B,'00 PDC SP'!$F570,'00 Alimenta'!I:I)","v":-2330052.7799999998},0]
["PDA111DB","PD","PDA111",12,"DB","0205030701","Acconto da Regione o Provincia Autonoma per anticipazione ripiano disavanzo programmato dai Piani aziendali di cui all'art. 1, comma 528, L. 208/2015",{"$f":"SUMIF('00 Alimenta'!$B:$B,'00 PDC SP'!$F571,'00 Alimenta'!D:D)","v":0},{"$f":"SUMIF('00 Alimenta'!$B:$B,'00 PDC SP'!$F571,'00 Alimenta'!E:E)","v":0},{"$f":"SUMIF('00 Alimenta'!$B:$B,'00 PDC SP'!$F571,'00 Alimenta'!F:F)","v":0},{"$f":"SUMIF('00 Alimenta'!$B:$B,'00 PDC SP'!$F571,'00 Alimenta'!G:G)","v":0},{"$f":"SUMIF('00 Alimenta'!$B:$B,'00 PDC SP'!$F571,'00 Alimenta'!H:H)","v":0},{"$f":"SUMIF('00 Alimenta'!$B:$B,'00 PDC SP'!$F571,'00 Alimenta'!I:I)","v":0},0]
["PDA130DB","PD","PDA130",13,"DB","0205040101","Debiti v/Comuni",{"$f":"SUMIF('00 Alimenta'!$B:$B,'00 PDC SP'!$F572,'00 Alimenta'!D:D)","v":-150000},{"$f":"SUMIF('00 Alimenta'!$B:$B,'00 PDC SP'!$F572,'00 Alimenta'!E:E)","v":0},{"$f":"SUMIF('00 Alimenta'!$B:$B,'00 PDC SP'!$F572,'00 Alimenta'!F:F)","v":0},{"$f":"SUMIF('00 Alimenta'!$B:$B,'00 PDC SP'!$F572,'00 Alimenta'!G:G)","v":-150000},{"$f":"SUMIF('00 Alimenta'!$B:$B,'00 PDC SP'!$F572,'00 Alimenta'!H:H)","v":0},{"$f":"SUMIF('00 Alimenta'!$B:$B,'00 PDC SP'!$F572,'00 Alimenta'!I:I)","v":0},-150000]
["PDA130FR","PD","PDA130",13,"FR","0205040102","Fatture da ricevere verso Comuni",{"$f":"SUMIF('00 Alimenta'!$B:$B,'00 PDC SP'!$F573,'00 Alimenta'!D:D)","v":0},{"$f":"SUMIF('00 Alimenta'!$B:$B,'00 PDC SP'!$F573,'00 Alimenta'!E:E)","v":0},{"$f":"SUMIF('00 Alimenta'!$B:$B,'00 PDC SP'!$F573,'00 Alimenta'!F:F)","v":0},{"$f":"SUMIF('00 Alimenta'!$B:$B,'00 PDC SP'!$F573,'00 Alimenta'!G:G)","v":0},{"$f":"SUMIF('00 Alimenta'!$B:$B,'00 PDC SP'!$F573,'00 Alimenta'!H:H)","v":0},{"$f":"SUMIF('00 Alimenta'!$B:$B,'00 PDC SP'!$F573,'00 Alimenta'!I:I)","v":0},0]
["PDA160DB","PD","PDA160",14,"DB","0205050101","Debiti per acconto v/ASL della Regione per quota FSR",{"$f":"SUMIF('00 Alimenta'!$B:$B,'00 PDC SP'!$F574,'00 Alimenta'!D:D)","v":0},{"$f":"SUMIF('00 Alimenta'!$B:$B,'00 PDC SP'!$F574,'00 Alimenta'!E:E)","v":0},{"$f":"SUMIF('00 Alimenta'!$B:$B,'00 PDC SP'!$F574,'00 Alimenta'!F:F)","v":0},{"$f":"SUMIF('00 Alimenta'!$B:$B,'00 PDC SP'!$F574,'00 Alimenta'!G:G)","v":0},{"$f":"SUMIF('00 Alimenta'!$B:$B,'00 PDC SP'!$F574,'00 Alimenta'!H:H)","v":0},{"$f":"SUMIF('00 Alimenta'!$B:$B,'00 PDC SP'!$F574,'00 Alimenta'!I:I)","v":0},0]
["PDA160DB","PD","PDA160",14,"DB","0205050102","Debiti v/ASL Avezzano Sulmona L'Aquila  per quota FSR",{"$f":"SUMIF('00 Alimenta'!$B:$B,'00 PDC SP'!$F575,'00 Alimenta'!D:D)","v":0},{"$f":"SUMIF('00 Alimenta'!$B:$B,'00 PDC SP'!$F575,'00 Alimenta'!E:E)","v":0},{"$f":"SUMIF('00 Alimenta'!$B:$B,'00 PDC SP'!$F575,'00 Alimenta'!F:F)","v":0},{"$f":"SUMIF('00 Alimenta'!$B:$B,'00 PDC SP'!$F575,'00 Alimenta'!G:G)","v":0},{"$f":"SUMIF('00 Alimenta'!$B:$B,'00 PDC SP'!$F575,'00 Alimenta'!H:H)","v":0},{"$f":"SUMIF('00 Alimenta'!$B:$B,'00 PDC SP'!$F575,'00 Alimenta'!I:I)","v":0},0]
["PDA160FR","PD","PDA160",14,"FR","0205050103","Fatture da ricevere verso ASL Avezzano Sulmona L'Aquila",{"$f":"SUMIF('00 Alimenta'!$B:$B,'00 PDC SP'!$F576,'00 Alimenta'!D:D)","v":0},{"$f":"SUMIF('00 Alimenta'!$B:$B,'00 PDC SP'!$F576,'00 Alimenta'!E:E)","v":0},{"$f":"SUMIF('00 Alimenta'!$B:$B,'00 PDC SP'!$F576,'00 Alimenta'!F:F)","v":0},{"$f":"SUMIF('00 Alimenta'!$B:$B,'00 PDC SP'!$F576,'00 Alimenta'!G:G)","v":0},{"$f":"SUMIF('00 Alimenta'!$B:$B,'00 PDC SP'!$F576,'00 Alimenta'!H:H)","v":0},{"$f":"SUMIF('00 Alimenta'!$B:$B,'00 PDC SP'!$F576,'00 Alimenta'!I:I)","v":0},0]
["PDA160DB","PD","PDA160",14,"DB","0205050104","Debiti v/ASL Lanciano Vasto Chieti per quota FSR",{"$f":"SUMIF('00 Alimenta'!$B:$B,'00 PDC SP'!$F577,'00 Alimenta'!D:D)","v":0},{"$f":"SUMIF('00 Alimenta'!$B:$B,'00 PDC SP'!$F577,'00 Alimenta'!E:E)","v":0},{"$f":"SUMIF('00 Alimenta'!$B:$B,'00 PDC SP'!$F577,'00 Alimenta'!F:F)","v":0},{"$f":"SUMIF('00 Alimenta'!$B:$B,'00 PDC SP'!$F577,'00 Alimenta'!G:G)","v":0},{"$f":"SUMIF('00 Alimenta'!$B:$B,'00 PDC SP'!$F577,'00 Alimenta'!H:H)","v":0},{"$f":"SUMIF('00 Alimenta'!$B:$B,'00 PDC SP'!$F577,'00 Alimenta'!I:I)","v":0},0]
["PDA160FR","PD","PDA160",14,"FR","0205050105","Fatture da ricevere verso ASL Lanciano Vasto Chieti",{"$f":"SUMIF('00 Alimenta'!$B:$B,'00 PDC SP'!$F578,'00 Alimenta'!D:D)","v":0},{"$f":"SUMIF('00 Alimenta'!$B:$B,'00 PDC SP'!$F578,'00 Alimenta'!E:E)","v":0},{"$f":"SUMIF('00 Alimenta'!$B:$B,'00 PDC SP'!$F578,'00 Alimenta'!F:F)","v":0},{"$f":"SUMIF('00 Alimenta'!$B:$B,'00 PDC SP'!$F578,'00 Alimenta'!G:G)","v":0},{"$f":"SUMIF('00 Alimenta'!$B:$B,'00 PDC SP'!$F578,'00 Alimenta'!H:H)","v":0},{"$f":"SUMIF('00 Alimenta'!$B:$B,'00 PDC SP'!$F578,'00 Alimenta'!I:I)","v":0},0]
["PDA160DB","PD","PDA160",14,"DB","0205050106","Debiti v/ASL Pescara per quota FSR",{"$f":"SUMIF('00 Alimenta'!$B:$B,'00 PDC SP'!$F579,'00 Alimenta'!D:D)","v":0},{"$f":"SUMIF('00 Alimenta'!$B:$B,'00 PDC SP'!$F579,'00 Alimenta'!E:E)","v":0},{"$f":"SUMIF('00 Alimenta'!$B:$B,'00 PDC SP'!$F579,'00 Alimenta'!F:F)","v":0},{"$f":"SUMIF('00 Alimenta'!$B:$B,'00 PDC SP'!$F579,'00 Alimenta'!G:G)","v":0},{"$f":"SUMIF('00 Alimenta'!$B:$B,'00 PDC SP'!$F579,'00 Alimenta'!H:H)","v":0},{"$f":"SUMIF('00 Alimenta'!$B:$B,'00 PDC SP'!$F579,'00 Alimenta'!I:I)","v":0},0]
["PDA160FR","PD","PDA160",14,"FR","0205050107","Fatture da ricevere verso ASL Pescara",{"$f":"SUMIF('00 Alimenta'!$B:$B,'00 PDC SP'!$F580,'00 Alimenta'!D:D)","v":0},{"$f":"SUMIF('00 Alimenta'!$B:$B,'00 PDC SP'!$F580,'00 Alimenta'!E:E)","v":0},{"$f":"SUMIF('00 Alimenta'!$B:$B,'00 PDC SP'!$F580,'00 Alimenta'!F:F)","v":0},{"$f":"SUMIF('00 Alimenta'!$B:$B,'00 PDC SP'!$F580,'00 Alimenta'!G:G)","v":0},{"$f":"SUMIF('00 Alimenta'!$B:$B,'00 PDC SP'!$F580,'00 Alimenta'!H:H)","v":0},{"$f":"SUMIF('00 Alimenta'!$B:$B,'00 PDC SP'!$F580,'00 Alimenta'!I:I)","v":0},0]
["PDA160DB","PD","PDA160",14,"DB","0205050108","Debiti v/ASL Teramo per quota FSR",{"$f":"SUMIF('00 Alimenta'!$B:$B,'00 PDC SP'!$F581,'00 Alimenta'!D:D)","v":0},{"$f":"SUMIF('00 Alimenta'!$B:$B,'00 PDC SP'!$F581,'00 Alimenta'!E:E)","v":0},{"$f":"SUMIF('00 Alimenta'!$B:$B,'00 PDC SP'!$F581,'00 Alimenta'!F:F)","v":0},{"$f":"SUMIF('00 Alimenta'!$B:$B,'00 PDC SP'!$F581,'00 Alimenta'!G:G)","v":0},{"$f":"SUMIF('00 Alimenta'!$B:$B,'00 PDC SP'!$F581,'00 Alimenta'!H:H)","v":0},{"$f":"SUMIF('00 Alimenta'!$B:$B,'00 PDC SP'!$F581,'00 Alimenta'!I:I)","v":0},0]
["PDA160FR",{"$f":"IF(C582=\"PAA220\",\"UT\",LEFT(C582,2))","v":"PD"},"PDA160",14,"FR","0205050109","Fatture da ricevere verso ASL Teramo",{"$f":"SUMIF('00 Alimenta'!$B:$B,'00 PDC SP'!$F582,'00 Alimenta'!D:D)","v":0},{"$f":"SUMIF('00 Alimenta'!$B:$B,'00 PDC SP'!$F582,'00 Alimenta'!E:E)","v":0},{"$f":"SUMIF('00 Alimenta'!$B:$B,'00 PDC SP'!$F582,'00 Alimenta'!F:F)","v":0},{"$f":"SUMIF('00 Alimenta'!$B:$B,'00 PDC SP'!$F582,'00 Alimenta'!G:G)","v":0},{"$f":"SUMIF('00 Alimenta'!$B:$B,'00 PDC SP'!$F582,'00 Alimenta'!H:H)","v":0},{"$f":"SUMIF('00 Alimenta'!$B:$B,'00 PDC SP'!$F582,'00 Alimenta'!I:I)","v":0},0]
["PDA160DB","PD","PDA160",14,"DB","0205050110","Debiti v/ASL Capofila DPC",{"$f":"SUMIF('00 Alimenta'!$B:$B,'00 PDC SP'!$F583,'00 Alimenta'!D:D)","v":0},{"$f":"SUMIF('00 Alimenta'!$B:$B,'00 PDC SP'!$F583,'00 Alimenta'!E:E)","v":0},{"$f":"SUMIF('00 Alimenta'!$B:$B,'00 PDC SP'!$F583,'00 Alimenta'!F:F)","v":0},{"$f":"SUMIF('00 Alimenta'!$B:$B,'00 PDC SP'!$F583,'00 Alimenta'!G:G)","v":0},{"$f":"SUMIF('00 Alimenta'!$B:$B,'00 PDC SP'!$F583,'00 Alimenta'!H:H)","v":0},{"$f":"SUMIF('00 Alimenta'!$B:$B,'00 PDC SP'!$F583,'00 Alimenta'!I:I)","v":0},0]
["PDA170DB","PD","PDA170",14,"DB","0205050201","Debiti v/ASL Avezzano Sulmona L'Aquila per finanziamento sanitario aggiuntivo corrente LEA",{"$f":"SUMIF('00 Alimenta'!$B:$B,'00 PDC SP'!$F584,'00 Alimenta'!D:D)","v":0},{"$f":"SUMIF('00 Alimenta'!$B:$B,'00 PDC SP'!$F584,'00 Alimenta'!E:E)","v":0},{"$f":"SUMIF('00 Alimenta'!$B:$B,'00 PDC SP'!$F584,'00 Alimenta'!F:F)","v":0},{"$f":"SUMIF('00 Alimenta'!$B:$B,'00 PDC SP'!$F584,'00 Alimenta'!G:G)","v":0},{"$f":"SUMIF('00 Alimenta'!$B:$B,'00 PDC SP'!$F584,'00 Alimenta'!H:H)","v":0},{"$f":"SUMIF('00 Alimenta'!$B:$B,'00 PDC SP'!$F584,'00 Alimenta'!I:I)","v":0},0]
["PDA170FR","PD","PDA170",14,"FR","0205050202","Fatture da ricevere v/ASL Avezzano Sulmona L'Aquila per finanziamento sanitario aggiuntivo corrente LEA",{"$f":"SUMIF('00 Alimenta'!$B:$B,'00 PDC SP'!$F585,'00 Alimenta'!D:D)","v":0},{"$f":"SUMIF('00 Alimenta'!$B:$B,'00 PDC SP'!$F585,'00 Alimenta'!E:E)","v":0},{"$f":"SUMIF('00 Alimenta'!$B:$B,'00 PDC SP'!$F585,'00 Alimenta'!F:F)","v":0},{"$f":"SUMIF('00 Alimenta'!$B:$B,'00 PDC SP'!$F585,'00 Alimenta'!G:G)","v":0},{"$f":"SUMIF('00 Alimenta'!$B:$B,'00 PDC SP'!$F585,'00 Alimenta'!H:H)","v":0},{"$f":"SUMIF('00 Alimenta'!$B:$B,'00 PDC SP'!$F585,'00 Alimenta'!I:I)","v":0},0]
[{"$f":"IF(E586=\"\",C586,C586&E586)","v":"PDA170DB"},"PD","PDA170",14,"DB","0205050203","Debiti v/ASL Lanciano Vasto Chieti per finanziamento sanitario aggiuntivo corrente LEA",{"$f":"SUMIF('00 Alimenta'!$B:$B,'00 PDC SP'!$F586,'00 Alimenta'!D:D)","v":0},{"$f":"SUMIF('00 Alimenta'!$B:$B,'00 PDC SP'!$F586,'00 Alimenta'!E:E)","v":0},{"$f":"SUMIF('00 Alimenta'!$B:$B,'00 PDC SP'!$F586,'00 Alimenta'!F:F)","v":0},{"$f":"SUMIF('00 Alimenta'!$B:$B,'00 PDC SP'!$F586,'00 Alimenta'!G:G)","v":0},{"$f":"SUMIF('00 Alimenta'!$B:$B,'00 PDC SP'!$F586,'00 Alimenta'!H:H)","v":0},{"$f":"SUMIF('00 Alimenta'!$B:$B,'00 PDC SP'!$F586,'00 Alimenta'!I:I)","v":0},{"$f":"K586+L586-M586","v":0}]
["PDA170FR","PD","PDA170",14,"FR","0205050204","Fatture da ricevere v/ASL Lanciano Vasto Chieti per finanziamento sanitario aggiuntivo corrente LEA",{"$f":"SUMIF('00 Alimenta'!$B:$B,'00 PDC SP'!$F587,'00 Alimenta'!D:D)","v":0},{"$f":"SUMIF('00 Alimenta'!$B:$B,'00 PDC SP'!$F587,'00 Alimenta'!E:E)","v":0},{"$f":"SUMIF('00 Alimenta'!$B:$B,'00 PDC SP'!$F587,'00 Alimenta'!F:F)","v":0},{"$f":"SUMIF('00 Alimenta'!$B:$B,'00 PDC SP'!$F587,'00 Alimenta'!G:G)","v":0},{"$f":"SUMIF('00 Alimenta'!$B:$B,'00 PDC SP'!$F587,'00 Alimenta'!H:H)","v":0},{"$f":"SUMIF('00 Alimenta'!$B:$B,'00 PDC SP'!$F587,'00 Alimenta'!I:I)","v":0},0]
["PDA170DB","PD","PDA170",14,"DB","0205050205","Debiti v/ASL Pescara per finanziamento sanitario aggiuntivo corrente LEA",{"$f":"SUMIF('00 Alimenta'!$B:$B,'00 PDC SP'!$F588,'00 Alimenta'!D:D)","v":0},{"$f":"SUMIF('00 Alimenta'!$B:$B,'00 PDC SP'!$F588,'00 Alimenta'!E:E)","v":0},{"$f":"SUMIF('00 Alimenta'!$B:$B,'00 PDC SP'!$F588,'00 Alimenta'!F:F)","v":0},{"$f":"SUMIF('00 Alimenta'!$B:$B,'00 PDC SP'!$F588,'00 Alimenta'!G:G)","v":0},{"$f":"SUMIF('00 Alimenta'!$B:$B,'00 PDC SP'!$F588,'00 Alimenta'!H:H)","v":0},{"$f":"SUMIF('00 Alimenta'!$B:$B,'00 PDC SP'!$F588,'00 Alimenta'!I:I)","v":0},0]
["PDA170FR","PD","PDA170",14,"FR","0205050206","Fatture da ricevere v/ASL Pescara per finanziamento sanitario aggiuntivo corrente LEA",{"$f":"SUMIF('00 Alimenta'!$B:$B,'00 PDC SP'!$F589,'00 Alimenta'!D:D)","v":0},{"$f":"SUMIF('00 Alimenta'!$B:$B,'00 PDC SP'!$F589,'00 Alimenta'!E:E)","v":0},{"$f":"SUMIF('00 Alimenta'!$B:$B,'00 PDC SP'!$F589,'00 Alimenta'!F:F)","v":0},{"$f":"SUMIF('00 Alimenta'!$B:$B,'00 PDC SP'!$F589,'00 Alimenta'!G:G)","v":0},{"$f":"SUMIF('00 Alimenta'!$B:$B,'00 PDC SP'!$F589,'00 Alimenta'!H:H)","v":0},{"$f":"SUMIF('00 Alimenta'!$B:$B,'00 PDC SP'!$F589,'00 Alimenta'!I:I)","v":0},0]
["PDA170DB","PD","PDA170",14,"DB","0205050207","Debiti v/ASL Teramo per finanziamento sanitario aggiuntivo corrente LEA",{"$f":"SUMIF('00 Alimenta'!$B:$B,'00 PDC SP'!$F590,'00 Alimenta'!D:D)","v":0},{"$f":"SUMIF('00 Alimenta'!$B:$B,'00 PDC SP'!$F590,'00 Alimenta'!E:E)","v":0},{"$f":"SUMIF('00 Alimenta'!$B:$B,'00 PDC SP'!$F590,'00 Alimenta'!F:F)","v":0},{"$f":"SUMIF('00 Alimenta'!$B:$B,'00 PDC SP'!$F590,'00 Alimenta'!G:G)","v":0},{"$f":"SUMIF('00 Alimenta'!$B:$B,'00 PDC SP'!$F590,'00 Alimenta'!H:H)","v":0},{"$f":"SUMIF('00 Alimenta'!$B:$B,'00 PDC SP'!$F590,'00 Alimenta'!I:I)","v":0},0]
["PDA170FR","PD","PDA170",14,"FR","0205050208","Fatture da ricevere v/ASL Teramo per finanziamento sanitario aggiuntivo corrente LEA",{"$f":"SUMIF('00 Alimenta'!$B:$B,'00 PDC SP'!$F591,'00 Alimenta'!D:D)","v":0},{"$f":"SUMIF('00 Alimenta'!$B:$B,'00 PDC SP'!$F591,'00 Alimenta'!E:E)","v":0},{"$f":"SUMIF('00 Alimenta'!$B:$B,'00 PDC SP'!$F591,'00 Alimenta'!F:F)","v":0},{"$f":"SUMIF('00 Alimenta'!$B:$B,'00 PDC SP'!$F591,'00 Alimenta'!G:G)","v":0},{"$f":"SUMIF('00 Alimenta'!$B:$B,'00 PDC SP'!$F591,'00 Alimenta'!H:H)","v":0},{"$f":"SUMIF('00 Alimenta'!$B:$B,'00 PDC SP'!$F591,'00 Alimenta'!I:I)","v":0},0]
["PDA180DB","PD","PDA180",14,"DB","0205050301","Debiti v/ASL Avezzano Sulmona L'Aquila per finanziamento sanitario aggiuntivo corrente extra LEA",{"$f":"SUMIF('00 Alimenta'!$B:$B,'00 PDC SP'!$F592,'00 Alimenta'!D:D)","v":0},{"$f":"SUMIF('00 Alimenta'!$B:$B,'00 PDC SP'!$F592,'00 Alimenta'!E:E)","v":0},{"$f":"SUMIF('00 Alimenta'!$B:$B,'00 PDC SP'!$F592,'00 Alimenta'!F:F)","v":0},{"$f":"SUMIF('00 Alimenta'!$B:$B,'00 PDC SP'!$F592,'00 Alimenta'!G:G)","v":0},{"$f":"SUMIF('00 Alimenta'!$B:$B,'00 PDC SP'!$F592,'00 Alimenta'!H:H)","v":0},{"$f":"SUMIF('00 Alimenta'!$B:$B,'00 PDC SP'!$F592,'00 Alimenta'!I:I)","v":0},0]
["PDA180FR","PD","PDA180",14,"FR","0205050302","Fatture da ricevere v/ASL Avezzano Sulmona L'Aquila per finanziamento sanitario aggiuntivo corrente extra LEA",{"$f":"SUMIF('00 Alimenta'!$B:$B,'00 PDC SP'!$F593,'00 Alimenta'!D:D)","v":0},{"$f":"SUMIF('00 Alimenta'!$B:$B,'00 PDC SP'!$F593,'00 Alimenta'!E:E)","v":0},{"$f":"SUMIF('00 Alimenta'!$B:$B,'00 PDC SP'!$F593,'00 Alimenta'!F:F)","v":0},{"$f":"SUMIF('00 Alimenta'!$B:$B,'00 PDC SP'!$F593,'00 Alimenta'!G:G)","v":0},{"$f":"SUMIF('00 Alimenta'!$B:$B,'00 PDC SP'!$F593,'00 Alimenta'!H:H)","v":0},{"$f":"SUMIF('00 Alimenta'!$B:$B,'00 PDC SP'!$F593,'00 Alimenta'!I:I)","v":0},0]
["PDA180DB","PD","PDA180",14,"DB","0205050303","Debiti v/ASL Lanciano Vasto Chieti per finanziamento sanitario aggiuntivo corrente extra LEA",{"$f":"SUMIF('00 Alimenta'!$B:$B,'00 PDC SP'!$F594,'00 Alimenta'!D:D)","v":0},{"$f":"SUMIF('00 Alimenta'!$B:$B,'00 PDC SP'!$F594,'00 Alimenta'!E:E)","v":0},{"$f":"SUMIF('00 Alimenta'!$B:$B,'00 PDC SP'!$F594,'00 Alimenta'!F:F)","v":0},{"$f":"SUMIF('00 Alimenta'!$B:$B,'00 PDC SP'!$F594,'00 Alimenta'!G:G)","v":0},{"$f":"SUMIF('00 Alimenta'!$B:$B,'00 PDC SP'!$F594,'00 Alimenta'!H:H)","v":0},{"$f":"SUMIF('00 Alimenta'!$B:$B,'00 PDC SP'!$F594,'00 Alimenta'!I:I)","v":0},0]
["PDA180FR","PD","PDA180",14,"FR","0205050304","Fatture da ricevere v/ASL Lanciano Vasto Chieti per finanziamento sanitario aggiuntivo corrente extra LEA",{"$f":"SUMIF('00 Alimenta'!$B:$B,'00 PDC SP'!$F595,'00 Alimenta'!D:D)","v":0},{"$f":"SUMIF('00 Alimenta'!$B:$B,'00 PDC SP'!$F595,'00 Alimenta'!E:E)","v":0},{"$f":"SUMIF('00 Alimenta'!$B:$B,'00 PDC SP'!$F595,'00 Alimenta'!F:F)","v":0},{"$f":"SUMIF('00 Alimenta'!$B:$B,'00 PDC SP'!$F595,'00 Alimenta'!G:G)","v":0},{"$f":"SUMIF('00 Alimenta'!$B:$B,'00 PDC SP'!$F595,'00 Alimenta'!H:H)","v":0},{"$f":"SUMIF('00 Alimenta'!$B:$B,'00 PDC SP'!$F595,'00 Alimenta'!I:I)","v":0},0]
["PDA180DB","PD","PDA180",14,"DB","0205050305","Debiti v/ASL Pescara per finanziamento sanitario aggiuntivo corrente extra LEA",{"$f":"SUMIF('00 Alimenta'!$B:$B,'00 PDC SP'!$F596,'00 Alimenta'!D:D)","v":0},{"$f":"SUMIF('00 Alimenta'!$B:$B,'00 PDC SP'!$F596,'00 Alimenta'!E:E)","v":0},{"$f":"SUMIF('00 Alimenta'!$B:$B,'00 PDC SP'!$F596,'00 Alimenta'!F:F)","v":0},{"$f":"SUMIF('00 Alimenta'!$B:$B,'00 PDC SP'!$F596,'00 Alimenta'!G:G)","v":0},{"$f":"SUMIF('00 Alimenta'!$B:$B,'00 PDC SP'!$F596,'00 Alimenta'!H:H)","v":0},{"$f":"SUMIF('00 Alimenta'!$B:$B,'00 PDC SP'!$F596,'00 Alimenta'!I:I)","v":0},0]
["PDA180FR","PD","PDA180",14,"FR","0205050306","Fatture da ricevere v/ASL Pescara per finanziamento sanitario aggiuntivo corrente extra LEA",{"$f":"SUMIF('00 Alimenta'!$B:$B,'00 PDC SP'!$F597,'00 Alimenta'!D:D)","v":0},{"$f":"SUMIF('00 Alimenta'!$B:$B,'00 PDC SP'!$F597,'00 Alimenta'!E:E)","v":0},{"$f":"SUMIF('00 Alimenta'!$B:$B,'00 PDC SP'!$F597,'00 Alimenta'!F:F)","v":0},{"$f":"SUMIF('00 Alimenta'!$B:$B,'00 PDC SP'!$F597,'00 Alimenta'!G:G)","v":0},{"$f":"SUMIF('00 Alimenta'!$B:$B,'00 PDC SP'!$F597,'00 Alimenta'!H:H)","v":0},{"$f":"SUMIF('00 Alimenta'!$B:$B,'00 PDC SP'!$F597,'00 Alimenta'!I:I)","v":0},0]
["PDA180DB","PD","PDA180",14,"DB","0205050307","Debiti v/ASL Teramo per finanziamento sanitario aggiuntivo corrente extra LEA",{"$f":"SUMIF('00 Alimenta'!$B:$B,'00 PDC SP'!$F598,'00 Alimenta'!D:D)","v":0},{"$f":"SUMIF('00 Alimenta'!$B:$B,'00 PDC SP'!$F598,'00 Alimenta'!E:E)","v":0},{"$f":"SUMIF('00 Alimenta'!$B:$B,'00 PDC SP'!$F598,'00 Alimenta'!F:F)","v":0},{"$f":"SUMIF('00 Alimenta'!$B:$B,'00 PDC SP'!$F598,'00 Alimenta'!G:G)","v":0},{"$f":"SUMIF('00 Alimenta'!$B:$B,'00 PDC SP'!$F598,'00 Alimenta'!H:H)","v":0},{"$f":"SUMIF('00 Alimenta'!$B:$B,'00 PDC SP'!$F598,'00 Alimenta'!I:I)","v":0},0]
["PDA180FR","PD","PDA180",14,"FR","0205050308","Fatture da ricevere v/ASL Teramo per finanziamento sanitario aggiuntivo corrente extra LEA",{"$f":"SUMIF('00 Alimenta'!$B:$B,'00 PDC SP'!$F599,'00 Alimenta'!D:D)","v":0},{"$f":"SUMIF('00 Alimenta'!$B:$B,'00 PDC SP'!$F599,'00 Alimenta'!E:E)","v":0},{"$f":"SUMIF('00 Alimenta'!$B:$B,'00 PDC SP'!$F599,'00 Alimenta'!F:F)","v":0},{"$f":"SUMIF('00 Alimenta'!$B:$B,'00 PDC SP'!$F599,'00 Alimenta'!G:G)","v":0},{"$f":"SUMIF('00 Alimenta'!$B:$B,'00 PDC SP'!$F599,'00 Alimenta'!H:H)","v":0},{"$f":"SUMIF('00 Alimenta'!$B:$B,'00 PDC SP'!$F599,'00 Alimenta'!I:I)","v":0},0]
["PDA190DB","PD","PDA190",14,"DB","0205050401","Debiti v/ASL Avezzano Sulmona L'Aquila per mobilità in compensazione",{"$f":"SUMIF('00 Alimenta'!$B:$B,'00 PDC SP'!$F600,'00 Alimenta'!D:D)","v":0},{"$f":"SUMIF('00 Alimenta'!$B:$B,'00 PDC SP'!$F600,'00 Alimenta'!E:E)","v":0},{"$f":"SUMIF('00 Alimenta'!$B:$B,'00 PDC SP'!$F600,'00 Alimenta'!F:F)","v":0},{"$f":"SUMIF('00 Alimenta'!$B:$B,'00 PDC SP'!$F600,'00 Alimenta'!G:G)","v":0},{"$f":"SUMIF('00 Alimenta'!$B:$B,'00 PDC SP'!$F600,'00 Alimenta'!H:H)","v":0},{"$f":"SUMIF('00 Alimenta'!$B:$B,'00 PDC SP'!$F600,'00 Alimenta'!I:I)","v":0},0]
["PDA190DB","PD","PDA190",14,"DB","0205050402","Debiti v/ASL Lanciano Vasto Chieti per mobilità in compensazione",{"$f":"SUMIF('00 Alimenta'!$B:$B,'00 PDC SP'!$F601,'00 Alimenta'!D:D)","v":0},{"$f":"SUMIF('00 Alimenta'!$B:$B,'00 PDC SP'!$F601,'00 Alimenta'!E:E)","v":0},{"$f":"SUMIF('00 Alimenta'!$B:$B,'00 PDC SP'!$F601,'00 Alimenta'!F:F)","v":0},{"$f":"SUMIF('00 Alimenta'!$B:$B,'00 PDC SP'!$F601,'00 Alimenta'!G:G)","v":0},{"$f":"SUMIF('00 Alimenta'!$B:$B,'00 PDC SP'!$F601,'00 Alimenta'!H:H)","v":0},{"$f":"SUMIF('00 Alimenta'!$B:$B,'00 PDC SP'!$F601,'00 Alimenta'!I:I)","v":0},0]
["PDA190DB","PD","PDA190",14,"DB","0205050403","Debiti v/ASL Pescara per mobilità in compensazione",{"$f":"SUMIF('00 Alimenta'!$B:$B,'00 PDC SP'!$F602,'00 Alimenta'!D:D)","v":0},{"$f":"SUMIF('00 Alimenta'!$B:$B,'00 PDC SP'!$F602,'00 Alimenta'!E:E)","v":0},{"$f":"SUMIF('00 Alimenta'!$B:$B,'00 PDC SP'!$F602,'00 Alimenta'!F:F)","v":0},{"$f":"SUMIF('00 Alimenta'!$B:$B,'00 PDC SP'!$F602,'00 Alimenta'!G:G)","v":0},{"$f":"SUMIF('00 Alimenta'!$B:$B,'00 PDC SP'!$F602,'00 Alimenta'!H:H)","v":0},{"$f":"SUMIF('00 Alimenta'!$B:$B,'00 PDC SP'!$F602,'00 Alimenta'!I:I)","v":0},0]
["PDA190DB","PD","PDA190",14,"DB","0205050404","Debiti v/ASL Teramo per mobilità in compensazione",{"$f":"SUMIF('00 Alimenta'!$B:$B,'00 PDC SP'!$F603,'00 Alimenta'!D:D)","v":0},{"$f":"SUMIF('00 Alimenta'!$B:$B,'00 PDC SP'!$F603,'00 Alimenta'!E:E)","v":0},{"$f":"SUMIF('00 Alimenta'!$B:$B,'00 PDC SP'!$F603,'00 Alimenta'!F:F)","v":0},{"$f":"SUMIF('00 Alimenta'!$B:$B,'00 PDC SP'!$F603,'00 Alimenta'!G:G)","v":0},{"$f":"SUMIF('00 Alimenta'!$B:$B,'00 PDC SP'!$F603,'00 Alimenta'!H:H)","v":0},{"$f":"SUMIF('00 Alimenta'!$B:$B,'00 PDC SP'!$F603,'00 Alimenta'!I:I)","v":0},0]
[{"$f":"IF(E604=\"\",C604,C604&E604)","v":"PDA200DB"},"PD","PDA200",14,"DB","0205050501","Debiti v/ASL Avezzano Sulmona L'Aquila per mobilità non in compensazione",null,null,null,{"$f":"SUMIF('00 Alimenta'!$B:$B,'00 PDC SP'!$F604,'00 Alimenta'!G:G)","v":0},{"$f":"SUMIF('00 Alimenta'!$B:$B,'00 PDC SP'!$F604,'00 Alimenta'!H:H)","v":0},{"$f":"SUMIF('00 Alimenta'!$B:$B,'00 PDC SP'!$F604,'00 Alimenta'!I:I)","v":0},{"$f":"K604+L604-M604","v":0}]
["PDA200FR","PD","PDA200",14,"FR","0205050502","Fatture da ricevere v/ASL Avezzano Sulmona L'Aquila per mobilità non in compensazione",{"$f":"SUMIF('00 Alimenta'!$B:$B,'00 PDC SP'!$F605,'00 Alimenta'!D:D)","v":0},{"$f":"SUMIF('00 Alimenta'!$B:$B,'00 PDC SP'!$F605,'00 Alimenta'!E:E)","v":0},{"$f":"SUMIF('00 Alimenta'!$B:$B,'00 PDC SP'!$F605,'00 Alimenta'!F:F)","v":0},{"$f":"SUMIF('00 Alimenta'!$B:$B,'00 PDC SP'!$F605,'00 Alimenta'!G:G)","v":0},{"$f":"SUMIF('00 Alimenta'!$B:$B,'00 PDC SP'!$F605,'00 Alimenta'!H:H)","v":0},{"$f":"SUMIF('00 Alimenta'!$B:$B,'00 PDC SP'!$F605,'00 Alimenta'!I:I)","v":0},0]
["PDA200DB","PD","PDA200",14,"DB","0205050503","Debiti v/ASL Lanciano Vasto Chieti per mobilità non in compensazione",{"$f":"SUMIF('00 Alimenta'!$B:$B,'00 PDC SP'!$F606,'00 Alimenta'!D:D)","v":0},{"$f":"SUMIF('00 Alimenta'!$B:$B,'00 PDC SP'!$F606,'00 Alimenta'!E:E)","v":0},{"$f":"SUMIF('00 Alimenta'!$B:$B,'00 PDC SP'!$F606,'00 Alimenta'!F:F)","v":0},{"$f":"SUMIF('00 Alimenta'!$B:$B,'00 PDC SP'!$F606,'00 Alimenta'!G:G)","v":0},{"$f":"SUMIF('00 Alimenta'!$B:$B,'00 PDC SP'!$F606,'00 Alimenta'!H:H)","v":0},{"$f":"SUMIF('00 Alimenta'!$B:$B,'00 PDC SP'!$F606,'00 Alimenta'!I:I)","v":0},0]
["PDA200FR","PD","PDA200",14,"FR","0205050504","Fatture da ricevere v/ASL Lanciano Vasto Chieti per mobilità non in compensazione",{"$f":"SUMIF('00 Alimenta'!$B:$B,'00 PDC SP'!$F607,'00 Alimenta'!D:D)","v":0},{"$f":"SUMIF('00 Alimenta'!$B:$B,'00 PDC SP'!$F607,'00 Alimenta'!E:E)","v":0},{"$f":"SUMIF('00 Alimenta'!$B:$B,'00 PDC SP'!$F607,'00 Alimenta'!F:F)","v":0},{"$f":"SUMIF('00 Alimenta'!$B:$B,'00 PDC SP'!$F607,'00 Alimenta'!G:G)","v":0},{"$f":"SUMIF('00 Alimenta'!$B:$B,'00 PDC SP'!$F607,'00 Alimenta'!H:H)","v":0},{"$f":"SUMIF('00 Alimenta'!$B:$B,'00 PDC SP'!$F607,'00 Alimenta'!I:I)","v":0},0]
["PDA200DB","PD","PDA200",14,"DB","0205050505","Debiti v/ASL Pescara per mobilità non in compensazione",{"$f":"SUMIF('00 Alimenta'!$B:$B,'00 PDC SP'!$F608,'00 Alimenta'!D:D)","v":0},{"$f":"SUMIF('00 Alimenta'!$B:$B,'00 PDC SP'!$F608,'00 Alimenta'!E:E)","v":0},{"$f":"SUMIF('00 Alimenta'!$B:$B,'00 PDC SP'!$F608,'00 Alimenta'!F:F)","v":0},{"$f":"SUMIF('00 Alimenta'!$B:$B,'00 PDC SP'!$F608,'00 Alimenta'!G:G)","v":0},{"$f":"SUMIF('00 Alimenta'!$B:$B,'00 PDC SP'!$F608,'00 Alimenta'!H:H)","v":0},{"$f":"SUMIF('00 Alimenta'!$B:$B,'00 PDC SP'!$F608,'00 Alimenta'!I:I)","v":0},0]
["PDA200FR","PD","PDA200",14,"FR","0205050506","Fatture da ricevere v/ASL Pescara per mobilità non in compensazione",{"$f":"SUMIF('00 Alimenta'!$B:$B,'00 PDC SP'!$F609,'00 Alimenta'!D:D)","v":0},{"$f":"SUMIF('00 Alimenta'!$B:$B,'00 PDC SP'!$F609,'00 Alimenta'!E:E)","v":0},{"$f":"SUMIF('00 Alimenta'!$B:$B,'00 PDC SP'!$F609,'00 Alimenta'!F:F)","v":0},{"$f":"SUMIF('00 Alimenta'!$B:$B,'00 PDC SP'!$F609,'00 Alimenta'!G:G)","v":0},{"$f":"SUMIF('00 Alimenta'!$B:$B,'00 PDC SP'!$F609,'00 Alimenta'!H:H)","v":0},{"$f":"SUMIF('00 Alimenta'!$B:$B,'00 PDC SP'!$F609,'00 Alimenta'!I:I)","v":0},0]
["PDA200DB","PD","PDA200",14,"DB","0205050507","Debiti v/ASL Teramo per mobilità non in compensazione",{"$f":"SUMIF('00 Alimenta'!$B:$B,'00 PDC SP'!$F610,'00 Alimenta'!D:D)","v":0},{"$f":"SUMIF('00 Alimenta'!$B:$B,'00 PDC SP'!$F610,'00 Alimenta'!E:E)","v":0},{"$f":"SUMIF('00 Alimenta'!$B:$B,'00 PDC SP'!$F610,'00 Alimenta'!F:F)","v":0},{"$f":"SUMIF('00 Alimenta'!$B:$B,'00 PDC SP'!$F610,'00 Alimenta'!G:G)","v":0},{"$f":"SUMIF('00 Alimenta'!$B:$B,'00 PDC SP'!$F610,'00 Alimenta'!H:H)","v":0},{"$f":"SUMIF('00 Alimenta'!$B:$B,'00 PDC SP'!$F610,'00 Alimenta'!I:I)","v":0},0]
["PDA200FR","PD","PDA200",14,"FR","0205050508","Fatture da ricevere v/ASL Teramo per mobilità non in compensazione",{"$f":"SUMIF('00 Alimenta'!$B:$B,'00 PDC SP'!$F611,'00 Alimenta'!D:D)","v":0},{"$f":"SUMIF('00 Alimenta'!$B:$B,'00 PDC SP'!$F611,'00 Alimenta'!E:E)","v":0},{"$f":"SUMIF('00 Alimenta'!$B:$B,'00 PDC SP'!$F611,'00 Alimenta'!F:F)","v":0},{"$f":"SUMIF('00 Alimenta'!$B:$B,'00 PDC SP'!$F611,'00 Alimenta'!G:G)","v":0},{"$f":"SUMIF('00 Alimenta'!$B:$B,'00 PDC SP'!$F611,'00 Alimenta'!H:H)","v":0},{"$f":"SUMIF('00 Alimenta'!$B:$B,'00 PDC SP'!$F611,'00 Alimenta'!I:I)","v":0},0]
["PDA210DB","PD","PDA210",14,"DB","0205050601","Debiti v/ASL Avezzano Sulmona L'Aquila per altre prestazioni",{"$f":"SUMIF('00 Alimenta'!$B:$B,'00 PDC SP'!$F612,'00 Alimenta'!D:D)","v":-265404.46000000002},{"$f":"SUMIF('00 Alimenta'!$B:$B,'00 PDC SP'!$F612,'00 Alimenta'!E:E)","v":-197162.76},{"$f":"SUMIF('00 Alimenta'!$B:$B,'00 PDC SP'!$F612,'00 Alimenta'!F:F)","v":-203272.68},{"$f":"SUMIF('00 Alimenta'!$B:$B,'00 PDC SP'!$F612,'00 Alimenta'!G:G)","v":-259294.54},{"$f":"SUMIF('00 Alimenta'!$B:$B,'00 PDC SP'!$F612,'00 Alimenta'!H:H)","v":-471189.87},{"$f":"SUMIF('00 Alimenta'!$B:$B,'00 PDC SP'!$F612,'00 Alimenta'!I:I)","v":-453404.2},-277080.21000000002]
["PDA210FR","PD","PDA210",14,"FR","0205050602","Fatture da ricevere v/ASL Avezzano Sulmona L'Aquila per altre prestazioni",{"$f":"SUMIF('00 Alimenta'!$B:$B,'00 PDC SP'!$F613,'00 Alimenta'!D:D)","v":-84346.32},{"$f":"SUMIF('00 Alimenta'!$B:$B,'00 PDC SP'!$F613,'00 Alimenta'!E:E)","v":-236845.56},{"$f":"SUMIF('00 Alimenta'!$B:$B,'00 PDC SP'!$F613,'00 Alimenta'!F:F)","v":-84346.32},{"$f":"SUMIF('00 Alimenta'!$B:$B,'00 PDC SP'!$F613,'00 Alimenta'!G:G)","v":-236845.56},{"$f":"SUMIF('00 Alimenta'!$B:$B,'00 PDC SP'!$F613,'00 Alimenta'!H:H)","v":-239701.34},{"$f":"SUMIF('00 Alimenta'!$B:$B,'00 PDC SP'!$F613,'00 Alimenta'!I:I)","v":-236845.56},-239701.34000000003]
["PDA210DB","PD","PDA210",14,"DB","0205050603","Debiti v/ASL Lanciano Vasto Chieti per altre prestazioni",{"$f":"SUMIF('00 Alimenta'!$B:$B,'00 PDC SP'!$F614,'00 Alimenta'!D:D)","v":-59271.31},{"$f":"SUMIF('00 Alimenta'!$B:$B,'00 PDC SP'!$F614,'00 Alimenta'!E:E)","v":-56200.12},{"$f":"SUMIF('00 Alimenta'!$B:$B,'00 PDC SP'!$F614,'00 Alimenta'!F:F)","v":-50633.11},{"$f":"SUMIF('00 Alimenta'!$B:$B,'00 PDC SP'!$F614,'00 Alimenta'!G:G)","v":-64838.32},{"$f":"SUMIF('00 Alimenta'!$B:$B,'00 PDC SP'!$F614,'00 Alimenta'!H:H)","v":-44284.06},{"$f":"SUMIF('00 Alimenta'!$B:$B,'00 PDC SP'!$F614,'00 Alimenta'!I:I)","v":-20577.330000000002},-88545.05]
["PDA210FR","PD","PDA210",14,"FR","0205050604","Fatture da ricevere v/ASL Lanciano Vasto Chieti per altre prestazioni",{"$f":"SUMIF('00 Alimenta'!$B:$B,'00 PDC SP'!$F615,'00 Alimenta'!D:D)","v":-23505.119999999999},{"$f":"SUMIF('00 Alimenta'!$B:$B,'00 PDC SP'!$F615,'00 Alimenta'!E:E)","v":-9926},{"$f":"SUMIF('00 Alimenta'!$B:$B,'00 PDC SP'!$F615,'00 Alimenta'!F:F)","v":-23505.119999999999},{"$f":"SUMIF('00 Alimenta'!$B:$B,'00 PDC SP'!$F615,'00 Alimenta'!G:G)","v":-9926},{"$f":"SUMIF('00 Alimenta'!$B:$B,'00 PDC SP'!$F615,'00 Alimenta'!H:H)","v":-23166},{"$f":"SUMIF('00 Alimenta'!$B:$B,'00 PDC SP'!$F615,'00 Alimenta'!I:I)","v":-9926},-23166]
["PDA210DB","PD","PDA210",14,"DB","0205050605","Debiti v/ASL Pescara per altre prestazioni",{"$f":"SUMIF('00 Alimenta'!$B:$B,'00 PDC SP'!$F616,'00 Alimenta'!D:D)","v":0},{"$f":"SUMIF('00 Alimenta'!$B:$B,'00 PDC SP'!$F616,'00 Alimenta'!E:E)","v":0},{"$f":"SUMIF('00 Alimenta'!$B:$B,'00 PDC SP'!$F616,'00 Alimenta'!F:F)","v":0},{"$f":"SUMIF('00 Alimenta'!$B:$B,'00 PDC SP'!$F616,'00 Alimenta'!G:G)","v":0},{"$f":"SUMIF('00 Alimenta'!$B:$B,'00 PDC SP'!$F616,'00 Alimenta'!H:H)","v":0},{"$f":"SUMIF('00 Alimenta'!$B:$B,'00 PDC SP'!$F616,'00 Alimenta'!I:I)","v":0},0]
["PDA210FR","PD","PDA210",14,"FR","0205050606","Fatture da ricevere v/ASL Pescara per altre prestazioni",{"$f":"SUMIF('00 Alimenta'!$B:$B,'00 PDC SP'!$F617,'00 Alimenta'!D:D)","v":0},{"$f":"SUMIF('00 Alimenta'!$B:$B,'00 PDC SP'!$F617,'00 Alimenta'!E:E)","v":0},{"$f":"SUMIF('00 Alimenta'!$B:$B,'00 PDC SP'!$F617,'00 Alimenta'!F:F)","v":0},{"$f":"SUMIF('00 Alimenta'!$B:$B,'00 PDC SP'!$F617,'00 Alimenta'!G:G)","v":0},{"$f":"SUMIF('00 Alimenta'!$B:$B,'00 PDC SP'!$F617,'00 Alimenta'!H:H)","v":0},{"$f":"SUMIF('00 Alimenta'!$B:$B,'00 PDC SP'!$F617,'00 Alimenta'!I:I)","v":0},0]
["PDA210DB","PD","PDA210",14,"DB","0205050607","Debiti v/ASL Teramo per altre prestazioni",{"$f":"SUMIF('00 Alimenta'!$B:$B,'00 PDC SP'!$F618,'00 Alimenta'!D:D)","v":-1927448.87},{"$f":"SUMIF('00 Alimenta'!$B:$B,'00 PDC SP'!$F618,'00 Alimenta'!E:E)","v":-152571.81},{"$f":"SUMIF('00 Alimenta'!$B:$B,'00 PDC SP'!$F618,'00 Alimenta'!F:F)","v":-11954.4},{"$f":"SUMIF('00 Alimenta'!$B:$B,'00 PDC SP'!$F618,'00 Alimenta'!G:G)","v":-2068066.28},{"$f":"SUMIF('00 Alimenta'!$B:$B,'00 PDC SP'!$F618,'00 Alimenta'!H:H)","v":-108568.18},{"$f":"SUMIF('00 Alimenta'!$B:$B,'00 PDC SP'!$F618,'00 Alimenta'!I:I)","v":-58733.56},-2117900.9]
["PDA210FR","PD","PDA210",14,"FR","0205050608","Fatture da ricevere v/ASL Teramo per altre prestazioni",{"$f":"SUMIF('00 Alimenta'!$B:$B,'00 PDC SP'!$F619,'00 Alimenta'!D:D)","v":-29786},{"$f":"SUMIF('00 Alimenta'!$B:$B,'00 PDC SP'!$F619,'00 Alimenta'!E:E)","v":-26706},{"$f":"SUMIF('00 Alimenta'!$B:$B,'00 PDC SP'!$F619,'00 Alimenta'!F:F)","v":-29786},{"$f":"SUMIF('00 Alimenta'!$B:$B,'00 PDC SP'!$F619,'00 Alimenta'!G:G)","v":-26706},{"$f":"SUMIF('00 Alimenta'!$B:$B,'00 PDC SP'!$F619,'00 Alimenta'!H:H)","v":-60702.32},{"$f":"SUMIF('00 Alimenta'!$B:$B,'00 PDC SP'!$F619,'00 Alimenta'!I:I)","v":-26706},-60702.320000000007]
["PDA211DB","PD","PDA211",14,"DB","0205050609","Debiti v/Aziende sanitarie pubbliche della Regione - altre prestazioni per STP",{"$f":"SUMIF('00 Alimenta'!$B:$B,'00 PDC SP'!$F620,'00 Alimenta'!D:D)","v":0},{"$f":"SUMIF('00 Alimenta'!$B:$B,'00 PDC SP'!$F620,'00 Alimenta'!E:E)","v":0},{"$f":"SUMIF('00 Alimenta'!$B:$B,'00 PDC SP'!$F620,'00 Alimenta'!F:F)","v":0},{"$f":"SUMIF('00 Alimenta'!$B:$B,'00 PDC SP'!$F620,'00 Alimenta'!G:G)","v":0},{"$f":"SUMIF('00 Alimenta'!$B:$B,'00 PDC SP'!$F620,'00 Alimenta'!H:H)","v":0},{"$f":"SUMIF('00 Alimenta'!$B:$B,'00 PDC SP'!$F620,'00 Alimenta'!I:I)","v":0},0]
["PDA212DB","PD","PDA212",14,"DB","0205050610","Debiti v/Aziende sanitarie pubbliche della Regione - per Contributi da Aziende sanitarie pubbliche della Regione o Prov. Aut. (extra fondo) ",{"$f":"SUMIF('00 Alimenta'!$B:$B,'00 PDC SP'!$F621,'00 Alimenta'!D:D)","v":0},{"$f":"SUMIF('00 Alimenta'!$B:$B,'00 PDC SP'!$F621,'00 Alimenta'!E:E)","v":0},{"$f":"SUMIF('00 Alimenta'!$B:$B,'00 PDC SP'!$F621,'00 Alimenta'!F:F)","v":0},{"$f":"SUMIF('00 Alimenta'!$B:$B,'00 PDC SP'!$F621,'00 Alimenta'!G:G)","v":0},{"$f":"SUMIF('00 Alimenta'!$B:$B,'00 PDC SP'!$F621,'00 Alimenta'!H:H)","v":0},{"$f":"SUMIF('00 Alimenta'!$B:$B,'00 PDC SP'!$F621,'00 Alimenta'!I:I)","v":0},0]
["PDA213DB","PD","PDA213",14,"DB","0205050611","Debiti v/Aziende sanitarie pubbliche della Regione - per contributi L. 210/92 ",{"$f":"SUMIF('00 Alimenta'!$B:$B,'00 PDC SP'!$F622,'00 Alimenta'!D:D)","v":0},{"$f":"SUMIF('00 Alimenta'!$B:$B,'00 PDC SP'!$F622,'00 Alimenta'!E:E)","v":0},{"$f":"SUMIF('00 Alimenta'!$B:$B,'00 PDC SP'!$F622,'00 Alimenta'!F:F)","v":0},{"$f":"SUMIF('00 Alimenta'!$B:$B,'00 PDC SP'!$F622,'00 Alimenta'!G:G)","v":0},{"$f":"SUMIF('00 Alimenta'!$B:$B,'00 PDC SP'!$F622,'00 Alimenta'!H:H)","v":0},{"$f":"SUMIF('00 Alimenta'!$B:$B,'00 PDC SP'!$F622,'00 Alimenta'!I:I)","v":0},0]
["PDA220DB","PD","PDA220",14,"DB","0205050701","Debiti v/Aziende sanitarie pubbliche Extraregione",{"$f":"SUMIF('00 Alimenta'!$B:$B,'00 PDC SP'!$F623,'00 Alimenta'!D:D)","v":-94699.36},{"$f":"SUMIF('00 Alimenta'!$B:$B,'00 PDC SP'!$F623,'00 Alimenta'!E:E)","v":-170921.16},{"$f":"SUMIF('00 Alimenta'!$B:$B,'00 PDC SP'!$F623,'00 Alimenta'!F:F)","v":-190667.38},{"$f":"SUMIF('00 Alimenta'!$B:$B,'00 PDC SP'!$F623,'00 Alimenta'!G:G)","v":-74953.14},{"$f":"SUMIF('00 Alimenta'!$B:$B,'00 PDC SP'!$F623,'00 Alimenta'!H:H)","v":-217057.08},{"$f":"SUMIF('00 Alimenta'!$B:$B,'00 PDC SP'!$F623,'00 Alimenta'!I:I)","v":-193771},-98239.219999999972]
["PDA220FR","PD","PDA220",14,"FR","0205050702","Fatture da ricevere v/Aziende sanitarie pubbliche Extraregione",{"$f":"SUMIF('00 Alimenta'!$B:$B,'00 PDC SP'!$F624,'00 Alimenta'!D:D)","v":-15263.65},{"$f":"SUMIF('00 Alimenta'!$B:$B,'00 PDC SP'!$F624,'00 Alimenta'!E:E)","v":-45840.65},{"$f":"SUMIF('00 Alimenta'!$B:$B,'00 PDC SP'!$F624,'00 Alimenta'!F:F)","v":-15263.65},{"$f":"SUMIF('00 Alimenta'!$B:$B,'00 PDC SP'!$F624,'00 Alimenta'!G:G)","v":-45840.65},{"$f":"SUMIF('00 Alimenta'!$B:$B,'00 PDC SP'!$F624,'00 Alimenta'!H:H)","v":-27646.99},{"$f":"SUMIF('00 Alimenta'!$B:$B,'00 PDC SP'!$F624,'00 Alimenta'!I:I)","v":-45840.65},-27646.989999999998]
["PDA220DB","PD","PDA220",14,"DB","0205050703","Debiti v/Aziende Ospedaliere, IRCCS, Policlinici, Fondazioni Extraregione",{"$f":"SUMIF('00 Alimenta'!$B:$B,'00 PDC SP'!$F625,'00 Alimenta'!D:D)","v":-57236.47},{"$f":"SUMIF('00 Alimenta'!$B:$B,'00 PDC SP'!$F625,'00 Alimenta'!E:E)","v":-56381.91},{"$f":"SUMIF('00 Alimenta'!$B:$B,'00 PDC SP'!$F625,'00 Alimenta'!F:F)","v":-57423.86},{"$f":"SUMIF('00 Alimenta'!$B:$B,'00 PDC SP'!$F625,'00 Alimenta'!G:G)","v":-56194.52},{"$f":"SUMIF('00 Alimenta'!$B:$B,'00 PDC SP'!$F625,'00 Alimenta'!H:H)","v":-43581.24},{"$f":"SUMIF('00 Alimenta'!$B:$B,'00 PDC SP'!$F625,'00 Alimenta'!I:I)","v":-48819.7},-50956.06]
["PDA220FR","PD","PDA220",14,"FR","0205050704","Fatture da ricevere v/Aziende Ospedaliere, IRCCS, Policlinici, Fondazioni Extraregione",{"$f":"SUMIF('00 Alimenta'!$B:$B,'00 PDC SP'!$F626,'00 Alimenta'!D:D)","v":-33826.42},{"$f":"SUMIF('00 Alimenta'!$B:$B,'00 PDC SP'!$F626,'00 Alimenta'!E:E)","v":-22127.279999999999},{"$f":"SUMIF('00 Alimenta'!$B:$B,'00 PDC SP'!$F626,'00 Alimenta'!F:F)","v":-33826.42},{"$f":"SUMIF('00 Alimenta'!$B:$B,'00 PDC SP'!$F626,'00 Alimenta'!G:G)","v":-22127.279999999999},{"$f":"SUMIF('00 Alimenta'!$B:$B,'00 PDC SP'!$F626,'00 Alimenta'!H:H)","v":-38667.86},{"$f":"SUMIF('00 Alimenta'!$B:$B,'00 PDC SP'!$F626,'00 Alimenta'!I:I)","v":-22127.279999999999},-38667.86]
["PDA235DB","PD","PDA235",14,"DB","0205050801","Debiti v/ASL Avezzano Sulmona L'Aquila per versamenti c/patrimonio netto - altro ",{"$f":"SUMIF('00 Alimenta'!$B:$B,'00 PDC SP'!$F627,'00 Alimenta'!D:D)","v":0},{"$f":"SUMIF('00 Alimenta'!$B:$B,'00 PDC SP'!$F627,'00 Alimenta'!E:E)","v":0},{"$f":"SUMIF('00 Alimenta'!$B:$B,'00 PDC SP'!$F627,'00 Alimenta'!F:F)","v":0},{"$f":"SUMIF('00 Alimenta'!$B:$B,'00 PDC SP'!$F627,'00 Alimenta'!G:G)","v":0},{"$f":"SUMIF('00 Alimenta'!$B:$B,'00 PDC SP'!$F627,'00 Alimenta'!H:H)","v":0},{"$f":"SUMIF('00 Alimenta'!$B:$B,'00 PDC SP'!$F627,'00 Alimenta'!I:I)","v":0},0]
["PDA235DB","PD","PDA235",14,"DB","0205050802","Debiti v/ASL Lanciano Vasto Chieti per versamenti c/patrimonio netto - altro ",{"$f":"SUMIF('00 Alimenta'!$B:$B,'00 PDC SP'!$F628,'00 Alimenta'!D:D)","v":0},{"$f":"SUMIF('00 Alimenta'!$B:$B,'00 PDC SP'!$F628,'00 Alimenta'!E:E)","v":0},{"$f":"SUMIF('00 Alimenta'!$B:$B,'00 PDC SP'!$F628,'00 Alimenta'!F:F)","v":0},{"$f":"SUMIF('00 Alimenta'!$B:$B,'00 PDC SP'!$F628,'00 Alimenta'!G:G)","v":0},{"$f":"SUMIF('00 Alimenta'!$B:$B,'00 PDC SP'!$F628,'00 Alimenta'!H:H)","v":0},{"$f":"SUMIF('00 Alimenta'!$B:$B,'00 PDC SP'!$F628,'00 Alimenta'!I:I)","v":0},0]
["PDA235DB","PD","PDA235",14,"DB","0205050803","Debiti v/ASL Pescara per versamenti c/patrimonio netto  - altro ",{"$f":"SUMIF('00 Alimenta'!$B:$B,'00 PDC SP'!$F629,'00 Alimenta'!D:D)","v":0},{"$f":"SUMIF('00 Alimenta'!$B:$B,'00 PDC SP'!$F629,'00 Alimenta'!E:E)","v":0},{"$f":"SUMIF('00 Alimenta'!$B:$B,'00 PDC SP'!$F629,'00 Alimenta'!F:F)","v":0},{"$f":"SUMIF('00 Alimenta'!$B:$B,'00 PDC SP'!$F629,'00 Alimenta'!G:G)","v":0},{"$f":"SUMIF('00 Alimenta'!$B:$B,'00 PDC SP'!$F629,'00 Alimenta'!H:H)","v":0},{"$f":"SUMIF('00 Alimenta'!$B:$B,'00 PDC SP'!$F629,'00 Alimenta'!I:I)","v":0},0]
["PDA235DB","PD","PDA235",14,"DB","0205050804","Debiti v/ASL Teramo per versamenti c/patrimonio netto - altro ",{"$f":"SUMIF('00 Alimenta'!$B:$B,'00 PDC SP'!$F630,'00 Alimenta'!D:D)","v":0},{"$f":"SUMIF('00 Alimenta'!$B:$B,'00 PDC SP'!$F630,'00 Alimenta'!E:E)","v":0},{"$f":"SUMIF('00 Alimenta'!$B:$B,'00 PDC SP'!$F630,'00 Alimenta'!F:F)","v":0},{"$f":"SUMIF('00 Alimenta'!$B:$B,'00 PDC SP'!$F630,'00 Alimenta'!G:G)","v":0},{"$f":"SUMIF('00 Alimenta'!$B:$B,'00 PDC SP'!$F630,'00 Alimenta'!H:H)","v":0},{"$f":"SUMIF('00 Alimenta'!$B:$B,'00 PDC SP'!$F630,'00 Alimenta'!I:I)","v":0},0]
["PDA235DB","PD","PDA235",14,"DB","0205050805","Debiti v/ASL ASL Regionali per versamenti c/patrimonio netto - altro ",{"$f":"SUMIF('00 Alimenta'!$B:$B,'00 PDC SP'!$F631,'00 Alimenta'!D:D)","v":0},{"$f":"SUMIF('00 Alimenta'!$B:$B,'00 PDC SP'!$F631,'00 Alimenta'!E:E)","v":0},{"$f":"SUMIF('00 Alimenta'!$B:$B,'00 PDC SP'!$F631,'00 Alimenta'!F:F)","v":0},{"$f":"SUMIF('00 Alimenta'!$B:$B,'00 PDC SP'!$F631,'00 Alimenta'!G:G)","v":0},{"$f":"SUMIF('00 Alimenta'!$B:$B,'00 PDC SP'!$F631,'00 Alimenta'!H:H)","v":0},{"$f":"SUMIF('00 Alimenta'!$B:$B,'00 PDC SP'!$F631,'00 Alimenta'!I:I)","v":0},0]
["PDA231DB","PD","PDA231",14,"DB","0205050806","Debiti v/ASL Avezzano Sulmona L'Aquila sanitarie pubbliche della Regione per versamenti c/patrimonio netto - finanziamenti per investimenti",{"$f":"SUMIF('00 Alimenta'!$B:$B,'00 PDC SP'!$F632,'00 Alimenta'!D:D)","v":0},{"$f":"SUMIF('00 Alimenta'!$B:$B,'00 PDC SP'!$F632,'00 Alimenta'!E:E)","v":0},{"$f":"SUMIF('00 Alimenta'!$B:$B,'00 PDC SP'!$F632,'00 Alimenta'!F:F)","v":0},{"$f":"SUMIF('00 Alimenta'!$B:$B,'00 PDC SP'!$F632,'00 Alimenta'!G:G)","v":0},{"$f":"SUMIF('00 Alimenta'!$B:$B,'00 PDC SP'!$F632,'00 Alimenta'!H:H)","v":0},{"$f":"SUMIF('00 Alimenta'!$B:$B,'00 PDC SP'!$F632,'00 Alimenta'!I:I)","v":0},0]
["PDA231DB","PD","PDA231",14,"DB","0205050807","Debiti v/ASL Lanciano Vasto Chieti sanitarie pubbliche della Regione per versamenti c/patrimonio netto - finanziamenti per investimenti",{"$f":"SUMIF('00 Alimenta'!$B:$B,'00 PDC SP'!$F633,'00 Alimenta'!D:D)","v":0},{"$f":"SUMIF('00 Alimenta'!$B:$B,'00 PDC SP'!$F633,'00 Alimenta'!E:E)","v":0},{"$f":"SUMIF('00 Alimenta'!$B:$B,'00 PDC SP'!$F633,'00 Alimenta'!F:F)","v":0},{"$f":"SUMIF('00 Alimenta'!$B:$B,'00 PDC SP'!$F633,'00 Alimenta'!G:G)","v":0},{"$f":"SUMIF('00 Alimenta'!$B:$B,'00 PDC SP'!$F633,'00 Alimenta'!H:H)","v":0},{"$f":"SUMIF('00 Alimenta'!$B:$B,'00 PDC SP'!$F633,'00 Alimenta'!I:I)","v":0},0]
["PDA231DB","PD","PDA231",14,"DB","0205050808","Debiti v/ASL Pescara sanitarie pubbliche della Regione per versamenti c/patrimonio netto - finanziamenti per investimenti",{"$f":"SUMIF('00 Alimenta'!$B:$B,'00 PDC SP'!$F634,'00 Alimenta'!D:D)","v":0},{"$f":"SUMIF('00 Alimenta'!$B:$B,'00 PDC SP'!$F634,'00 Alimenta'!E:E)","v":0},{"$f":"SUMIF('00 Alimenta'!$B:$B,'00 PDC SP'!$F634,'00 Alimenta'!F:F)","v":0},{"$f":"SUMIF('00 Alimenta'!$B:$B,'00 PDC SP'!$F634,'00 Alimenta'!G:G)","v":0},{"$f":"SUMIF('00 Alimenta'!$B:$B,'00 PDC SP'!$F634,'00 Alimenta'!H:H)","v":0},{"$f":"SUMIF('00 Alimenta'!$B:$B,'00 PDC SP'!$F634,'00 Alimenta'!I:I)","v":0},0]
["PDA231DB","PD","PDA231",14,"DB","0205050809","Debiti v/ASL Teramo sanitarie pubbliche della Regione per versamenti c/patrimonio netto - finanziamenti per investimenti",{"$f":"SUMIF('00 Alimenta'!$B:$B,'00 PDC SP'!$F635,'00 Alimenta'!D:D)","v":0},{"$f":"SUMIF('00 Alimenta'!$B:$B,'00 PDC SP'!$F635,'00 Alimenta'!E:E)","v":0},{"$f":"SUMIF('00 Alimenta'!$B:$B,'00 PDC SP'!$F635,'00 Alimenta'!F:F)","v":0},{"$f":"SUMIF('00 Alimenta'!$B:$B,'00 PDC SP'!$F635,'00 Alimenta'!G:G)","v":0},{"$f":"SUMIF('00 Alimenta'!$B:$B,'00 PDC SP'!$F635,'00 Alimenta'!H:H)","v":0},{"$f":"SUMIF('00 Alimenta'!$B:$B,'00 PDC SP'!$F635,'00 Alimenta'!I:I)","v":0},0]
["PDA232DB","PD","PDA232",14,"DB","0205050810","Debiti v/ASL Avezzano Sulmona L'Aquila sanitarie pubbliche della Regione per versamenti c/patrimonio netto - incremento fondo dotazione",{"$f":"SUMIF('00 Alimenta'!$B:$B,'00 PDC SP'!$F636,'00 Alimenta'!D:D)","v":0},{"$f":"SUMIF('00 Alimenta'!$B:$B,'00 PDC SP'!$F636,'00 Alimenta'!E:E)","v":0},{"$f":"SUMIF('00 Alimenta'!$B:$B,'00 PDC SP'!$F636,'00 Alimenta'!F:F)","v":0},{"$f":"SUMIF('00 Alimenta'!$B:$B,'00 PDC SP'!$F636,'00 Alimenta'!G:G)","v":0},{"$f":"SUMIF('00 Alimenta'!$B:$B,'00 PDC SP'!$F636,'00 Alimenta'!H:H)","v":0},{"$f":"SUMIF('00 Alimenta'!$B:$B,'00 PDC SP'!$F636,'00 Alimenta'!I:I)","v":0},0]
["PDA232DB","PD","PDA232",14,"DB","0205050811","Debiti v/ASL Lanciano Vasto Chieti sanitarie pubbliche della Regione per versamenti c/patrimonio netto - incremento fondo dotazione",{"$f":"SUMIF('00 Alimenta'!$B:$B,'00 PDC SP'!$F637,'00 Alimenta'!D:D)","v":0},{"$f":"SUMIF('00 Alimenta'!$B:$B,'00 PDC SP'!$F637,'00 Alimenta'!E:E)","v":0},{"$f":"SUMIF('00 Alimenta'!$B:$B,'00 PDC SP'!$F637,'00 Alimenta'!F:F)","v":0},{"$f":"SUMIF('00 Alimenta'!$B:$B,'00 PDC SP'!$F637,'00 Alimenta'!G:G)","v":0},{"$f":"SUMIF('00 Alimenta'!$B:$B,'00 PDC SP'!$F637,'00 Alimenta'!H:H)","v":0},{"$f":"SUMIF('00 Alimenta'!$B:$B,'00 PDC SP'!$F637,'00 Alimenta'!I:I)","v":0},0]
["PDA232DB","PD","PDA232",14,"DB","0205050812","Debiti v/ASL Pescara sanitarie pubbliche della Regione per versamenti c/patrimonio netto - incremento fondo dotazione",{"$f":"SUMIF('00 Alimenta'!$B:$B,'00 PDC SP'!$F638,'00 Alimenta'!D:D)","v":0},{"$f":"SUMIF('00 Alimenta'!$B:$B,'00 PDC SP'!$F638,'00 Alimenta'!E:E)","v":0},{"$f":"SUMIF('00 Alimenta'!$B:$B,'00 PDC SP'!$F638,'00 Alimenta'!F:F)","v":0},{"$f":"SUMIF('00 Alimenta'!$B:$B,'00 PDC SP'!$F638,'00 Alimenta'!G:G)","v":0},{"$f":"SUMIF('00 Alimenta'!$B:$B,'00 PDC SP'!$F638,'00 Alimenta'!H:H)","v":0},{"$f":"SUMIF('00 Alimenta'!$B:$B,'00 PDC SP'!$F638,'00 Alimenta'!I:I)","v":0},0]
["PDA232DB","PD","PDA232",14,"DB","0205050813","Debiti v/ASL Pescara sanitarie pubbliche della Regione per versamenti c/patrimonio netto - incremento fondo dotazione",{"$f":"SUMIF('00 Alimenta'!$B:$B,'00 PDC SP'!$F639,'00 Alimenta'!D:D)","v":0},{"$f":"SUMIF('00 Alimenta'!$B:$B,'00 PDC SP'!$F639,'00 Alimenta'!E:E)","v":0},{"$f":"SUMIF('00 Alimenta'!$B:$B,'00 PDC SP'!$F639,'00 Alimenta'!F:F)","v":0},{"$f":"SUMIF('00 Alimenta'!$B:$B,'00 PDC SP'!$F639,'00 Alimenta'!G:G)","v":0},{"$f":"SUMIF('00 Alimenta'!$B:$B,'00 PDC SP'!$F639,'00 Alimenta'!H:H)","v":0},{"$f":"SUMIF('00 Alimenta'!$B:$B,'00 PDC SP'!$F639,'00 Alimenta'!I:I)","v":0},0]
["PDA233DB","PD","PDA233",14,"DB","0205050814","Debiti v/Asl Avezzano Sulmona L'Aquila pubbliche della Regione per versamenti c/patrimonio netto - ripiano perdite",{"$f":"SUMIF('00 Alimenta'!$B:$B,'00 PDC SP'!$F640,'00 Alimenta'!D:D)","v":0},{"$f":"SUMIF('00 Alimenta'!$B:$B,'00 PDC SP'!$F640,'00 Alimenta'!E:E)","v":0},{"$f":"SUMIF('00 Alimenta'!$B:$B,'00 PDC SP'!$F640,'00 Alimenta'!F:F)","v":0},{"$f":"SUMIF('00 Alimenta'!$B:$B,'00 PDC SP'!$F640,'00 Alimenta'!G:G)","v":0},{"$f":"SUMIF('00 Alimenta'!$B:$B,'00 PDC SP'!$F640,'00 Alimenta'!H:H)","v":0},{"$f":"SUMIF('00 Alimenta'!$B:$B,'00 PDC SP'!$F640,'00 Alimenta'!I:I)","v":0},0]
["PDA233DB","PD","PDA233",14,"DB","0205050815","Debiti v/Asl Lanciano Vasto Chieti pubbliche della Regione per versamenti c/patrimonio netto - ripiano perdite",{"$f":"SUMIF('00 Alimenta'!$B:$B,'00 PDC SP'!$F641,'00 Alimenta'!D:D)","v":0},{"$f":"SUMIF('00 Alimenta'!$B:$B,'00 PDC SP'!$F641,'00 Alimenta'!E:E)","v":0},{"$f":"SUMIF('00 Alimenta'!$B:$B,'00 PDC SP'!$F641,'00 Alimenta'!F:F)","v":0},{"$f":"SUMIF('00 Alimenta'!$B:$B,'00 PDC SP'!$F641,'00 Alimenta'!G:G)","v":0},{"$f":"SUMIF('00 Alimenta'!$B:$B,'00 PDC SP'!$F641,'00 Alimenta'!H:H)","v":0},{"$f":"SUMIF('00 Alimenta'!$B:$B,'00 PDC SP'!$F641,'00 Alimenta'!I:I)","v":0},0]
["PDA233DB","PD","PDA233",14,"DB","0205050816","Debiti v/Asl Pescara pubbliche della Regione per versamenti c/patrimonio netto - ripiano perdite",{"$f":"SUMIF('00 Alimenta'!$B:$B,'00 PDC SP'!$F642,'00 Alimenta'!D:D)","v":0},{"$f":"SUMIF('00 Alimenta'!$B:$B,'00 PDC SP'!$F642,'00 Alimenta'!E:E)","v":0},{"$f":"SUMIF('00 Alimenta'!$B:$B,'00 PDC SP'!$F642,'00 Alimenta'!F:F)","v":0},{"$f":"SUMIF('00 Alimenta'!$B:$B,'00 PDC SP'!$F642,'00 Alimenta'!G:G)","v":0},{"$f":"SUMIF('00 Alimenta'!$B:$B,'00 PDC SP'!$F642,'00 Alimenta'!H:H)","v":0},{"$f":"SUMIF('00 Alimenta'!$B:$B,'00 PDC SP'!$F642,'00 Alimenta'!I:I)","v":0},0]
["PDA233DB","PD","PDA233",14,"DB","0205050817","Debiti v/Asl Teramo pubbliche della Regione per versamenti c/patrimonio netto - ripiano perdite",{"$f":"SUMIF('00 Alimenta'!$B:$B,'00 PDC SP'!$F643,'00 Alimenta'!D:D)","v":0},{"$f":"SUMIF('00 Alimenta'!$B:$B,'00 PDC SP'!$F643,'00 Alimenta'!E:E)","v":0},{"$f":"SUMIF('00 Alimenta'!$B:$B,'00 PDC SP'!$F643,'00 Alimenta'!F:F)","v":0},{"$f":"SUMIF('00 Alimenta'!$B:$B,'00 PDC SP'!$F643,'00 Alimenta'!G:G)","v":0},{"$f":"SUMIF('00 Alimenta'!$B:$B,'00 PDC SP'!$F643,'00 Alimenta'!H:H)","v":0},{"$f":"SUMIF('00 Alimenta'!$B:$B,'00 PDC SP'!$F643,'00 Alimenta'!I:I)","v":0},0]
["PDA234DB","PD","PDA234",14,"DB","0205050818","Debiti v/Aziende sanitarie pubbliche della Regione per anticipazione ripiano disavanzo programmato dai Piani aziendali di cui all'art. 1, comma 528, L. 208/2015",{"$f":"SUMIF('00 Alimenta'!$B:$B,'00 PDC SP'!$F644,'00 Alimenta'!D:D)","v":0},{"$f":"SUMIF('00 Alimenta'!$B:$B,'00 PDC SP'!$F644,'00 Alimenta'!E:E)","v":0},{"$f":"SUMIF('00 Alimenta'!$B:$B,'00 PDC SP'!$F644,'00 Alimenta'!F:F)","v":0},{"$f":"SUMIF('00 Alimenta'!$B:$B,'00 PDC SP'!$F644,'00 Alimenta'!G:G)","v":0},{"$f":"SUMIF('00 Alimenta'!$B:$B,'00 PDC SP'!$F644,'00 Alimenta'!H:H)","v":0},{"$f":"SUMIF('00 Alimenta'!$B:$B,'00 PDC SP'!$F644,'00 Alimenta'!I:I)","v":0},0]
["PDA250DB","PD","PDA250",15,"DB","0205060101","Debiti v/ARTA",{"$f":"SUMIF('00 Alimenta'!$B:$B,'00 PDC SP'!$F645,'00 Alimenta'!D:D)","v":0},{"$f":"SUMIF('00 Alimenta'!$B:$B,'00 PDC SP'!$F645,'00 Alimenta'!E:E)","v":0},{"$f":"SUMIF('00 Alimenta'!$B:$B,'00 PDC SP'!$F645,'00 Alimenta'!F:F)","v":0},{"$f":"SUMIF('00 Alimenta'!$B:$B,'00 PDC SP'!$F645,'00 Alimenta'!G:G)","v":0},{"$f":"SUMIF('00 Alimenta'!$B:$B,'00 PDC SP'!$F645,'00 Alimenta'!H:H)","v":0},{"$f":"SUMIF('00 Alimenta'!$B:$B,'00 PDC SP'!$F645,'00 Alimenta'!I:I)","v":0},0]
["PDA250FR",{"$f":"IF(C646=\"PAA220\",\"UT\",LEFT(C646,2))","v":"PD"},"PDA250",15,"FR","0205060102","Fatture da ricevere v/ARTA",{"$f":"SUMIF('00 Alimenta'!$B:$B,'00 PDC SP'!$F646,'00 Alimenta'!D:D)","v":0},{"$f":"SUMIF('00 Alimenta'!$B:$B,'00 PDC SP'!$F646,'00 Alimenta'!E:E)","v":0},{"$f":"SUMIF('00 Alimenta'!$B:$B,'00 PDC SP'!$F646,'00 Alimenta'!F:F)","v":0},{"$f":"SUMIF('00 Alimenta'!$B:$B,'00 PDC SP'!$F646,'00 Alimenta'!G:G)","v":0},{"$f":"SUMIF('00 Alimenta'!$B:$B,'00 PDC SP'!$F646,'00 Alimenta'!H:H)","v":0},{"$f":"SUMIF('00 Alimenta'!$B:$B,'00 PDC SP'!$F646,'00 Alimenta'!I:I)","v":0},0]
["PDA250DB","PD","PDA250",15,"DB","0205060103","Debiti v/Agenzia Sanitaria Regionale",{"$f":"SUMIF('00 Alimenta'!$B:$B,'00 PDC SP'!$F647,'00 Alimenta'!D:D)","v":0},{"$f":"SUMIF('00 Alimenta'!$B:$B,'00 PDC SP'!$F647,'00 Alimenta'!E:E)","v":0},{"$f":"SUMIF('00 Alimenta'!$B:$B,'00 PDC SP'!$F647,'00 Alimenta'!F:F)","v":0},{"$f":"SUMIF('00 Alimenta'!$B:$B,'00 PDC SP'!$F647,'00 Alimenta'!G:G)","v":0},{"$f":"SUMIF('00 Alimenta'!$B:$B,'00 PDC SP'!$F647,'00 Alimenta'!H:H)","v":0},{"$f":"SUMIF('00 Alimenta'!$B:$B,'00 PDC SP'!$F647,'00 Alimenta'!I:I)","v":0},0]
["PDA250FR","PD","PDA250",15,"FR","0205060104","Fatture da ricevere v/Agenzia Sanitaria Regionale",{"$f":"SUMIF('00 Alimenta'!$B:$B,'00 PDC SP'!$F648,'00 Alimenta'!D:D)","v":0},{"$f":"SUMIF('00 Alimenta'!$B:$B,'00 PDC SP'!$F648,'00 Alimenta'!E:E)","v":0},{"$f":"SUMIF('00 Alimenta'!$B:$B,'00 PDC SP'!$F648,'00 Alimenta'!F:F)","v":0},{"$f":"SUMIF('00 Alimenta'!$B:$B,'00 PDC SP'!$F648,'00 Alimenta'!G:G)","v":0},{"$f":"SUMIF('00 Alimenta'!$B:$B,'00 PDC SP'!$F648,'00 Alimenta'!H:H)","v":0},{"$f":"SUMIF('00 Alimenta'!$B:$B,'00 PDC SP'!$F648,'00 Alimenta'!I:I)","v":0},0]
["PDA250DB","PD","PDA250",15,"DB","0205060105","Debiti v/altri enti regionali",{"$f":"SUMIF('00 Alimenta'!$B:$B,'00 PDC SP'!$F649,'00 Alimenta'!D:D)","v":0},{"$f":"SUMIF('00 Alimenta'!$B:$B,'00 PDC SP'!$F649,'00 Alimenta'!E:E)","v":0},{"$f":"SUMIF('00 Alimenta'!$B:$B,'00 PDC SP'!$F649,'00 Alimenta'!F:F)","v":0},{"$f":"SUMIF('00 Alimenta'!$B:$B,'00 PDC SP'!$F649,'00 Alimenta'!G:G)","v":0},{"$f":"SUMIF('00 Alimenta'!$B:$B,'00 PDC SP'!$F649,'00 Alimenta'!H:H)","v":0},{"$f":"SUMIF('00 Alimenta'!$B:$B,'00 PDC SP'!$F649,'00 Alimenta'!I:I)","v":0},0]
["PDA250FR","PD","PDA250",15,"FR","0205060106","Fatture da ricevere v/altri enti regionali",{"$f":"SUMIF('00 Alimenta'!$B:$B,'00 PDC SP'!$F650,'00 Alimenta'!D:D)","v":0},{"$f":"SUMIF('00 Alimenta'!$B:$B,'00 PDC SP'!$F650,'00 Alimenta'!E:E)","v":0},{"$f":"SUMIF('00 Alimenta'!$B:$B,'00 PDC SP'!$F650,'00 Alimenta'!F:F)","v":0},{"$f":"SUMIF('00 Alimenta'!$B:$B,'00 PDC SP'!$F650,'00 Alimenta'!G:G)","v":0},{"$f":"SUMIF('00 Alimenta'!$B:$B,'00 PDC SP'!$F650,'00 Alimenta'!H:H)","v":0},{"$f":"SUMIF('00 Alimenta'!$B:$B,'00 PDC SP'!$F650,'00 Alimenta'!I:I)","v":0},0]
[{"$f":"IF(E651=\"\",C651,C651&E651)","v":"PDA260DB"},"PD","PDA260",15,"DB","0205060201","Debiti v/sperimentazioni gestionali",{"$f":"SUMIF('00 Alimenta'!$B:$B,'00 PDC SP'!$F651,'00 Alimenta'!D:D)","v":0},{"$f":"SUMIF('00 Alimenta'!$B:$B,'00 PDC SP'!$F651,'00 Alimenta'!E:E)","v":0},{"$f":"SUMIF('00 Alimenta'!$B:$B,'00 PDC SP'!$F651,'00 Alimenta'!F:F)","v":0},{"$f":"SUMIF('00 Alimenta'!$B:$B,'00 PDC SP'!$F651,'00 Alimenta'!G:G)","v":0},{"$f":"SUMIF('00 Alimenta'!$B:$B,'00 PDC SP'!$F651,'00 Alimenta'!H:H)","v":0},{"$f":"SUMIF('00 Alimenta'!$B:$B,'00 PDC SP'!$F651,'00 Alimenta'!I:I)","v":0},{"$f":"K651+L651-M651","v":0}]
["PDA260FR","PD","PDA260",15,"FR","0205060202","Fatture da ricevere v/sperimentazioni gestionali",{"$f":"SUMIF('00 Alimenta'!$B:$B,'00 PDC SP'!$F652,'00 Alimenta'!D:D)","v":0},{"$f":"SUMIF('00 Alimenta'!$B:$B,'00 PDC SP'!$F652,'00 Alimenta'!E:E)","v":0},{"$f":"SUMIF('00 Alimenta'!$B:$B,'00 PDC SP'!$F652,'00 Alimenta'!F:F)","v":0},{"$f":"SUMIF('00 Alimenta'!$B:$B,'00 PDC SP'!$F652,'00 Alimenta'!G:G)","v":0},{"$f":"SUMIF('00 Alimenta'!$B:$B,'00 PDC SP'!$F652,'00 Alimenta'!H:H)","v":0},{"$f":"SUMIF('00 Alimenta'!$B:$B,'00 PDC SP'!$F652,'00 Alimenta'!I:I)","v":0},0]
["PDA270DB","PD","PDA270",15,"DB","0205060301","Debiti v/altre partecipate",{"$f":"SUMIF('00 Alimenta'!$B:$B,'00 PDC SP'!$F653,'00 Alimenta'!D:D)","v":0},{"$f":"SUMIF('00 Alimenta'!$B:$B,'00 PDC SP'!$F653,'00 Alimenta'!E:E)","v":0},{"$f":"SUMIF('00 Alimenta'!$B:$B,'00 PDC SP'!$F653,'00 Alimenta'!F:F)","v":0},{"$f":"SUMIF('00 Alimenta'!$B:$B,'00 PDC SP'!$F653,'00 Alimenta'!G:G)","v":0},{"$f":"SUMIF('00 Alimenta'!$B:$B,'00 PDC SP'!$F653,'00 Alimenta'!H:H)","v":0},{"$f":"SUMIF('00 Alimenta'!$B:$B,'00 PDC SP'!$F653,'00 Alimenta'!I:I)","v":0},0]
["PDA270FR","PD","PDA270",15,"FR","0205060302","Fatture da ricevere v/altre partecipate",{"$f":"SUMIF('00 Alimenta'!$B:$B,'00 PDC SP'!$F654,'00 Alimenta'!D:D)","v":0},{"$f":"SUMIF('00 Alimenta'!$B:$B,'00 PDC SP'!$F654,'00 Alimenta'!E:E)","v":0},{"$f":"SUMIF('00 Alimenta'!$B:$B,'00 PDC SP'!$F654,'00 Alimenta'!F:F)","v":0},{"$f":"SUMIF('00 Alimenta'!$B:$B,'00 PDC SP'!$F654,'00 Alimenta'!G:G)","v":0},{"$f":"SUMIF('00 Alimenta'!$B:$B,'00 PDC SP'!$F654,'00 Alimenta'!H:H)","v":0},{"$f":"SUMIF('00 Alimenta'!$B:$B,'00 PDC SP'!$F654,'00 Alimenta'!I:I)","v":0},0]
["PDA291DB","PD","PDA291",16,"DB","0205070101","Debiti v/medici di base",{"$f":"SUMIF('00 Alimenta'!$B:$B,'00 PDC SP'!$F655,'00 Alimenta'!D:D)","v":-1748805.75},{"$f":"SUMIF('00 Alimenta'!$B:$B,'00 PDC SP'!$F655,'00 Alimenta'!E:E)","v":-26794195.949999999},{"$f":"SUMIF('00 Alimenta'!$B:$B,'00 PDC SP'!$F655,'00 Alimenta'!F:F)","v":-26629894.27},{"$f":"SUMIF('00 Alimenta'!$B:$B,'00 PDC SP'!$F655,'00 Alimenta'!G:G)","v":-1913107.43},{"$f":"SUMIF('00 Alimenta'!$B:$B,'00 PDC SP'!$F655,'00 Alimenta'!H:H)","v":-21583694.329999998},{"$f":"SUMIF('00 Alimenta'!$B:$B,'00 PDC SP'!$F655,'00 Alimenta'!I:I)","v":-21588784.18},-1908017.5799999982]
["PDA291DB","PD","PDA291",16,"DB","0205070102","Debiti v/farmacie",{"$f":"SUMIF('00 Alimenta'!$B:$B,'00 PDC SP'!$F656,'00 Alimenta'!D:D)","v":-3005722.2},{"$f":"SUMIF('00 Alimenta'!$B:$B,'00 PDC SP'!$F656,'00 Alimenta'!E:E)","v":-50001509.329999998},{"$f":"SUMIF('00 Alimenta'!$B:$B,'00 PDC SP'!$F656,'00 Alimenta'!F:F)","v":-46696588.420000002},{"$f":"SUMIF('00 Alimenta'!$B:$B,'00 PDC SP'!$F656,'00 Alimenta'!G:G)","v":-6310643.1100000003},{"$f":"SUMIF('00 Alimenta'!$B:$B,'00 PDC SP'!$F656,'00 Alimenta'!H:H)","v":-48380833.850000001},{"$f":"SUMIF('00 Alimenta'!$B:$B,'00 PDC SP'!$F656,'00 Alimenta'!I:I)","v":-48355734.82},-6335742.1400000006]
["PDA291DB","PD","PDA291",16,"DB","0205070103","Debiti v/medici SUMAI",{"$f":"SUMIF('00 Alimenta'!$B:$B,'00 PDC SP'!$F657,'00 Alimenta'!D:D)","v":-0.01},{"$f":"SUMIF('00 Alimenta'!$B:$B,'00 PDC SP'!$F657,'00 Alimenta'!E:E)","v":-2821622.54},{"$f":"SUMIF('00 Alimenta'!$B:$B,'00 PDC SP'!$F657,'00 Alimenta'!F:F)","v":-2819880.2},{"$f":"SUMIF('00 Alimenta'!$B:$B,'00 PDC SP'!$F657,'00 Alimenta'!G:G)","v":-1742.35},{"$f":"SUMIF('00 Alimenta'!$B:$B,'00 PDC SP'!$F657,'00 Alimenta'!H:H)","v":-2541601.69},{"$f":"SUMIF('00 Alimenta'!$B:$B,'00 PDC SP'!$F657,'00 Alimenta'!I:I)","v":-2439224.0499999998},-104119.99000000022]
["PDA291DB","PD","PDA291",16,"DB","0205070104","Debiti v/IRCCS privati e Policlinici",{"$f":"SUMIF('00 Alimenta'!$B:$B,'00 PDC SP'!$F658,'00 Alimenta'!D:D)","v":0},{"$f":"SUMIF('00 Alimenta'!$B:$B,'00 PDC SP'!$F658,'00 Alimenta'!E:E)","v":0},{"$f":"SUMIF('00 Alimenta'!$B:$B,'00 PDC SP'!$F658,'00 Alimenta'!F:F)","v":0},{"$f":"SUMIF('00 Alimenta'!$B:$B,'00 PDC SP'!$F658,'00 Alimenta'!G:G)","v":0},{"$f":"SUMIF('00 Alimenta'!$B:$B,'00 PDC SP'!$F658,'00 Alimenta'!H:H)","v":0},{"$f":"SUMIF('00 Alimenta'!$B:$B,'00 PDC SP'!$F658,'00 Alimenta'!I:I)","v":0},0]
["PDA291FR","PD","PDA291",16,"FR","0205070105","Fatture da ricevere v/IRCCS privati e Policlinici",{"$f":"SUMIF('00 Alimenta'!$B:$B,'00 PDC SP'!$F659,'00 Alimenta'!D:D)","v":0},{"$f":"SUMIF('00 Alimenta'!$B:$B,'00 PDC SP'!$F659,'00 Alimenta'!E:E)","v":0},{"$f":"SUMIF('00 Alimenta'!$B:$B,'00 PDC SP'!$F659,'00 Alimenta'!F:F)","v":0},{"$f":"SUMIF('00 Alimenta'!$B:$B,'00 PDC SP'!$F659,'00 Alimenta'!G:G)","v":0},{"$f":"SUMIF('00 Alimenta'!$B:$B,'00 PDC SP'!$F659,'00 Alimenta'!H:H)","v":0},{"$f":"SUMIF('00 Alimenta'!$B:$B,'00 PDC SP'!$F659,'00 Alimenta'!I:I)","v":0},0]
["PDA291DB","PD","PDA291",16,"DB","0205070106","Debiti v/Ospedali Classificati",{"$f":"SUMIF('00 Alimenta'!$B:$B,'00 PDC SP'!$F660,'00 Alimenta'!D:D)","v":0},{"$f":"SUMIF('00 Alimenta'!$B:$B,'00 PDC SP'!$F660,'00 Alimenta'!E:E)","v":0},{"$f":"SUMIF('00 Alimenta'!$B:$B,'00 PDC SP'!$F660,'00 Alimenta'!F:F)","v":0},{"$f":"SUMIF('00 Alimenta'!$B:$B,'00 PDC SP'!$F660,'00 Alimenta'!G:G)","v":0},{"$f":"SUMIF('00 Alimenta'!$B:$B,'00 PDC SP'!$F660,'00 Alimenta'!H:H)","v":0},{"$f":"SUMIF('00 Alimenta'!$B:$B,'00 PDC SP'!$F660,'00 Alimenta'!I:I)","v":0},0]
["PDA291FR","PD","PDA291",16,"FR","0205070107","Fatture da ricevere v/Ospedali Classificati",{"$f":"SUMIF('00 Alimenta'!$B:$B,'00 PDC SP'!$F661,'00 Alimenta'!D:D)","v":-9382.08},{"$f":"SUMIF('00 Alimenta'!$B:$B,'00 PDC SP'!$F661,'00 Alimenta'!E:E)","v":0},{"$f":"SUMIF('00 Alimenta'!$B:$B,'00 PDC SP'!$F661,'00 Alimenta'!F:F)","v":-9382.08},{"$f":"SUMIF('00 Alimenta'!$B:$B,'00 PDC SP'!$F661,'00 Alimenta'!G:G)","v":0},{"$f":"SUMIF('00 Alimenta'!$B:$B,'00 PDC SP'!$F661,'00 Alimenta'!H:H)","v":0},{"$f":"SUMIF('00 Alimenta'!$B:$B,'00 PDC SP'!$F661,'00 Alimenta'!I:I)","v":0},0]
["PDA291DB","PD","PDA291",16,"DB","0205070108","Debiti v/Case di Cura",{"$f":"SUMIF('00 Alimenta'!$B:$B,'00 PDC SP'!$F662,'00 Alimenta'!D:D)","v":-29184263.899999999},{"$f":"SUMIF('00 Alimenta'!$B:$B,'00 PDC SP'!$F662,'00 Alimenta'!E:E)","v":-90451579.670000002},{"$f":"SUMIF('00 Alimenta'!$B:$B,'00 PDC SP'!$F662,'00 Alimenta'!F:F)","v":-90508054.299999997},{"$f":"SUMIF('00 Alimenta'!$B:$B,'00 PDC SP'!$F662,'00 Alimenta'!G:G)","v":-29127789.27},{"$f":"SUMIF('00 Alimenta'!$B:$B,'00 PDC SP'!$F662,'00 Alimenta'!H:H)","v":-93951082.879999995},{"$f":"SUMIF('00 Alimenta'!$B:$B,'00 PDC SP'!$F662,'00 Alimenta'!I:I)","v":-94476710.069999993},-28602162.079999998]
["PDA291FR","PD","PDA291",16,"FR","0205070109","Fatture da ricevere v/Case di Cura",{"$f":"SUMIF('00 Alimenta'!$B:$B,'00 PDC SP'!$F663,'00 Alimenta'!D:D)","v":-7390453.0199999996},{"$f":"SUMIF('00 Alimenta'!$B:$B,'00 PDC SP'!$F663,'00 Alimenta'!E:E)","v":-6431798.5300000003},{"$f":"SUMIF('00 Alimenta'!$B:$B,'00 PDC SP'!$F663,'00 Alimenta'!F:F)","v":-7390453.0199999996},{"$f":"SUMIF('00 Alimenta'!$B:$B,'00 PDC SP'!$F663,'00 Alimenta'!G:G)","v":-6431798.5300000003},{"$f":"SUMIF('00 Alimenta'!$B:$B,'00 PDC SP'!$F663,'00 Alimenta'!H:H)","v":-7357378.4000000004},{"$f":"SUMIF('00 Alimenta'!$B:$B,'00 PDC SP'!$F663,'00 Alimenta'!I:I)","v":-6431798.5300000003},-7357378.3999999994]
["PDA291DB","PD","PDA291",16,"DB","0205070110","Debiti v/altri erogatori di prestazioni sanitarie - intraregione",{"$f":"SUMIF('00 Alimenta'!$B:$B,'00 PDC SP'!$F664,'00 Alimenta'!D:D)","v":-59640323.57},{"$f":"SUMIF('00 Alimenta'!$B:$B,'00 PDC SP'!$F664,'00 Alimenta'!E:E)","v":-30157319.18},{"$f":"SUMIF('00 Alimenta'!$B:$B,'00 PDC SP'!$F664,'00 Alimenta'!F:F)","v":-30753773.260000002},{"$f":"SUMIF('00 Alimenta'!$B:$B,'00 PDC SP'!$F664,'00 Alimenta'!G:G)","v":-59043869.490000002},{"$f":"SUMIF('00 Alimenta'!$B:$B,'00 PDC SP'!$F664,'00 Alimenta'!H:H)","v":-30296181.670000002},{"$f":"SUMIF('00 Alimenta'!$B:$B,'00 PDC SP'!$F664,'00 Alimenta'!I:I)","v":-31934248.870000001},-57405802.289999992]
["PDA291FR","PD","PDA291",16,"FR","0205070111","Fatture da ricevere v/altri erogatori di prestazioni sanitarie - intraregione",{"$f":"SUMIF('00 Alimenta'!$B:$B,'00 PDC SP'!$F665,'00 Alimenta'!D:D)","v":-2195879.3199999998},{"$f":"SUMIF('00 Alimenta'!$B:$B,'00 PDC SP'!$F665,'00 Alimenta'!E:E)","v":-2404175.02},{"$f":"SUMIF('00 Alimenta'!$B:$B,'00 PDC SP'!$F665,'00 Alimenta'!F:F)","v":-2195879.3199999998},{"$f":"SUMIF('00 Alimenta'!$B:$B,'00 PDC SP'!$F665,'00 Alimenta'!G:G)","v":-2404175.02},{"$f":"SUMIF('00 Alimenta'!$B:$B,'00 PDC SP'!$F665,'00 Alimenta'!H:H)","v":-2178297.5699999998},{"$f":"SUMIF('00 Alimenta'!$B:$B,'00 PDC SP'!$F665,'00 Alimenta'!I:I)","v":-2404175.02},-2178297.5699999998]
["PDA291DB","PD","PDA291",16,"DB","0205070112","Debiti v/erogatori sanitari privati per mobilità attiva privata extraregione",{"$f":"SUMIF('00 Alimenta'!$B:$B,'00 PDC SP'!$F666,'00 Alimenta'!D:D)","v":0},{"$f":"SUMIF('00 Alimenta'!$B:$B,'00 PDC SP'!$F666,'00 Alimenta'!E:E)","v":0},{"$f":"SUMIF('00 Alimenta'!$B:$B,'00 PDC SP'!$F666,'00 Alimenta'!F:F)","v":0},{"$f":"SUMIF('00 Alimenta'!$B:$B,'00 PDC SP'!$F666,'00 Alimenta'!G:G)","v":0},{"$f":"SUMIF('00 Alimenta'!$B:$B,'00 PDC SP'!$F666,'00 Alimenta'!H:H)","v":0},{"$f":"SUMIF('00 Alimenta'!$B:$B,'00 PDC SP'!$F666,'00 Alimenta'!I:I)","v":0},0]
["PDA291FR","PD","PDA291",16,"FR","0205070113","Fatture da ricevere v/erogatori sanitari privati per mobilità attiva privata extraregione",{"$f":"SUMIF('00 Alimenta'!$B:$B,'00 PDC SP'!$F667,'00 Alimenta'!D:D)","v":0},{"$f":"SUMIF('00 Alimenta'!$B:$B,'00 PDC SP'!$F667,'00 Alimenta'!E:E)","v":0},{"$f":"SUMIF('00 Alimenta'!$B:$B,'00 PDC SP'!$F667,'00 Alimenta'!F:F)","v":0},{"$f":"SUMIF('00 Alimenta'!$B:$B,'00 PDC SP'!$F667,'00 Alimenta'!G:G)","v":0},{"$f":"SUMIF('00 Alimenta'!$B:$B,'00 PDC SP'!$F667,'00 Alimenta'!H:H)","v":0},{"$f":"SUMIF('00 Alimenta'!$B:$B,'00 PDC SP'!$F667,'00 Alimenta'!I:I)","v":0},0]
["PDA301DB","PD","PDA301",16,"DB","0205070201","Debiti verso altri fornitori nazionali",{"$f":"SUMIF('00 Alimenta'!$B:$B,'00 PDC SP'!$F668,'00 Alimenta'!D:D)","v":-38139127.18},{"$f":"SUMIF('00 Alimenta'!$B:$B,'00 PDC SP'!$F668,'00 Alimenta'!E:E)","v":-315905697.26999998},{"$f":"SUMIF('00 Alimenta'!$B:$B,'00 PDC SP'!$F668,'00 Alimenta'!F:F)","v":-319150938.91000003},{"$f":"SUMIF('00 Alimenta'!$B:$B,'00 PDC SP'!$F668,'00 Alimenta'!G:G)","v":-34893885.539999999},{"$f":"SUMIF('00 Alimenta'!$B:$B,'00 PDC SP'!$F668,'00 Alimenta'!H:H)","v":-344711687.97000003},{"$f":"SUMIF('00 Alimenta'!$B:$B,'00 PDC SP'!$F668,'00 Alimenta'!I:I)","v":-343558289.24000001},-36047284.270000041]
["PDA301FR","PD","PDA301",16,"FR","0205070202","Fatture da ricevere verso altri fornitori nazionali",{"$f":"SUMIF('00 Alimenta'!$B:$B,'00 PDC SP'!$F669,'00 Alimenta'!D:D)","v":-14638757.890000001},{"$f":"SUMIF('00 Alimenta'!$B:$B,'00 PDC SP'!$F669,'00 Alimenta'!E:E)","v":-14320195.09},{"$f":"SUMIF('00 Alimenta'!$B:$B,'00 PDC SP'!$F669,'00 Alimenta'!F:F)","v":-14638757.890000001},{"$f":"SUMIF('00 Alimenta'!$B:$B,'00 PDC SP'!$F669,'00 Alimenta'!G:G)","v":-14320195.09},{"$f":"SUMIF('00 Alimenta'!$B:$B,'00 PDC SP'!$F669,'00 Alimenta'!H:H)","v":-14256020.42},{"$f":"SUMIF('00 Alimenta'!$B:$B,'00 PDC SP'!$F669,'00 Alimenta'!I:I)","v":-14320195.09},-14256020.419999998]
["PDA301DB","PD","PDA301",16,"DB","0205070203","Debiti verso altri fornitori esteri",{"$f":"SUMIF('00 Alimenta'!$B:$B,'00 PDC SP'!$F670,'00 Alimenta'!D:D)","v":-54626.54},{"$f":"SUMIF('00 Alimenta'!$B:$B,'00 PDC SP'!$F670,'00 Alimenta'!E:E)","v":-1069392.08},{"$f":"SUMIF('00 Alimenta'!$B:$B,'00 PDC SP'!$F670,'00 Alimenta'!F:F)","v":-1039446.08},{"$f":"SUMIF('00 Alimenta'!$B:$B,'00 PDC SP'!$F670,'00 Alimenta'!G:G)","v":-84572.54},{"$f":"SUMIF('00 Alimenta'!$B:$B,'00 PDC SP'!$F670,'00 Alimenta'!H:H)","v":-1106132.3},{"$f":"SUMIF('00 Alimenta'!$B:$B,'00 PDC SP'!$F670,'00 Alimenta'!I:I)","v":-1141305.02},-49399.820000000065]
["PDA301FR","PD","PDA301",16,"FR","0205070204","Fatture da ricevere verso altri fornitori esteri",{"$f":"SUMIF('00 Alimenta'!$B:$B,'00 PDC SP'!$F671,'00 Alimenta'!D:D)","v":-51772.21},{"$f":"SUMIF('00 Alimenta'!$B:$B,'00 PDC SP'!$F671,'00 Alimenta'!E:E)","v":-49807.02},{"$f":"SUMIF('00 Alimenta'!$B:$B,'00 PDC SP'!$F671,'00 Alimenta'!F:F)","v":-51772.21},{"$f":"SUMIF('00 Alimenta'!$B:$B,'00 PDC SP'!$F671,'00 Alimenta'!G:G)","v":-49807.02},{"$f":"SUMIF('00 Alimenta'!$B:$B,'00 PDC SP'!$F671,'00 Alimenta'!H:H)","v":-110137.87},{"$f":"SUMIF('00 Alimenta'!$B:$B,'00 PDC SP'!$F671,'00 Alimenta'!I:I)","v":-49807.02},-110137.87]
["PDA301DB","PD","PDA301",16,"DB","0205070205","Debiti verso professionisti e collaboratori (ad esclusione degli organi diretti)",{"$f":"SUMIF('00 Alimenta'!$B:$B,'00 PDC SP'!$F672,'00 Alimenta'!D:D)","v":-79899.83},{"$f":"SUMIF('00 Alimenta'!$B:$B,'00 PDC SP'!$F672,'00 Alimenta'!E:E)","v":-345039.97},{"$f":"SUMIF('00 Alimenta'!$B:$B,'00 PDC SP'!$F672,'00 Alimenta'!F:F)","v":-340717.73},{"$f":"SUMIF('00 Alimenta'!$B:$B,'00 PDC SP'!$F672,'00 Alimenta'!G:G)","v":-84222.07},{"$f":"SUMIF('00 Alimenta'!$B:$B,'00 PDC SP'!$F672,'00 Alimenta'!H:H)","v":-345071.98},{"$f":"SUMIF('00 Alimenta'!$B:$B,'00 PDC SP'!$F672,'00 Alimenta'!I:I)","v":-352578.38},-76715.669999999984]
["PDA301DB","PD","PDA301",16,"DB","0205070206","Debiti cartolarizzati",{"$f":"SUMIF('00 Alimenta'!$B:$B,'00 PDC SP'!$F673,'00 Alimenta'!D:D)","v":0},{"$f":"SUMIF('00 Alimenta'!$B:$B,'00 PDC SP'!$F673,'00 Alimenta'!E:E)","v":0},{"$f":"SUMIF('00 Alimenta'!$B:$B,'00 PDC SP'!$F673,'00 Alimenta'!F:F)","v":0},{"$f":"SUMIF('00 Alimenta'!$B:$B,'00 PDC SP'!$F673,'00 Alimenta'!G:G)","v":0},{"$f":"SUMIF('00 Alimenta'!$B:$B,'00 PDC SP'!$F673,'00 Alimenta'!H:H)","v":0},{"$f":"SUMIF('00 Alimenta'!$B:$B,'00 PDC SP'!$F673,'00 Alimenta'!I:I)","v":0},0]
["PDA310DB","PD","PDA310",54,"DB","0205080101","Debiti v/istituto tesoriere",{"$f":"SUMIF('00 Alimenta'!$B:$B,'00 PDC SP'!$F674,'00 Alimenta'!D:D)","v":0},{"$f":"SUMIF('00 Alimenta'!$B:$B,'00 PDC SP'!$F674,'00 Alimenta'!E:E)","v":0},{"$f":"SUMIF('00 Alimenta'!$B:$B,'00 PDC SP'!$F674,'00 Alimenta'!F:F)","v":0},{"$f":"SUMIF('00 Alimenta'!$B:$B,'00 PDC SP'!$F674,'00 Alimenta'!G:G)","v":0},{"$f":"SUMIF('00 Alimenta'!$B:$B,'00 PDC SP'!$F674,'00 Alimenta'!H:H)","v":0},{"$f":"SUMIF('00 Alimenta'!$B:$B,'00 PDC SP'!$F674,'00 Alimenta'!I:I)","v":0},0]
["PDA310DB","PD","PDA310",54,"DB","0205080102","Debiti verso istituto tesoriere per anticipazione ordinaria",{"$f":"SUMIF('00 Alimenta'!$B:$B,'00 PDC SP'!$F675,'00 Alimenta'!D:D)","v":0},{"$f":"SUMIF('00 Alimenta'!$B:$B,'00 PDC SP'!$F675,'00 Alimenta'!E:E)","v":0},{"$f":"SUMIF('00 Alimenta'!$B:$B,'00 PDC SP'!$F675,'00 Alimenta'!F:F)","v":0},{"$f":"SUMIF('00 Alimenta'!$B:$B,'00 PDC SP'!$F675,'00 Alimenta'!G:G)","v":0},{"$f":"SUMIF('00 Alimenta'!$B:$B,'00 PDC SP'!$F675,'00 Alimenta'!H:H)","v":0},{"$f":"SUMIF('00 Alimenta'!$B:$B,'00 PDC SP'!$F675,'00 Alimenta'!I:I)","v":0},0]
["PDA310DB","PD","PDA310",54,"DB","0205080103","Debiti verso istituto tesoriere per anticipazione straordinaria",{"$f":"SUMIF('00 Alimenta'!$B:$B,'00 PDC SP'!$F676,'00 Alimenta'!D:D)","v":0},{"$f":"SUMIF('00 Alimenta'!$B:$B,'00 PDC SP'!$F676,'00 Alimenta'!E:E)","v":0},{"$f":"SUMIF('00 Alimenta'!$B:$B,'00 PDC SP'!$F676,'00 Alimenta'!F:F)","v":0},{"$f":"SUMIF('00 Alimenta'!$B:$B,'00 PDC SP'!$F676,'00 Alimenta'!G:G)","v":0},{"$f":"SUMIF('00 Alimenta'!$B:$B,'00 PDC SP'!$F676,'00 Alimenta'!H:H)","v":0},{"$f":"SUMIF('00 Alimenta'!$B:$B,'00 PDC SP'!$F676,'00 Alimenta'!I:I)","v":0},0]
["PDA310DB","PD","PDA310",54,"DB","0205080104","Debiti per interessi passivi per anticipazioni",{"$f":"SUMIF('00 Alimenta'!$B:$B,'00 PDC SP'!$F677,'00 Alimenta'!D:D)","v":0},{"$f":"SUMIF('00 Alimenta'!$B:$B,'00 PDC SP'!$F677,'00 Alimenta'!E:E)","v":0},{"$f":"SUMIF('00 Alimenta'!$B:$B,'00 PDC SP'!$F677,'00 Alimenta'!F:F)","v":0},{"$f":"SUMIF('00 Alimenta'!$B:$B,'00 PDC SP'!$F677,'00 Alimenta'!G:G)","v":0},{"$f":"SUMIF('00 Alimenta'!$B:$B,'00 PDC SP'!$F677,'00 Alimenta'!H:H)","v":0},{"$f":"SUMIF('00 Alimenta'!$B:$B,'00 PDC SP'!$F677,'00 Alimenta'!I:I)","v":0},0]
["PDA320DB","PD","PDA320",17,"DB","0205090101","Erario c/Ires",{"$f":"SUMIF('00 Alimenta'!$B:$B,'00 PDC SP'!$F678,'00 Alimenta'!D:D)","v":0},{"$f":"SUMIF('00 Alimenta'!$B:$B,'00 PDC SP'!$F678,'00 Alimenta'!E:E)","v":-408341.33},{"$f":"SUMIF('00 Alimenta'!$B:$B,'00 PDC SP'!$F678,'00 Alimenta'!F:F)","v":-408341.33},{"$f":"SUMIF('00 Alimenta'!$B:$B,'00 PDC SP'!$F678,'00 Alimenta'!G:G)","v":0},{"$f":"SUMIF('00 Alimenta'!$B:$B,'00 PDC SP'!$F678,'00 Alimenta'!H:H)","v":-409702},{"$f":"SUMIF('00 Alimenta'!$B:$B,'00 PDC SP'!$F678,'00 Alimenta'!I:I)","v":-409702},0]
["PDA320DB","PD","PDA320",17,"DB","0205090102","Erario c/ritenute su lavoro autonomo",{"$f":"SUMIF('00 Alimenta'!$B:$B,'00 PDC SP'!$F679,'00 Alimenta'!D:D)","v":-472194.17},{"$f":"SUMIF('00 Alimenta'!$B:$B,'00 PDC SP'!$F679,'00 Alimenta'!E:E)","v":-7403740.4199999999},{"$f":"SUMIF('00 Alimenta'!$B:$B,'00 PDC SP'!$F679,'00 Alimenta'!F:F)","v":-7409718.5499999998},{"$f":"SUMIF('00 Alimenta'!$B:$B,'00 PDC SP'!$F679,'00 Alimenta'!G:G)","v":-466216.04},{"$f":"SUMIF('00 Alimenta'!$B:$B,'00 PDC SP'!$F679,'00 Alimenta'!H:H)","v":-5743923.54},{"$f":"SUMIF('00 Alimenta'!$B:$B,'00 PDC SP'!$F679,'00 Alimenta'!I:I)","v":-5302657.1100000003},-907482.46999999974]
["PDA320DB","PD","PDA320",17,"DB","0205090103","Erario c/ritenute su lavoro dipendente",{"$f":"SUMIF('00 Alimenta'!$B:$B,'00 PDC SP'!$F680,'00 Alimenta'!D:D)","v":-790626.05},{"$f":"SUMIF('00 Alimenta'!$B:$B,'00 PDC SP'!$F680,'00 Alimenta'!E:E)","v":-33744103.079999998},{"$f":"SUMIF('00 Alimenta'!$B:$B,'00 PDC SP'!$F680,'00 Alimenta'!F:F)","v":-33740612.57},{"$f":"SUMIF('00 Alimenta'!$B:$B,'00 PDC SP'!$F680,'00 Alimenta'!G:G)","v":-794116.56},{"$f":"SUMIF('00 Alimenta'!$B:$B,'00 PDC SP'!$F680,'00 Alimenta'!H:H)","v":-33122070.07},{"$f":"SUMIF('00 Alimenta'!$B:$B,'00 PDC SP'!$F680,'00 Alimenta'!I:I)","v":-28214710.690000001},-5701475.9400000013]
["PDA320DB","PD","PDA320",17,"DB","0205090104","Erario c/I.V.A.",{"$f":"SUMIF('00 Alimenta'!$B:$B,'00 PDC SP'!$F681,'00 Alimenta'!D:D)","v":-1582214.68},{"$f":"SUMIF('00 Alimenta'!$B:$B,'00 PDC SP'!$F681,'00 Alimenta'!E:E)","v":-7936966.3700000001},{"$f":"SUMIF('00 Alimenta'!$B:$B,'00 PDC SP'!$F681,'00 Alimenta'!F:F)","v":-9504287.1300000008},{"$f":"SUMIF('00 Alimenta'!$B:$B,'00 PDC SP'!$F681,'00 Alimenta'!G:G)","v":-14893.92},{"$f":"SUMIF('00 Alimenta'!$B:$B,'00 PDC SP'!$F681,'00 Alimenta'!H:H)","v":-877759.98},{"$f":"SUMIF('00 Alimenta'!$B:$B,'00 PDC SP'!$F681,'00 Alimenta'!I:I)","v":-813657.37},-78996.530000000028]
["PDA320DB","PD","PDA320",17,"DB","0205090105","Erario c/Irap",{"$f":"SUMIF('00 Alimenta'!$B:$B,'00 PDC SP'!$F682,'00 Alimenta'!D:D)","v":-229987.37},{"$f":"SUMIF('00 Alimenta'!$B:$B,'00 PDC SP'!$F682,'00 Alimenta'!E:E)","v":-12420854.32},{"$f":"SUMIF('00 Alimenta'!$B:$B,'00 PDC SP'!$F682,'00 Alimenta'!F:F)","v":-12429626.130000001},{"$f":"SUMIF('00 Alimenta'!$B:$B,'00 PDC SP'!$F682,'00 Alimenta'!G:G)","v":-221215.56},{"$f":"SUMIF('00 Alimenta'!$B:$B,'00 PDC SP'!$F682,'00 Alimenta'!H:H)","v":-12358546.83},{"$f":"SUMIF('00 Alimenta'!$B:$B,'00 PDC SP'!$F682,'00 Alimenta'!I:I)","v":-10565136.439999999},-2014625.9500000011]
["PDA320DB","PD","PDA320",17,"DB","0205090106","Altre imposte e tasse",{"$f":"SUMIF('00 Alimenta'!$B:$B,'00 PDC SP'!$F683,'00 Alimenta'!D:D)","v":0},{"$f":"SUMIF('00 Alimenta'!$B:$B,'00 PDC SP'!$F683,'00 Alimenta'!E:E)","v":-785.13},{"$f":"SUMIF('00 Alimenta'!$B:$B,'00 PDC SP'!$F683,'00 Alimenta'!F:F)","v":-785.13},{"$f":"SUMIF('00 Alimenta'!$B:$B,'00 PDC SP'!$F683,'00 Alimenta'!G:G)","v":0},{"$f":"SUMIF('00 Alimenta'!$B:$B,'00 PDC SP'!$F683,'00 Alimenta'!H:H)","v":0},{"$f":"SUMIF('00 Alimenta'!$B:$B,'00 PDC SP'!$F683,'00 Alimenta'!I:I)","v":0},0]
["PDA320DB","PD","PDA320",17,"DB","0205090107","Erario c/IVA ¿ split payment",{"$f":"SUMIF('00 Alimenta'!$B:$B,'00 PDC SP'!$F684,'00 Alimenta'!D:D)","v":0},{"$f":"SUMIF('00 Alimenta'!$B:$B,'00 PDC SP'!$F684,'00 Alimenta'!E:E)","v":-19856036.09},{"$f":"SUMIF('00 Alimenta'!$B:$B,'00 PDC SP'!$F684,'00 Alimenta'!F:F)","v":-17216476.27},{"$f":"SUMIF('00 Alimenta'!$B:$B,'00 PDC SP'!$F684,'00 Alimenta'!G:G)","v":-2639559.8199999998},{"$f":"SUMIF('00 Alimenta'!$B:$B,'00 PDC SP'!$F684,'00 Alimenta'!H:H)","v":-29572329.050000001},{"$f":"SUMIF('00 Alimenta'!$B:$B,'00 PDC SP'!$F684,'00 Alimenta'!I:I)","v":-29104619},-3107269.870000001]
["PDA330DB","PD","PDA330",18,"DB","0205100101","Debiti verso INPDAP",{"$f":"SUMIF('00 Alimenta'!$B:$B,'00 PDC SP'!$F685,'00 Alimenta'!D:D)","v":-840312.26},{"$f":"SUMIF('00 Alimenta'!$B:$B,'00 PDC SP'!$F685,'00 Alimenta'!E:E)","v":-49146093.640000001},{"$f":"SUMIF('00 Alimenta'!$B:$B,'00 PDC SP'!$F685,'00 Alimenta'!F:F)","v":-49241289.700000003},{"$f":"SUMIF('00 Alimenta'!$B:$B,'00 PDC SP'!$F685,'00 Alimenta'!G:G)","v":-745116.2},{"$f":"SUMIF('00 Alimenta'!$B:$B,'00 PDC SP'!$F685,'00 Alimenta'!H:H)","v":-49057188.100000001},{"$f":"SUMIF('00 Alimenta'!$B:$B,'00 PDC SP'!$F685,'00 Alimenta'!I:I)","v":-41789733.43},-8012570.8700000048]
["PDA330DB","PD","PDA330",18,"DB","0205100102","Debiti verso INPS lavoratori dipendenti",{"$f":"SUMIF('00 Alimenta'!$B:$B,'00 PDC SP'!$F686,'00 Alimenta'!D:D)","v":-625.53},{"$f":"SUMIF('00 Alimenta'!$B:$B,'00 PDC SP'!$F686,'00 Alimenta'!E:E)","v":-258155.4},{"$f":"SUMIF('00 Alimenta'!$B:$B,'00 PDC SP'!$F686,'00 Alimenta'!F:F)","v":-257642.79},{"$f":"SUMIF('00 Alimenta'!$B:$B,'00 PDC SP'!$F686,'00 Alimenta'!G:G)","v":-1138.1400000000001},{"$f":"SUMIF('00 Alimenta'!$B:$B,'00 PDC SP'!$F686,'00 Alimenta'!H:H)","v":-222774.72},{"$f":"SUMIF('00 Alimenta'!$B:$B,'00 PDC SP'!$F686,'00 Alimenta'!I:I)","v":-202300.79},-21612.070000000007]
["PDA330DB","PD","PDA330",18,"DB","0205100103","Debiti verso INPS lavoratori autonomi",{"$f":"SUMIF('00 Alimenta'!$B:$B,'00 PDC SP'!$F687,'00 Alimenta'!D:D)","v":0},{"$f":"SUMIF('00 Alimenta'!$B:$B,'00 PDC SP'!$F687,'00 Alimenta'!E:E)","v":0},{"$f":"SUMIF('00 Alimenta'!$B:$B,'00 PDC SP'!$F687,'00 Alimenta'!F:F)","v":0},{"$f":"SUMIF('00 Alimenta'!$B:$B,'00 PDC SP'!$F687,'00 Alimenta'!G:G)","v":0},{"$f":"SUMIF('00 Alimenta'!$B:$B,'00 PDC SP'!$F687,'00 Alimenta'!H:H)","v":0},{"$f":"SUMIF('00 Alimenta'!$B:$B,'00 PDC SP'!$F687,'00 Alimenta'!I:I)","v":0},0]
[{"$f":"IF(E688=\"\",C688,C688&E688)","v":"PDA330DB"},"PD","PDA330",18,"DB","0205100104","Debiti verso INAIL",{"$f":"SUMIF('00 Alimenta'!$B:$B,'00 PDC SP'!$F688,'00 Alimenta'!D:D)","v":0},{"$f":"SUMIF('00 Alimenta'!$B:$B,'00 PDC SP'!$F688,'00 Alimenta'!E:E)","v":-1681196.55},{"$f":"SUMIF('00 Alimenta'!$B:$B,'00 PDC SP'!$F688,'00 Alimenta'!F:F)","v":-1675236.8},{"$f":"SUMIF('00 Alimenta'!$B:$B,'00 PDC SP'!$F688,'00 Alimenta'!G:G)","v":-5959.75},{"$f":"SUMIF('00 Alimenta'!$B:$B,'00 PDC SP'!$F688,'00 Alimenta'!H:H)","v":-1233643.8999999999},{"$f":"SUMIF('00 Alimenta'!$B:$B,'00 PDC SP'!$F688,'00 Alimenta'!I:I)","v":-1239603.6499999999},{"$f":"K688+L688-M688","v":0}]
["PDA330DB","PD","PDA330",18,"DB","0205100105","Debiti verso ENPAM",{"$f":"SUMIF('00 Alimenta'!$B:$B,'00 PDC SP'!$F689,'00 Alimenta'!D:D)","v":-548923.12},{"$f":"SUMIF('00 Alimenta'!$B:$B,'00 PDC SP'!$F689,'00 Alimenta'!E:E)","v":-10041013.43},{"$f":"SUMIF('00 Alimenta'!$B:$B,'00 PDC SP'!$F689,'00 Alimenta'!F:F)","v":-9994193.9600000009},{"$f":"SUMIF('00 Alimenta'!$B:$B,'00 PDC SP'!$F689,'00 Alimenta'!G:G)","v":-595742.59},{"$f":"SUMIF('00 Alimenta'!$B:$B,'00 PDC SP'!$F689,'00 Alimenta'!H:H)","v":-9075924.5},{"$f":"SUMIF('00 Alimenta'!$B:$B,'00 PDC SP'!$F689,'00 Alimenta'!I:I)","v":-8876185.8900000006},-795481.19999999925]
["PDA330DB","PD","PDA330",18,"DB","0205100106","Debiti verso ONAOSI",{"$f":"SUMIF('00 Alimenta'!$B:$B,'00 PDC SP'!$F690,'00 Alimenta'!D:D)","v":-54015.29},{"$f":"SUMIF('00 Alimenta'!$B:$B,'00 PDC SP'!$F690,'00 Alimenta'!E:E)","v":-110977.37},{"$f":"SUMIF('00 Alimenta'!$B:$B,'00 PDC SP'!$F690,'00 Alimenta'!F:F)","v":-110312.56},{"$f":"SUMIF('00 Alimenta'!$B:$B,'00 PDC SP'!$F690,'00 Alimenta'!G:G)","v":-54680.1},{"$f":"SUMIF('00 Alimenta'!$B:$B,'00 PDC SP'!$F690,'00 Alimenta'!H:H)","v":-117900.55},{"$f":"SUMIF('00 Alimenta'!$B:$B,'00 PDC SP'!$F690,'00 Alimenta'!I:I)","v":-111931.95},-60648.7]
["PDA330DB","PD","PDA330",18,"DB","0205100107","Debiti verso altri Istituti Previdenziali",{"$f":"SUMIF('00 Alimenta'!$B:$B,'00 PDC SP'!$F691,'00 Alimenta'!D:D)","v":-74654.41},{"$f":"SUMIF('00 Alimenta'!$B:$B,'00 PDC SP'!$F691,'00 Alimenta'!E:E)","v":-643937.53},{"$f":"SUMIF('00 Alimenta'!$B:$B,'00 PDC SP'!$F691,'00 Alimenta'!F:F)","v":-600773.68000000005},{"$f":"SUMIF('00 Alimenta'!$B:$B,'00 PDC SP'!$F691,'00 Alimenta'!G:G)","v":-117818.26},{"$f":"SUMIF('00 Alimenta'!$B:$B,'00 PDC SP'!$F691,'00 Alimenta'!H:H)","v":-614603.81000000006},{"$f":"SUMIF('00 Alimenta'!$B:$B,'00 PDC SP'!$F691,'00 Alimenta'!I:I)","v":-603039.37},-129382.70000000007]
["PDA350DB","PD","PDA350",19,"DB","0205110101","Debiti v/altri finanziatori",{"$f":"SUMIF('00 Alimenta'!$B:$B,'00 PDC SP'!$F692,'00 Alimenta'!D:D)","v":0},{"$f":"SUMIF('00 Alimenta'!$B:$B,'00 PDC SP'!$F692,'00 Alimenta'!E:E)","v":0},{"$f":"SUMIF('00 Alimenta'!$B:$B,'00 PDC SP'!$F692,'00 Alimenta'!F:F)","v":0},{"$f":"SUMIF('00 Alimenta'!$B:$B,'00 PDC SP'!$F692,'00 Alimenta'!G:G)","v":0},{"$f":"SUMIF('00 Alimenta'!$B:$B,'00 PDC SP'!$F692,'00 Alimenta'!H:H)","v":0},{"$f":"SUMIF('00 Alimenta'!$B:$B,'00 PDC SP'!$F692,'00 Alimenta'!I:I)","v":0},0]
["PDA360DB","PD","PDA360",19,"DB","0205110201","Debiti verso personale retribuzioni esercizio in corso",{"$f":"SUMIF('00 Alimenta'!$B:$B,'00 PDC SP'!$F693,'00 Alimenta'!D:D)","v":0},{"$f":"SUMIF('00 Alimenta'!$B:$B,'00 PDC SP'!$F693,'00 Alimenta'!E:E)","v":0},{"$f":"SUMIF('00 Alimenta'!$B:$B,'00 PDC SP'!$F693,'00 Alimenta'!F:F)","v":0},{"$f":"SUMIF('00 Alimenta'!$B:$B,'00 PDC SP'!$F693,'00 Alimenta'!G:G)","v":0},{"$f":"SUMIF('00 Alimenta'!$B:$B,'00 PDC SP'!$F693,'00 Alimenta'!H:H)","v":0},{"$f":"SUMIF('00 Alimenta'!$B:$B,'00 PDC SP'!$F693,'00 Alimenta'!I:I)","v":0},0]
["PDA360DB","PD","PDA360",19,"DB","0205110202","Debiti verso il personale dipendente per fondi aziendali esercizio in corso",{"$f":"SUMIF('00 Alimenta'!$B:$B,'00 PDC SP'!$F694,'00 Alimenta'!D:D)","v":0},{"$f":"SUMIF('00 Alimenta'!$B:$B,'00 PDC SP'!$F694,'00 Alimenta'!E:E)","v":0},{"$f":"SUMIF('00 Alimenta'!$B:$B,'00 PDC SP'!$F694,'00 Alimenta'!F:F)","v":0},{"$f":"SUMIF('00 Alimenta'!$B:$B,'00 PDC SP'!$F694,'00 Alimenta'!G:G)","v":0},{"$f":"SUMIF('00 Alimenta'!$B:$B,'00 PDC SP'!$F694,'00 Alimenta'!H:H)","v":0},{"$f":"SUMIF('00 Alimenta'!$B:$B,'00 PDC SP'!$F694,'00 Alimenta'!I:I)","v":0},0]
["PDA360DB","PD","PDA360",19,"DB","0205110203","Debiti verso personale retribuzioni esercizi precedenti",{"$f":"SUMIF('00 Alimenta'!$B:$B,'00 PDC SP'!$F695,'00 Alimenta'!D:D)","v":-586981.76},{"$f":"SUMIF('00 Alimenta'!$B:$B,'00 PDC SP'!$F695,'00 Alimenta'!E:E)","v":-407111.65},{"$f":"SUMIF('00 Alimenta'!$B:$B,'00 PDC SP'!$F695,'00 Alimenta'!F:F)","v":-274168.63},{"$f":"SUMIF('00 Alimenta'!$B:$B,'00 PDC SP'!$F695,'00 Alimenta'!G:G)","v":-719924.78},{"$f":"SUMIF('00 Alimenta'!$B:$B,'00 PDC SP'!$F695,'00 Alimenta'!H:H)","v":-1124701.55},{"$f":"SUMIF('00 Alimenta'!$B:$B,'00 PDC SP'!$F695,'00 Alimenta'!I:I)","v":-291546.86},-1553079.4700000002]
["PDA360DB","PD","PDA360",19,"DB","0205110204","Debiti verso il personale dipendente per fondi aziendali esercizi precedenti",{"$f":"SUMIF('00 Alimenta'!$B:$B,'00 PDC SP'!$F696,'00 Alimenta'!D:D)","v":-10961585.66},{"$f":"SUMIF('00 Alimenta'!$B:$B,'00 PDC SP'!$F696,'00 Alimenta'!E:E)","v":-9300106.0399999991},{"$f":"SUMIF('00 Alimenta'!$B:$B,'00 PDC SP'!$F696,'00 Alimenta'!F:F)","v":-7619278.9000000004},{"$f":"SUMIF('00 Alimenta'!$B:$B,'00 PDC SP'!$F696,'00 Alimenta'!G:G)","v":-12642412.800000001},{"$f":"SUMIF('00 Alimenta'!$B:$B,'00 PDC SP'!$F696,'00 Alimenta'!H:H)","v":-9676865.3499999996},{"$f":"SUMIF('00 Alimenta'!$B:$B,'00 PDC SP'!$F696,'00 Alimenta'!I:I)","v":-6928381.2000000002},-15390896.949999999]
["PDA360DB","PD","PDA360",19,"DB","0205110205","Debiti verso personale per rimborsi spese",{"$f":"SUMIF('00 Alimenta'!$B:$B,'00 PDC SP'!$F697,'00 Alimenta'!D:D)","v":0},{"$f":"SUMIF('00 Alimenta'!$B:$B,'00 PDC SP'!$F697,'00 Alimenta'!E:E)","v":0},{"$f":"SUMIF('00 Alimenta'!$B:$B,'00 PDC SP'!$F697,'00 Alimenta'!F:F)","v":0},{"$f":"SUMIF('00 Alimenta'!$B:$B,'00 PDC SP'!$F697,'00 Alimenta'!G:G)","v":0},{"$f":"SUMIF('00 Alimenta'!$B:$B,'00 PDC SP'!$F697,'00 Alimenta'!H:H)","v":0},{"$f":"SUMIF('00 Alimenta'!$B:$B,'00 PDC SP'!$F697,'00 Alimenta'!I:I)","v":0},0]
["PDA360DB","PD","PDA360",19,"DB","0205110206","Altri debiti verso il personale per ferie maturate e non godute",{"$f":"SUMIF('00 Alimenta'!$B:$B,'00 PDC SP'!$F698,'00 Alimenta'!D:D)","v":-75182.12},{"$f":"SUMIF('00 Alimenta'!$B:$B,'00 PDC SP'!$F698,'00 Alimenta'!E:E)","v":-97736.77},{"$f":"SUMIF('00 Alimenta'!$B:$B,'00 PDC SP'!$F698,'00 Alimenta'!F:F)","v":-22303.13},{"$f":"SUMIF('00 Alimenta'!$B:$B,'00 PDC SP'!$F698,'00 Alimenta'!G:G)","v":-150615.76},{"$f":"SUMIF('00 Alimenta'!$B:$B,'00 PDC SP'!$F698,'00 Alimenta'!H:H)","v":-47307.44},{"$f":"SUMIF('00 Alimenta'!$B:$B,'00 PDC SP'!$F698,'00 Alimenta'!I:I)","v":-29946.41},-167976.79]
["PDA360DB","PD","PDA360",19,"DB","0205110207","Altri debiti verso il personale dipendente",{"$f":"SUMIF('00 Alimenta'!$B:$B,'00 PDC SP'!$F699,'00 Alimenta'!D:D)","v":-2231495.9},{"$f":"SUMIF('00 Alimenta'!$B:$B,'00 PDC SP'!$F699,'00 Alimenta'!E:E)","v":-88756803.799999997},{"$f":"SUMIF('00 Alimenta'!$B:$B,'00 PDC SP'!$F699,'00 Alimenta'!F:F)","v":-88990120.450000003},{"$f":"SUMIF('00 Alimenta'!$B:$B,'00 PDC SP'!$F699,'00 Alimenta'!G:G)","v":-1998179.25},{"$f":"SUMIF('00 Alimenta'!$B:$B,'00 PDC SP'!$F699,'00 Alimenta'!H:H)","v":-88770140.049999997},{"$f":"SUMIF('00 Alimenta'!$B:$B,'00 PDC SP'!$F699,'00 Alimenta'!I:I)","v":-88054732.269999996},-2713587.0300000012]
["PDA370DB","PD","PDA370",19,"DB","0205110301","Debiti v/gestioni liquidatorie",{"$f":"SUMIF('00 Alimenta'!$B:$B,'00 PDC SP'!$F700,'00 Alimenta'!D:D)","v":0},{"$f":"SUMIF('00 Alimenta'!$B:$B,'00 PDC SP'!$F700,'00 Alimenta'!E:E)","v":0},{"$f":"SUMIF('00 Alimenta'!$B:$B,'00 PDC SP'!$F700,'00 Alimenta'!F:F)","v":0},{"$f":"SUMIF('00 Alimenta'!$B:$B,'00 PDC SP'!$F700,'00 Alimenta'!G:G)","v":0},{"$f":"SUMIF('00 Alimenta'!$B:$B,'00 PDC SP'!$F700,'00 Alimenta'!H:H)","v":0},{"$f":"SUMIF('00 Alimenta'!$B:$B,'00 PDC SP'!$F700,'00 Alimenta'!I:I)","v":0},0]
["PDA370FR","PD","PDA370",19,"FR","0205110302","Fatture da ricevere v/gestioni liquidatorie",{"$f":"SUMIF('00 Alimenta'!$B:$B,'00 PDC SP'!$F701,'00 Alimenta'!D:D)","v":0},{"$f":"SUMIF('00 Alimenta'!$B:$B,'00 PDC SP'!$F701,'00 Alimenta'!E:E)","v":0},{"$f":"SUMIF('00 Alimenta'!$B:$B,'00 PDC SP'!$F701,'00 Alimenta'!F:F)","v":0},{"$f":"SUMIF('00 Alimenta'!$B:$B,'00 PDC SP'!$F701,'00 Alimenta'!G:G)","v":0},{"$f":"SUMIF('00 Alimenta'!$B:$B,'00 PDC SP'!$F701,'00 Alimenta'!H:H)","v":0},{"$f":"SUMIF('00 Alimenta'!$B:$B,'00 PDC SP'!$F701,'00 Alimenta'!I:I)","v":0},0]
["PDA380DB","PD","PDA380",19,"DB","0205110401","Debiti verso organizzazioni sindacali",{"$f":"SUMIF('00 Alimenta'!$B:$B,'00 PDC SP'!$F702,'00 Alimenta'!D:D)","v":0},{"$f":"SUMIF('00 Alimenta'!$B:$B,'00 PDC SP'!$F702,'00 Alimenta'!E:E)","v":0},{"$f":"SUMIF('00 Alimenta'!$B:$B,'00 PDC SP'!$F702,'00 Alimenta'!F:F)","v":0},{"$f":"SUMIF('00 Alimenta'!$B:$B,'00 PDC SP'!$F702,'00 Alimenta'!G:G)","v":0},{"$f":"SUMIF('00 Alimenta'!$B:$B,'00 PDC SP'!$F702,'00 Alimenta'!H:H)","v":0},{"$f":"SUMIF('00 Alimenta'!$B:$B,'00 PDC SP'!$F702,'00 Alimenta'!I:I)","v":0},0]
["PDA380DB","PD","PDA380",19,"DB","0205110402","Debiti verso organi direttivi e istituzionali",{"$f":"SUMIF('00 Alimenta'!$B:$B,'00 PDC SP'!$F703,'00 Alimenta'!D:D)","v":-2017.73},{"$f":"SUMIF('00 Alimenta'!$B:$B,'00 PDC SP'!$F703,'00 Alimenta'!E:E)","v":-218364.24},{"$f":"SUMIF('00 Alimenta'!$B:$B,'00 PDC SP'!$F703,'00 Alimenta'!F:F)","v":-219978.17},{"$f":"SUMIF('00 Alimenta'!$B:$B,'00 PDC SP'!$F703,'00 Alimenta'!G:G)","v":-403.8},{"$f":"SUMIF('00 Alimenta'!$B:$B,'00 PDC SP'!$F703,'00 Alimenta'!H:H)","v":-179229.48},{"$f":"SUMIF('00 Alimenta'!$B:$B,'00 PDC SP'!$F703,'00 Alimenta'!I:I)","v":-179229.48},-403.79999999998836]
["PDA380DB","PD","PDA380",19,"DB","0205110403","Debiti verso assistiti",{"$f":"SUMIF('00 Alimenta'!$B:$B,'00 PDC SP'!$F704,'00 Alimenta'!D:D)","v":-248681.33},{"$f":"SUMIF('00 Alimenta'!$B:$B,'00 PDC SP'!$F704,'00 Alimenta'!E:E)","v":-1931513.49},{"$f":"SUMIF('00 Alimenta'!$B:$B,'00 PDC SP'!$F704,'00 Alimenta'!F:F)","v":-1937335.26},{"$f":"SUMIF('00 Alimenta'!$B:$B,'00 PDC SP'!$F704,'00 Alimenta'!G:G)","v":-242859.56},{"$f":"SUMIF('00 Alimenta'!$B:$B,'00 PDC SP'!$F704,'00 Alimenta'!H:H)","v":-2312994.21},{"$f":"SUMIF('00 Alimenta'!$B:$B,'00 PDC SP'!$F704,'00 Alimenta'!I:I)","v":-2361992.7799999998},-193860.99000000022]
["PDA380DB","PD","PDA380",19,"DB","0205110404","Altri debiti diversi",{"$f":"SUMIF('00 Alimenta'!$B:$B,'00 PDC SP'!$F705,'00 Alimenta'!D:D)","v":-324312.06},{"$f":"SUMIF('00 Alimenta'!$B:$B,'00 PDC SP'!$F705,'00 Alimenta'!E:E)","v":-5301861.76},{"$f":"SUMIF('00 Alimenta'!$B:$B,'00 PDC SP'!$F705,'00 Alimenta'!F:F)","v":-5157950.34},{"$f":"SUMIF('00 Alimenta'!$B:$B,'00 PDC SP'!$F705,'00 Alimenta'!G:G)","v":-468223.48},{"$f":"SUMIF('00 Alimenta'!$B:$B,'00 PDC SP'!$F705,'00 Alimenta'!H:H)","v":-5048110.0599999996},{"$f":"SUMIF('00 Alimenta'!$B:$B,'00 PDC SP'!$F705,'00 Alimenta'!I:I)","v":-4653093.4400000004},-863240.0999999987]
["PDA380DB","PD","PDA380",19,"DB","0205110405","Debiti verso personale esterno non convenzionato",{"$f":"SUMIF('00 Alimenta'!$B:$B,'00 PDC SP'!$F706,'00 Alimenta'!D:D)","v":0},{"$f":"SUMIF('00 Alimenta'!$B:$B,'00 PDC SP'!$F706,'00 Alimenta'!E:E)","v":0},{"$f":"SUMIF('00 Alimenta'!$B:$B,'00 PDC SP'!$F706,'00 Alimenta'!F:F)","v":0},{"$f":"SUMIF('00 Alimenta'!$B:$B,'00 PDC SP'!$F706,'00 Alimenta'!G:G)","v":0},{"$f":"SUMIF('00 Alimenta'!$B:$B,'00 PDC SP'!$F706,'00 Alimenta'!H:H)","v":0},{"$f":"SUMIF('00 Alimenta'!$B:$B,'00 PDC SP'!$F706,'00 Alimenta'!I:I)","v":0},0]
["PDA380DB","PD","PDA380",19,"DB","0205110406","Debiti verso personale tirocinante e borsisti",{"$f":"SUMIF('00 Alimenta'!$B:$B,'00 PDC SP'!$F707,'00 Alimenta'!D:D)","v":-727},{"$f":"SUMIF('00 Alimenta'!$B:$B,'00 PDC SP'!$F707,'00 Alimenta'!E:E)","v":-500132},{"$f":"SUMIF('00 Alimenta'!$B:$B,'00 PDC SP'!$F707,'00 Alimenta'!F:F)","v":-500859},{"$f":"SUMIF('00 Alimenta'!$B:$B,'00 PDC SP'!$F707,'00 Alimenta'!G:G)","v":0},{"$f":"SUMIF('00 Alimenta'!$B:$B,'00 PDC SP'!$F707,'00 Alimenta'!H:H)","v":-232402},{"$f":"SUMIF('00 Alimenta'!$B:$B,'00 PDC SP'!$F707,'00 Alimenta'!I:I)","v":-232402},0]
["PDA380DB","PD","PDA380",19,"DB","0205110407","Debiti verso altro personale esterno",{"$f":"SUMIF('00 Alimenta'!$B:$B,'00 PDC SP'!$F708,'00 Alimenta'!D:D)","v":-10379.200000000001},{"$f":"SUMIF('00 Alimenta'!$B:$B,'00 PDC SP'!$F708,'00 Alimenta'!E:E)","v":-155157.35999999999},{"$f":"SUMIF('00 Alimenta'!$B:$B,'00 PDC SP'!$F708,'00 Alimenta'!F:F)","v":-128106.84},{"$f":"SUMIF('00 Alimenta'!$B:$B,'00 PDC SP'!$F708,'00 Alimenta'!G:G)","v":-37429.72},{"$f":"SUMIF('00 Alimenta'!$B:$B,'00 PDC SP'!$F708,'00 Alimenta'!H:H)","v":-299622.90999999997},{"$f":"SUMIF('00 Alimenta'!$B:$B,'00 PDC SP'!$F708,'00 Alimenta'!I:I)","v":-159059.34},-177993.29]
["PDA380DB","PD","PDA380",19,"DB","0205110408","Debiti verso personale universitario",{"$f":"SUMIF('00 Alimenta'!$B:$B,'00 PDC SP'!$F709,'00 Alimenta'!D:D)","v":0},{"$f":"SUMIF('00 Alimenta'!$B:$B,'00 PDC SP'!$F709,'00 Alimenta'!E:E)","v":0},{"$f":"SUMIF('00 Alimenta'!$B:$B,'00 PDC SP'!$F709,'00 Alimenta'!F:F)","v":0},{"$f":"SUMIF('00 Alimenta'!$B:$B,'00 PDC SP'!$F709,'00 Alimenta'!G:G)","v":0},{"$f":"SUMIF('00 Alimenta'!$B:$B,'00 PDC SP'!$F709,'00 Alimenta'!H:H)","v":-16390.72},{"$f":"SUMIF('00 Alimenta'!$B:$B,'00 PDC SP'!$F709,'00 Alimenta'!I:I)","v":0},-16390.72]
["PDA380FR",{"$f":"IF(C710=\"PAA220\",\"UT\",LEFT(C710,2))","v":"PD"},"PDA380",19,"FR","0205110409","Fatture da ricevere Altri debiti diversi",{"$f":"SUMIF('00 Alimenta'!$B:$B,'00 PDC SP'!$F710,'00 Alimenta'!D:D)","v":-321864.53999999998},{"$f":"SUMIF('00 Alimenta'!$B:$B,'00 PDC SP'!$F710,'00 Alimenta'!E:E)","v":-416963.94},{"$f":"SUMIF('00 Alimenta'!$B:$B,'00 PDC SP'!$F710,'00 Alimenta'!F:F)","v":-321864.53999999998},{"$f":"SUMIF('00 Alimenta'!$B:$B,'00 PDC SP'!$F710,'00 Alimenta'!G:G)","v":-416963.94},{"$f":"SUMIF('00 Alimenta'!$B:$B,'00 PDC SP'!$F710,'00 Alimenta'!H:H)","v":-465663.78},{"$f":"SUMIF('00 Alimenta'!$B:$B,'00 PDC SP'!$F710,'00 Alimenta'!I:I)","v":-416963.94},-465663.77999999997]
["PDA380DB","PD","PDA380",19,"DB","0205110410","Debiti al 31/12/2005",{"$f":"SUMIF('00 Alimenta'!$B:$B,'00 PDC SP'!$F711,'00 Alimenta'!D:D)","v":0},{"$f":"SUMIF('00 Alimenta'!$B:$B,'00 PDC SP'!$F711,'00 Alimenta'!E:E)","v":0},{"$f":"SUMIF('00 Alimenta'!$B:$B,'00 PDC SP'!$F711,'00 Alimenta'!F:F)","v":0},{"$f":"SUMIF('00 Alimenta'!$B:$B,'00 PDC SP'!$F711,'00 Alimenta'!G:G)","v":0},{"$f":"SUMIF('00 Alimenta'!$B:$B,'00 PDC SP'!$F711,'00 Alimenta'!H:H)","v":0},{"$f":"SUMIF('00 Alimenta'!$B:$B,'00 PDC SP'!$F711,'00 Alimenta'!I:I)","v":0},0]
["PDA380DB","PD","PDA380",19,"DB","0205110411","Debiti anno 2006",{"$f":"SUMIF('00 Alimenta'!$B:$B,'00 PDC SP'!$F712,'00 Alimenta'!D:D)","v":0},{"$f":"SUMIF('00 Alimenta'!$B:$B,'00 PDC SP'!$F712,'00 Alimenta'!E:E)","v":0},{"$f":"SUMIF('00 Alimenta'!$B:$B,'00 PDC SP'!$F712,'00 Alimenta'!F:F)","v":0},{"$f":"SUMIF('00 Alimenta'!$B:$B,'00 PDC SP'!$F712,'00 Alimenta'!G:G)","v":0},{"$f":"SUMIF('00 Alimenta'!$B:$B,'00 PDC SP'!$F712,'00 Alimenta'!H:H)","v":0},{"$f":"SUMIF('00 Alimenta'!$B:$B,'00 PDC SP'!$F712,'00 Alimenta'!I:I)","v":0},0]
["ABA370FE","AB","ABA370",25,"FE","0205110501","Note credito da emettere v/Regione per spesa corrente - IRAP - CONTO ELIMINATO",{"$f":"SUMIF('00 Alimenta'!$B:$B,'00 PDC SP'!$F713,'00 Alimenta'!D:D)","v":0},{"$f":"SUMIF('00 Alimenta'!$B:$B,'00 PDC SP'!$F713,'00 Alimenta'!E:E)","v":0},{"$f":"SUMIF('00 Alimenta'!$B:$B,'00 PDC SP'!$F713,'00 Alimenta'!F:F)","v":0},{"$f":"SUMIF('00 Alimenta'!$B:$B,'00 PDC SP'!$F713,'00 Alimenta'!G:G)","v":0},{"$f":"SUMIF('00 Alimenta'!$B:$B,'00 PDC SP'!$F713,'00 Alimenta'!H:H)","v":0},{"$f":"SUMIF('00 Alimenta'!$B:$B,'00 PDC SP'!$F713,'00 Alimenta'!I:I)","v":0},0]
["ABA380FE","AB","ABA380",25,"FE","0205110502","Note credito da emettere v/Regione per spesa corrente - addizionale IRPEF - CONTO ELIMINATO",{"$f":"SUMIF('00 Alimenta'!$B:$B,'00 PDC SP'!$F714,'00 Alimenta'!D:D)","v":0},{"$f":"SUMIF('00 Alimenta'!$B:$B,'00 PDC SP'!$F714,'00 Alimenta'!E:E)","v":0},{"$f":"SUMIF('00 Alimenta'!$B:$B,'00 PDC SP'!$F714,'00 Alimenta'!F:F)","v":0},{"$f":"SUMIF('00 Alimenta'!$B:$B,'00 PDC SP'!$F714,'00 Alimenta'!G:G)","v":0},{"$f":"SUMIF('00 Alimenta'!$B:$B,'00 PDC SP'!$F714,'00 Alimenta'!H:H)","v":0},{"$f":"SUMIF('00 Alimenta'!$B:$B,'00 PDC SP'!$F714,'00 Alimenta'!I:I)","v":0},0]
["ABA390FE","AB","ABA390",25,"FE","0205110503","Note credito da emettere v/Regione per quota FSR",{"$f":"SUMIF('00 Alimenta'!$B:$B,'00 PDC SP'!$F715,'00 Alimenta'!D:D)","v":0},{"$f":"SUMIF('00 Alimenta'!$B:$B,'00 PDC SP'!$F715,'00 Alimenta'!E:E)","v":0},{"$f":"SUMIF('00 Alimenta'!$B:$B,'00 PDC SP'!$F715,'00 Alimenta'!F:F)","v":0},{"$f":"SUMIF('00 Alimenta'!$B:$B,'00 PDC SP'!$F715,'00 Alimenta'!G:G)","v":0},{"$f":"SUMIF('00 Alimenta'!$B:$B,'00 PDC SP'!$F715,'00 Alimenta'!H:H)","v":0},{"$f":"SUMIF('00 Alimenta'!$B:$B,'00 PDC SP'!$F715,'00 Alimenta'!I:I)","v":0},0]
["ABA400FE","AB","ABA400",25,"FE","0205110504","Note credito da emettere v/Regione per mobilità attiva intraregionale",{"$f":"SUMIF('00 Alimenta'!$B:$B,'00 PDC SP'!$F716,'00 Alimenta'!D:D)","v":0},{"$f":"SUMIF('00 Alimenta'!$B:$B,'00 PDC SP'!$F716,'00 Alimenta'!E:E)","v":0},{"$f":"SUMIF('00 Alimenta'!$B:$B,'00 PDC SP'!$F716,'00 Alimenta'!F:F)","v":0},{"$f":"SUMIF('00 Alimenta'!$B:$B,'00 PDC SP'!$F716,'00 Alimenta'!G:G)","v":0},{"$f":"SUMIF('00 Alimenta'!$B:$B,'00 PDC SP'!$F716,'00 Alimenta'!H:H)","v":0},{"$f":"SUMIF('00 Alimenta'!$B:$B,'00 PDC SP'!$F716,'00 Alimenta'!I:I)","v":0},0]
["ABA400FE","AB","ABA400",25,"FE","0205110505","Note credito da emettere v/Regione per mobilità attiva da privato",{"$f":"SUMIF('00 Alimenta'!$B:$B,'00 PDC SP'!$F717,'00 Alimenta'!D:D)","v":0},{"$f":"SUMIF('00 Alimenta'!$B:$B,'00 PDC SP'!$F717,'00 Alimenta'!E:E)","v":0},{"$f":"SUMIF('00 Alimenta'!$B:$B,'00 PDC SP'!$F717,'00 Alimenta'!F:F)","v":0},{"$f":"SUMIF('00 Alimenta'!$B:$B,'00 PDC SP'!$F717,'00 Alimenta'!G:G)","v":0},{"$f":"SUMIF('00 Alimenta'!$B:$B,'00 PDC SP'!$F717,'00 Alimenta'!H:H)","v":0},{"$f":"SUMIF('00 Alimenta'!$B:$B,'00 PDC SP'!$F717,'00 Alimenta'!I:I)","v":0},0]
["ABA410FE","AB","ABA410",25,"FE","0205110506","Note credito  da emettere v/Regione per mobilità attiva extraregionale",{"$f":"SUMIF('00 Alimenta'!$B:$B,'00 PDC SP'!$F718,'00 Alimenta'!D:D)","v":0},{"$f":"SUMIF('00 Alimenta'!$B:$B,'00 PDC SP'!$F718,'00 Alimenta'!E:E)","v":0},{"$f":"SUMIF('00 Alimenta'!$B:$B,'00 PDC SP'!$F718,'00 Alimenta'!F:F)","v":0},{"$f":"SUMIF('00 Alimenta'!$B:$B,'00 PDC SP'!$F718,'00 Alimenta'!G:G)","v":0},{"$f":"SUMIF('00 Alimenta'!$B:$B,'00 PDC SP'!$F718,'00 Alimenta'!H:H)","v":0},{"$f":"SUMIF('00 Alimenta'!$B:$B,'00 PDC SP'!$F718,'00 Alimenta'!I:I)","v":0},0]
["ABA420FE","AB","ABA420",25,"FE","0205110507","Note credito da emettere v/Regione per creditiv/Regione o Provincia Autonoma per acconto FSR",{"$f":"SUMIF('00 Alimenta'!$B:$B,'00 PDC SP'!$F719,'00 Alimenta'!D:D)","v":0},{"$f":"SUMIF('00 Alimenta'!$B:$B,'00 PDC SP'!$F719,'00 Alimenta'!E:E)","v":0},{"$f":"SUMIF('00 Alimenta'!$B:$B,'00 PDC SP'!$F719,'00 Alimenta'!F:F)","v":0},{"$f":"SUMIF('00 Alimenta'!$B:$B,'00 PDC SP'!$F719,'00 Alimenta'!G:G)","v":0},{"$f":"SUMIF('00 Alimenta'!$B:$B,'00 PDC SP'!$F719,'00 Alimenta'!H:H)","v":0},{"$f":"SUMIF('00 Alimenta'!$B:$B,'00 PDC SP'!$F719,'00 Alimenta'!I:I)","v":0},0]
["ABA430FE","AB","ABA430",25,"FE","0205110508","Note credito da emettere v/Regione per crediti v/Regione o Provincia Autonoma per finanziamento sanitario aggiuntivo corrente LEA",{"$f":"SUMIF('00 Alimenta'!$B:$B,'00 PDC SP'!$F720,'00 Alimenta'!D:D)","v":0},{"$f":"SUMIF('00 Alimenta'!$B:$B,'00 PDC SP'!$F720,'00 Alimenta'!E:E)","v":0},{"$f":"SUMIF('00 Alimenta'!$B:$B,'00 PDC SP'!$F720,'00 Alimenta'!F:F)","v":0},{"$f":"SUMIF('00 Alimenta'!$B:$B,'00 PDC SP'!$F720,'00 Alimenta'!G:G)","v":0},{"$f":"SUMIF('00 Alimenta'!$B:$B,'00 PDC SP'!$F720,'00 Alimenta'!H:H)","v":0},{"$f":"SUMIF('00 Alimenta'!$B:$B,'00 PDC SP'!$F720,'00 Alimenta'!I:I)","v":0},0]
["ABA440FE","AB","ABA440",25,"FE","0205110509","Note credito da emettere v/Regione per crediti v/Regione o Provincia Autonoma per finanziamento sanitario aggiuntivo corrente extra LEA",{"$f":"SUMIF('00 Alimenta'!$B:$B,'00 PDC SP'!$F721,'00 Alimenta'!D:D)","v":0},{"$f":"SUMIF('00 Alimenta'!$B:$B,'00 PDC SP'!$F721,'00 Alimenta'!E:E)","v":0},{"$f":"SUMIF('00 Alimenta'!$B:$B,'00 PDC SP'!$F721,'00 Alimenta'!F:F)","v":0},{"$f":"SUMIF('00 Alimenta'!$B:$B,'00 PDC SP'!$F721,'00 Alimenta'!G:G)","v":0},{"$f":"SUMIF('00 Alimenta'!$B:$B,'00 PDC SP'!$F721,'00 Alimenta'!H:H)","v":0},{"$f":"SUMIF('00 Alimenta'!$B:$B,'00 PDC SP'!$F721,'00 Alimenta'!I:I)","v":0},0]
["ABA450FE","AB","ABA450",25,"FE","0205110510","Note credito da emettere v/Regione per creditiv/Regione o Provincia Autonoma per spesa corrente - altro",{"$f":"SUMIF('00 Alimenta'!$B:$B,'00 PDC SP'!$F722,'00 Alimenta'!D:D)","v":0},{"$f":"SUMIF('00 Alimenta'!$B:$B,'00 PDC SP'!$F722,'00 Alimenta'!E:E)","v":0},{"$f":"SUMIF('00 Alimenta'!$B:$B,'00 PDC SP'!$F722,'00 Alimenta'!F:F)","v":0},{"$f":"SUMIF('00 Alimenta'!$B:$B,'00 PDC SP'!$F722,'00 Alimenta'!G:G)","v":0},{"$f":"SUMIF('00 Alimenta'!$B:$B,'00 PDC SP'!$F722,'00 Alimenta'!H:H)","v":0},{"$f":"SUMIF('00 Alimenta'!$B:$B,'00 PDC SP'!$F722,'00 Alimenta'!I:I)","v":0},0]
["ABA530FE","AB","ABA530",26,"FE","0205110511","Note credito da emettere v/Comuni",{"$f":"SUMIF('00 Alimenta'!$B:$B,'00 PDC SP'!$F723,'00 Alimenta'!D:D)","v":-1801.13},{"$f":"SUMIF('00 Alimenta'!$B:$B,'00 PDC SP'!$F723,'00 Alimenta'!E:E)","v":0},{"$f":"SUMIF('00 Alimenta'!$B:$B,'00 PDC SP'!$F723,'00 Alimenta'!F:F)","v":-1801.13},{"$f":"SUMIF('00 Alimenta'!$B:$B,'00 PDC SP'!$F723,'00 Alimenta'!G:G)","v":0},{"$f":"SUMIF('00 Alimenta'!$B:$B,'00 PDC SP'!$F723,'00 Alimenta'!H:H)","v":0},{"$f":"SUMIF('00 Alimenta'!$B:$B,'00 PDC SP'!$F723,'00 Alimenta'!I:I)","v":0},0]
["ABA560FE","AB","ABA560",27,"FE","0205110512","Note credito da emettere v/ASL Avezzano Sulmona L'Aquila per mobilità in compensazione",{"$f":"SUMIF('00 Alimenta'!$B:$B,'00 PDC SP'!$F724,'00 Alimenta'!D:D)","v":0},{"$f":"SUMIF('00 Alimenta'!$B:$B,'00 PDC SP'!$F724,'00 Alimenta'!E:E)","v":0},{"$f":"SUMIF('00 Alimenta'!$B:$B,'00 PDC SP'!$F724,'00 Alimenta'!F:F)","v":0},{"$f":"SUMIF('00 Alimenta'!$B:$B,'00 PDC SP'!$F724,'00 Alimenta'!G:G)","v":0},{"$f":"SUMIF('00 Alimenta'!$B:$B,'00 PDC SP'!$F724,'00 Alimenta'!H:H)","v":0},{"$f":"SUMIF('00 Alimenta'!$B:$B,'00 PDC SP'!$F724,'00 Alimenta'!I:I)","v":0},0]
["ABA560FE","AB","ABA560",27,"FE","0205110513","Note credito da emettere v/ASLLanciano Vasto Chieti per mobilità in compensazione",{"$f":"SUMIF('00 Alimenta'!$B:$B,'00 PDC SP'!$F725,'00 Alimenta'!D:D)","v":0},{"$f":"SUMIF('00 Alimenta'!$B:$B,'00 PDC SP'!$F725,'00 Alimenta'!E:E)","v":0},{"$f":"SUMIF('00 Alimenta'!$B:$B,'00 PDC SP'!$F725,'00 Alimenta'!F:F)","v":0},{"$f":"SUMIF('00 Alimenta'!$B:$B,'00 PDC SP'!$F725,'00 Alimenta'!G:G)","v":0},{"$f":"SUMIF('00 Alimenta'!$B:$B,'00 PDC SP'!$F725,'00 Alimenta'!H:H)","v":0},{"$f":"SUMIF('00 Alimenta'!$B:$B,'00 PDC SP'!$F725,'00 Alimenta'!I:I)","v":0},0]
["ABA560FE","AB","ABA560",27,"FE","0205110514","Note credito da emettere v/ASL Pescara per mobilità in compensazione",{"$f":"SUMIF('00 Alimenta'!$B:$B,'00 PDC SP'!$F726,'00 Alimenta'!D:D)","v":0},{"$f":"SUMIF('00 Alimenta'!$B:$B,'00 PDC SP'!$F726,'00 Alimenta'!E:E)","v":0},{"$f":"SUMIF('00 Alimenta'!$B:$B,'00 PDC SP'!$F726,'00 Alimenta'!F:F)","v":0},{"$f":"SUMIF('00 Alimenta'!$B:$B,'00 PDC SP'!$F726,'00 Alimenta'!G:G)","v":0},{"$f":"SUMIF('00 Alimenta'!$B:$B,'00 PDC SP'!$F726,'00 Alimenta'!H:H)","v":0},{"$f":"SUMIF('00 Alimenta'!$B:$B,'00 PDC SP'!$F726,'00 Alimenta'!I:I)","v":0},0]
["ABA560FE","AB","ABA560",27,"FE","0205110515","Note credito da emettere v/ASL Teramo per mobilità in compensazione",{"$f":"SUMIF('00 Alimenta'!$B:$B,'00 PDC SP'!$F727,'00 Alimenta'!D:D)","v":0},{"$f":"SUMIF('00 Alimenta'!$B:$B,'00 PDC SP'!$F727,'00 Alimenta'!E:E)","v":0},{"$f":"SUMIF('00 Alimenta'!$B:$B,'00 PDC SP'!$F727,'00 Alimenta'!F:F)","v":0},{"$f":"SUMIF('00 Alimenta'!$B:$B,'00 PDC SP'!$F727,'00 Alimenta'!G:G)","v":0},{"$f":"SUMIF('00 Alimenta'!$B:$B,'00 PDC SP'!$F727,'00 Alimenta'!H:H)","v":0},{"$f":"SUMIF('00 Alimenta'!$B:$B,'00 PDC SP'!$F727,'00 Alimenta'!I:I)","v":0},0]
["ABA570FE","AB","ABA570",27,"FE","0205110516","Note credito da emettere v/ASL AvezzanoSulmona L'Aquila per mobilità non in compensazione",{"$f":"SUMIF('00 Alimenta'!$B:$B,'00 PDC SP'!$F728,'00 Alimenta'!D:D)","v":0},{"$f":"SUMIF('00 Alimenta'!$B:$B,'00 PDC SP'!$F728,'00 Alimenta'!E:E)","v":0},{"$f":"SUMIF('00 Alimenta'!$B:$B,'00 PDC SP'!$F728,'00 Alimenta'!F:F)","v":0},{"$f":"SUMIF('00 Alimenta'!$B:$B,'00 PDC SP'!$F728,'00 Alimenta'!G:G)","v":0},{"$f":"SUMIF('00 Alimenta'!$B:$B,'00 PDC SP'!$F728,'00 Alimenta'!H:H)","v":0},{"$f":"SUMIF('00 Alimenta'!$B:$B,'00 PDC SP'!$F728,'00 Alimenta'!I:I)","v":0},0]
["ABA570FE","AB","ABA570",27,"FE","0205110517","Note credito da emettere v/ASL Lanciano Vasto Chieti per mobilità non in compensazione",{"$f":"SUMIF('00 Alimenta'!$B:$B,'00 PDC SP'!$F729,'00 Alimenta'!D:D)","v":0},{"$f":"SUMIF('00 Alimenta'!$B:$B,'00 PDC SP'!$F729,'00 Alimenta'!E:E)","v":0},{"$f":"SUMIF('00 Alimenta'!$B:$B,'00 PDC SP'!$F729,'00 Alimenta'!F:F)","v":0},{"$f":"SUMIF('00 Alimenta'!$B:$B,'00 PDC SP'!$F729,'00 Alimenta'!G:G)","v":0},{"$f":"SUMIF('00 Alimenta'!$B:$B,'00 PDC SP'!$F729,'00 Alimenta'!H:H)","v":0},{"$f":"SUMIF('00 Alimenta'!$B:$B,'00 PDC SP'!$F729,'00 Alimenta'!I:I)","v":0},0]
["ABA570FE","AB","ABA570",27,"FE","0205110518","Note credito da emettere v/ASL Pescara per mobilità non in compensazione",{"$f":"SUMIF('00 Alimenta'!$B:$B,'00 PDC SP'!$F730,'00 Alimenta'!D:D)","v":0},{"$f":"SUMIF('00 Alimenta'!$B:$B,'00 PDC SP'!$F730,'00 Alimenta'!E:E)","v":0},{"$f":"SUMIF('00 Alimenta'!$B:$B,'00 PDC SP'!$F730,'00 Alimenta'!F:F)","v":0},{"$f":"SUMIF('00 Alimenta'!$B:$B,'00 PDC SP'!$F730,'00 Alimenta'!G:G)","v":0},{"$f":"SUMIF('00 Alimenta'!$B:$B,'00 PDC SP'!$F730,'00 Alimenta'!H:H)","v":0},{"$f":"SUMIF('00 Alimenta'!$B:$B,'00 PDC SP'!$F730,'00 Alimenta'!I:I)","v":0},0]
["ABA570FE","AB","ABA570",27,"FE","0205110519","Note credito da emettere v/ASL Teramo per mobilità non in compensazione",{"$f":"SUMIF('00 Alimenta'!$B:$B,'00 PDC SP'!$F731,'00 Alimenta'!D:D)","v":0},{"$f":"SUMIF('00 Alimenta'!$B:$B,'00 PDC SP'!$F731,'00 Alimenta'!E:E)","v":0},{"$f":"SUMIF('00 Alimenta'!$B:$B,'00 PDC SP'!$F731,'00 Alimenta'!F:F)","v":0},{"$f":"SUMIF('00 Alimenta'!$B:$B,'00 PDC SP'!$F731,'00 Alimenta'!G:G)","v":0},{"$f":"SUMIF('00 Alimenta'!$B:$B,'00 PDC SP'!$F731,'00 Alimenta'!H:H)","v":0},{"$f":"SUMIF('00 Alimenta'!$B:$B,'00 PDC SP'!$F731,'00 Alimenta'!I:I)","v":0},0]
["ABA580FE","AB","ABA580",27,"FE","0205110520","Note credito da emettere v/ASL Avezzano Sulmona L'Aquila della Regione per altre prestazioni",{"$f":"SUMIF('00 Alimenta'!$B:$B,'00 PDC SP'!$F732,'00 Alimenta'!D:D)","v":0},{"$f":"SUMIF('00 Alimenta'!$B:$B,'00 PDC SP'!$F732,'00 Alimenta'!E:E)","v":0},{"$f":"SUMIF('00 Alimenta'!$B:$B,'00 PDC SP'!$F732,'00 Alimenta'!F:F)","v":0},{"$f":"SUMIF('00 Alimenta'!$B:$B,'00 PDC SP'!$F732,'00 Alimenta'!G:G)","v":0},{"$f":"SUMIF('00 Alimenta'!$B:$B,'00 PDC SP'!$F732,'00 Alimenta'!H:H)","v":0},{"$f":"SUMIF('00 Alimenta'!$B:$B,'00 PDC SP'!$F732,'00 Alimenta'!I:I)","v":0},0]
["ABA580FE","AB","ABA580",27,"FE","0205110521","Note credito da emettere v/ASL Lanciano Vasto Chieti della Regione per altre prestazioni",{"$f":"SUMIF('00 Alimenta'!$B:$B,'00 PDC SP'!$F733,'00 Alimenta'!D:D)","v":0},{"$f":"SUMIF('00 Alimenta'!$B:$B,'00 PDC SP'!$F733,'00 Alimenta'!E:E)","v":0},{"$f":"SUMIF('00 Alimenta'!$B:$B,'00 PDC SP'!$F733,'00 Alimenta'!F:F)","v":0},{"$f":"SUMIF('00 Alimenta'!$B:$B,'00 PDC SP'!$F733,'00 Alimenta'!G:G)","v":0},{"$f":"SUMIF('00 Alimenta'!$B:$B,'00 PDC SP'!$F733,'00 Alimenta'!H:H)","v":0},{"$f":"SUMIF('00 Alimenta'!$B:$B,'00 PDC SP'!$F733,'00 Alimenta'!I:I)","v":0},0]
["ABA580FE","AB","ABA580",27,"FE","0205110522","Note credito da emettere v/ASL Pescara della Regione per altre prestazioni",{"$f":"SUMIF('00 Alimenta'!$B:$B,'00 PDC SP'!$F734,'00 Alimenta'!D:D)","v":0},{"$f":"SUMIF('00 Alimenta'!$B:$B,'00 PDC SP'!$F734,'00 Alimenta'!E:E)","v":0},{"$f":"SUMIF('00 Alimenta'!$B:$B,'00 PDC SP'!$F734,'00 Alimenta'!F:F)","v":0},{"$f":"SUMIF('00 Alimenta'!$B:$B,'00 PDC SP'!$F734,'00 Alimenta'!G:G)","v":0},{"$f":"SUMIF('00 Alimenta'!$B:$B,'00 PDC SP'!$F734,'00 Alimenta'!H:H)","v":0},{"$f":"SUMIF('00 Alimenta'!$B:$B,'00 PDC SP'!$F734,'00 Alimenta'!I:I)","v":0},0]
["ABA580FE","AB","ABA580",27,"FE","0205110523","Note credito da emettere v/ASL Teramo della Regione per altre prestazioni",{"$f":"SUMIF('00 Alimenta'!$B:$B,'00 PDC SP'!$F735,'00 Alimenta'!D:D)","v":0},{"$f":"SUMIF('00 Alimenta'!$B:$B,'00 PDC SP'!$F735,'00 Alimenta'!E:E)","v":0},{"$f":"SUMIF('00 Alimenta'!$B:$B,'00 PDC SP'!$F735,'00 Alimenta'!F:F)","v":0},{"$f":"SUMIF('00 Alimenta'!$B:$B,'00 PDC SP'!$F735,'00 Alimenta'!G:G)","v":0},{"$f":"SUMIF('00 Alimenta'!$B:$B,'00 PDC SP'!$F735,'00 Alimenta'!H:H)","v":0},{"$f":"SUMIF('00 Alimenta'!$B:$B,'00 PDC SP'!$F735,'00 Alimenta'!I:I)","v":0},0]
["ABA590FE","AB","ABA590",27,"FE","0205110524","Note credito da emettere v/ASL Avezzano Sulmona L'Aquila per acconto quota FSR da distribuire",{"$f":"SUMIF('00 Alimenta'!$B:$B,'00 PDC SP'!$F736,'00 Alimenta'!D:D)","v":0},{"$f":"SUMIF('00 Alimenta'!$B:$B,'00 PDC SP'!$F736,'00 Alimenta'!E:E)","v":0},{"$f":"SUMIF('00 Alimenta'!$B:$B,'00 PDC SP'!$F736,'00 Alimenta'!F:F)","v":0},{"$f":"SUMIF('00 Alimenta'!$B:$B,'00 PDC SP'!$F736,'00 Alimenta'!G:G)","v":0},{"$f":"SUMIF('00 Alimenta'!$B:$B,'00 PDC SP'!$F736,'00 Alimenta'!H:H)","v":0},{"$f":"SUMIF('00 Alimenta'!$B:$B,'00 PDC SP'!$F736,'00 Alimenta'!I:I)","v":0},0]
["ABA590FE","AB","ABA590",27,"FE","0205110525","Note credito da emettere v/ASL Lanciano Vasto Chieti per acconto quota FSR da distribuire",{"$f":"SUMIF('00 Alimenta'!$B:$B,'00 PDC SP'!$F737,'00 Alimenta'!D:D)","v":0},{"$f":"SUMIF('00 Alimenta'!$B:$B,'00 PDC SP'!$F737,'00 Alimenta'!E:E)","v":0},{"$f":"SUMIF('00 Alimenta'!$B:$B,'00 PDC SP'!$F737,'00 Alimenta'!F:F)","v":0},{"$f":"SUMIF('00 Alimenta'!$B:$B,'00 PDC SP'!$F737,'00 Alimenta'!G:G)","v":0},{"$f":"SUMIF('00 Alimenta'!$B:$B,'00 PDC SP'!$F737,'00 Alimenta'!H:H)","v":0},{"$f":"SUMIF('00 Alimenta'!$B:$B,'00 PDC SP'!$F737,'00 Alimenta'!I:I)","v":0},0]
["ABA590FE","AB","ABA590",27,"FE","0205110526","Note credito da emettere v/ASL Pescara per acconto quota FSR da distribuire",{"$f":"SUMIF('00 Alimenta'!$B:$B,'00 PDC SP'!$F738,'00 Alimenta'!D:D)","v":0},{"$f":"SUMIF('00 Alimenta'!$B:$B,'00 PDC SP'!$F738,'00 Alimenta'!E:E)","v":0},{"$f":"SUMIF('00 Alimenta'!$B:$B,'00 PDC SP'!$F738,'00 Alimenta'!F:F)","v":0},{"$f":"SUMIF('00 Alimenta'!$B:$B,'00 PDC SP'!$F738,'00 Alimenta'!G:G)","v":0},{"$f":"SUMIF('00 Alimenta'!$B:$B,'00 PDC SP'!$F738,'00 Alimenta'!H:H)","v":0},{"$f":"SUMIF('00 Alimenta'!$B:$B,'00 PDC SP'!$F738,'00 Alimenta'!I:I)","v":0},0]
["ABA590FE","AB","ABA590",27,"FE","0205110527","Note credito da emettere v/ASL Teramo per acconto quota FSR da distribuire",{"$f":"SUMIF('00 Alimenta'!$B:$B,'00 PDC SP'!$F739,'00 Alimenta'!D:D)","v":0},{"$f":"SUMIF('00 Alimenta'!$B:$B,'00 PDC SP'!$F739,'00 Alimenta'!E:E)","v":0},{"$f":"SUMIF('00 Alimenta'!$B:$B,'00 PDC SP'!$F739,'00 Alimenta'!F:F)","v":0},{"$f":"SUMIF('00 Alimenta'!$B:$B,'00 PDC SP'!$F739,'00 Alimenta'!G:G)","v":0},{"$f":"SUMIF('00 Alimenta'!$B:$B,'00 PDC SP'!$F739,'00 Alimenta'!H:H)","v":0},{"$f":"SUMIF('00 Alimenta'!$B:$B,'00 PDC SP'!$F739,'00 Alimenta'!I:I)","v":0},0]
["ABA600FE","AB","ABA600",27,"FE","0205110528","Note credito da emettere verso ASL fuori regione per mobilità attiva non soggetta a compensazione",{"$f":"SUMIF('00 Alimenta'!$B:$B,'00 PDC SP'!$F740,'00 Alimenta'!D:D)","v":0},{"$f":"SUMIF('00 Alimenta'!$B:$B,'00 PDC SP'!$F740,'00 Alimenta'!E:E)","v":-5252.78},{"$f":"SUMIF('00 Alimenta'!$B:$B,'00 PDC SP'!$F740,'00 Alimenta'!F:F)","v":0},{"$f":"SUMIF('00 Alimenta'!$B:$B,'00 PDC SP'!$F740,'00 Alimenta'!G:G)","v":-5252.78},{"$f":"SUMIF('00 Alimenta'!$B:$B,'00 PDC SP'!$F740,'00 Alimenta'!H:H)","v":0},{"$f":"SUMIF('00 Alimenta'!$B:$B,'00 PDC SP'!$F740,'00 Alimenta'!I:I)","v":-5252.78},0]
["ABA620FE","AB","ABA620",28,"FE","0205110529","Note credito da emettere v/ARTA",{"$f":"SUMIF('00 Alimenta'!$B:$B,'00 PDC SP'!$F741,'00 Alimenta'!D:D)","v":0},{"$f":"SUMIF('00 Alimenta'!$B:$B,'00 PDC SP'!$F741,'00 Alimenta'!E:E)","v":0},{"$f":"SUMIF('00 Alimenta'!$B:$B,'00 PDC SP'!$F741,'00 Alimenta'!F:F)","v":0},{"$f":"SUMIF('00 Alimenta'!$B:$B,'00 PDC SP'!$F741,'00 Alimenta'!G:G)","v":0},{"$f":"SUMIF('00 Alimenta'!$B:$B,'00 PDC SP'!$F741,'00 Alimenta'!H:H)","v":0},{"$f":"SUMIF('00 Alimenta'!$B:$B,'00 PDC SP'!$F741,'00 Alimenta'!I:I)","v":0},0]
["ABA620FE","AB","ABA620",28,"FE","0205110530","Note credito da emetterev/Società controllate e collegate",{"$f":"SUMIF('00 Alimenta'!$B:$B,'00 PDC SP'!$F742,'00 Alimenta'!D:D)","v":0},{"$f":"SUMIF('00 Alimenta'!$B:$B,'00 PDC SP'!$F742,'00 Alimenta'!E:E)","v":0},{"$f":"SUMIF('00 Alimenta'!$B:$B,'00 PDC SP'!$F742,'00 Alimenta'!F:F)","v":0},{"$f":"SUMIF('00 Alimenta'!$B:$B,'00 PDC SP'!$F742,'00 Alimenta'!G:G)","v":0},{"$f":"SUMIF('00 Alimenta'!$B:$B,'00 PDC SP'!$F742,'00 Alimenta'!H:H)","v":0},{"$f":"SUMIF('00 Alimenta'!$B:$B,'00 PDC SP'!$F742,'00 Alimenta'!I:I)","v":0},0]
["ABA620FE","AB","ABA620",28,"FE","0205110531","Note credito da emettere v/enti regionali",{"$f":"SUMIF('00 Alimenta'!$B:$B,'00 PDC SP'!$F743,'00 Alimenta'!D:D)","v":0},{"$f":"SUMIF('00 Alimenta'!$B:$B,'00 PDC SP'!$F743,'00 Alimenta'!E:E)","v":0},{"$f":"SUMIF('00 Alimenta'!$B:$B,'00 PDC SP'!$F743,'00 Alimenta'!F:F)","v":0},{"$f":"SUMIF('00 Alimenta'!$B:$B,'00 PDC SP'!$F743,'00 Alimenta'!G:G)","v":0},{"$f":"SUMIF('00 Alimenta'!$B:$B,'00 PDC SP'!$F743,'00 Alimenta'!H:H)","v":0},{"$f":"SUMIF('00 Alimenta'!$B:$B,'00 PDC SP'!$F743,'00 Alimenta'!I:I)","v":0},0]
["ABA630FE","AB","ABA630",28,"FE","0205110532","Note credito da emettere v/sperimentazioni gestionali",{"$f":"SUMIF('00 Alimenta'!$B:$B,'00 PDC SP'!$F744,'00 Alimenta'!D:D)","v":0},{"$f":"SUMIF('00 Alimenta'!$B:$B,'00 PDC SP'!$F744,'00 Alimenta'!E:E)","v":0},{"$f":"SUMIF('00 Alimenta'!$B:$B,'00 PDC SP'!$F744,'00 Alimenta'!F:F)","v":0},{"$f":"SUMIF('00 Alimenta'!$B:$B,'00 PDC SP'!$F744,'00 Alimenta'!G:G)","v":0},{"$f":"SUMIF('00 Alimenta'!$B:$B,'00 PDC SP'!$F744,'00 Alimenta'!H:H)","v":0},{"$f":"SUMIF('00 Alimenta'!$B:$B,'00 PDC SP'!$F744,'00 Alimenta'!I:I)","v":0},0]
["ABA640FE","AB","ABA640",28,"FE","0205110533","Note credito da emettere v/altre partecipate",{"$f":"SUMIF('00 Alimenta'!$B:$B,'00 PDC SP'!$F745,'00 Alimenta'!D:D)","v":0},{"$f":"SUMIF('00 Alimenta'!$B:$B,'00 PDC SP'!$F745,'00 Alimenta'!E:E)","v":0},{"$f":"SUMIF('00 Alimenta'!$B:$B,'00 PDC SP'!$F745,'00 Alimenta'!F:F)","v":0},{"$f":"SUMIF('00 Alimenta'!$B:$B,'00 PDC SP'!$F745,'00 Alimenta'!G:G)","v":0},{"$f":"SUMIF('00 Alimenta'!$B:$B,'00 PDC SP'!$F745,'00 Alimenta'!H:H)","v":0},{"$f":"SUMIF('00 Alimenta'!$B:$B,'00 PDC SP'!$F745,'00 Alimenta'!I:I)","v":0},0]
["ABA670FE","AB","ABA670",30,"FE","0205110534","Note credito da emettere v/clienti privati",{"$f":"SUMIF('00 Alimenta'!$B:$B,'00 PDC SP'!$F746,'00 Alimenta'!D:D)","v":-1319.52},{"$f":"SUMIF('00 Alimenta'!$B:$B,'00 PDC SP'!$F746,'00 Alimenta'!E:E)","v":-32249.18},{"$f":"SUMIF('00 Alimenta'!$B:$B,'00 PDC SP'!$F746,'00 Alimenta'!F:F)","v":-1319.52},{"$f":"SUMIF('00 Alimenta'!$B:$B,'00 PDC SP'!$F746,'00 Alimenta'!G:G)","v":-32249.18},{"$f":"SUMIF('00 Alimenta'!$B:$B,'00 PDC SP'!$F746,'00 Alimenta'!H:H)","v":-115.8},{"$f":"SUMIF('00 Alimenta'!$B:$B,'00 PDC SP'!$F746,'00 Alimenta'!I:I)","v":-32249.18},-115.79999999999927]
["ABA670FE","AB","ABA670",30,"FE","0205110535","Note credito da emettere v/utenza per proventi da ticket",{"$f":"SUMIF('00 Alimenta'!$B:$B,'00 PDC SP'!$F747,'00 Alimenta'!D:D)","v":0},{"$f":"SUMIF('00 Alimenta'!$B:$B,'00 PDC SP'!$F747,'00 Alimenta'!E:E)","v":0},{"$f":"SUMIF('00 Alimenta'!$B:$B,'00 PDC SP'!$F747,'00 Alimenta'!F:F)","v":0},{"$f":"SUMIF('00 Alimenta'!$B:$B,'00 PDC SP'!$F747,'00 Alimenta'!G:G)","v":0},{"$f":"SUMIF('00 Alimenta'!$B:$B,'00 PDC SP'!$F747,'00 Alimenta'!H:H)","v":0},{"$f":"SUMIF('00 Alimenta'!$B:$B,'00 PDC SP'!$F747,'00 Alimenta'!I:I)","v":0},0]
["ABA670FE","AB","ABA670",30,"FE","0205110536","Note credito da emettere v/clienti privati per anticipi mobilità attiva",{"$f":"SUMIF('00 Alimenta'!$B:$B,'00 PDC SP'!$F748,'00 Alimenta'!D:D)","v":0},{"$f":"SUMIF('00 Alimenta'!$B:$B,'00 PDC SP'!$F748,'00 Alimenta'!E:E)","v":0},{"$f":"SUMIF('00 Alimenta'!$B:$B,'00 PDC SP'!$F748,'00 Alimenta'!F:F)","v":0},{"$f":"SUMIF('00 Alimenta'!$B:$B,'00 PDC SP'!$F748,'00 Alimenta'!G:G)","v":0},{"$f":"SUMIF('00 Alimenta'!$B:$B,'00 PDC SP'!$F748,'00 Alimenta'!H:H)","v":0},{"$f":"SUMIF('00 Alimenta'!$B:$B,'00 PDC SP'!$F748,'00 Alimenta'!I:I)","v":0},0]
["ABA670FE","AB","ABA670",30,"FE","0205110537","Note credito da emettere v/clienti privati per anticipi mobilità attiva",{"$f":"SUMIF('00 Alimenta'!$B:$B,'00 PDC SP'!$F749,'00 Alimenta'!D:D)","v":0},{"$f":"SUMIF('00 Alimenta'!$B:$B,'00 PDC SP'!$F749,'00 Alimenta'!E:E)","v":0},{"$f":"SUMIF('00 Alimenta'!$B:$B,'00 PDC SP'!$F749,'00 Alimenta'!F:F)","v":0},{"$f":"SUMIF('00 Alimenta'!$B:$B,'00 PDC SP'!$F749,'00 Alimenta'!G:G)","v":0},{"$f":"SUMIF('00 Alimenta'!$B:$B,'00 PDC SP'!$F749,'00 Alimenta'!H:H)","v":0},{"$f":"SUMIF('00 Alimenta'!$B:$B,'00 PDC SP'!$F749,'00 Alimenta'!I:I)","v":0},0]
["ABA680FE","AB","ABA680",30,"FE","0205110538","Note credito da emettere v/gestioni liquidatorie",{"$f":"SUMIF('00 Alimenta'!$B:$B,'00 PDC SP'!$F750,'00 Alimenta'!D:D)","v":0},{"$f":"SUMIF('00 Alimenta'!$B:$B,'00 PDC SP'!$F750,'00 Alimenta'!E:E)","v":0},{"$f":"SUMIF('00 Alimenta'!$B:$B,'00 PDC SP'!$F750,'00 Alimenta'!F:F)","v":0},{"$f":"SUMIF('00 Alimenta'!$B:$B,'00 PDC SP'!$F750,'00 Alimenta'!G:G)","v":0},{"$f":"SUMIF('00 Alimenta'!$B:$B,'00 PDC SP'!$F750,'00 Alimenta'!H:H)","v":0},{"$f":"SUMIF('00 Alimenta'!$B:$B,'00 PDC SP'!$F750,'00 Alimenta'!I:I)","v":0},0]
["ABA690FE","AB","ABA690",30,"FE","0205110539","Note credito da emettere v/altri soggetti pubblici",{"$f":"SUMIF('00 Alimenta'!$B:$B,'00 PDC SP'!$F751,'00 Alimenta'!D:D)","v":0},{"$f":"SUMIF('00 Alimenta'!$B:$B,'00 PDC SP'!$F751,'00 Alimenta'!E:E)","v":0},{"$f":"SUMIF('00 Alimenta'!$B:$B,'00 PDC SP'!$F751,'00 Alimenta'!F:F)","v":0},{"$f":"SUMIF('00 Alimenta'!$B:$B,'00 PDC SP'!$F751,'00 Alimenta'!G:G)","v":0},{"$f":"SUMIF('00 Alimenta'!$B:$B,'00 PDC SP'!$F751,'00 Alimenta'!H:H)","v":0},{"$f":"SUMIF('00 Alimenta'!$B:$B,'00 PDC SP'!$F751,'00 Alimenta'!I:I)","v":0},0]
[{"$f":"IF(E752=\"\",C752,C752&E752)","v":"ABA712FE"},"AB","ABA712",30,"FE","0205110540","Note credito da emettere v/Altri Crediti diversi",{"$f":"SUMIF('00 Alimenta'!$B:$B,'00 PDC SP'!$F752,'00 Alimenta'!D:D)","v":0},{"$f":"SUMIF('00 Alimenta'!$B:$B,'00 PDC SP'!$F752,'00 Alimenta'!E:E)","v":0},{"$f":"SUMIF('00 Alimenta'!$B:$B,'00 PDC SP'!$F752,'00 Alimenta'!F:F)","v":0},{"$f":"SUMIF('00 Alimenta'!$B:$B,'00 PDC SP'!$F752,'00 Alimenta'!G:G)","v":0},{"$f":"SUMIF('00 Alimenta'!$B:$B,'00 PDC SP'!$F752,'00 Alimenta'!H:H)","v":0},{"$f":"SUMIF('00 Alimenta'!$B:$B,'00 PDC SP'!$F752,'00 Alimenta'!I:I)","v":0},{"$f":"K752+L752-M752","v":0}]
["ABA700FE","AB","ABA700",30,"FE","0205110541","Note credito da emettere v/altri soggetti pubblici per ricerca",{"$f":"SUMIF('00 Alimenta'!$B:$B,'00 PDC SP'!$F753,'00 Alimenta'!D:D)","v":0},{"$f":"SUMIF('00 Alimenta'!$B:$B,'00 PDC SP'!$F753,'00 Alimenta'!E:E)","v":0},{"$f":"SUMIF('00 Alimenta'!$B:$B,'00 PDC SP'!$F753,'00 Alimenta'!F:F)","v":0},{"$f":"SUMIF('00 Alimenta'!$B:$B,'00 PDC SP'!$F753,'00 Alimenta'!G:G)","v":0},{"$f":"SUMIF('00 Alimenta'!$B:$B,'00 PDC SP'!$F753,'00 Alimenta'!H:H)","v":0},{"$f":"SUMIF('00 Alimenta'!$B:$B,'00 PDC SP'!$F753,'00 Alimenta'!I:I)","v":0},0]
["ABA715FE","AB","ABA715",30,"FE","0205110542","Note di credito da emettere  (privati accreditati e convenzionati)",{"$f":"SUMIF('00 Alimenta'!$B:$B,'00 PDC SP'!$F754,'00 Alimenta'!D:D)","v":0},{"$f":"SUMIF('00 Alimenta'!$B:$B,'00 PDC SP'!$F754,'00 Alimenta'!E:E)","v":0},{"$f":"SUMIF('00 Alimenta'!$B:$B,'00 PDC SP'!$F754,'00 Alimenta'!F:F)","v":0},{"$f":"SUMIF('00 Alimenta'!$B:$B,'00 PDC SP'!$F754,'00 Alimenta'!G:G)","v":0},{"$f":"SUMIF('00 Alimenta'!$B:$B,'00 PDC SP'!$F754,'00 Alimenta'!H:H)","v":0},{"$f":"SUMIF('00 Alimenta'!$B:$B,'00 PDC SP'!$F754,'00 Alimenta'!I:I)","v":0},0]
["PEA010","PE","PEA010",20,"","0206010101","Ratei passivi",{"$f":"SUMIF('00 Alimenta'!$B:$B,'00 PDC SP'!$F755,'00 Alimenta'!D:D)","v":0},{"$f":"SUMIF('00 Alimenta'!$B:$B,'00 PDC SP'!$F755,'00 Alimenta'!E:E)","v":0},{"$f":"SUMIF('00 Alimenta'!$B:$B,'00 PDC SP'!$F755,'00 Alimenta'!F:F)","v":0},{"$f":"SUMIF('00 Alimenta'!$B:$B,'00 PDC SP'!$F755,'00 Alimenta'!G:G)","v":0},{"$f":"SUMIF('00 Alimenta'!$B:$B,'00 PDC SP'!$F755,'00 Alimenta'!H:H)","v":0},{"$f":"SUMIF('00 Alimenta'!$B:$B,'00 PDC SP'!$F755,'00 Alimenta'!I:I)","v":0},0]
["PEA020","PE","PEA020",20,"","0206010201","Ratei passivi v/Aziende sanitarie pubbliche della Regione",{"$f":"SUMIF('00 Alimenta'!$B:$B,'00 PDC SP'!$F756,'00 Alimenta'!D:D)","v":0},{"$f":"SUMIF('00 Alimenta'!$B:$B,'00 PDC SP'!$F756,'00 Alimenta'!E:E)","v":0},{"$f":"SUMIF('00 Alimenta'!$B:$B,'00 PDC SP'!$F756,'00 Alimenta'!F:F)","v":0},{"$f":"SUMIF('00 Alimenta'!$B:$B,'00 PDC SP'!$F756,'00 Alimenta'!G:G)","v":0},{"$f":"SUMIF('00 Alimenta'!$B:$B,'00 PDC SP'!$F756,'00 Alimenta'!H:H)","v":0},{"$f":"SUMIF('00 Alimenta'!$B:$B,'00 PDC SP'!$F756,'00 Alimenta'!I:I)","v":0},0]
["PEA040","PE","PEA040",20,"","0206020101","Risconti passivi",{"$f":"SUMIF('00 Alimenta'!$B:$B,'00 PDC SP'!$F757,'00 Alimenta'!D:D)","v":0},{"$f":"SUMIF('00 Alimenta'!$B:$B,'00 PDC SP'!$F757,'00 Alimenta'!E:E)","v":0},{"$f":"SUMIF('00 Alimenta'!$B:$B,'00 PDC SP'!$F757,'00 Alimenta'!F:F)","v":0},{"$f":"SUMIF('00 Alimenta'!$B:$B,'00 PDC SP'!$F757,'00 Alimenta'!G:G)","v":0},{"$f":"SUMIF('00 Alimenta'!$B:$B,'00 PDC SP'!$F757,'00 Alimenta'!H:H)","v":0},{"$f":"SUMIF('00 Alimenta'!$B:$B,'00 PDC SP'!$F757,'00 Alimenta'!I:I)","v":0},0]
["PEA040","PE","PEA040",20,"","0206020102","Risconti passivi per contributi fondo sanitario vincolati e progetti obiettivi di piano",{"$f":"SUMIF('00 Alimenta'!$B:$B,'00 PDC SP'!$F758,'00 Alimenta'!D:D)","v":0},{"$f":"SUMIF('00 Alimenta'!$B:$B,'00 PDC SP'!$F758,'00 Alimenta'!E:E)","v":0},{"$f":"SUMIF('00 Alimenta'!$B:$B,'00 PDC SP'!$F758,'00 Alimenta'!F:F)","v":0},{"$f":"SUMIF('00 Alimenta'!$B:$B,'00 PDC SP'!$F758,'00 Alimenta'!G:G)","v":0},{"$f":"SUMIF('00 Alimenta'!$B:$B,'00 PDC SP'!$F758,'00 Alimenta'!H:H)","v":0},{"$f":"SUMIF('00 Alimenta'!$B:$B,'00 PDC SP'!$F758,'00 Alimenta'!I:I)","v":0},0]
["PEA050","PE","PEA050",20,"","0206020201","Risconti passivi v/Aziende sanitarie pubbliche della Regione",{"$f":"SUMIF('00 Alimenta'!$B:$B,'00 PDC SP'!$F759,'00 Alimenta'!D:D)","v":0},{"$f":"SUMIF('00 Alimenta'!$B:$B,'00 PDC SP'!$F759,'00 Alimenta'!E:E)","v":0},{"$f":"SUMIF('00 Alimenta'!$B:$B,'00 PDC SP'!$F759,'00 Alimenta'!F:F)","v":0},{"$f":"SUMIF('00 Alimenta'!$B:$B,'00 PDC SP'!$F759,'00 Alimenta'!G:G)","v":0},{"$f":"SUMIF('00 Alimenta'!$B:$B,'00 PDC SP'!$F759,'00 Alimenta'!H:H)","v":0},{"$f":"SUMIF('00 Alimenta'!$B:$B,'00 PDC SP'!$F759,'00 Alimenta'!I:I)","v":0},0]
["PEA060","PE","PEA060",20,null,"0206020301","Risconti passivi - in attuazione dell¿art.79, comma 1 sexies lettera c), del D.L. 112/2008, convertito con legge 133/2008 e della legge 23 dicembre 2009 n. 191.",{"$f":"SUMIF('00 Alimenta'!$B:$B,'00 PDC SP'!$F760,'00 Alimenta'!D:D)","v":0},{"$f":"SUMIF('00 Alimenta'!$B:$B,'00 PDC SP'!$F760,'00 Alimenta'!E:E)","v":0},{"$f":"SUMIF('00 Alimenta'!$B:$B,'00 PDC SP'!$F760,'00 Alimenta'!F:F)","v":0},{"$f":"SUMIF('00 Alimenta'!$B:$B,'00 PDC SP'!$F760,'00 Alimenta'!G:G)","v":0},{"$f":"SUMIF('00 Alimenta'!$B:$B,'00 PDC SP'!$F760,'00 Alimenta'!H:H)","v":0},{"$f":"SUMIF('00 Alimenta'!$B:$B,'00 PDC SP'!$F760,'00 Alimenta'!I:I)","v":0},0]
["PFA000","PF","PFA000",0,"","0207010101","Canoni di leasing ancora da pagare",{"$f":"SUMIF('00 Alimenta'!$B:$B,'00 PDC SP'!$F761,'00 Alimenta'!D:D)","v":0},{"$f":"SUMIF('00 Alimenta'!$B:$B,'00 PDC SP'!$F761,'00 Alimenta'!E:E)","v":0},{"$f":"SUMIF('00 Alimenta'!$B:$B,'00 PDC SP'!$F761,'00 Alimenta'!F:F)","v":0},{"$f":"SUMIF('00 Alimenta'!$B:$B,'00 PDC SP'!$F761,'00 Alimenta'!G:G)","v":0},{"$f":"SUMIF('00 Alimenta'!$B:$B,'00 PDC SP'!$F761,'00 Alimenta'!H:H)","v":0},{"$f":"SUMIF('00 Alimenta'!$B:$B,'00 PDC SP'!$F761,'00 Alimenta'!I:I)","v":0},0]
["PFA010","PF","PFA010",0,"","0207020101","Depositi cauzionali",{"$f":"SUMIF('00 Alimenta'!$B:$B,'00 PDC SP'!$F762,'00 Alimenta'!D:D)","v":0},{"$f":"SUMIF('00 Alimenta'!$B:$B,'00 PDC SP'!$F762,'00 Alimenta'!E:E)","v":0},{"$f":"SUMIF('00 Alimenta'!$B:$B,'00 PDC SP'!$F762,'00 Alimenta'!F:F)","v":0},{"$f":"SUMIF('00 Alimenta'!$B:$B,'00 PDC SP'!$F762,'00 Alimenta'!G:G)","v":0},{"$f":"SUMIF('00 Alimenta'!$B:$B,'00 PDC SP'!$F762,'00 Alimenta'!H:H)","v":0},{"$f":"SUMIF('00 Alimenta'!$B:$B,'00 PDC SP'!$F762,'00 Alimenta'!I:I)","v":0},0]
["PFA020","PF","PFA020",0,"","0207030101","Beni in comodato",{"$f":"SUMIF('00 Alimenta'!$B:$B,'00 PDC SP'!$F763,'00 Alimenta'!D:D)","v":0},{"$f":"SUMIF('00 Alimenta'!$B:$B,'00 PDC SP'!$F763,'00 Alimenta'!E:E)","v":0},{"$f":"SUMIF('00 Alimenta'!$B:$B,'00 PDC SP'!$F763,'00 Alimenta'!F:F)","v":0},{"$f":"SUMIF('00 Alimenta'!$B:$B,'00 PDC SP'!$F763,'00 Alimenta'!G:G)","v":0},{"$f":"SUMIF('00 Alimenta'!$B:$B,'00 PDC SP'!$F763,'00 Alimenta'!H:H)","v":0},{"$f":"SUMIF('00 Alimenta'!$B:$B,'00 PDC SP'!$F763,'00 Alimenta'!I:I)","v":0},0]
["PFA030","PF","PFA030",0,"","0207040101","Garanzie prestate",{"$f":"SUMIF('00 Alimenta'!$B:$B,'00 PDC SP'!$F764,'00 Alimenta'!D:D)","v":0},{"$f":"SUMIF('00 Alimenta'!$B:$B,'00 PDC SP'!$F764,'00 Alimenta'!E:E)","v":0},{"$f":"SUMIF('00 Alimenta'!$B:$B,'00 PDC SP'!$F764,'00 Alimenta'!F:F)","v":0},{"$f":"SUMIF('00 Alimenta'!$B:$B,'00 PDC SP'!$F764,'00 Alimenta'!G:G)","v":0},{"$f":"SUMIF('00 Alimenta'!$B:$B,'00 PDC SP'!$F764,'00 Alimenta'!H:H)","v":0},{"$f":"SUMIF('00 Alimenta'!$B:$B,'00 PDC SP'!$F764,'00 Alimenta'!I:I)","v":0},0]
["PFA030","PF","PFA030",0,"","0207040102","Garanzie ricevute",{"$f":"SUMIF('00 Alimenta'!$B:$B,'00 PDC SP'!$F765,'00 Alimenta'!D:D)","v":0},{"$f":"SUMIF('00 Alimenta'!$B:$B,'00 PDC SP'!$F765,'00 Alimenta'!E:E)","v":0},{"$f":"SUMIF('00 Alimenta'!$B:$B,'00 PDC SP'!$F765,'00 Alimenta'!F:F)","v":0},{"$f":"SUMIF('00 Alimenta'!$B:$B,'00 PDC SP'!$F765,'00 Alimenta'!G:G)","v":0},{"$f":"SUMIF('00 Alimenta'!$B:$B,'00 PDC SP'!$F765,'00 Alimenta'!H:H)","v":0},{"$f":"SUMIF('00 Alimenta'!$B:$B,'00 PDC SP'!$F765,'00 Alimenta'!I:I)","v":0},0]
["PFA030","PF","PFA030",0,"","0207040103","Beni presso terzi",{"$f":"SUMIF('00 Alimenta'!$B:$B,'00 PDC SP'!$F766,'00 Alimenta'!D:D)","v":0},{"$f":"SUMIF('00 Alimenta'!$B:$B,'00 PDC SP'!$F766,'00 Alimenta'!E:E)","v":0},{"$f":"SUMIF('00 Alimenta'!$B:$B,'00 PDC SP'!$F766,'00 Alimenta'!F:F)","v":0},{"$f":"SUMIF('00 Alimenta'!$B:$B,'00 PDC SP'!$F766,'00 Alimenta'!G:G)","v":0},{"$f":"SUMIF('00 Alimenta'!$B:$B,'00 PDC SP'!$F766,'00 Alimenta'!H:H)","v":0},{"$f":"SUMIF('00 Alimenta'!$B:$B,'00 PDC SP'!$F766,'00 Alimenta'!I:I)","v":0},0]
["PFA030","PF","PFA030",0,"","0207040104","Beni in contenzioso",{"$f":"SUMIF('00 Alimenta'!$B:$B,'00 PDC SP'!$F767,'00 Alimenta'!D:D)","v":0},{"$f":"SUMIF('00 Alimenta'!$B:$B,'00 PDC SP'!$F767,'00 Alimenta'!E:E)","v":0},{"$f":"SUMIF('00 Alimenta'!$B:$B,'00 PDC SP'!$F767,'00 Alimenta'!F:F)","v":0},{"$f":"SUMIF('00 Alimenta'!$B:$B,'00 PDC SP'!$F767,'00 Alimenta'!G:G)","v":0},{"$f":"SUMIF('00 Alimenta'!$B:$B,'00 PDC SP'!$F767,'00 Alimenta'!H:H)","v":0},{"$f":"SUMIF('00 Alimenta'!$B:$B,'00 PDC SP'!$F767,'00 Alimenta'!I:I)","v":0},0]
["PFA030","PF","PFA030",0,"","0207040105","Altri impegni assunti",{"$f":"SUMIF('00 Alimenta'!$B:$B,'00 PDC SP'!$F768,'00 Alimenta'!D:D)","v":0},{"$f":"SUMIF('00 Alimenta'!$B:$B,'00 PDC SP'!$F768,'00 Alimenta'!E:E)","v":0},{"$f":"SUMIF('00 Alimenta'!$B:$B,'00 PDC SP'!$F768,'00 Alimenta'!F:F)","v":0},{"$f":"SUMIF('00 Alimenta'!$B:$B,'00 PDC SP'!$F768,'00 Alimenta'!G:G)","v":0},{"$f":"SUMIF('00 Alimenta'!$B:$B,'00 PDC SP'!$F768,'00 Alimenta'!H:H)","v":0},{"$f":"SUMIF('00 Alimenta'!$B:$B,'00 PDC SP'!$F768,'00 Alimenta'!I:I)","v":0},0]
["PFA030","PF","PFA030",0,"","0207040106","Altri contri d'ordine",{"$f":"SUMIF('00 Alimenta'!$B:$B,'00 PDC SP'!$F769,'00 Alimenta'!D:D)","v":0},{"$f":"SUMIF('00 Alimenta'!$B:$B,'00 PDC SP'!$F769,'00 Alimenta'!E:E)","v":0},{"$f":"SUMIF('00 Alimenta'!$B:$B,'00 PDC SP'!$F769,'00 Alimenta'!F:F)","v":0},{"$f":"SUMIF('00 Alimenta'!$B:$B,'00 PDC SP'!$F769,'00 Alimenta'!G:G)","v":0},{"$f":"SUMIF('00 Alimenta'!$B:$B,'00 PDC SP'!$F769,'00 Alimenta'!H:H)","v":0},{"$f":"SUMIF('00 Alimenta'!$B:$B,'00 PDC SP'!$F769,'00 Alimenta'!I:I)","v":0},0]
["PFA021","PF","PFA021",0,null,"0207050101","Canoni di project financing ancora da pagare",{"$f":"SUMIF('00 Alimenta'!$B:$B,'00 PDC SP'!$F770,'00 Alimenta'!D:D)","v":0},{"$f":"SUMIF('00 Alimenta'!$B:$B,'00 PDC SP'!$F770,'00 Alimenta'!E:E)","v":0},{"$f":"SUMIF('00 Alimenta'!$B:$B,'00 PDC SP'!$F770,'00 Alimenta'!F:F)","v":0},{"$f":"SUMIF('00 Alimenta'!$B:$B,'00 PDC SP'!$F770,'00 Alimenta'!G:G)","v":0},{"$f":"SUMIF('00 Alimenta'!$B:$B,'00 PDC SP'!$F770,'00 Alimenta'!H:H)","v":0},{"$f":"SUMIF('00 Alimenta'!$B:$B,'00 PDC SP'!$F770,'00 Alimenta'!I:I)","v":0},0]
[]
[]
[]
[null,null,null,null,null,"AA","IMMOBILIZZAZIONI",{"$f":"SUMIF($B:$B,$F774,H:H)","v":108309459.74999993},null,null,{"$f":"SUMIF($B:$B,$F774,K:K)","v":102840579.51000001},null,null,{"$f":"SUMIF($B:$B,$F774,N:N)","v":97456692.310000017}]
[null,null,null,null,null,"AB","ATTIVO CIRCOLANTE",266253631.08000004,null,null,283585028.36000001,null,null,295346022.27999991]
[null,null,null,null,null,"AC","RATEI E RISCONTI ATTIVI",8698.51,null,null,10533.97,null,null,8697.9699999999993]
[null,null,null,null,null,"AD","ATTIVO - CONTI D'ORDINE",0,null,null,0,null,null,0]
[null,null,null,null,null,"PA","PATRIMONIO NETTO",122093965.74000001,null,null,118203016.88999999,null,null,111162285.98000002]
[null,null,null,null,null,"UT","UTILE/PEDITA DI ESERCIZIO",-13609624.26,null,null,1677.34,null,null,-10236853]
[null,null,null,null,null,"PB","FONDI PER RISCI ED ONERI",-85752573.330000013,null,null,-82834257.410000011,null,null,-79677299.120000005]
[null,null,null,null,null,"PC","TRATTAMENTO FINE RAPPORTO",-2201092.41,null,null,-2267812.11,null,null,-2104593.7999999998]
[null,null,null,null,null,"PD","DEBITI",-178133782.12,null,null,-183129378.08999994,null,null,-210104086.65999994]
[null,null,null,null,null,"PE","RATEI E RISCONTI PASSIVI",0,null,null,0,null,null,0]
[null,null,null,null,null,"PF","PASSIVO - CONTI D'ORDINE",0,null,null,0,null,null,0]
[]
[null,null,null,1,null,null,"SOMMA ALGEBRICA ATTIVO + (PATRIMONIO NETTO + PASSIVO)",{"$f":"(H774+H775+H776+H777-H778)+(H780+H781+H782+H783+H784)","v":-13609624.26000005},null,null,{"$f":"(K774+K775+K776+K777-K778)+(K780+K781+K782+K783+K784)","v":1677.3400000929832},null,null,{"$f":"(N774+N775+N776+N777-N778)+(N780+N781+N782+N783+N784)","v":-10236853}]
[null,null,null,null,null,"0201070101","UTILE D'ESERCIZIO",null,null,null,null,{"$f":"IF($N$786>=0,$N$786,0)","v":0},null,{"$f":"IF($N$786>=0,$N$786,0)","v":0}]
[null,null,null,null,null,"0201070102","PERDITA D'ESERCIZIO",null,null,null,null,{"$f":"IF($N$786<0,$N$786,0)","v":-10236853},null,{"$f":"IF($N$786<0,$N$786,0)","v":-10236853}]

{"sheet":"00 SP","index":2,"n_rows":326,"n_cols":12,"rows_kept":326,"cut":false,"hidden":false,"merged":[]}
[]
["CODICE","DESCRIZIONE",null,"CODICE","RF",{"$f":"'00 PDC SP'!H4","v":"Esercizio 2017"},{"$f":"'00 PDC SP'!I4","v":"Incrementi 2018"},{"$f":"'00 PDC SP'!J4","v":"Decrementi 2018"},{"$f":"'00 PDC SP'!K4","v":"Esercizio 2018"},{"$f":"'00 PDC SP'!L4","v":"Incrementi 2019"},{"$f":"'00 PDC SP'!M4","v":"Decrementi 2019"},{"$f":"'00 PDC SP'!N4","v":"Esercizio 2019"}]
["AAZ999","A) IMMOBILIZZAZIONI","S","AAZ999",null,{"$f":"F4+F31","v":108295423.3},{"$f":"G4+G31","v":-1490066.4700000004},3978813.77,102826543.06000002,-5136402.6500000004,247484.55000000002,97442655.859999999]
["AAA000","A.I) IMMOBILIZZAZIONI IMMATERIALI","S","AAA000",null,{"$f":"F5+F8+F11+F16+F17+F26","v":492967.04000000004},{"$f":"G5+G8+G11+G16+G17+G26","v":-29741.25},0,463225.79000000027,-89809.73,0,373416.06000000052]
["AAA010","A.I.1) Costi di impianto e di ampliamento","S","AAA010",null,{"$f":"SUM(F6:F7)","v":0},{"$f":"SUM(G6:G7)","v":0},0,0,0,0,0]
["AAA020","A.I.1.a) Costi di impianto e di ampliamento",null,"AAA020",null,{"$f":"SUMIF('00 PDC SP'!$C:$C,$D6,'00 PDC SP'!H:H)","v":0},{"$f":"SUMIF('00 PDC SP'!$C:$C,$D6,'00 PDC SP'!I:I)","v":0},{"$f":"SUMIF('00 PDC SP'!$C:$C,$D6,'00 PDC SP'!J:J)","v":0},{"$f":"SUMIF('00 PDC SP'!$C:$C,$D6,'00 PDC SP'!K:K)","v":0},{"$f":"SUMIF('00 PDC SP'!$C:$C,$D6,'00 PDC SP'!L:L)","v":0},{"$f":"SUMIF('00 PDC SP'!$C:$C,$D6,'00 PDC SP'!M:M)","v":0},{"$f":"SUMIF('00 PDC SP'!$C:$C,$D6,'00 PDC SP'!N:N)","v":0}]
["AAA030","A.I.1.b) F.do Amm.to costi di impianto e di ampliamento",null,"AAA030",null,{"$f":"SUMIF('00 PDC SP'!$C:$C,$D7,'00 PDC SP'!H:H)","v":0},{"$f":"SUMIF('00 PDC SP'!$C:$C,$D7,'00 PDC SP'!I:I)","v":0},{"$f":"SUMIF('00 PDC SP'!$C:$C,$D7,'00 PDC SP'!J:J)","v":0},{"$f":"SUMIF('00 PDC SP'!$C:$C,$D7,'00 PDC SP'!K:K)","v":0},{"$f":"SUMIF('00 PDC SP'!$C:$C,$D7,'00 PDC SP'!L:L)","v":0},{"$f":"SUMIF('00 PDC SP'!$C:$C,$D7,'00 PDC SP'!M:M)","v":0},{"$f":"SUMIF('00 PDC SP'!$C:$C,$D7,'00 PDC SP'!N:N)","v":0}]
["AAA040","A.I.2) Costi di ricerca e sviluppo","S","AAA040",null,{"$f":"SUM(F9:F10)","v":0},{"$f":"SUM(G9:G10)","v":0},0,0,0,0,0]
["AAA050","A.I.2.a) Costi di ricerca e sviluppo",null,"AAA050",null,{"$f":"SUMIF('00 PDC SP'!$C:$C,$D9,'00 PDC SP'!H:H)","v":0},{"$f":"SUMIF('00 PDC SP'!$C:$C,$D9,'00 PDC SP'!I:I)","v":0},{"$f":"SUMIF('00 PDC SP'!$C:$C,$D9,'00 PDC SP'!J:J)","v":0},{"$f":"SUMIF('00 PDC SP'!$C:$C,$D9,'00 PDC SP'!K:K)","v":0},{"$f":"SUMIF('00 PDC SP'!$C:$C,$D9,'00 PDC SP'!L:L)","v":0},{"$f":"SUMIF('00 PDC SP'!$C:$C,$D9,'00 PDC SP'!M:M)","v":0},{"$f":"SUMIF('00 PDC SP'!$C:$C,$D9,'00 PDC SP'!N:N)","v":0}]
["AAA060","A.I.2.b) F.do Amm.to costi di ricerca e sviluppo",null,"AAA060",null,{"$f":"SUMIF('00 PDC SP'!$C:$C,$D10,'00 PDC SP'!H:H)","v":0},{"$f":"SUMIF('00 PDC SP'!$C:$C,$D10,'00 PDC SP'!I:I)","v":0},{"$f":"SUMIF('00 PDC SP'!$C:$C,$D10,'00 PDC SP'!J:J)","v":0},{"$f":"SUMIF('00 PDC SP'!$C:$C,$D10,'00 PDC SP'!K:K)","v":0},{"$f":"SUMIF('00 PDC SP'!$C:$C,$D10,'00 PDC SP'!L:L)","v":0},{"$f":"SUMIF('00 PDC SP'!$C:$C,$D10,'00 PDC SP'!M:M)","v":0},{"$f":"SUMIF('00 PDC SP'!$C:$C,$D10,'00 PDC SP'!N:N)","v":0}]
["AAA070","A.I.3) Diritti di brevetto e diritti di utilizzazione delle opere d'ingegno","S","AAA070",null,{"$f":"SUM(F12:F15)","v":0},{"$f":"SUM(G12:G15)","v":0},0,0,0,0,0]
["AAA080","A.I.3.a) Diritti di brevetto e diritti di utilizzazione delle opere d'ingegno - derivanti dall'attività di ricerca",null,"AAA080",null,{"$f":"SUMIF('00 PDC SP'!$C:$C,$D12,'00 PDC SP'!H:H)","v":0},{"$f":"SUMIF('00 PDC SP'!$C:$C,$D12,'00 PDC SP'!I:I)","v":0},{"$f":"SUMIF('00 PDC SP'!$C:$C,$D12,'00 PDC SP'!J:J)","v":0},{"$f":"SUMIF('00 PDC SP'!$C:$C,$D12,'00 PDC SP'!K:K)","v":0},{"$f":"SUMIF('00 PDC SP'!$C:$C,$D12,'00 PDC SP'!L:L)","v":0},{"$f":"SUMIF('00 PDC SP'!$C:$C,$D12,'00 PDC SP'!M:M)","v":0},{"$f":"SUMIF('00 PDC SP'!$C:$C,$D12,'00 PDC SP'!N:N)","v":0}]
["AAA090","A.I.3.b) F.do Amm.to diritti di brevetto e diritti di utilizzazione delle opere d'ingegno - derivanti dall'attività di ricerca",null,"AAA090",null,{"$f":"SUMIF('00 PDC SP'!$C:$C,$D13,'00 PDC SP'!H:H)","v":0},{"$f":"SUMIF('00 PDC SP'!$C:$C,$D13,'00 PDC SP'!I:I)","v":0},{"$f":"SUMIF('00 PDC SP'!$C:$C,$D13,'00 PDC SP'!J:J)","v":0},{"$f":"SUMIF('00 PDC SP'!$C:$C,$D13,'00 PDC SP'!K:K)","v":0},{"$f":"SUMIF('00 PDC SP'!$C:$C,$D13,'00 PDC SP'!L:L)","v":0},{"$f":"SUMIF('00 PDC SP'!$C:$C,$D13,'00 PDC SP'!M:M)","v":0},{"$f":"SUMIF('00 PDC SP'!$C:$C,$D13,'00 PDC SP'!N:N)","v":0}]
["AAA100","A.I.3.c) Diritti di brevetto e diritti di utilizzazione delle opere d'ingegno - altri",null,"AAA100",null,{"$f":"SUMIF('00 PDC SP'!$C:$C,$D14,'00 PDC SP'!H:H)","v":0},{"$f":"SUMIF('00 PDC SP'!$C:$C,$D14,'00 PDC SP'!I:I)","v":0},{"$f":"SUMIF('00 PDC SP'!$C:$C,$D14,'00 PDC SP'!J:J)","v":0},{"$f":"SUMIF('00 PDC SP'!$C:$C,$D14,'00 PDC SP'!K:K)","v":0},{"$f":"SUMIF('00 PDC SP'!$C:$C,$D14,'00 PDC SP'!L:L)","v":0},{"$f":"SUMIF('00 PDC SP'!$C:$C,$D14,'00 PDC SP'!M:M)","v":0},{"$f":"SUMIF('00 PDC SP'!$C:$C,$D14,'00 PDC SP'!N:N)","v":0}]
["AAA110","A.I.3.d) F.do Amm.to diritti di brevetto e diritti di utilizzazione delle opere d'ingegno -  altri",null,"AAA110",null,{"$f":"SUMIF('00 PDC SP'!$C:$C,$D15,'00 PDC SP'!H:H)","v":0},{"$f":"SUMIF('00 PDC SP'!$C:$C,$D15,'00 PDC SP'!I:I)","v":0},{"$f":"SUMIF('00 PDC SP'!$C:$C,$D15,'00 PDC SP'!J:J)","v":0},{"$f":"SUMIF('00 PDC SP'!$C:$C,$D15,'00 PDC SP'!K:K)","v":0},{"$f":"SUMIF('00 PDC SP'!$C:$C,$D15,'00 PDC SP'!L:L)","v":0},{"$f":"SUMIF('00 PDC SP'!$C:$C,$D15,'00 PDC SP'!M:M)","v":0},{"$f":"SUMIF('00 PDC SP'!$C:$C,$D15,'00 PDC SP'!N:N)","v":0}]
["AAA120","A.I.4) Immobilizzazioni immateriali in corso e acconti",null,"AAA120",null,{"$f":"SUMIF('00 PDC SP'!$C:$C,$D16,'00 PDC SP'!H:H)","v":0},{"$f":"SUMIF('00 PDC SP'!$C:$C,$D16,'00 PDC SP'!I:I)","v":0},{"$f":"SUMIF('00 PDC SP'!$C:$C,$D16,'00 PDC SP'!J:J)","v":0},{"$f":"SUMIF('00 PDC SP'!$C:$C,$D16,'00 PDC SP'!K:K)","v":0},{"$f":"SUMIF('00 PDC SP'!$C:$C,$D16,'00 PDC SP'!L:L)","v":0},{"$f":"SUMIF('00 PDC SP'!$C:$C,$D16,'00 PDC SP'!M:M)","v":0},{"$f":"SUMIF('00 PDC SP'!$C:$C,$D16,'00 PDC SP'!N:N)","v":0}]
["AAA130","A.I.5) Altre immobilizzazioni immateriali","S","AAA130",null,{"$f":"SUM(F18:F25)","v":492967.04000000004},{"$f":"SUM(G18:G25)","v":-29741.25},0,463225.79000000027,-89809.73,0,373416.06000000052]
["AAA140","A.I.5.a) Concessioni, licenze, marchi e diritti simili",null,"AAA140",null,{"$f":"SUMIF('00 PDC SP'!$C:$C,$D18,'00 PDC SP'!H:H)","v":2188144.58},{"$f":"SUMIF('00 PDC SP'!$C:$C,$D18,'00 PDC SP'!I:I)","v":131197.56},{"$f":"SUMIF('00 PDC SP'!$C:$C,$D18,'00 PDC SP'!J:J)","v":11461.65},{"$f":"SUMIF('00 PDC SP'!$C:$C,$D18,'00 PDC SP'!K:K)","v":2307880.4900000002},{"$f":"SUMIF('00 PDC SP'!$C:$C,$D18,'00 PDC SP'!L:L)","v":65627.89},{"$f":"SUMIF('00 PDC SP'!$C:$C,$D18,'00 PDC SP'!M:M)","v":0},{"$f":"SUMIF('00 PDC SP'!$C:$C,$D18,'00 PDC SP'!N:N)","v":2373508.3800000004}]
["AAA150","A.I.5.b) F.do Amm.to concessioni, licenze, marchi e diritti simili",null,"AAA150",null,{"$f":"SUMIF('00 PDC SP'!$C:$C,$D19,'00 PDC SP'!H:H)","v":-1695177.54},{"$f":"SUMIF('00 PDC SP'!$C:$C,$D19,'00 PDC SP'!I:I)","v":-160938.81},{"$f":"SUMIF('00 PDC SP'!$C:$C,$D19,'00 PDC SP'!J:J)","v":-11461.65},{"$f":"SUMIF('00 PDC SP'!$C:$C,$D19,'00 PDC SP'!K:K)","v":-1844654.7},{"$f":"SUMIF('00 PDC SP'!$C:$C,$D19,'00 PDC SP'!L:L)","v":-155437.62},{"$f":"SUMIF('00 PDC SP'!$C:$C,$D19,'00 PDC SP'!M:M)","v":0},{"$f":"SUMIF('00 PDC SP'!$C:$C,$D19,'00 PDC SP'!N:N)","v":-2000092.3199999998}]
["AAA160","A.I.5.c) Migliorie su beni di terzi",null,"AAA160",null,{"$f":"SUMIF('00 PDC SP'!$C:$C,$D20,'00 PDC SP'!H:H)","v":0},{"$f":"SUMIF('00 PDC SP'!$C:$C,$D20,'00 PDC SP'!I:I)","v":0},{"$f":"SUMIF('00 PDC SP'!$C:$C,$D20,'00 PDC SP'!J:J)","v":0},{"$f":"SUMIF('00 PDC SP'!$C:$C,$D20,'00 PDC SP'!K:K)","v":0},{"$f":"SUMIF('00 PDC SP'!$C:$C,$D20,'00 PDC SP'!L:L)","v":0},{"$f":"SUMIF('00 PDC SP'!$C:$C,$D20,'00 PDC SP'!M:M)","v":0},{"$f":"SUMIF('00 PDC SP'!$C:$C,$D20,'00 PDC SP'!N:N)","v":0}]
["AAA170","A.I.5.d) F.do Amm.to migliorie su beni di terzi",null,"AAA170",null,{"$f":"SUMIF('00 PDC SP'!$C:$C,$D21,'00 PDC SP'!H:H)","v":0},{"$f":"SUMIF('00 PDC SP'!$C:$C,$D21,'00 PDC SP'!I:I)","v":0},{"$f":"SUMIF('00 PDC SP'!$C:$C,$D21,'00 PDC SP'!J:J)","v":0},{"$f":"SUMIF('00 PDC SP'!$C:$C,$D21,'00 PDC SP'!K:K)","v":0},{"$f":"SUMIF('00 PDC SP'!$C:$C,$D21,'00 PDC SP'!L:L)","v":0},{"$f":"SUMIF('00 PDC SP'!$C:$C,$D21,'00 PDC SP'!M:M)","v":0},{"$f":"SUMIF('00 PDC SP'!$C:$C,$D21,'00 PDC SP'!N:N)","v":0}]
["AAA180","A.I.5.e) Pubblicità",null,"AAA180",null,{"$f":"SUMIF('00 PDC SP'!$C:$C,$D22,'00 PDC SP'!H:H)","v":0},{"$f":"SUMIF('00 PDC SP'!$C:$C,$D22,'00 PDC SP'!I:I)","v":0},{"$f":"SUMIF('00 PDC SP'!$C:$C,$D22,'00 PDC SP'!J:J)","v":0},{"$f":"SUMIF('00 PDC SP'!$C:$C,$D22,'00 PDC SP'!K:K)","v":0},{"$f":"SUMIF('00 PDC SP'!$C:$C,$D22,'00 PDC SP'!L:L)","v":0},{"$f":"SUMIF('00 PDC SP'!$C:$C,$D22,'00 PDC SP'!M:M)","v":0},{"$f":"SUMIF('00 PDC SP'!$C:$C,$D22,'00 PDC SP'!N:N)","v":0}]
["AAA190","A.I.5.f) F.do Amm.to pubblicità",null,"AAA190",null,{"$f":"SUMIF('00 PDC SP'!$C:$C,$D23,'00 PDC SP'!H:H)","v":0},{"$f":"SUMIF('00 PDC SP'!$C:$C,$D23,'00 PDC SP'!I:I)","v":0},{"$f":"SUMIF('00 PDC SP'!$C:$C,$D23,'00 PDC SP'!J:J)","v":0},{"$f":"SUMIF('00 PDC SP'!$C:$C,$D23,'00 PDC SP'!K:K)","v":0},{"$f":"SUMIF('00 PDC SP'!$C:$C,$D23,'00 PDC SP'!L:L)","v":0},{"$f":"SUMIF('00 PDC SP'!$C:$C,$D23,'00 PDC SP'!M:M)","v":0},{"$f":"SUMIF('00 PDC SP'!$C:$C,$D23,'00 PDC SP'!N:N)","v":0}]
["AAA200","A.I.5.g) Altre immobilizzazioni immateriali",null,"AAA200",null,{"$f":"SUMIF('00 PDC SP'!$C:$C,$D24,'00 PDC SP'!H:H)","v":0},{"$f":"SUMIF('00 PDC SP'!$C:$C,$D24,'00 PDC SP'!I:I)","v":0},{"$f":"SUMIF('00 PDC SP'!$C:$C,$D24,'00 PDC SP'!J:J)","v":0},{"$f":"SUMIF('00 PDC SP'!$C:$C,$D24,'00 PDC SP'!K:K)","v":0},{"$f":"SUMIF('00 PDC SP'!$C:$C,$D24,'00 PDC SP'!L:L)","v":0},{"$f":"SUMIF('00 PDC SP'!$C:$C,$D24,'00 PDC SP'!M:M)","v":0},{"$f":"SUMIF('00 PDC SP'!$C:$C,$D24,'00 PDC SP'!N:N)","v":0}]
["AAA210","A.I.5.h) F.do Amm.to altre immobilizzazioni immateriali",null,"AAA210",null,{"$f":"SUMIF('00 PDC SP'!$C:$C,$D25,'00 PDC SP'!H:H)","v":0},{"$f":"SUMIF('00 PDC SP'!$C:$C,$D25,'00 PDC SP'!I:I)","v":0},{"$f":"SUMIF('00 PDC SP'!$C:$C,$D25,'00 PDC SP'!J:J)","v":0},{"$f":"SUMIF('00 PDC SP'!$C:$C,$D25,'00 PDC SP'!K:K)","v":0},{"$f":"SUMIF('00 PDC SP'!$C:$C,$D25,'00 PDC SP'!L:L)","v":0},{"$f":"SUMIF('00 PDC SP'!$C:$C,$D25,'00 PDC SP'!M:M)","v":0},{"$f":"SUMIF('00 PDC SP'!$C:$C,$D25,'00 PDC SP'!N:N)","v":0}]
["AAA220","A.I.6) Fondo Svalutazione immobilizzazioni immateriali","S","AAA220",null,{"$f":"SUM(F27:F30)","v":0},{"$f":"SUM(G27:G30)","v":0},0,0,0,0,0]
["AAA230","A.I.6.a) F.do Svalut. Costi di impianto e di ampliamento",null,"AAA230",null,{"$f":"SUMIF('00 PDC SP'!$C:$C,$D27,'00 PDC SP'!H:H)","v":0},{"$f":"SUMIF('00 PDC SP'!$C:$C,$D27,'00 PDC SP'!I:I)","v":0},{"$f":"SUMIF('00 PDC SP'!$C:$C,$D27,'00 PDC SP'!J:J)","v":0},{"$f":"SUMIF('00 PDC SP'!$C:$C,$D27,'00 PDC SP'!K:K)","v":0},{"$f":"SUMIF('00 PDC SP'!$C:$C,$D27,'00 PDC SP'!L:L)","v":0},{"$f":"SUMIF('00 PDC SP'!$C:$C,$D27,'00 PDC SP'!M:M)","v":0},{"$f":"SUMIF('00 PDC SP'!$C:$C,$D27,'00 PDC SP'!N:N)","v":0}]
["AAA240","A.I.6.b) F.do Svalut. Costi di ricerca e sviluppo",null,"AAA240",null,{"$f":"SUMIF('00 PDC SP'!$C:$C,$D28,'00 PDC SP'!H:H)","v":0},{"$f":"SUMIF('00 PDC SP'!$C:$C,$D28,'00 PDC SP'!I:I)","v":0},{"$f":"SUMIF('00 PDC SP'!$C:$C,$D28,'00 PDC SP'!J:J)","v":0},{"$f":"SUMIF('00 PDC SP'!$C:$C,$D28,'00 PDC SP'!K:K)","v":0},{"$f":"SUMIF('00 PDC SP'!$C:$C,$D28,'00 PDC SP'!L:L)","v":0},{"$f":"SUMIF('00 PDC SP'!$C:$C,$D28,'00 PDC SP'!M:M)","v":0},{"$f":"SUMIF('00 PDC SP'!$C:$C,$D28,'00 PDC SP'!N:N)","v":0}]
["AAA250","A.I.6.c) F.do Svalut. Diritti di brevetto e diritti di utilizzazione delle opere d'ingegno",null,"AAA250",null,{"$f":"SUMIF('00 PDC SP'!$C:$C,$D29,'00 PDC SP'!H:H)","v":0},{"$f":"SUMIF('00 PDC SP'!$C:$C,$D29,'00 PDC SP'!I:I)","v":0},{"$f":"SUMIF('00 PDC SP'!$C:$C,$D29,'00 PDC SP'!J:J)","v":0},{"$f":"SUMIF('00 PDC SP'!$C:$C,$D29,'00 PDC SP'!K:K)","v":0},{"$f":"SUMIF('00 PDC SP'!$C:$C,$D29,'00 PDC SP'!L:L)","v":0},{"$f":"SUMIF('00 PDC SP'!$C:$C,$D29,'00 PDC SP'!M:M)","v":0},{"$f":"SUMIF('00 PDC SP'!$C:$C,$D29,'00 PDC SP'!N:N)","v":0}]
["AAA260","A.I.6.d) F.do Svalut. Altre immobilizzazioni immateriali",null,"AAA260",null,{"$f":"SUMIF('00 PDC SP'!$C:$C,$D30,'00 PDC SP'!H:H)","v":0},{"$f":"SUMIF('00 PDC SP'!$C:$C,$D30,'00 PDC SP'!I:I)","v":0},{"$f":"SUMIF('00 PDC SP'!$C:$C,$D30,'00 PDC SP'!J:J)","v":0},{"$f":"SUMIF('00 PDC SP'!$C:$C,$D30,'00 PDC SP'!K:K)","v":0},{"$f":"SUMIF('00 PDC SP'!$C:$C,$D30,'00 PDC SP'!L:L)","v":0},{"$f":"SUMIF('00 PDC SP'!$C:$C,$D30,'00 PDC SP'!M:M)","v":0},{"$f":"SUMIF('00 PDC SP'!$C:$C,$D30,'00 PDC SP'!N:N)","v":0}]
["AAA270","A.II) IMMOBILIZZAZIONI MATERIALI","S","AAA270",null,{"$f":"F32+F35+F42+F45+F48+F51+F54+F55+F58+F59","v":107802456.25999999},{"$f":"G32+G35+G42+G45+G48+G51+G54+G55+G58+G59","v":-1460325.2200000004},3978813.77,102363317.27000001,-5046592.92,247484.55000000002,97069239.799999997]
["AAA280","A.II.1) Terreni","S","AAA280",null,{"$f":"SUM(F33:F34)","v":942655.12},{"$f":"SUM(G33:G34)","v":0},0,942655.12,0,0,942655.12]
["AAA290","A.II.1.a) Terreni disponibili",null,"AAA290",null,{"$f":"SUMIF('00 PDC SP'!$C:$C,$D33,'00 PDC SP'!H:H)","v":0},{"$f":"SUMIF('00 PDC SP'!$C:$C,$D33,'00 PDC SP'!I:I)","v":0},{"$f":"SUMIF('00 PDC SP'!$C:$C,$D33,'00 PDC SP'!J:J)","v":0},{"$f":"SUMIF('00 PDC SP'!$C:$C,$D33,'00 PDC SP'!K:K)","v":0},{"$f":"SUMIF('00 PDC SP'!$C:$C,$D33,'00 PDC SP'!L:L)","v":0},{"$f":"SUMIF('00 PDC SP'!$C:$C,$D33,'00 PDC SP'!M:M)","v":0},{"$f":"SUMIF('00 PDC SP'!$C:$C,$D33,'00 PDC SP'!N:N)","v":0}]
["AAA300","A.II.1.b) Terreni indisponibili",null,"AAA300",null,{"$f":"SUMIF('00 PDC SP'!$C:$C,$D34,'00 PDC SP'!H:H)","v":942655.12},{"$f":"SUMIF('00 PDC SP'!$C:$C,$D34,'00 PDC SP'!I:I)","v":0},{"$f":"SUMIF('00 PDC SP'!$C:$C,$D34,'00 PDC SP'!J:J)","v":0},{"$f":"SUMIF('00 PDC SP'!$C:$C,$D34,'00 PDC SP'!K:K)","v":942655.12},{"$f":"SUMIF('00 PDC SP'!$C:$C,$D34,'00 PDC SP'!L:L)","v":0},{"$f":"SUMIF('00 PDC SP'!$C:$C,$D34,'00 PDC SP'!M:M)","v":0},{"$f":"SUMIF('00 PDC SP'!$C:$C,$D34,'00 PDC SP'!N:N)","v":942655.12}]
["AAA310","A.II.2) Fabbricati","S","AAA310",null,{"$f":"F36+F39","v":78214784.889999986},{"$f":"G36+G39","v":-2883228.6100000003},0,75331556.279999986,-5032903.95,0,70298652.329999983]
["AAA320","A.II.2.a) Fabbricati non strumentali (disponibili)","S","AAA320",null,{"$f":"SUM(F37:F38)","v":0},{"$f":"SUM(G37:G38)","v":0},0,0,0,0,0]
["AAA330","A.II.2.a.1) Fabbricati non strumentali (disponibili)",null,"AAA330",null,{"$f":"SUMIF('00 PDC SP'!$C:$C,$D37,'00 PDC SP'!H:H)","v":0},{"$f":"SUMIF('00 PDC SP'!$C:$C,$D37,'00 PDC SP'!I:I)","v":0},{"$f":"SUMIF('00 PDC SP'!$C:$C,$D37,'00 PDC SP'!J:J)","v":0},{"$f":"SUMIF('00 PDC SP'!$C:$C,$D37,'00 PDC SP'!K:K)","v":0},{"$f":"SUMIF('00 PDC SP'!$C:$C,$D37,'00 PDC SP'!L:L)","v":0},{"$f":"SUMIF('00 PDC SP'!$C:$C,$D37,'00 PDC SP'!M:M)","v":0},{"$f":"SUMIF('00 PDC SP'!$C:$C,$D37,'00 PDC SP'!N:N)","v":0}]
["AAA340","A.II.2.a.2) F.do Amm.to Fabbricati non strumentali (disponibili)",null,"AAA340",null,{"$f":"SUMIF('00 PDC SP'!$C:$C,$D38,'00 PDC SP'!H:H)","v":0},{"$f":"SUMIF('00 PDC SP'!$C:$C,$D38,'00 PDC SP'!I:I)","v":0},{"$f":"SUMIF('00 PDC SP'!$C:$C,$D38,'00 PDC SP'!J:J)","v":0},{"$f":"SUMIF('00 PDC SP'!$C:$C,$D38,'00 PDC SP'!K:K)","v":0},{"$f":"SUMIF('00 PDC SP'!$C:$C,$D38,'00 PDC SP'!L:L)","v":0},{"$f":"SUMIF('00 PDC SP'!$C:$C,$D38,'00 PDC SP'!M:M)","v":0},{"$f":"SUMIF('00 PDC SP'!$C:$C,$D38,'00 PDC SP'!N:N)","v":0}]
["AAA350","A.II.2.b) Fabbricati strumentali (indisponibili)","S","AAA350",null,{"$f":"SUM(F40:F41)","v":78214784.889999986},{"$f":"SUM(G40:G41)","v":-2883228.6100000003},0,75331556.279999986,-5032903.95,0,70298652.329999983]
["AAA360","A.II.2.b.1) Fabbricati strumentali (indisponibili)",null,"AAA360",null,{"$f":"SUMIF('00 PDC SP'!$C:$C,$D40,'00 PDC SP'!H:H)","v":169096559.22999999},{"$f":"SUMIF('00 PDC SP'!$C:$C,$D40,'00 PDC SP'!I:I)","v":2087230},{"$f":"SUMIF('00 PDC SP'!$C:$C,$D40,'00 PDC SP'!J:J)","v":0},{"$f":"SUMIF('00 PDC SP'!$C:$C,$D40,'00 PDC SP'!K:K)","v":171183789.22999999},{"$f":"SUMIF('00 PDC SP'!$C:$C,$D40,'00 PDC SP'!L:L)","v":0},{"$f":"SUMIF('00 PDC SP'!$C:$C,$D40,'00 PDC SP'!M:M)","v":0},{"$f":"SUMIF('00 PDC SP'!$C:$C,$D40,'00 PDC SP'!N:N)","v":171183789.22999999}]
["AAA370","A.II.2.b.2) F.do Amm.to Fabbricati strumentali (indisponibili)",null,"AAA370",null,{"$f":"SUMIF('00 PDC SP'!$C:$C,$D41,'00 PDC SP'!H:H)","v":-90881774.340000004},{"$f":"SUMIF('00 PDC SP'!$C:$C,$D41,'00 PDC SP'!I:I)","v":-4970458.6100000003},{"$f":"SUMIF('00 PDC SP'!$C:$C,$D41,'00 PDC SP'!J:J)","v":0},{"$f":"SUMIF('00 PDC SP'!$C:$C,$D41,'00 PDC SP'!K:K)","v":-95852232.950000003},{"$f":"SUMIF('00 PDC SP'!$C:$C,$D41,'00 PDC SP'!L:L)","v":-5032903.95},{"$f":"SUMIF('00 PDC SP'!$C:$C,$D41,'00 PDC SP'!M:M)","v":0},{"$f":"SUMIF('00 PDC SP'!$C:$C,$D41,'00 PDC SP'!N:N)","v":-100885136.90000001}]
["AAA380","A.II.3) Impianti e macchinari","S","AAA380",null,{"$f":"SUM(F43:F44)","v":1015680.9500000002},{"$f":"SUM(G43:G44)","v":410185.98},17402.93,1408464,137008.49,24400.000000000004,1521072.4899999993]
["AAA390","A.II.3.a) Impianti e macchinari",null,"AAA390",null,{"$f":"SUMIF('00 PDC SP'!$C:$C,$D43,'00 PDC SP'!H:H)","v":6166777.5300000003},{"$f":"SUMIF('00 PDC SP'!$C:$C,$D43,'00 PDC SP'!I:I)","v":653192.51},{"$f":"SUMIF('00 PDC SP'!$C:$C,$D43,'00 PDC SP'!J:J)","v":17647.73},{"$f":"SUMIF('00 PDC SP'!$C:$C,$D43,'00 PDC SP'!K:K)","v":6802322.3099999996},{"$f":"SUMIF('00 PDC SP'!$C:$C,$D43,'00 PDC SP'!L:L)","v":456581.73},{"$f":"SUMIF('00 PDC SP'!$C:$C,$D43,'00 PDC SP'!M:M)","v":56990.8},{"$f":"SUMIF('00 PDC SP'!$C:$C,$D43,'00 PDC SP'!N:N)","v":7201913.2399999993}]
["AAA400","A.II.3.b) F.do Amm.to Impianti e macchinari",null,"AAA400",null,{"$f":"SUMIF('00 PDC SP'!$C:$C,$D44,'00 PDC SP'!H:H)","v":-5151096.58},{"$f":"SUMIF('00 PDC SP'!$C:$C,$D44,'00 PDC SP'!I:I)","v":-243006.53},{"$f":"SUMIF('00 PDC SP'!$C:$C,$D44,'00 PDC SP'!J:J)","v":-244.8},{"$f":"SUMIF('00 PDC SP'!$C:$C,$D44,'00 PDC SP'!K:K)","v":-5393858.3099999996},{"$f":"SUMIF('00 PDC SP'!$C:$C,$D44,'00 PDC SP'!L:L)","v":-319573.24},{"$f":"SUMIF('00 PDC SP'!$C:$C,$D44,'00 PDC SP'!M:M)","v":-32590.799999999999},{"$f":"SUMIF('00 PDC SP'!$C:$C,$D44,'00 PDC SP'!N:N)","v":-5680840.75}]
["AAA410","A.II.4) Attrezzature sanitarie e scientifiche","S","AAA410",null,{"$f":"SUM(F46:F47)","v":14220450.180000007},{"$f":"SUM(G46:G47)","v":-503898.62000000011},16889.679999999702,13699661.88000001,-2589029.6199999996,116343.79000000004,10994288.470000029]
["AAA420","A.II.4.a) Attrezzature sanitarie e scientifiche",null,"AAA420",null,{"$f":"SUMIF('00 PDC SP'!$C:$C,$D46,'00 PDC SP'!H:H)","v":84717848.540000007},{"$f":"SUMIF('00 PDC SP'!$C:$C,$D46,'00 PDC SP'!I:I)","v":4303427.6100000003},{"$f":"SUMIF('00 PDC SP'!$C:$C,$D46,'00 PDC SP'!J:J)","v":5885338.1699999999},{"$f":"SUMIF('00 PDC SP'!$C:$C,$D46,'00 PDC SP'!K:K)","v":83135937.980000004},{"$f":"SUMIF('00 PDC SP'!$C:$C,$D46,'00 PDC SP'!L:L)","v":2217999.9300000002},{"$f":"SUMIF('00 PDC SP'!$C:$C,$D46,'00 PDC SP'!M:M)","v":996227.99},{"$f":"SUMIF('00 PDC SP'!$C:$C,$D46,'00 PDC SP'!N:N)","v":84357709.920000017}]
["AAA430","A.II.4.b) F.do Amm.to Attrezzature sanitarie e scientifiche",null,"AAA430",null,{"$f":"SUMIF('00 PDC SP'!$C:$C,$D47,'00 PDC SP'!H:H)","v":-70497398.359999999},{"$f":"SUMIF('00 PDC SP'!$C:$C,$D47,'00 PDC SP'!I:I)","v":-4807326.2300000004},{"$f":"SUMIF('00 PDC SP'!$C:$C,$D47,'00 PDC SP'!J:J)","v":-5868448.4900000002},{"$f":"SUMIF('00 PDC SP'!$C:$C,$D47,'00 PDC SP'!K:K)","v":-69436276.099999994},{"$f":"SUMIF('00 PDC SP'!$C:$C,$D47,'00 PDC SP'!L:L)","v":-4807029.55},{"$f":"SUMIF('00 PDC SP'!$C:$C,$D47,'00 PDC SP'!M:M)","v":-879884.2},{"$f":"SUMIF('00 PDC SP'!$C:$C,$D47,'00 PDC SP'!N:N)","v":-73363421.449999988}]
["AAA440","A.II.5) Mobili e arredi","S","AAA440",null,{"$f":"SUM(F49:F50)","v":1514191.6899999995},{"$f":"SUM(G49:G50)","v":-15102.340000000026},2417.1999999999971,1496672.1500000004,-127527.79999999999,8598.8299999999981,1360545.5200000014]
["AAA450","A.II.5.a) Mobili e arredi",null,"AAA450",null,{"$f":"SUMIF('00 PDC SP'!$C:$C,$D49,'00 PDC SP'!H:H)","v":10597975.65},{"$f":"SUMIF('00 PDC SP'!$C:$C,$D49,'00 PDC SP'!I:I)","v":339281.25},{"$f":"SUMIF('00 PDC SP'!$C:$C,$D49,'00 PDC SP'!J:J)","v":91861.65},{"$f":"SUMIF('00 PDC SP'!$C:$C,$D49,'00 PDC SP'!K:K)","v":10845395.25},{"$f":"SUMIF('00 PDC SP'!$C:$C,$D49,'00 PDC SP'!L:L)","v":233981.82},{"$f":"SUMIF('00 PDC SP'!$C:$C,$D49,'00 PDC SP'!M:M)","v":30493.53},{"$f":"SUMIF('00 PDC SP'!$C:$C,$D49,'00 PDC SP'!N:N)","v":11048883.540000001}]
["AAA460","A.II.5.b) F.do Amm.to Mobili e arredi",null,"AAA460",null,{"$f":"SUMIF('00 PDC SP'!$C:$C,$D50,'00 PDC SP'!H:H)","v":-9083783.9600000009},{"$f":"SUMIF('00 PDC SP'!$C:$C,$D50,'00 PDC SP'!I:I)","v":-354383.59},{"$f":"SUMIF('00 PDC SP'!$C:$C,$D50,'00 PDC SP'!J:J)","v":-89444.45},{"$f":"SUMIF('00 PDC SP'!$C:$C,$D50,'00 PDC SP'!K:K)","v":-9348723.0999999996},{"$f":"SUMIF('00 PDC SP'!$C:$C,$D50,'00 PDC SP'!L:L)","v":-361509.62},{"$f":"SUMIF('00 PDC SP'!$C:$C,$D50,'00 PDC SP'!M:M)","v":-21894.7},{"$f":"SUMIF('00 PDC SP'!$C:$C,$D50,'00 PDC SP'!N:N)","v":-9688338.0199999996}]
["AAA470","A.II.6) Automezzi","S","AAA470",null,{"$f":"SUM(F52:F53)","v":234438.80000000005},{"$f":"SUM(G52:G53)","v":-342.13000000000466},0,234096.66999999993,359024.24,0,593120.91000000015]
["AAA480","A.II.6.a) Automezzi",null,"AAA480",null,{"$f":"SUMIF('00 PDC SP'!$C:$C,$D52,'00 PDC SP'!H:H)","v":1962988.77},{"$f":"SUMIF('00 PDC SP'!$C:$C,$D52,'00 PDC SP'!I:I)","v":93196.97},{"$f":"SUMIF('00 PDC SP'!$C:$C,$D52,'00 PDC SP'!J:J)","v":149825.10999999999},{"$f":"SUMIF('00 PDC SP'!$C:$C,$D52,'00 PDC SP'!K:K)","v":1906360.63},{"$f":"SUMIF('00 PDC SP'!$C:$C,$D52,'00 PDC SP'!L:L)","v":492735.99},{"$f":"SUMIF('00 PDC SP'!$C:$C,$D52,'00 PDC SP'!M:M)","v":0},{"$f":"SUMIF('00 PDC SP'!$C:$C,$D52,'00 PDC SP'!N:N)","v":2399096.62}]
["AAA490","A.II.6.b) F.do Amm.to Automezzi",null,"AAA490",null,{"$f":"SUMIF('00 PDC SP'!$C:$C,$D53,'00 PDC SP'!H:H)","v":-1728549.97},{"$f":"SUMIF('00 PDC SP'!$C:$C,$D53,'00 PDC SP'!I:I)","v":-93539.1},{"$f":"SUMIF('00 PDC SP'!$C:$C,$D53,'00 PDC SP'!J:J)","v":-149825.10999999999},{"$f":"SUMIF('00 PDC SP'!$C:$C,$D53,'00 PDC SP'!K:K)","v":-1672263.96},{"$f":"SUMIF('00 PDC SP'!$C:$C,$D53,'00 PDC SP'!L:L)","v":-133711.75},{"$f":"SUMIF('00 PDC SP'!$C:$C,$D53,'00 PDC SP'!M:M)","v":0},{"$f":"SUMIF('00 PDC SP'!$C:$C,$D53,'00 PDC SP'!N:N)","v":-1805975.71}]
["AAA500","A.II.7) Oggetti d'arte",null,"AAA500",null,{"$f":"SUMIF('00 PDC SP'!$C:$C,$D54,'00 PDC SP'!H:H)","v":0},{"$f":"SUMIF('00 PDC SP'!$C:$C,$D54,'00 PDC SP'!I:I)","v":0},{"$f":"SUMIF('00 PDC SP'!$C:$C,$D54,'00 PDC SP'!J:J)","v":0},{"$f":"SUMIF('00 PDC SP'!$C:$C,$D54,'00 PDC SP'!K:K)","v":0},{"$f":"SUMIF('00 PDC SP'!$C:$C,$D54,'00 PDC SP'!L:L)","v":0},{"$f":"SUMIF('00 PDC SP'!$C:$C,$D54,'00 PDC SP'!M:M)","v":0},{"$f":"SUMIF('00 PDC SP'!$C:$C,$D54,'00 PDC SP'!N:N)","v":0}]
["AAA510","A.II.8) Altre immobilizzazioni materiali","S","AAA510",null,{"$f":"SUM(F56:F57)","v":662302.06000000052},{"$f":"SUM(G56:G57)","v":16012.800000000017},18304.450000000012,660010.41000000108,102273.04999999999,0,762283.46]
["AAA520","A.II.8.a) Altre immobilizzazioni materiali",null,"AAA520",null,{"$f":"SUMIF('00 PDC SP'!$C:$C,$D56,'00 PDC SP'!H:H)","v":5917994.9800000004},{"$f":"SUMIF('00 PDC SP'!$C:$C,$D56,'00 PDC SP'!I:I)","v":267797.77},{"$f":"SUMIF('00 PDC SP'!$C:$C,$D56,'00 PDC SP'!J:J)","v":330490.18},{"$f":"SUMIF('00 PDC SP'!$C:$C,$D56,'00 PDC SP'!K:K)","v":5855302.5700000003},{"$f":"SUMIF('00 PDC SP'!$C:$C,$D56,'00 PDC SP'!L:L)","v":364296.66},{"$f":"SUMIF('00 PDC SP'!$C:$C,$D56,'00 PDC SP'!M:M)","v":1267.6100000000001},{"$f":"SUMIF('00 PDC SP'!$C:$C,$D56,'00 PDC SP'!N:N)","v":6218331.6199999992}]
["AAA530","A.II.8.b) F.do Amm.to Altre immobilizzazioni materiali",null,"AAA530",null,{"$f":"SUMIF('00 PDC SP'!$C:$C,$D57,'00 PDC SP'!H:H)","v":-5255692.92},{"$f":"SUMIF('00 PDC SP'!$C:$C,$D57,'00 PDC SP'!I:I)","v":-251784.97},{"$f":"SUMIF('00 PDC SP'!$C:$C,$D57,'00 PDC SP'!J:J)","v":-312185.73},{"$f":"SUMIF('00 PDC SP'!$C:$C,$D57,'00 PDC SP'!K:K)","v":-5195292.1599999992},{"$f":"SUMIF('00 PDC SP'!$C:$C,$D57,'00 PDC SP'!L:L)","v":-262023.61},{"$f":"SUMIF('00 PDC SP'!$C:$C,$D57,'00 PDC SP'!M:M)","v":-1267.6100000000001},{"$f":"SUMIF('00 PDC SP'!$C:$C,$D57,'00 PDC SP'!N:N)","v":-5456048.1599999992}]
["AAA540","A.II.9) Immobilizzazioni materiali in corso e acconti",null,"AAA540",null,{"$f":"SUMIF('00 PDC SP'!$C:$C,$D58,'00 PDC SP'!H:H)","v":10997952.57},{"$f":"SUMIF('00 PDC SP'!$C:$C,$D58,'00 PDC SP'!I:I)","v":1516047.7},{"$f":"SUMIF('00 PDC SP'!$C:$C,$D58,'00 PDC SP'!J:J)","v":3923799.5100000002},{"$f":"SUMIF('00 PDC SP'!$C:$C,$D58,'00 PDC SP'!K:K)","v":8590200.7599999998},{"$f":"SUMIF('00 PDC SP'!$C:$C,$D58,'00 PDC SP'!L:L)","v":2104562.67},{"$f":"SUMIF('00 PDC SP'!$C:$C,$D58,'00 PDC SP'!M:M)","v":98141.93},{"$f":"SUMIF('00 PDC SP'!$C:$C,$D58,'00 PDC SP'!N:N)","v":10596621.5}]
["AAA550","A.II.10) Fondo Svalutazione immobilizzazioni materiali","S","AAA550",null,{"$f":"SUM(F60:F67)","v":0},{"$f":"SUM(G60:G67)","v":0},0,0,0,0,0]
["AAA560","A.II.10.a) F.do Svalut. Terreni",null,"AAA560",null,{"$f":"SUMIF('00 PDC SP'!$C:$C,$D60,'00 PDC SP'!H:H)","v":0},{"$f":"SUMIF('00 PDC SP'!$C:$C,$D60,'00 PDC SP'!I:I)","v":0},{"$f":"SUMIF('00 PDC SP'!$C:$C,$D60,'00 PDC SP'!J:J)","v":0},{"$f":"SUMIF('00 PDC SP'!$C:$C,$D60,'00 PDC SP'!K:K)","v":0},{"$f":"SUMIF('00 PDC SP'!$C:$C,$D60,'00 PDC SP'!L:L)","v":0},{"$f":"SUMIF('00 PDC SP'!$C:$C,$D60,'00 PDC SP'!M:M)","v":0},{"$f":"SUMIF('00 PDC SP'!$C:$C,$D60,'00 PDC SP'!N:N)","v":0}]
["AAA570","A.II.10.b) F.do Svalut. Fabbricati",null,"AAA570",null,{"$f":"SUMIF('00 PDC SP'!$C:$C,$D61,'00 PDC SP'!H:H)","v":0},{"$f":"SUMIF('00 PDC SP'!$C:$C,$D61,'00 PDC SP'!I:I)","v":0},{"$f":"SUMIF('00 PDC SP'!$C:$C,$D61,'00 PDC SP'!J:J)","v":0},{"$f":"SUMIF('00 PDC SP'!$C:$C,$D61,'00 PDC SP'!K:K)","v":0},{"$f":"SUMIF('00 PDC SP'!$C:$C,$D61,'00 PDC SP'!L:L)","v":0},{"$f":"SUMIF('00 PDC SP'!$C:$C,$D61,'00 PDC SP'!M:M)","v":0},{"$f":"SUMIF('00 PDC SP'!$C:$C,$D61,'00 PDC SP'!N:N)","v":0}]
["AAA580","A.II.10.c) F.do Svalut. Impianti e macchinari",null,"AAA580",null,{"$f":"SUMIF('00 PDC SP'!$C:$C,$D62,'00 PDC SP'!H:H)","v":0},{"$f":"SUMIF('00 PDC SP'!$C:$C,$D62,'00 PDC SP'!I:I)","v":0},{"$f":"SUMIF('00 PDC SP'!$C:$C,$D62,'00 PDC SP'!J:J)","v":0},{"$f":"SUMIF('00 PDC SP'!$C:$C,$D62,'00 PDC SP'!K:K)","v":0},{"$f":"SUMIF('00 PDC SP'!$C:$C,$D62,'00 PDC SP'!L:L)","v":0},{"$f":"SUMIF('00 PDC SP'!$C:$C,$D62,'00 PDC SP'!M:M)","v":0},{"$f":"SUMIF('00 PDC SP'!$C:$C,$D62,'00 PDC SP'!N:N)","v":0}]
["AAA590","A.II.10.d) F.do Svalut. Attrezzature sanitarie e scientifiche",null,"AAA590",null,{"$f":"SUMIF('00 PDC SP'!$C:$C,$D63,'00 PDC SP'!H:H)","v":0},{"$f":"SUMIF('00 PDC SP'!$C:$C,$D63,'00 PDC SP'!I:I)","v":0},{"$f":"SUMIF('00 PDC SP'!$C:$C,$D63,'00 PDC SP'!J:J)","v":0},{"$f":"SUMIF('00 PDC SP'!$C:$C,$D63,'00 PDC SP'!K:K)","v":0},{"$f":"SUMIF('00 PDC SP'!$C:$C,$D63,'00 PDC SP'!L:L)","v":0},{"$f":"SUMIF('00 PDC SP'!$C:$C,$D63,'00 PDC SP'!M:M)","v":0},{"$f":"SUMIF('00 PDC SP'!$C:$C,$D63,'00 PDC SP'!N:N)","v":0}]
["AAA600","A.II.10.e) F.do Svalut. Mobili e arredi",null,"AAA600",null,{"$f":"SUMIF('00 PDC SP'!$C:$C,$D64,'00 PDC SP'!H:H)","v":0},{"$f":"SUMIF('00 PDC SP'!$C:$C,$D64,'00 PDC SP'!I:I)","v":0},{"$f":"SUMIF('00 PDC SP'!$C:$C,$D64,'00 PDC SP'!J:J)","v":0},{"$f":"SUMIF('00 PDC SP'!$C:$C,$D64,'00 PDC SP'!K:K)","v":0},{"$f":"SUMIF('00 PDC SP'!$C:$C,$D64,'00 PDC SP'!L:L)","v":0},{"$f":"SUMIF('00 PDC SP'!$C:$C,$D64,'00 PDC SP'!M:M)","v":0},{"$f":"SUMIF('00 PDC SP'!$C:$C,$D64,'00 PDC SP'!N:N)","v":0}]
["AAA610","A.II.10.f) F.do Svalut. Automezzi",null,"AAA610",null,{"$f":"SUMIF('00 PDC SP'!$C:$C,$D65,'00 PDC SP'!H:H)","v":0},{"$f":"SUMIF('00 PDC SP'!$C:$C,$D65,'00 PDC SP'!I:I)","v":0},{"$f":"SUMIF('00 PDC SP'!$C:$C,$D65,'00 PDC SP'!J:J)","v":0},{"$f":"SUMIF('00 PDC SP'!$C:$C,$D65,'00 PDC SP'!K:K)","v":0},{"$f":"SUMIF('00 PDC SP'!$C:$C,$D65,'00 PDC SP'!L:L)","v":0},{"$f":"SUMIF('00 PDC SP'!$C:$C,$D65,'00 PDC SP'!M:M)","v":0},{"$f":"SUMIF('00 PDC SP'!$C:$C,$D65,'00 PDC SP'!N:N)","v":0}]
["AAA620","A.II.10.g) F.do Svalut. Oggetti d'arte",null,"AAA620",null,{"$f":"SUMIF('00 PDC SP'!$C:$C,$D66,'00 PDC SP'!H:H)","v":0},{"$f":"SUMIF('00 PDC SP'!$C:$C,$D66,'00 PDC SP'!I:I)","v":0},{"$f":"SUMIF('00 PDC SP'!$C:$C,$D66,'00 PDC SP'!J:J)","v":0},{"$f":"SUMIF('00 PDC SP'!$C:$C,$D66,'00 PDC SP'!K:K)","v":0},{"$f":"SUMIF('00 PDC SP'!$C:$C,$D66,'00 PDC SP'!L:L)","v":0},{"$f":"SUMIF('00 PDC SP'!$C:$C,$D66,'00 PDC SP'!M:M)","v":0},{"$f":"SUMIF('00 PDC SP'!$C:$C,$D66,'00 PDC SP'!N:N)","v":0}]
["AAA630","A.II.10.h) F.do Svalut. Altre immobilizzazioni materiali",null,"AAA630",null,{"$f":"SUMIF('00 PDC SP'!$C:$C,$D67,'00 PDC SP'!H:H)","v":0},{"$f":"SUMIF('00 PDC SP'!$C:$C,$D67,'00 PDC SP'!I:I)","v":0},{"$f":"SUMIF('00 PDC SP'!$C:$C,$D67,'00 PDC SP'!J:J)","v":0},{"$f":"SUMIF('00 PDC SP'!$C:$C,$D67,'00 PDC SP'!K:K)","v":0},{"$f":"SUMIF('00 PDC SP'!$C:$C,$D67,'00 PDC SP'!L:L)","v":0},{"$f":"SUMIF('00 PDC SP'!$C:$C,$D67,'00 PDC SP'!M:M)","v":0},{"$f":"SUMIF('00 PDC SP'!$C:$C,$D67,'00 PDC SP'!N:N)","v":0}]
["AAA640","A.III) IMMOBILIZZAZIONI FINANZIARIE","S","AAA640",null,{"$f":"F69+F74+F76","v":14036.45},{"$f":"G69+G74+G76","v":0},0,14036.45,0,0,14036.45]
["AAA650","A.III.1) Crediti finanziari","S","AAA650",null,{"$f":"SUM(F70:F73)","v":14036.45},{"$f":"SUM(G70:G73)","v":0},0,14036.45,0,0,14036.45]
["AAA660","A.III.1.a) Crediti finanziari v/Stato",null,"AAA660",null,{"$f":"SUMIF('00 PDC SP'!$C:$C,$D70,'00 PDC SP'!H:H)","v":0},{"$f":"SUMIF('00 PDC SP'!$C:$C,$D70,'00 PDC SP'!I:I)","v":0},{"$f":"SUMIF('00 PDC SP'!$C:$C,$D70,'00 PDC SP'!J:J)","v":0},{"$f":"SUMIF('00 PDC SP'!$C:$C,$D70,'00 PDC SP'!K:K)","v":0},{"$f":"SUMIF('00 PDC SP'!$C:$C,$D70,'00 PDC SP'!L:L)","v":0},{"$f":"SUMIF('00 PDC SP'!$C:$C,$D70,'00 PDC SP'!M:M)","v":0},{"$f":"SUMIF('00 PDC SP'!$C:$C,$D70,'00 PDC SP'!N:N)","v":0}]
["AAA670","A.III.1.b) Crediti finanziari v/Regione",null,"AAA670",null,{"$f":"SUMIF('00 PDC SP'!$C:$C,$D71,'00 PDC SP'!H:H)","v":0},{"$f":"SUMIF('00 PDC SP'!$C:$C,$D71,'00 PDC SP'!I:I)","v":0},{"$f":"SUMIF('00 PDC SP'!$C:$C,$D71,'00 PDC SP'!J:J)","v":0},{"$f":"SUMIF('00 PDC SP'!$C:$C,$D71,'00 PDC SP'!K:K)","v":0},{"$f":"SUMIF('00 PDC SP'!$C:$C,$D71,'00 PDC SP'!L:L)","v":0},{"$f":"SUMIF('00 PDC SP'!$C:$C,$D71,'00 PDC SP'!M:M)","v":0},{"$f":"SUMIF('00 PDC SP'!$C:$C,$D71,'00 PDC SP'!N:N)","v":0}]
["AAA680","A.III.1.c) Crediti finanziari v/partecipate",null,"AAA680",null,{"$f":"SUMIF('00 PDC SP'!$C:$C,$D72,'00 PDC SP'!H:H)","v":0},{"$f":"SUMIF('00 PDC SP'!$C:$C,$D72,'00 PDC SP'!I:I)","v":0},{"$f":"SUMIF('00 PDC SP'!$C:$C,$D72,'00 PDC SP'!J:J)","v":0},{"$f":"SUMIF('00 PDC SP'!$C:$C,$D72,'00 PDC SP'!K:K)","v":0},{"$f":"SUMIF('00 PDC SP'!$C:$C,$D72,'00 PDC SP'!L:L)","v":0},{"$f":"SUMIF('00 PDC SP'!$C:$C,$D72,'00 PDC SP'!M:M)","v":0},{"$f":"SUMIF('00 PDC SP'!$C:$C,$D72,'00 PDC SP'!N:N)","v":0}]
["AAA690","A.III.1.d) Crediti finanziari v/altri",null,"AAA690",null,{"$f":"SUMIF('00 PDC SP'!$C:$C,$D73,'00 PDC SP'!H:H)","v":14036.45},{"$f":"SUMIF('00 PDC SP'!$C:$C,$D73,'00 PDC SP'!I:I)","v":0},{"$f":"SUMIF('00 PDC SP'!$C:$C,$D73,'00 PDC SP'!J:J)","v":0},{"$f":"SUMIF('00 PDC SP'!$C:$C,$D73,'00 PDC SP'!K:K)","v":14036.45},{"$f":"SUMIF('00 PDC SP'!$C:$C,$D73,'00 PDC SP'!L:L)","v":0},{"$f":"SUMIF('00 PDC SP'!$C:$C,$D73,'00 PDC SP'!M:M)","v":0},{"$f":"SUMIF('00 PDC SP'!$C:$C,$D73,'00 PDC SP'!N:N)","v":14036.45}]
["AAA700","A.III.2) Titoli","S","AAA700",null,{"$f":"F75+F76","v":0},{"$f":"G75+G76","v":0},0,0,0,0,0]
["AAA710","A.III.2.a) Partecipazioni",null,"AAA710",null,{"$f":"SUMIF('00 PDC SP'!$C:$C,$D75,'00 PDC SP'!H:H)","v":0},{"$f":"SUMIF('00 PDC SP'!$C:$C,$D75,'00 PDC SP'!I:I)","v":0},{"$f":"SUMIF('00 PDC SP'!$C:$C,$D75,'00 PDC SP'!J:J)","v":0},{"$f":"SUMIF('00 PDC SP'!$C:$C,$D75,'00 PDC SP'!K:K)","v":0},{"$f":"SUMIF('00 PDC SP'!$C:$C,$D75,'00 PDC SP'!L:L)","v":0},{"$f":"SUMIF('00 PDC SP'!$C:$C,$D75,'00 PDC SP'!M:M)","v":0},{"$f":"SUMIF('00 PDC SP'!$C:$C,$D75,'00 PDC SP'!N:N)","v":0}]
["AAA720","A.III.2.b) Altri titoli","S","AAA720",null,{"$f":"SUM(F77:F80)","v":0},{"$f":"SUM(G77:G80)","v":0},0,0,0,0,0]
["AAA730","A.III.2.b.1) Titoli di Stato",null,"AAA730",null,{"$f":"SUMIF('00 PDC SP'!$C:$C,$D77,'00 PDC SP'!H:H)","v":0},{"$f":"SUMIF('00 PDC SP'!$C:$C,$D77,'00 PDC SP'!I:I)","v":0},{"$f":"SUMIF('00 PDC SP'!$C:$C,$D77,'00 PDC SP'!J:J)","v":0},{"$f":"SUMIF('00 PDC SP'!$C:$C,$D77,'00 PDC SP'!K:K)","v":0},{"$f":"SUMIF('00 PDC SP'!$C:$C,$D77,'00 PDC SP'!L:L)","v":0},{"$f":"SUMIF('00 PDC SP'!$C:$C,$D77,'00 PDC SP'!M:M)","v":0},{"$f":"SUMIF('00 PDC SP'!$C:$C,$D77,'00 PDC SP'!N:N)","v":0}]
["AAA740","A.III.2.b.2) Altre Obbligazioni",null,"AAA740",null,{"$f":"SUMIF('00 PDC SP'!$C:$C,$D78,'00 PDC SP'!H:H)","v":0},{"$f":"SUMIF('00 PDC SP'!$C:$C,$D78,'00 PDC SP'!I:I)","v":0},{"$f":"SUMIF('00 PDC SP'!$C:$C,$D78,'00 PDC SP'!J:J)","v":0},{"$f":"SUMIF('00 PDC SP'!$C:$C,$D78,'00 PDC SP'!K:K)","v":0},{"$f":"SUMIF('00 PDC SP'!$C:$C,$D78,'00 PDC SP'!L:L)","v":0},{"$f":"SUMIF('00 PDC SP'!$C:$C,$D78,'00 PDC SP'!M:M)","v":0},{"$f":"SUMIF('00 PDC SP'!$C:$C,$D78,'00 PDC SP'!N:N)","v":0}]
["AAA750","A.III.2.b.3) Titoli azionari quotati in Borsa",null,"AAA750",null,{"$f":"SUMIF('00 PDC SP'!$C:$C,$D79,'00 PDC SP'!H:H)","v":0},{"$f":"SUMIF('00 PDC SP'!$C:$C,$D79,'00 PDC SP'!I:I)","v":0},{"$f":"SUMIF('00 PDC SP'!$C:$C,$D79,'00 PDC SP'!J:J)","v":0},{"$f":"SUMIF('00 PDC SP'!$C:$C,$D79,'00 PDC SP'!K:K)","v":0},{"$f":"SUMIF('00 PDC SP'!$C:$C,$D79,'00 PDC SP'!L:L)","v":0},{"$f":"SUMIF('00 PDC SP'!$C:$C,$D79,'00 PDC SP'!M:M)","v":0},{"$f":"SUMIF('00 PDC SP'!$C:$C,$D79,'00 PDC SP'!N:N)","v":0}]
["AAA760","A.III.2.b.4) Titoli diversi",null,"AAA760",null,{"$f":"SUMIF('00 PDC SP'!$C:$C,$D80,'00 PDC SP'!H:H)","v":0},{"$f":"SUMIF('00 PDC SP'!$C:$C,$D80,'00 PDC SP'!I:I)","v":0},{"$f":"SUMIF('00 PDC SP'!$C:$C,$D80,'00 PDC SP'!J:J)","v":0},{"$f":"SUMIF('00 PDC SP'!$C:$C,$D80,'00 PDC SP'!K:K)","v":0},{"$f":"SUMIF('00 PDC SP'!$C:$C,$D80,'00 PDC SP'!L:L)","v":0},{"$f":"SUMIF('00 PDC SP'!$C:$C,$D80,'00 PDC SP'!M:M)","v":0},{"$f":"SUMIF('00 PDC SP'!$C:$C,$D80,'00 PDC SP'!N:N)","v":0}]
["ABZ999","B) ATTIVO CIRCOLANTE","S","ABZ999",null,{"$f":"F82+F101+F165+F168","v":266253631.07999998},{"$f":"G82+G101+G165+G168","v":2107441961.7599998},2090110564.4800003,283585028.36000001,2269705695.0600004,2257944701.1399999,295346022.27999997]
["ABA000","B.I) RIMANENZE","S","ABA000",null,{"$f":"F83+F93","v":11844723.249999998},{"$f":"G83+G93","v":16855724.809999999},11844723.249999998,16855724.809999999,16371327.68,16855724.809999999,16371327.679999998]
["ABA010","B.I.1) Rimanenze beni sanitari","S","ABA010",null,{"$f":"SUM(F84:F92)","v":11334105.079999998},{"$f":"SUM(G84:G92)","v":16457605.35},11334105.079999998,16457605.35,16093031.77,16457605.35,16093031.769999998]
["ABA020","B.I.1.a) Prodotti farmaceutici ed emoderivati",null,"ABA020",null,{"$f":"SUMIF('00 PDC SP'!$C:$C,$D84,'00 PDC SP'!H:H)","v":5834132.1200000001},{"$f":"SUMIF('00 PDC SP'!$C:$C,$D84,'00 PDC SP'!I:I)","v":10541532.870000001},{"$f":"SUMIF('00 PDC SP'!$C:$C,$D84,'00 PDC SP'!J:J)","v":5834132.1200000001},{"$f":"SUMIF('00 PDC SP'!$C:$C,$D84,'00 PDC SP'!K:K)","v":10541532.870000001},{"$f":"SUMIF('00 PDC SP'!$C:$C,$D84,'00 PDC SP'!L:L)","v":10200393.279999999},{"$f":"SUMIF('00 PDC SP'!$C:$C,$D84,'00 PDC SP'!M:M)","v":10541532.870000001},{"$f":"SUMIF('00 PDC SP'!$C:$C,$D84,'00 PDC SP'!N:N)","v":10200393.279999997}]
["ABA030","B.I.1.b) Sangue ed emocomponenti",null,"ABA030",null,{"$f":"SUMIF('00 PDC SP'!$C:$C,$D85,'00 PDC SP'!H:H)","v":0},{"$f":"SUMIF('00 PDC SP'!$C:$C,$D85,'00 PDC SP'!I:I)","v":0},{"$f":"SUMIF('00 PDC SP'!$C:$C,$D85,'00 PDC SP'!J:J)","v":0},{"$f":"SUMIF('00 PDC SP'!$C:$C,$D85,'00 PDC SP'!K:K)","v":0},{"$f":"SUMIF('00 PDC SP'!$C:$C,$D85,'00 PDC SP'!L:L)","v":0},{"$f":"SUMIF('00 PDC SP'!$C:$C,$D85,'00 PDC SP'!M:M)","v":0},{"$f":"SUMIF('00 PDC SP'!$C:$C,$D85,'00 PDC SP'!N:N)","v":0}]
["ABA040","B.I.1.c) Dispositivi medici",null,"ABA040",null,{"$f":"SUMIF('00 PDC SP'!$C:$C,$D86,'00 PDC SP'!H:H)","v":5139047.9299999988},{"$f":"SUMIF('00 PDC SP'!$C:$C,$D86,'00 PDC SP'!I:I)","v":5544382.7299999986},{"$f":"SUMIF('00 PDC SP'!$C:$C,$D86,'00 PDC SP'!J:J)","v":5139047.9299999988},{"$f":"SUMIF('00 PDC SP'!$C:$C,$D86,'00 PDC SP'!K:K)","v":5544382.7299999986},{"$f":"SUMIF('00 PDC SP'!$C:$C,$D86,'00 PDC SP'!L:L)","v":5489072.3599999994},{"$f":"SUMIF('00 PDC SP'!$C:$C,$D86,'00 PDC SP'!M:M)","v":5544382.7299999986},{"$f":"SUMIF('00 PDC SP'!$C:$C,$D86,'00 PDC SP'!N:N)","v":5489072.3599999994}]
["ABA050","B.I.1.d) Prodotti dietetici",null,"ABA050",null,{"$f":"SUMIF('00 PDC SP'!$C:$C,$D87,'00 PDC SP'!H:H)","v":63620.12},{"$f":"SUMIF('00 PDC SP'!$C:$C,$D87,'00 PDC SP'!I:I)","v":71649.81},{"$f":"SUMIF('00 PDC SP'!$C:$C,$D87,'00 PDC SP'!J:J)","v":63620.12},{"$f":"SUMIF('00 PDC SP'!$C:$C,$D87,'00 PDC SP'!K:K)","v":71649.81},{"$f":"SUMIF('00 PDC SP'!$C:$C,$D87,'00 PDC SP'!L:L)","v":75502.989999999991},{"$f":"SUMIF('00 PDC SP'!$C:$C,$D87,'00 PDC SP'!M:M)","v":71649.81},{"$f":"SUMIF('00 PDC SP'!$C:$C,$D87,'00 PDC SP'!N:N)","v":75502.990000000005}]
["ABA060","B.I.1.e) Materiali per la profilassi (vaccini)",null,"ABA060",null,{"$f":"SUMIF('00 PDC SP'!$C:$C,$D88,'00 PDC SP'!H:H)","v":1112.76},{"$f":"SUMIF('00 PDC SP'!$C:$C,$D88,'00 PDC SP'!I:I)","v":2856.7},{"$f":"SUMIF('00 PDC SP'!$C:$C,$D88,'00 PDC SP'!J:J)","v":1112.76},{"$f":"SUMIF('00 PDC SP'!$C:$C,$D88,'00 PDC SP'!K:K)","v":2856.7},{"$f":"SUMIF('00 PDC SP'!$C:$C,$D88,'00 PDC SP'!L:L)","v":0},{"$f":"SUMIF('00 PDC SP'!$C:$C,$D88,'00 PDC SP'!M:M)","v":2856.7},{"$f":"SUMIF('00 PDC SP'!$C:$C,$D88,'00 PDC SP'!N:N)","v":0}]
["ABA070","B.I.1.f) Prodotti chimici",null,"ABA070",null,{"$f":"SUMIF('00 PDC SP'!$C:$C,$D89,'00 PDC SP'!H:H)","v":0},{"$f":"SUMIF('00 PDC SP'!$C:$C,$D89,'00 PDC SP'!I:I)","v":0},{"$f":"SUMIF('00 PDC SP'!$C:$C,$D89,'00 PDC SP'!J:J)","v":0},{"$f":"SUMIF('00 PDC SP'!$C:$C,$D89,'00 PDC SP'!K:K)","v":0},{"$f":"SUMIF('00 PDC SP'!$C:$C,$D89,'00 PDC SP'!L:L)","v":0},{"$f":"SUMIF('00 PDC SP'!$C:$C,$D89,'00 PDC SP'!M:M)","v":0},{"$f":"SUMIF('00 PDC SP'!$C:$C,$D89,'00 PDC SP'!N:N)","v":0}]
["ABA080","B.I.1.g) Materiali e prodotti per uso veterinario",null,"ABA080",null,{"$f":"SUMIF('00 PDC SP'!$C:$C,$D90,'00 PDC SP'!H:H)","v":0},{"$f":"SUMIF('00 PDC SP'!$C:$C,$D90,'00 PDC SP'!I:I)","v":0},{"$f":"SUMIF('00 PDC SP'!$C:$C,$D90,'00 PDC SP'!J:J)","v":0},{"$f":"SUMIF('00 PDC SP'!$C:$C,$D90,'00 PDC SP'!K:K)","v":0},{"$f":"SUMIF('00 PDC SP'!$C:$C,$D90,'00 PDC SP'!L:L)","v":0},{"$f":"SUMIF('00 PDC SP'!$C:$C,$D90,'00 PDC SP'!M:M)","v":0},{"$f":"SUMIF('00 PDC SP'!$C:$C,$D90,'00 PDC SP'!N:N)","v":0}]
["ABA090","B.I.1.h) Altri beni e prodotti sanitari",null,"ABA090",null,{"$f":"SUMIF('00 PDC SP'!$C:$C,$D91,'00 PDC SP'!H:H)","v":296192.15000000002},{"$f":"SUMIF('00 PDC SP'!$C:$C,$D91,'00 PDC SP'!I:I)","v":297183.24},{"$f":"SUMIF('00 PDC SP'!$C:$C,$D91,'00 PDC SP'!J:J)","v":296192.15000000002},{"$f":"SUMIF('00 PDC SP'!$C:$C,$D91,'00 PDC SP'!K:K)","v":297183.24},{"$f":"SUMIF('00 PDC SP'!$C:$C,$D91,'00 PDC SP'!L:L)","v":328063.14},{"$f":"SUMIF('00 PDC SP'!$C:$C,$D91,'00 PDC SP'!M:M)","v":297183.24},{"$f":"SUMIF('00 PDC SP'!$C:$C,$D91,'00 PDC SP'!N:N)","v":328063.14}]
["ABA100","B.I.1.i) Acconti per acquisto di beni e prodotti sanitari",null,"ABA100",null,{"$f":"SUMIF('00 PDC SP'!$C:$C,$D92,'00 PDC SP'!H:H)","v":0},{"$f":"SUMIF('00 PDC SP'!$C:$C,$D92,'00 PDC SP'!I:I)","v":0},{"$f":"SUMIF('00 PDC SP'!$C:$C,$D92,'00 PDC SP'!J:J)","v":0},{"$f":"SUMIF('00 PDC SP'!$C:$C,$D92,'00 PDC SP'!K:K)","v":0},{"$f":"SUMIF('00 PDC SP'!$C:$C,$D92,'00 PDC SP'!L:L)","v":0},{"$f":"SUMIF('00 PDC SP'!$C:$C,$D92,'00 PDC SP'!M:M)","v":0},{"$f":"SUMIF('00 PDC SP'!$C:$C,$D92,'00 PDC SP'!N:N)","v":0}]
["ABA110","B.I.2) Rimanenze beni non sanitari","S","ABA110",null,{"$f":"SUM(F94:F100)","v":510618.16999999993},{"$f":"SUM(G94:G100)","v":398119.46},510618.16999999993,398119.46,278295.91000000003,398119.46,278295.90999999997]
["ABA120","B.I.2.a) Prodotti alimentari",null,"ABA120",null,{"$f":"SUMIF('00 PDC SP'!$C:$C,$D94,'00 PDC SP'!H:H)","v":0},{"$f":"SUMIF('00 PDC SP'!$C:$C,$D94,'00 PDC SP'!I:I)","v":0},{"$f":"SUMIF('00 PDC SP'!$C:$C,$D94,'00 PDC SP'!J:J)","v":0},{"$f":"SUMIF('00 PDC SP'!$C:$C,$D94,'00 PDC SP'!K:K)","v":0},{"$f":"SUMIF('00 PDC SP'!$C:$C,$D94,'00 PDC SP'!L:L)","v":0},{"$f":"SUMIF('00 PDC SP'!$C:$C,$D94,'00 PDC SP'!M:M)","v":0},{"$f":"SUMIF('00 PDC SP'!$C:$C,$D94,'00 PDC SP'!N:N)","v":0}]
["ABA130","B.I.2.b) Materiali di guardaroba, di pulizia, e di convivenza in genere",null,"ABA130",null,{"$f":"SUMIF('00 PDC SP'!$C:$C,$D95,'00 PDC SP'!H:H)","v":29727.94},{"$f":"SUMIF('00 PDC SP'!$C:$C,$D95,'00 PDC SP'!I:I)","v":29504.9},{"$f":"SUMIF('00 PDC SP'!$C:$C,$D95,'00 PDC SP'!J:J)","v":29727.94},{"$f":"SUMIF('00 PDC SP'!$C:$C,$D95,'00 PDC SP'!K:K)","v":29504.9},{"$f":"SUMIF('00 PDC SP'!$C:$C,$D95,'00 PDC SP'!L:L)","v":30345.25},{"$f":"SUMIF('00 PDC SP'!$C:$C,$D95,'00 PDC SP'!M:M)","v":29504.9},{"$f":"SUMIF('00 PDC SP'!$C:$C,$D95,'00 PDC SP'!N:N)","v":30345.25}]
["ABA140","B.I.2.c) Combustibili, carburanti e lubrificanti",null,"ABA140",null,{"$f":"SUMIF('00 PDC SP'!$C:$C,$D96,'00 PDC SP'!H:H)","v":0},{"$f":"SUMIF('00 PDC SP'!$C:$C,$D96,'00 PDC SP'!I:I)","v":0},{"$f":"SUMIF('00 PDC SP'!$C:$C,$D96,'00 PDC SP'!J:J)","v":0},{"$f":"SUMIF('00 PDC SP'!$C:$C,$D96,'00 PDC SP'!K:K)","v":0},{"$f":"SUMIF('00 PDC SP'!$C:$C,$D96,'00 PDC SP'!L:L)","v":0},{"$f":"SUMIF('00 PDC SP'!$C:$C,$D96,'00 PDC SP'!M:M)","v":0},{"$f":"SUMIF('00 PDC SP'!$C:$C,$D96,'00 PDC SP'!N:N)","v":0}]
["ABA150","B.I.2.d) Supporti informatici e cancelleria",null,"ABA150",null,{"$f":"SUMIF('00 PDC SP'!$C:$C,$D97,'00 PDC SP'!H:H)","v":362290.35},{"$f":"SUMIF('00 PDC SP'!$C:$C,$D97,'00 PDC SP'!I:I)","v":209556.43},{"$f":"SUMIF('00 PDC SP'!$C:$C,$D97,'00 PDC SP'!J:J)","v":362290.35},{"$f":"SUMIF('00 PDC SP'!$C:$C,$D97,'00 PDC SP'!K:K)","v":209556.43},{"$f":"SUMIF('00 PDC SP'!$C:$C,$D97,'00 PDC SP'!L:L)","v":225256.65},{"$f":"SUMIF('00 PDC SP'!$C:$C,$D97,'00 PDC SP'!M:M)","v":209556.43},{"$f":"SUMIF('00 PDC SP'!$C:$C,$D97,'00 PDC SP'!N:N)","v":225256.64999999997}]
["ABA160","B.I.2.e) Materiale per la manutenzione",null,"ABA160",null,{"$f":"SUMIF('00 PDC SP'!$C:$C,$D98,'00 PDC SP'!H:H)","v":117370.13999999998},{"$f":"SUMIF('00 PDC SP'!$C:$C,$D98,'00 PDC SP'!I:I)","v":158555.70000000001},{"$f":"SUMIF('00 PDC SP'!$C:$C,$D98,'00 PDC SP'!J:J)","v":117370.13999999998},{"$f":"SUMIF('00 PDC SP'!$C:$C,$D98,'00 PDC SP'!K:K)","v":158555.70000000001},{"$f":"SUMIF('00 PDC SP'!$C:$C,$D98,'00 PDC SP'!L:L)","v":21536.05},{"$f":"SUMIF('00 PDC SP'!$C:$C,$D98,'00 PDC SP'!M:M)","v":158555.70000000001},{"$f":"SUMIF('00 PDC SP'!$C:$C,$D98,'00 PDC SP'!N:N)","v":21536.05000000001}]
["ABA170","B.I.2.f) Altri beni e prodotti non sanitari",null,"ABA170",null,{"$f":"SUMIF('00 PDC SP'!$C:$C,$D99,'00 PDC SP'!H:H)","v":1229.74},{"$f":"SUMIF('00 PDC SP'!$C:$C,$D99,'00 PDC SP'!I:I)","v":502.43},{"$f":"SUMIF('00 PDC SP'!$C:$C,$D99,'00 PDC SP'!J:J)","v":1229.74},{"$f":"SUMIF('00 PDC SP'!$C:$C,$D99,'00 PDC SP'!K:K)","v":502.43},{"$f":"SUMIF('00 PDC SP'!$C:$C,$D99,'00 PDC SP'!L:L)","v":1157.96},{"$f":"SUMIF('00 PDC SP'!$C:$C,$D99,'00 PDC SP'!M:M)","v":502.43},{"$f":"SUMIF('00 PDC SP'!$C:$C,$D99,'00 PDC SP'!N:N)","v":1157.96}]
["ABA180","B.I.2.g) Acconti per acquisto di beni e prodotti non sanitari",null,"ABA180",null,{"$f":"SUMIF('00 PDC SP'!$C:$C,$D100,'00 PDC SP'!H:H)","v":0},{"$f":"SUMIF('00 PDC SP'!$C:$C,$D100,'00 PDC SP'!I:I)","v":0},{"$f":"SUMIF('00 PDC SP'!$C:$C,$D100,'00 PDC SP'!J:J)","v":0},{"$f":"SUMIF('00 PDC SP'!$C:$C,$D100,'00 PDC SP'!K:K)","v":0},{"$f":"SUMIF('00 PDC SP'!$C:$C,$D100,'00 PDC SP'!L:L)","v":0},{"$f":"SUMIF('00 PDC SP'!$C:$C,$D100,'00 PDC SP'!M:M)","v":0},{"$f":"SUMIF('00 PDC SP'!$C:$C,$D100,'00 PDC SP'!N:N)","v":0}]
["ABA190","B.II) CREDITI","S","ABA190",null,{"$f":"F102+F118+F139+F140+F149+F153+F154","v":181602325.31},{"$f":"G102+G118+G139+G140+G149+G153+G154","v":1463465367.76},1425846498.2500002,219221194.82000002,1561523995.4100003,1577095277.4799998,203649912.75]
["ABA200","B.II.1) Crediti v/Stato","S","ABA200",null,{"$f":"F103+F104+F105+F106+F107+F108+F109+F110+F112+F117","v":98082.74},{"$f":"G103+G104+G105+G106+G107+G108+G109+G110+G112+G117","v":154584.84},245746.06,6921.52,99447.05,93639.37,12729.200000000012]
["ABA201","B.II.1.a) Crediti v/Stato per spesa corrente - FSN indistinto",null,"ABA201",null,{"$f":"SUMIF('00 PDC SP'!$C:$C,$D103,'00 PDC SP'!H:H)","v":0},{"$f":"SUMIF('00 PDC SP'!$C:$C,$D103,'00 PDC SP'!I:I)","v":50822.1},{"$f":"SUMIF('00 PDC SP'!$C:$C,$D103,'00 PDC SP'!J:J)","v":48520.58},{"$f":"SUMIF('00 PDC SP'!$C:$C,$D103,'00 PDC SP'!K:K)","v":2301.52},{"$f":"SUMIF('00 PDC SP'!$C:$C,$D103,'00 PDC SP'!L:L)","v":98325.05},{"$f":"SUMIF('00 PDC SP'!$C:$C,$D103,'00 PDC SP'!M:M)","v":93639.37},{"$f":"SUMIF('00 PDC SP'!$C:$C,$D103,'00 PDC SP'!N:N)","v":6987.2000000000116}]
["ABA220","B.II.1.b) Crediti v/Stato per spesa corrente - FSN vincolato",null,"ABA220",null,{"$f":"SUMIF('00 PDC SP'!$C:$C,$D104,'00 PDC SP'!H:H)","v":0},{"$f":"SUMIF('00 PDC SP'!$C:$C,$D104,'00 PDC SP'!I:I)","v":0},{"$f":"SUMIF('00 PDC SP'!$C:$C,$D104,'00 PDC SP'!J:J)","v":0},{"$f":"SUMIF('00 PDC SP'!$C:$C,$D104,'00 PDC SP'!K:K)","v":0},{"$f":"SUMIF('00 PDC SP'!$C:$C,$D104,'00 PDC SP'!L:L)","v":0},{"$f":"SUMIF('00 PDC SP'!$C:$C,$D104,'00 PDC SP'!M:M)","v":0},{"$f":"SUMIF('00 PDC SP'!$C:$C,$D104,'00 PDC SP'!N:N)","v":0}]
["ABA230","B.II.1.c) Crediti v/Stato per mobilità attiva extraregionale",null,"ABA230",null,{"$f":"SUMIF('00 PDC SP'!$C:$C,$D105,'00 PDC SP'!H:H)","v":0},{"$f":"SUMIF('00 PDC SP'!$C:$C,$D105,'00 PDC SP'!I:I)","v":0},{"$f":"SUMIF('00 PDC SP'!$C:$C,$D105,'00 PDC SP'!J:J)","v":0},{"$f":"SUMIF('00 PDC SP'!$C:$C,$D105,'00 PDC SP'!K:K)","v":0},{"$f":"SUMIF('00 PDC SP'!$C:$C,$D105,'00 PDC SP'!L:L)","v":0},{"$f":"SUMIF('00 PDC SP'!$C:$C,$D105,'00 PDC SP'!M:M)","v":0},{"$f":"SUMIF('00 PDC SP'!$C:$C,$D105,'00 PDC SP'!N:N)","v":0}]
["ABA240","B.II.1.d) Crediti v/Stato per mobilità attiva internazionale",null,"ABA240",null,{"$f":"SUMIF('00 PDC SP'!$C:$C,$D106,'00 PDC SP'!H:H)","v":0},{"$f":"SUMIF('00 PDC SP'!$C:$C,$D106,'00 PDC SP'!I:I)","v":0},{"$f":"SUMIF('00 PDC SP'!$C:$C,$D106,'00 PDC SP'!J:J)","v":0},{"$f":"SUMIF('00 PDC SP'!$C:$C,$D106,'00 PDC SP'!K:K)","v":0},{"$f":"SUMIF('00 PDC SP'!$C:$C,$D106,'00 PDC SP'!L:L)","v":0},{"$f":"SUMIF('00 PDC SP'!$C:$C,$D106,'00 PDC SP'!M:M)","v":0},{"$f":"SUMIF('00 PDC SP'!$C:$C,$D106,'00 PDC SP'!N:N)","v":0}]
["ABA250","B.II.1.e) Crediti v/Stato per acconto quota fabbisogno sanitario regionale standard",null,"ABA250",null,{"$f":"SUMIF('00 PDC SP'!$C:$C,$D107,'00 PDC SP'!H:H)","v":0},{"$f":"SUMIF('00 PDC SP'!$C:$C,$D107,'00 PDC SP'!I:I)","v":0},{"$f":"SUMIF('00 PDC SP'!$C:$C,$D107,'00 PDC SP'!J:J)","v":0},{"$f":"SUMIF('00 PDC SP'!$C:$C,$D107,'00 PDC SP'!K:K)","v":0},{"$f":"SUMIF('00 PDC SP'!$C:$C,$D107,'00 PDC SP'!L:L)","v":0},{"$f":"SUMIF('00 PDC SP'!$C:$C,$D107,'00 PDC SP'!M:M)","v":0},{"$f":"SUMIF('00 PDC SP'!$C:$C,$D107,'00 PDC SP'!N:N)","v":0}]
["ABA260","B.II.1.f) Crediti v/Stato per finanziamento sanitario aggiuntivo corrente",null,"ABA260",null,{"$f":"SUMIF('00 PDC SP'!$C:$C,$D108,'00 PDC SP'!H:H)","v":0},{"$f":"SUMIF('00 PDC SP'!$C:$C,$D108,'00 PDC SP'!I:I)","v":0},{"$f":"SUMIF('00 PDC SP'!$C:$C,$D108,'00 PDC SP'!J:J)","v":0},{"$f":"SUMIF('00 PDC SP'!$C:$C,$D108,'00 PDC SP'!K:K)","v":0},{"$f":"SUMIF('00 PDC SP'!$C:$C,$D108,'00 PDC SP'!L:L)","v":0},{"$f":"SUMIF('00 PDC SP'!$C:$C,$D108,'00 PDC SP'!M:M)","v":0},{"$f":"SUMIF('00 PDC SP'!$C:$C,$D108,'00 PDC SP'!N:N)","v":0}]
["ABA270","B.II.1.g) Crediti v/Stato per spesa corrente - altro",null,"ABA270",null,{"$f":"SUMIF('00 PDC SP'!$C:$C,$D109,'00 PDC SP'!H:H)","v":0},{"$f":"SUMIF('00 PDC SP'!$C:$C,$D109,'00 PDC SP'!I:I)","v":0},{"$f":"SUMIF('00 PDC SP'!$C:$C,$D109,'00 PDC SP'!J:J)","v":0},{"$f":"SUMIF('00 PDC SP'!$C:$C,$D109,'00 PDC SP'!K:K)","v":0},{"$f":"SUMIF('00 PDC SP'!$C:$C,$D109,'00 PDC SP'!L:L)","v":0},{"$f":"SUMIF('00 PDC SP'!$C:$C,$D109,'00 PDC SP'!M:M)","v":0},{"$f":"SUMIF('00 PDC SP'!$C:$C,$D109,'00 PDC SP'!N:N)","v":0}]
["ABA271","B.II.1.h) Crediti v/Stato per spesa corrente per STP (ex D.lgs. 286/98)",null,"ABA271",null,{"$f":"SUMIF('00 PDC SP'!$C:$C,$D110,'00 PDC SP'!H:H)","v":0},{"$f":"SUMIF('00 PDC SP'!$C:$C,$D110,'00 PDC SP'!I:I)","v":0},{"$f":"SUMIF('00 PDC SP'!$C:$C,$D110,'00 PDC SP'!J:J)","v":0},{"$f":"SUMIF('00 PDC SP'!$C:$C,$D110,'00 PDC SP'!K:K)","v":0},{"$f":"SUMIF('00 PDC SP'!$C:$C,$D110,'00 PDC SP'!L:L)","v":0},{"$f":"SUMIF('00 PDC SP'!$C:$C,$D110,'00 PDC SP'!M:M)","v":0},{"$f":"SUMIF('00 PDC SP'!$C:$C,$D110,'00 PDC SP'!N:N)","v":0}]
["ABA280","B.II.1.i) Crediti v/Stato per finanziamenti per investimenti",null,"ABA280",null,{"$f":"SUMIF('00 PDC SP'!$C:$C,$D111,'00 PDC SP'!H:H)","v":0},{"$f":"SUMIF('00 PDC SP'!$C:$C,$D111,'00 PDC SP'!I:I)","v":0},{"$f":"SUMIF('00 PDC SP'!$C:$C,$D111,'00 PDC SP'!J:J)","v":0},{"$f":"SUMIF('00 PDC SP'!$C:$C,$D111,'00 PDC SP'!K:K)","v":0},{"$f":"SUMIF('00 PDC SP'!$C:$C,$D111,'00 PDC SP'!L:L)","v":0},{"$f":"SUMIF('00 PDC SP'!$C:$C,$D111,'00 PDC SP'!M:M)","v":0},{"$f":"SUMIF('00 PDC SP'!$C:$C,$D111,'00 PDC SP'!N:N)","v":0}]
["ABA290","B.II.1.j) Crediti v/Stato per ricerca","S","ABA290",null,{"$f":"F113+F114+F115+F116","v":4620},{"$f":"G113+G114+G115+G116","v":10300},10300,4620,1122,0,5742]
["ABA300","B.II.1.j.1) Crediti v/Stato per ricerca corrente - Ministero della Salute",null,"ABA300",null,{"$f":"SUMIF('00 PDC SP'!$C:$C,$D113,'00 PDC SP'!H:H)","v":0},{"$f":"SUMIF('00 PDC SP'!$C:$C,$D113,'00 PDC SP'!I:I)","v":0},{"$f":"SUMIF('00 PDC SP'!$C:$C,$D113,'00 PDC SP'!J:J)","v":0},{"$f":"SUMIF('00 PDC SP'!$C:$C,$D113,'00 PDC SP'!K:K)","v":0},{"$f":"SUMIF('00 PDC SP'!$C:$C,$D113,'00 PDC SP'!L:L)","v":0},{"$f":"SUMIF('00 PDC SP'!$C:$C,$D113,'00 PDC SP'!M:M)","v":0},{"$f":"SUMIF('00 PDC SP'!$C:$C,$D113,'00 PDC SP'!N:N)","v":0}]
["ABA310","B.II.1.j.2) Crediti v/Stato per ricerca finalizzata - Ministero della Salute",null,"ABA310",null,{"$f":"SUMIF('00 PDC SP'!$C:$C,$D114,'00 PDC SP'!H:H)","v":4620},{"$f":"SUMIF('00 PDC SP'!$C:$C,$D114,'00 PDC SP'!I:I)","v":10300},{"$f":"SUMIF('00 PDC SP'!$C:$C,$D114,'00 PDC SP'!J:J)","v":10300},{"$f":"SUMIF('00 PDC SP'!$C:$C,$D114,'00 PDC SP'!K:K)","v":4620},{"$f":"SUMIF('00 PDC SP'!$C:$C,$D114,'00 PDC SP'!L:L)","v":1122},{"$f":"SUMIF('00 PDC SP'!$C:$C,$D114,'00 PDC SP'!M:M)","v":0},{"$f":"SUMIF('00 PDC SP'!$C:$C,$D114,'00 PDC SP'!N:N)","v":5742}]
["ABA320","B.II.1.j.3) Crediti v/Stato per ricerca - altre Amministrazioni centrali ",null,"ABA320",null,{"$f":"SUMIF('00 PDC SP'!$C:$C,$D115,'00 PDC SP'!H:H)","v":0},{"$f":"SUMIF('00 PDC SP'!$C:$C,$D115,'00 PDC SP'!I:I)","v":0},{"$f":"SUMIF('00 PDC SP'!$C:$C,$D115,'00 PDC SP'!J:J)","v":0},{"$f":"SUMIF('00 PDC SP'!$C:$C,$D115,'00 PDC SP'!K:K)","v":0},{"$f":"SUMIF('00 PDC SP'!$C:$C,$D115,'00 PDC SP'!L:L)","v":0},{"$f":"SUMIF('00 PDC SP'!$C:$C,$D115,'00 PDC SP'!M:M)","v":0},{"$f":"SUMIF('00 PDC SP'!$C:$C,$D115,'00 PDC SP'!N:N)","v":0}]
["ABA330","B.II.1.j.4) Crediti v/Stato per ricerca - finanziamenti per investimenti",null,"ABA330",null,{"$f":"SUMIF('00 PDC SP'!$C:$C,$D116,'00 PDC SP'!H:H)","v":0},{"$f":"SUMIF('00 PDC SP'!$C:$C,$D116,'00 PDC SP'!I:I)","v":0},{"$f":"SUMIF('00 PDC SP'!$C:$C,$D116,'00 PDC SP'!J:J)","v":0},{"$f":"SUMIF('00 PDC SP'!$C:$C,$D116,'00 PDC SP'!K:K)","v":0},{"$f":"SUMIF('00 PDC SP'!$C:$C,$D116,'00 PDC SP'!L:L)","v":0},{"$f":"SUMIF('00 PDC SP'!$C:$C,$D116,'00 PDC SP'!M:M)","v":0},{"$f":"SUMIF('00 PDC SP'!$C:$C,$D116,'00 PDC SP'!N:N)","v":0}]
["ABA340","B.II.1.k) Crediti v/prefetture",null,"ABA340",null,{"$f":"SUMIF('00 PDC SP'!$C:$C,$D117,'00 PDC SP'!H:H)","v":93462.74},{"$f":"SUMIF('00 PDC SP'!$C:$C,$D117,'00 PDC SP'!I:I)","v":93462.74},{"$f":"SUMIF('00 PDC SP'!$C:$C,$D117,'00 PDC SP'!J:J)","v":186925.48},{"$f":"SUMIF('00 PDC SP'!$C:$C,$D117,'00 PDC SP'!K:K)","v":0},{"$f":"SUMIF('00 PDC SP'!$C:$C,$D117,'00 PDC SP'!L:L)","v":0},{"$f":"SUMIF('00 PDC SP'!$C:$C,$D117,'00 PDC SP'!M:M)","v":0},{"$f":"SUMIF('00 PDC SP'!$C:$C,$D117,'00 PDC SP'!N:N)","v":0}]
["ABA350","B.II.2) Crediti v/Regione o Provincia Autonoma","S","ABA350",null,{"$f":"F119+F130","v":176422344.78999999},{"$f":"G119+G130","v":1441602435.24},1403682648.8600001,214342131.17000002,1528555250.4300003,1545801481.03,197095900.57000002]
["ABA360","B.II.2.a) Crediti v/Regione o Provincia Autonoma per spesa corrente","S","ABA360",null,{"$f":"F120+F121+F122+F123+F124+F125+F126+F127+F128+F129","v":162119379.78999999},{"$f":"G120+G121+G122+G123+G124+G125+G126+G127+G128+G129","v":1427992811.24},1403682648.8600001,186429542.17000002,1527872623.7600002,1544765050.1700001,169537115.76000002]
["ABA390","B.II.2.a.1) Crediti v/Regione o Provincia Autonoma per quota FSR",null,"ABA390",null,{"$f":"SUMIF('00 PDC SP'!$C:$C,$D120,'00 PDC SP'!H:H)","v":115880045.09999999},{"$f":"SUMIF('00 PDC SP'!$C:$C,$D120,'00 PDC SP'!I:I)","v":699144829.10000002},{"$f":"SUMIF('00 PDC SP'!$C:$C,$D120,'00 PDC SP'!J:J)","v":673828882.24000001},{"$f":"SUMIF('00 PDC SP'!$C:$C,$D120,'00 PDC SP'!K:K)","v":141195991.96000001},{"$f":"SUMIF('00 PDC SP'!$C:$C,$D120,'00 PDC SP'!L:L)","v":743631926.5},{"$f":"SUMIF('00 PDC SP'!$C:$C,$D120,'00 PDC SP'!M:M)","v":761266852.44000006},{"$f":"SUMIF('00 PDC SP'!$C:$C,$D120,'00 PDC SP'!N:N)","v":123561066.02000001}]
["ABA400","B.II.2.a.2) Crediti v/Regione o Provincia Autonoma per mobilità attiva intraregionale",null,"ABA400",null,{"$f":"SUMIF('00 PDC SP'!$C:$C,$D121,'00 PDC SP'!H:H)","v":16849743.379999999},{"$f":"SUMIF('00 PDC SP'!$C:$C,$D121,'00 PDC SP'!I:I)","v":99510381.010000005},{"$f":"SUMIF('00 PDC SP'!$C:$C,$D121,'00 PDC SP'!J:J)","v":99510381},{"$f":"SUMIF('00 PDC SP'!$C:$C,$D121,'00 PDC SP'!K:K)","v":16849743.390000001},{"$f":"SUMIF('00 PDC SP'!$C:$C,$D121,'00 PDC SP'!L:L)","v":102476232.31999999},{"$f":"SUMIF('00 PDC SP'!$C:$C,$D121,'00 PDC SP'!M:M)","v":102476232.31999999},{"$f":"SUMIF('00 PDC SP'!$C:$C,$D121,'00 PDC SP'!N:N)","v":16849743.390000008}]
["ABA410","B.II.2.a.3) Crediti v/Regione o Provincia Autonoma per mobilità attiva extraregionale",null,"ABA410",null,{"$f":"SUMIF('00 PDC SP'!$C:$C,$D122,'00 PDC SP'!H:H)","v":19005500.289999999},{"$f":"SUMIF('00 PDC SP'!$C:$C,$D122,'00 PDC SP'!I:I)","v":23288119.719999999},{"$f":"SUMIF('00 PDC SP'!$C:$C,$D122,'00 PDC SP'!J:J)","v":23288119.719999999},{"$f":"SUMIF('00 PDC SP'!$C:$C,$D122,'00 PDC SP'!K:K)","v":19005500.289999999},{"$f":"SUMIF('00 PDC SP'!$C:$C,$D122,'00 PDC SP'!L:L)","v":26206460.129999999},{"$f":"SUMIF('00 PDC SP'!$C:$C,$D122,'00 PDC SP'!M:M)","v":26206460.129999999},{"$f":"SUMIF('00 PDC SP'!$C:$C,$D122,'00 PDC SP'!N:N)","v":19005500.290000003}]
["ABA420","B.II.2.a.4) Crediti v/Regione o Provincia Autonoma per acconto quota FSR",null,"ABA420",null,{"$f":"SUMIF('00 PDC SP'!$C:$C,$D123,'00 PDC SP'!H:H)","v":0},{"$f":"SUMIF('00 PDC SP'!$C:$C,$D123,'00 PDC SP'!I:I)","v":603150469.75},{"$f":"SUMIF('00 PDC SP'!$C:$C,$D123,'00 PDC SP'!J:J)","v":603150469.75},{"$f":"SUMIF('00 PDC SP'!$C:$C,$D123,'00 PDC SP'!K:K)","v":0},{"$f":"SUMIF('00 PDC SP'!$C:$C,$D123,'00 PDC SP'!L:L)","v":645488212.04999995},{"$f":"SUMIF('00 PDC SP'!$C:$C,$D123,'00 PDC SP'!M:M)","v":645488212.04999995},{"$f":"SUMIF('00 PDC SP'!$C:$C,$D123,'00 PDC SP'!N:N)","v":0}]
["ABA430","B.II.2.a.5) Crediti v/Regione o Provincia Autonoma per finanziamento sanitario aggiuntivo corrente LEA",null,"ABA430",null,{"$f":"SUMIF('00 PDC SP'!$C:$C,$D124,'00 PDC SP'!H:H)","v":10384091.02},{"$f":"SUMIF('00 PDC SP'!$C:$C,$D124,'00 PDC SP'!I:I)","v":2899011.66},{"$f":"SUMIF('00 PDC SP'!$C:$C,$D124,'00 PDC SP'!J:J)","v":3904796.15},{"$f":"SUMIF('00 PDC SP'!$C:$C,$D124,'00 PDC SP'!K:K)","v":9378306.5299999993},{"$f":"SUMIF('00 PDC SP'!$C:$C,$D124,'00 PDC SP'!L:L)","v":9459338.4600000009},{"$f":"SUMIF('00 PDC SP'!$C:$C,$D124,'00 PDC SP'!M:M)","v":8933757.0899999999},{"$f":"SUMIF('00 PDC SP'!$C:$C,$D124,'00 PDC SP'!N:N)","v":9903887.9000000022}]
["ABA440","B.II.2.a.6) Crediti v/Regione o Provincia Autonoma per finanziamento sanitario aggiuntivo corrente extra LEA",null,"ABA440",null,{"$f":"SUMIF('00 PDC SP'!$C:$C,$D125,'00 PDC SP'!H:H)","v":0},{"$f":"SUMIF('00 PDC SP'!$C:$C,$D125,'00 PDC SP'!I:I)","v":0},{"$f":"SUMIF('00 PDC SP'!$C:$C,$D125,'00 PDC SP'!J:J)","v":0},{"$f":"SUMIF('00 PDC SP'!$C:$C,$D125,'00 PDC SP'!K:K)","v":0},{"$f":"SUMIF('00 PDC SP'!$C:$C,$D125,'00 PDC SP'!L:L)","v":0},{"$f":"SUMIF('00 PDC SP'!$C:$C,$D125,'00 PDC SP'!M:M)","v":0},{"$f":"SUMIF('00 PDC SP'!$C:$C,$D125,'00 PDC SP'!N:N)","v":0}]
["ABA450","B.II.2.a.7) Crediti v/Regione o Provincia Autonoma per spesa corrente - altro",null,"ABA450",null,{"$f":"SUMIF('00 PDC SP'!$C:$C,$D126,'00 PDC SP'!H:H)","v":0},{"$f":"SUMIF('00 PDC SP'!$C:$C,$D126,'00 PDC SP'!I:I)","v":0},{"$f":"SUMIF('00 PDC SP'!$C:$C,$D126,'00 PDC SP'!J:J)","v":0},{"$f":"SUMIF('00 PDC SP'!$C:$C,$D126,'00 PDC SP'!K:K)","v":0},{"$f":"SUMIF('00 PDC SP'!$C:$C,$D126,'00 PDC SP'!L:L)","v":0},{"$f":"SUMIF('00 PDC SP'!$C:$C,$D126,'00 PDC SP'!M:M)","v":0},{"$f":"SUMIF('00 PDC SP'!$C:$C,$D126,'00 PDC SP'!N:N)","v":0}]
["ABA451","B.II.2.a.8) Crediti v/Regione o Provincia Autonoma per spesa corrente - STP (ex D.lgs. 286/98)",null,"ABA451",null,{"$f":"SUMIF('00 PDC SP'!$C:$C,$D127,'00 PDC SP'!H:H)","v":0},{"$f":"SUMIF('00 PDC SP'!$C:$C,$D127,'00 PDC SP'!I:I)","v":0},{"$f":"SUMIF('00 PDC SP'!$C:$C,$D127,'00 PDC SP'!J:J)","v":0},{"$f":"SUMIF('00 PDC SP'!$C:$C,$D127,'00 PDC SP'!K:K)","v":0},{"$f":"SUMIF('00 PDC SP'!$C:$C,$D127,'00 PDC SP'!L:L)","v":216918.16},{"$f":"SUMIF('00 PDC SP'!$C:$C,$D127,'00 PDC SP'!M:M)","v":0},{"$f":"SUMIF('00 PDC SP'!$C:$C,$D127,'00 PDC SP'!N:N)","v":216918.16}]
["ABA460","B.II.2.a.9) Crediti v/Regione o Provincia Autonoma per ricerca",null,"ABA460",null,{"$f":"SUMIF('00 PDC SP'!$C:$C,$D128,'00 PDC SP'!H:H)","v":0},{"$f":"SUMIF('00 PDC SP'!$C:$C,$D128,'00 PDC SP'!I:I)","v":0},{"$f":"SUMIF('00 PDC SP'!$C:$C,$D128,'00 PDC SP'!J:J)","v":0},{"$f":"SUMIF('00 PDC SP'!$C:$C,$D128,'00 PDC SP'!K:K)","v":0},{"$f":"SUMIF('00 PDC SP'!$C:$C,$D128,'00 PDC SP'!L:L)","v":0},{"$f":"SUMIF('00 PDC SP'!$C:$C,$D128,'00 PDC SP'!M:M)","v":0},{"$f":"SUMIF('00 PDC SP'!$C:$C,$D128,'00 PDC SP'!N:N)","v":0}]
["ABA461","B.II.2.a.10) Crediti v/Regione o Provincia Autonoma per mobilità attiva internazionale",null,"ABA461",null,{"$f":"SUMIF('00 PDC SP'!$C:$C,$D129,'00 PDC SP'!H:H)","v":0},{"$f":"SUMIF('00 PDC SP'!$C:$C,$D129,'00 PDC SP'!I:I)","v":0},{"$f":"SUMIF('00 PDC SP'!$C:$C,$D129,'00 PDC SP'!J:J)","v":0},{"$f":"SUMIF('00 PDC SP'!$C:$C,$D129,'00 PDC SP'!K:K)","v":0},{"$f":"SUMIF('00 PDC SP'!$C:$C,$D129,'00 PDC SP'!L:L)","v":393536.14},{"$f":"SUMIF('00 PDC SP'!$C:$C,$D129,'00 PDC SP'!M:M)","v":393536.14},{"$f":"SUMIF('00 PDC SP'!$C:$C,$D129,'00 PDC SP'!N:N)","v":0}]
["ABA470","B.II.2.b) Crediti v/Regione o Provincia Autonoma per versamenti a patrimonio netto","S","ABA470",null,{"$f":"F131+F132+F133+F134+F135+F136","v":14302965},{"$f":"G131+G132+G133+G134+G135+G136","v":13609624},0,27912589,682626.67,1036430.8600000001,27558784.809999999]
["ABA480","B.II.2.b.1) Crediti v/Regione o Provincia Autonoma per finanziamenti per investimenti",null,"ABA480",null,{"$f":"SUMIF('00 PDC SP'!$C:$C,$D131,'00 PDC SP'!H:H)","v":38255},{"$f":"SUMIF('00 PDC SP'!$C:$C,$D131,'00 PDC SP'!I:I)","v":0},{"$f":"SUMIF('00 PDC SP'!$C:$C,$D131,'00 PDC SP'!J:J)","v":0},{"$f":"SUMIF('00 PDC SP'!$C:$C,$D131,'00 PDC SP'!K:K)","v":38255},{"$f":"SUMIF('00 PDC SP'!$C:$C,$D131,'00 PDC SP'!L:L)","v":682626.67},{"$f":"SUMIF('00 PDC SP'!$C:$C,$D131,'00 PDC SP'!M:M)","v":682626.67},{"$f":"SUMIF('00 PDC SP'!$C:$C,$D131,'00 PDC SP'!N:N)","v":38255}]
["ABA490","B.II.2.b.2) Crediti v/Regione o Provincia Autonoma per incremento fondo \ndotazione",null,"ABA490",null,{"$f":"SUMIF('00 PDC SP'!$C:$C,$D132,'00 PDC SP'!H:H)","v":0},{"$f":"SUMIF('00 PDC SP'!$C:$C,$D132,'00 PDC SP'!I:I)","v":0},{"$f":"SUMIF('00 PDC SP'!$C:$C,$D132,'00 PDC SP'!J:J)","v":0},{"$f":"SUMIF('00 PDC SP'!$C:$C,$D132,'00 PDC SP'!K:K)","v":0},{"$f":"SUMIF('00 PDC SP'!$C:$C,$D132,'00 PDC SP'!L:L)","v":0},{"$f":"SUMIF('00 PDC SP'!$C:$C,$D132,'00 PDC SP'!M:M)","v":0},{"$f":"SUMIF('00 PDC SP'!$C:$C,$D132,'00 PDC SP'!N:N)","v":0}]
["ABA500","B.II.2.b.3) Crediti v/Regione o Provincia Autonoma per ripiano perdite",null,"ABA500",null,{"$f":"SUMIF('00 PDC SP'!$C:$C,$D133,'00 PDC SP'!H:H)","v":14264710},{"$f":"SUMIF('00 PDC SP'!$C:$C,$D133,'00 PDC SP'!I:I)","v":13609624},{"$f":"SUMIF('00 PDC SP'!$C:$C,$D133,'00 PDC SP'!J:J)","v":0},{"$f":"SUMIF('00 PDC SP'!$C:$C,$D133,'00 PDC SP'!K:K)","v":27874334},{"$f":"SUMIF('00 PDC SP'!$C:$C,$D133,'00 PDC SP'!L:L)","v":0},{"$f":"SUMIF('00 PDC SP'!$C:$C,$D133,'00 PDC SP'!M:M)","v":353804.19},{"$f":"SUMIF('00 PDC SP'!$C:$C,$D133,'00 PDC SP'!N:N)","v":27520529.809999999}]
["ABA501","B.II.2.b.4) Crediti v/Regione o Provincia Autonoma per anticipazione ripiano disavanzo programmato dai Piani aziendali di cui all'art. 1, comma 528, L. 208/2015",null,"ABA501",null,{"$f":"SUMIF('00 PDC SP'!$C:$C,$D134,'00 PDC SP'!H:H)","v":0},{"$f":"SUMIF('00 PDC SP'!$C:$C,$D134,'00 PDC SP'!I:I)","v":0},{"$f":"SUMIF('00 PDC SP'!$C:$C,$D134,'00 PDC SP'!J:J)","v":0},{"$f":"SUMIF('00 PDC SP'!$C:$C,$D134,'00 PDC SP'!K:K)","v":0},{"$f":"SUMIF('00 PDC SP'!$C:$C,$D134,'00 PDC SP'!L:L)","v":0},{"$f":"SUMIF('00 PDC SP'!$C:$C,$D134,'00 PDC SP'!M:M)","v":0},{"$f":"SUMIF('00 PDC SP'!$C:$C,$D134,'00 PDC SP'!N:N)","v":0}]
["ABA510","B.II.2.b.5) Crediti v/Regione per copertura debiti al 31/12/2005",null,"ABA510",null,{"$f":"SUMIF('00 PDC SP'!$C:$C,$D135,'00 PDC SP'!H:H)","v":0},{"$f":"SUMIF('00 PDC SP'!$C:$C,$D135,'00 PDC SP'!I:I)","v":0},{"$f":"SUMIF('00 PDC SP'!$C:$C,$D135,'00 PDC SP'!J:J)","v":0},{"$f":"SUMIF('00 PDC SP'!$C:$C,$D135,'00 PDC SP'!K:K)","v":0},{"$f":"SUMIF('00 PDC SP'!$C:$C,$D135,'00 PDC SP'!L:L)","v":0},{"$f":"SUMIF('00 PDC SP'!$C:$C,$D135,'00 PDC SP'!M:M)","v":0},{"$f":"SUMIF('00 PDC SP'!$C:$C,$D135,'00 PDC SP'!N:N)","v":0}]
["ABA520","B.II.2.b.6) Crediti v/Regione o Provincia Autonoma per ricostituzione risorse da investimenti esercizi precedenti",null,"ABA520",null,{"$f":"SUMIF('00 PDC SP'!$C:$C,$D136,'00 PDC SP'!H:H)","v":0},{"$f":"SUMIF('00 PDC SP'!$C:$C,$D136,'00 PDC SP'!I:I)","v":0},{"$f":"SUMIF('00 PDC SP'!$C:$C,$D136,'00 PDC SP'!J:J)","v":0},{"$f":"SUMIF('00 PDC SP'!$C:$C,$D136,'00 PDC SP'!K:K)","v":0},{"$f":"SUMIF('00 PDC SP'!$C:$C,$D136,'00 PDC SP'!L:L)","v":0},{"$f":"SUMIF('00 PDC SP'!$C:$C,$D136,'00 PDC SP'!M:M)","v":0},{"$f":"SUMIF('00 PDC SP'!$C:$C,$D136,'00 PDC SP'!N:N)","v":0}]
["ABA521","B.II.2.c)  Crediti v/Regione o Provincia Autonoma per contributi L. 210/92",null,"ABA521",null,{"$f":"SUMIF('00 PDC SP'!$C:$C,$D137,'00 PDC SP'!H:H)","v":0},{"$f":"SUMIF('00 PDC SP'!$C:$C,$D137,'00 PDC SP'!I:I)","v":0},{"$f":"SUMIF('00 PDC SP'!$C:$C,$D137,'00 PDC SP'!J:J)","v":0},{"$f":"SUMIF('00 PDC SP'!$C:$C,$D137,'00 PDC SP'!K:K)","v":0},{"$f":"SUMIF('00 PDC SP'!$C:$C,$D137,'00 PDC SP'!L:L)","v":0},{"$f":"SUMIF('00 PDC SP'!$C:$C,$D137,'00 PDC SP'!M:M)","v":0},{"$f":"SUMIF('00 PDC SP'!$C:$C,$D137,'00 PDC SP'!N:N)","v":0}]
["ABA522","B.II.2.d) Crediti v/Regione o Provincia Autonoma per contributi L. 210/92 – aziende sanitarie",null,"ABA522",null,{"$f":"SUMIF('00 PDC SP'!$C:$C,$D138,'00 PDC SP'!H:H)","v":0},{"$f":"SUMIF('00 PDC SP'!$C:$C,$D138,'00 PDC SP'!I:I)","v":0},{"$f":"SUMIF('00 PDC SP'!$C:$C,$D138,'00 PDC SP'!J:J)","v":0},{"$f":"SUMIF('00 PDC SP'!$C:$C,$D138,'00 PDC SP'!K:K)","v":0},{"$f":"SUMIF('00 PDC SP'!$C:$C,$D138,'00 PDC SP'!L:L)","v":0},{"$f":"SUMIF('00 PDC SP'!$C:$C,$D138,'00 PDC SP'!M:M)","v":0},{"$f":"SUMIF('00 PDC SP'!$C:$C,$D138,'00 PDC SP'!N:N)","v":0}]
["ABA530","B.II.3) Crediti v/Comuni",null,"ABA530",null,{"$f":"SUMIF('00 PDC SP'!$C:$C,$D139,'00 PDC SP'!H:H)","v":220328.34999999998},{"$f":"SUMIF('00 PDC SP'!$C:$C,$D139,'00 PDC SP'!I:I)","v":165199.79},{"$f":"SUMIF('00 PDC SP'!$C:$C,$D139,'00 PDC SP'!J:J)","v":148773.66},{"$f":"SUMIF('00 PDC SP'!$C:$C,$D139,'00 PDC SP'!K:K)","v":236754.48},{"$f":"SUMIF('00 PDC SP'!$C:$C,$D139,'00 PDC SP'!L:L)","v":119866.62},{"$f":"SUMIF('00 PDC SP'!$C:$C,$D139,'00 PDC SP'!M:M)","v":142466.16},{"$f":"SUMIF('00 PDC SP'!$C:$C,$D139,'00 PDC SP'!N:N)","v":214154.94}]
["ABA540","B.II.4) Crediti v/Aziende sanitarie pubbliche","S","ABA540",null,{"$f":"F141+F145+F146+F147+F148","v":1544627.8699999992},{"$f":"G141+G145+G146+G147+G148","v":682163.99},649711.75,1577080.1099999996,682954.3899999999,658029.34,1602005.1600000004]
["ABA550","B.II.4.a) Crediti v/Aziende sanitarie pubbliche della Regione","S","ABA550",null,{"$f":"F142+F143+F144","v":1330392.3299999991},{"$f":"G142+G143+G144","v":404487.52},353901.46,1380978.3899999997,555107.36999999988,491509.32,1444576.4400000004]
["ABA560","B.II.4.a.1) Crediti v/Aziende sanitarie pubbliche della Regione - per mobilità in compensazione",null,"ABA560",null,{"$f":"SUMIF('00 PDC SP'!$C:$C,$D142,'00 PDC SP'!H:H)","v":0},{"$f":"SUMIF('00 PDC SP'!$C:$C,$D142,'00 PDC SP'!I:I)","v":0},{"$f":"SUMIF('00 PDC SP'!$C:$C,$D142,'00 PDC SP'!J:J)","v":0},{"$f":"SUMIF('00 PDC SP'!$C:$C,$D142,'00 PDC SP'!K:K)","v":0},{"$f":"SUMIF('00 PDC SP'!$C:$C,$D142,'00 PDC SP'!L:L)","v":0},{"$f":"SUMIF('00 PDC SP'!$C:$C,$D142,'00 PDC SP'!M:M)","v":0},{"$f":"SUMIF('00 PDC SP'!$C:$C,$D142,'00 PDC SP'!N:N)","v":0}]
["ABA570","B.II.4.a.2) Crediti v/Aziende sanitarie pubbliche della Regione - per mobilità non in compensazione",null,"ABA570",null,{"$f":"SUMIF('00 PDC SP'!$C:$C,$D143,'00 PDC SP'!H:H)","v":0},{"$f":"SUMIF('00 PDC SP'!$C:$C,$D143,'00 PDC SP'!I:I)","v":0},{"$f":"SUMIF('00 PDC SP'!$C:$C,$D143,'00 PDC SP'!J:J)","v":0},{"$f":"SUMIF('00 PDC SP'!$C:$C,$D143,'00 PDC SP'!K:K)","v":0},{"$f":"SUMIF('00 PDC SP'!$C:$C,$D143,'00 PDC SP'!L:L)","v":0},{"$f":"SUMIF('00 PDC SP'!$C:$C,$D143,'00 PDC SP'!M:M)","v":0},{"$f":"SUMIF('00 PDC SP'!$C:$C,$D143,'00 PDC SP'!N:N)","v":0}]
["ABA580","B.II.4.a.3) Crediti v/Aziende sanitarie pubbliche della Regione - per altre prestazioni",null,"ABA580",null,{"$f":"SUMIF('00 PDC SP'!$C:$C,$D144,'00 PDC SP'!H:H)","v":1330392.3299999991},{"$f":"SUMIF('00 PDC SP'!$C:$C,$D144,'00 PDC SP'!I:I)","v":404487.52},{"$f":"SUMIF('00 PDC SP'!$C:$C,$D144,'00 PDC SP'!J:J)","v":353901.46},{"$f":"SUMIF('00 PDC SP'!$C:$C,$D144,'00 PDC SP'!K:K)","v":1380978.3899999997},{"$f":"SUMIF('00 PDC SP'!$C:$C,$D144,'00 PDC SP'!L:L)","v":555107.36999999988},{"$f":"SUMIF('00 PDC SP'!$C:$C,$D144,'00 PDC SP'!M:M)","v":491509.32},{"$f":"SUMIF('00 PDC SP'!$C:$C,$D144,'00 PDC SP'!N:N)","v":1444576.4400000004}]
["ABA590","B.II.4.b) Acconto quota FSR da distribuire",null,"ABA590",null,{"$f":"SUMIF('00 PDC SP'!$C:$C,$D145,'00 PDC SP'!H:H)","v":0},{"$f":"SUMIF('00 PDC SP'!$C:$C,$D145,'00 PDC SP'!I:I)","v":0},{"$f":"SUMIF('00 PDC SP'!$C:$C,$D145,'00 PDC SP'!J:J)","v":0},{"$f":"SUMIF('00 PDC SP'!$C:$C,$D145,'00 PDC SP'!K:K)","v":0},{"$f":"SUMIF('00 PDC SP'!$C:$C,$D145,'00 PDC SP'!L:L)","v":0},{"$f":"SUMIF('00 PDC SP'!$C:$C,$D145,'00 PDC SP'!M:M)","v":0},{"$f":"SUMIF('00 PDC SP'!$C:$C,$D145,'00 PDC SP'!N:N)","v":0}]
["ABA591","B.II.4.c) Crediti v/Aziende sanitarie pubbliche della Regione per anticipazione ripiano disavanzo programmato dai Piani aziendali di cui all'art. 1, comma 528, L. 208/2015",null,"ABA591",null,{"$f":"SUMIF('00 PDC SP'!$C:$C,$D146,'00 PDC SP'!H:H)","v":0},{"$f":"SUMIF('00 PDC SP'!$C:$C,$D146,'00 PDC SP'!I:I)","v":0},{"$f":"SUMIF('00 PDC SP'!$C:$C,$D146,'00 PDC SP'!J:J)","v":0},{"$f":"SUMIF('00 PDC SP'!$C:$C,$D146,'00 PDC SP'!K:K)","v":0},{"$f":"SUMIF('00 PDC SP'!$C:$C,$D146,'00 PDC SP'!L:L)","v":0},{"$f":"SUMIF('00 PDC SP'!$C:$C,$D146,'00 PDC SP'!M:M)","v":0},{"$f":"SUMIF('00 PDC SP'!$C:$C,$D146,'00 PDC SP'!N:N)","v":0}]
["ABA600","B.II.4.d) Crediti v/Aziende sanitarie pubbliche Extraregione",null,"ABA600",null,{"$f":"SUMIF('00 PDC SP'!$C:$C,$D147,'00 PDC SP'!H:H)","v":214235.54},{"$f":"SUMIF('00 PDC SP'!$C:$C,$D147,'00 PDC SP'!I:I)","v":277676.46999999997},{"$f":"SUMIF('00 PDC SP'!$C:$C,$D147,'00 PDC SP'!J:J)","v":295810.28999999998},{"$f":"SUMIF('00 PDC SP'!$C:$C,$D147,'00 PDC SP'!K:K)","v":196101.72},{"$f":"SUMIF('00 PDC SP'!$C:$C,$D147,'00 PDC SP'!L:L)","v":127847.01999999999},{"$f":"SUMIF('00 PDC SP'!$C:$C,$D147,'00 PDC SP'!M:M)","v":166520.01999999999},{"$f":"SUMIF('00 PDC SP'!$C:$C,$D147,'00 PDC SP'!N:N)","v":157428.71999999997}]
["ABA601","B.II.4.e)  Crediti v/Aziende sanitarie pubbliche della Regione - per Contributi da Aziende sanitarie pubbliche della Regione o Prov. Aut. (extra fondo) ",null,"ABA601",null,{"$f":"SUMIF('00 PDC SP'!$C:$C,$D148,'00 PDC SP'!H:H)","v":0},{"$f":"SUMIF('00 PDC SP'!$C:$C,$D148,'00 PDC SP'!I:I)","v":0},{"$f":"SUMIF('00 PDC SP'!$C:$C,$D148,'00 PDC SP'!J:J)","v":0},{"$f":"SUMIF('00 PDC SP'!$C:$C,$D148,'00 PDC SP'!K:K)","v":0},{"$f":"SUMIF('00 PDC SP'!$C:$C,$D148,'00 PDC SP'!L:L)","v":0},{"$f":"SUMIF('00 PDC SP'!$C:$C,$D148,'00 PDC SP'!M:M)","v":0},{"$f":"SUMIF('00 PDC SP'!$C:$C,$D148,'00 PDC SP'!N:N)","v":0}]
["ABA610","B.II.5) Crediti v/società partecipate e/o enti dipendenti della Regione","S","ABA610",null,{"$f":"F150+F151+F152","v":5931.31},{"$f":"G150+G151+G152","v":0},0,5931.31,0,0,5931.31]
["ABA620","B.II.5.a) Crediti v/enti regionali",null,"ABA620",null,{"$f":"SUMIF('00 PDC SP'!$C:$C,$D150,'00 PDC SP'!H:H)","v":5931.31},{"$f":"SUMIF('00 PDC SP'!$C:$C,$D150,'00 PDC SP'!I:I)","v":0},{"$f":"SUMIF('00 PDC SP'!$C:$C,$D150,'00 PDC SP'!J:J)","v":0},{"$f":"SUMIF('00 PDC SP'!$C:$C,$D150,'00 PDC SP'!K:K)","v":5931.31},{"$f":"SUMIF('00 PDC SP'!$C:$C,$D150,'00 PDC SP'!L:L)","v":0},{"$f":"SUMIF('00 PDC SP'!$C:$C,$D150,'00 PDC SP'!M:M)","v":0},{"$f":"SUMIF('00 PDC SP'!$C:$C,$D150,'00 PDC SP'!N:N)","v":5931.31}]
["ABA630","B.II.5.b) Crediti v/sperimentazioni gestionali",null,"ABA630",null,{"$f":"SUMIF('00 PDC SP'!$C:$C,$D151,'00 PDC SP'!H:H)","v":0},{"$f":"SUMIF('00 PDC SP'!$C:$C,$D151,'00 PDC SP'!I:I)","v":0},{"$f":"SUMIF('00 PDC SP'!$C:$C,$D151,'00 PDC SP'!J:J)","v":0},{"$f":"SUMIF('00 PDC SP'!$C:$C,$D151,'00 PDC SP'!K:K)","v":0},{"$f":"SUMIF('00 PDC SP'!$C:$C,$D151,'00 PDC SP'!L:L)","v":0},{"$f":"SUMIF('00 PDC SP'!$C:$C,$D151,'00 PDC SP'!M:M)","v":0},{"$f":"SUMIF('00 PDC SP'!$C:$C,$D151,'00 PDC SP'!N:N)","v":0}]
["ABA640","B.II.5.c) Crediti v/altre partecipate",null,"ABA640",null,{"$f":"SUMIF('00 PDC SP'!$C:$C,$D152,'00 PDC SP'!H:H)","v":0},{"$f":"SUMIF('00 PDC SP'!$C:$C,$D152,'00 PDC SP'!I:I)","v":0},{"$f":"SUMIF('00 PDC SP'!$C:$C,$D152,'00 PDC SP'!J:J)","v":0},{"$f":"SUMIF('00 PDC SP'!$C:$C,$D152,'00 PDC SP'!K:K)","v":0},{"$f":"SUMIF('00 PDC SP'!$C:$C,$D152,'00 PDC SP'!L:L)","v":0},{"$f":"SUMIF('00 PDC SP'!$C:$C,$D152,'00 PDC SP'!M:M)","v":0},{"$f":"SUMIF('00 PDC SP'!$C:$C,$D152,'00 PDC SP'!N:N)","v":0}]
["ABA650","B.II.6) Crediti v/Erario",null,"ABA650",null,{"$f":"SUMIF('00 PDC SP'!$C:$C,$D153,'00 PDC SP'!H:H)","v":8209.0400000000009},{"$f":"SUMIF('00 PDC SP'!$C:$C,$D153,'00 PDC SP'!I:I)","v":505567.5},{"$f":"SUMIF('00 PDC SP'!$C:$C,$D153,'00 PDC SP'!J:J)","v":496872},{"$f":"SUMIF('00 PDC SP'!$C:$C,$D153,'00 PDC SP'!K:K)","v":16904.54},{"$f":"SUMIF('00 PDC SP'!$C:$C,$D153,'00 PDC SP'!L:L)","v":422897.97},{"$f":"SUMIF('00 PDC SP'!$C:$C,$D153,'00 PDC SP'!M:M)","v":424409},{"$f":"SUMIF('00 PDC SP'!$C:$C,$D153,'00 PDC SP'!N:N)","v":15393.509999999998}]
["ABA660","B.II.7) Crediti v/altri","S","ABA660",null,{"$f":"F155+F156+F157+F158+F159+F162","v":3302801.209999999},{"$f":"G155+G156+G157+G158+G159+G162","v":20355416.400000002},20622745.920000002,3035471.6900000004,31643578.949999996,29975252.579999994,4703798.0600000024]
["ABA670","B.II.7.a) Crediti v/clienti privati",null,"ABA670",null,{"$f":"SUMIF('00 PDC SP'!$C:$C,$D155,'00 PDC SP'!H:H)","v":2022410.2599999993},{"$f":"SUMIF('00 PDC SP'!$C:$C,$D155,'00 PDC SP'!I:I)","v":19327870.000000004},{"$f":"SUMIF('00 PDC SP'!$C:$C,$D155,'00 PDC SP'!J:J)","v":19097757.98},{"$f":"SUMIF('00 PDC SP'!$C:$C,$D155,'00 PDC SP'!K:K)","v":2252522.2800000007},{"$f":"SUMIF('00 PDC SP'!$C:$C,$D155,'00 PDC SP'!L:L)","v":30477769.649999995},{"$f":"SUMIF('00 PDC SP'!$C:$C,$D155,'00 PDC SP'!M:M)","v":29825654.659999996},{"$f":"SUMIF('00 PDC SP'!$C:$C,$D155,'00 PDC SP'!N:N)","v":2904637.2700000023}]
["ABA680","B.II.7.b) Crediti v/gestioni liquidatorie",null,"ABA680",null,{"$f":"SUMIF('00 PDC SP'!$C:$C,$D156,'00 PDC SP'!H:H)","v":0},{"$f":"SUMIF('00 PDC SP'!$C:$C,$D156,'00 PDC SP'!I:I)","v":0},{"$f":"SUMIF('00 PDC SP'!$C:$C,$D156,'00 PDC SP'!J:J)","v":0},{"$f":"SUMIF('00 PDC SP'!$C:$C,$D156,'00 PDC SP'!K:K)","v":0},{"$f":"SUMIF('00 PDC SP'!$C:$C,$D156,'00 PDC SP'!L:L)","v":0},{"$f":"SUMIF('00 PDC SP'!$C:$C,$D156,'00 PDC SP'!M:M)","v":0},{"$f":"SUMIF('00 PDC SP'!$C:$C,$D156,'00 PDC SP'!N:N)","v":0}]
["ABA690","B.II.7.c) Crediti v/altri soggetti pubblici",null,"ABA690",null,{"$f":"SUMIF('00 PDC SP'!$C:$C,$D157,'00 PDC SP'!H:H)","v":394535.99},{"$f":"SUMIF('00 PDC SP'!$C:$C,$D157,'00 PDC SP'!I:I)","v":288535.49},{"$f":"SUMIF('00 PDC SP'!$C:$C,$D157,'00 PDC SP'!J:J)","v":465524.77},{"$f":"SUMIF('00 PDC SP'!$C:$C,$D157,'00 PDC SP'!K:K)","v":217546.71},{"$f":"SUMIF('00 PDC SP'!$C:$C,$D157,'00 PDC SP'!L:L)","v":155400.41},{"$f":"SUMIF('00 PDC SP'!$C:$C,$D157,'00 PDC SP'!M:M)","v":137662.29},{"$f":"SUMIF('00 PDC SP'!$C:$C,$D157,'00 PDC SP'!N:N)","v":235284.83}]
["ABA700","B.II.7.d) Crediti v/altri soggetti pubblici per ricerca",null,"ABA700",null,{"$f":"SUMIF('00 PDC SP'!$C:$C,$D158,'00 PDC SP'!H:H)","v":0},{"$f":"SUMIF('00 PDC SP'!$C:$C,$D158,'00 PDC SP'!I:I)","v":0},{"$f":"SUMIF('00 PDC SP'!$C:$C,$D158,'00 PDC SP'!J:J)","v":0},{"$f":"SUMIF('00 PDC SP'!$C:$C,$D158,'00 PDC SP'!K:K)","v":0},{"$f":"SUMIF('00 PDC SP'!$C:$C,$D158,'00 PDC SP'!L:L)","v":0},{"$f":"SUMIF('00 PDC SP'!$C:$C,$D158,'00 PDC SP'!M:M)","v":0},{"$f":"SUMIF('00 PDC SP'!$C:$C,$D158,'00 PDC SP'!N:N)","v":0}]
["ABA710","B.II.7.e) Altri crediti diversi","S","ABA710",null,{"$f":"F160+F161","v":885854.96},{"$f":"G160+G161","v":739010.91},1059463.17,565402.69999999995,1010408.89,11935.63,1563875.96]
["ABA711","B.II.7.e.1) Altri Crediti  diversi ",null,"ABA711",null,{"$f":"SUMIF('00 PDC SP'!$C:$C,$D160,'00 PDC SP'!H:H)","v":885854.96},{"$f":"SUMIF('00 PDC SP'!$C:$C,$D160,'00 PDC SP'!I:I)","v":739010.91},{"$f":"SUMIF('00 PDC SP'!$C:$C,$D160,'00 PDC SP'!J:J)","v":1059463.17},{"$f":"SUMIF('00 PDC SP'!$C:$C,$D160,'00 PDC SP'!K:K)","v":565402.69999999995},{"$f":"SUMIF('00 PDC SP'!$C:$C,$D160,'00 PDC SP'!L:L)","v":1010408.89},{"$f":"SUMIF('00 PDC SP'!$C:$C,$D160,'00 PDC SP'!M:M)","v":11935.63},{"$f":"SUMIF('00 PDC SP'!$C:$C,$D160,'00 PDC SP'!N:N)","v":1563875.96}]
["ABA712","B.II.7.e.2) Note di credito da emettere (diverse)",null,"ABA712",null,{"$f":"SUMIF('00 PDC SP'!$C:$C,$D161,'00 PDC SP'!H:H)","v":0},{"$f":"SUMIF('00 PDC SP'!$C:$C,$D161,'00 PDC SP'!I:I)","v":0},{"$f":"SUMIF('00 PDC SP'!$C:$C,$D161,'00 PDC SP'!J:J)","v":0},{"$f":"SUMIF('00 PDC SP'!$C:$C,$D161,'00 PDC SP'!K:K)","v":0},{"$f":"SUMIF('00 PDC SP'!$C:$C,$D161,'00 PDC SP'!L:L)","v":0},{"$f":"SUMIF('00 PDC SP'!$C:$C,$D161,'00 PDC SP'!M:M)","v":0},{"$f":"SUMIF('00 PDC SP'!$C:$C,$D161,'00 PDC SP'!N:N)","v":0}]
["ABA713","B.II.7.f) Altri Crediti verso erogatori (privati accreditati e convenzionati) di prestazioni sanitarie","S","ABA713",null,{"$f":"F163+F164","v":0},{"$f":"G163+G164","v":0},0,0,0,0,0]
["ABA714","B.II.7.f.1) Altri Crediti verso erogatori (privati accreditati e convenzionati) di prestazioni sanitarie",null,"ABA714",null,{"$f":"SUMIF('00 PDC SP'!$C:$C,$D163,'00 PDC SP'!H:H)","v":0},{"$f":"SUMIF('00 PDC SP'!$C:$C,$D163,'00 PDC SP'!I:I)","v":0},{"$f":"SUMIF('00 PDC SP'!$C:$C,$D163,'00 PDC SP'!J:J)","v":0},{"$f":"SUMIF('00 PDC SP'!$C:$C,$D163,'00 PDC SP'!K:K)","v":0},{"$f":"SUMIF('00 PDC SP'!$C:$C,$D163,'00 PDC SP'!L:L)","v":0},{"$f":"SUMIF('00 PDC SP'!$C:$C,$D163,'00 PDC SP'!M:M)","v":0},{"$f":"SUMIF('00 PDC SP'!$C:$C,$D163,'00 PDC SP'!N:N)","v":0}]
["ABA715","B.II.7.f.2) Note di credito da emettere  (privati accreditati e convenzionati)",null,"ABA715",null,{"$f":"SUMIF('00 PDC SP'!$C:$C,$D164,'00 PDC SP'!H:H)","v":0},{"$f":"SUMIF('00 PDC SP'!$C:$C,$D164,'00 PDC SP'!I:I)","v":0},{"$f":"SUMIF('00 PDC SP'!$C:$C,$D164,'00 PDC SP'!J:J)","v":0},{"$f":"SUMIF('00 PDC SP'!$C:$C,$D164,'00 PDC SP'!K:K)","v":0},{"$f":"SUMIF('00 PDC SP'!$C:$C,$D164,'00 PDC SP'!L:L)","v":0},{"$f":"SUMIF('00 PDC SP'!$C:$C,$D164,'00 PDC SP'!M:M)","v":0},{"$f":"SUMIF('00 PDC SP'!$C:$C,$D164,'00 PDC SP'!N:N)","v":0}]
["ABA720","B.III) ATTIVITA' FINANZIARIE CHE NON COSTITUISCONO IMMOBILIZZAZIONI","S","ABA720",null,{"$f":"F166+F167","v":0},{"$f":"G166+G167","v":0},0,0,0,0,0]
["ABA730","B.III.1) Partecipazioni che non costituiscono immobilizzazioni",null,"ABA730",null,{"$f":"SUMIF('00 PDC SP'!$C:$C,$D166,'00 PDC SP'!H:H)","v":0},{"$f":"SUMIF('00 PDC SP'!$C:$C,$D166,'00 PDC SP'!I:I)","v":0},{"$f":"SUMIF('00 PDC SP'!$C:$C,$D166,'00 PDC SP'!J:J)","v":0},{"$f":"SUMIF('00 PDC SP'!$C:$C,$D166,'00 PDC SP'!K:K)","v":0},{"$f":"SUMIF('00 PDC SP'!$C:$C,$D166,'00 PDC SP'!L:L)","v":0},{"$f":"SUMIF('00 PDC SP'!$C:$C,$D166,'00 PDC SP'!M:M)","v":0},{"$f":"SUMIF('00 PDC SP'!$C:$C,$D166,'00 PDC SP'!N:N)","v":0}]
["ABA740","B.III.2) Altri titoli che non costituiscono immobilizzazioni",null,"ABA740",null,{"$f":"SUMIF('00 PDC SP'!$C:$C,$D167,'00 PDC SP'!H:H)","v":0},{"$f":"SUMIF('00 PDC SP'!$C:$C,$D167,'00 PDC SP'!I:I)","v":0},{"$f":"SUMIF('00 PDC SP'!$C:$C,$D167,'00 PDC SP'!J:J)","v":0},{"$f":"SUMIF('00 PDC SP'!$C:$C,$D167,'00 PDC SP'!K:K)","v":0},{"$f":"SUMIF('00 PDC SP'!$C:$C,$D167,'00 PDC SP'!L:L)","v":0},{"$f":"SUMIF('00 PDC SP'!$C:$C,$D167,'00 PDC SP'!M:M)","v":0},{"$f":"SUMIF('00 PDC SP'!$C:$C,$D167,'00 PDC SP'!N:N)","v":0}]
["ABA750","B.IV) DISPONIBILITA' LIQUIDE","S","ABA750",null,{"$f":"F169+F170+F171+F172","v":72806582.519999996},{"$f":"G169+G170+G171+G172","v":627120869.18999994},652419342.98000002,47508108.729999997,691810371.96999991,663993698.85000002,75324781.849999979]
["ABA760","B.IV.1) Cassa",null,"ABA760",null,{"$f":"SUMIF('00 PDC SP'!$C:$C,$D169,'00 PDC SP'!H:H)","v":20000},{"$f":"SUMIF('00 PDC SP'!$C:$C,$D169,'00 PDC SP'!I:I)","v":52671.15},{"$f":"SUMIF('00 PDC SP'!$C:$C,$D169,'00 PDC SP'!J:J)","v":52671.15},{"$f":"SUMIF('00 PDC SP'!$C:$C,$D169,'00 PDC SP'!K:K)","v":20000},{"$f":"SUMIF('00 PDC SP'!$C:$C,$D169,'00 PDC SP'!L:L)","v":49747.05},{"$f":"SUMIF('00 PDC SP'!$C:$C,$D169,'00 PDC SP'!M:M)","v":49747.05},{"$f":"SUMIF('00 PDC SP'!$C:$C,$D169,'00 PDC SP'!N:N)","v":20000}]
["ABA770","B.IV.2) Istituto Tesoriere",null,"ABA770",null,{"$f":"SUMIF('00 PDC SP'!$C:$C,$D170,'00 PDC SP'!H:H)","v":69558966.349999994},{"$f":"SUMIF('00 PDC SP'!$C:$C,$D170,'00 PDC SP'!I:I)","v":625609944.79999995},{"$f":"SUMIF('00 PDC SP'!$C:$C,$D170,'00 PDC SP'!J:J)","v":648972836.83000004},{"$f":"SUMIF('00 PDC SP'!$C:$C,$D170,'00 PDC SP'!K:K)","v":46196074.32},{"$f":"SUMIF('00 PDC SP'!$C:$C,$D170,'00 PDC SP'!L:L)","v":690539043.51999998},{"$f":"SUMIF('00 PDC SP'!$C:$C,$D170,'00 PDC SP'!M:M)","v":662428963.20000005},{"$f":"SUMIF('00 PDC SP'!$C:$C,$D170,'00 PDC SP'!N:N)","v":74306154.639999986}]
["ABA780","B.IV.3) Tesoreria Unica",null,"ABA780",null,{"$f":"SUMIF('00 PDC SP'!$C:$C,$D171,'00 PDC SP'!H:H)","v":0},{"$f":"SUMIF('00 PDC SP'!$C:$C,$D171,'00 PDC SP'!I:I)","v":0},{"$f":"SUMIF('00 PDC SP'!$C:$C,$D171,'00 PDC SP'!J:J)","v":0},{"$f":"SUMIF('00 PDC SP'!$C:$C,$D171,'00 PDC SP'!K:K)","v":0},{"$f":"SUMIF('00 PDC SP'!$C:$C,$D171,'00 PDC SP'!L:L)","v":0},{"$f":"SUMIF('00 PDC SP'!$C:$C,$D171,'00 PDC SP'!M:M)","v":0},{"$f":"SUMIF('00 PDC SP'!$C:$C,$D171,'00 PDC SP'!N:N)","v":0}]
["ABA790","B.IV.4) Conto corrente postale",null,"ABA790",null,{"$f":"SUMIF('00 PDC SP'!$C:$C,$D172,'00 PDC SP'!H:H)","v":3227616.17},{"$f":"SUMIF('00 PDC SP'!$C:$C,$D172,'00 PDC SP'!I:I)","v":1458253.24},{"$f":"SUMIF('00 PDC SP'!$C:$C,$D172,'00 PDC SP'!J:J)","v":3393835},{"$f":"SUMIF('00 PDC SP'!$C:$C,$D172,'00 PDC SP'!K:K)","v":1292034.4099999999},{"$f":"SUMIF('00 PDC SP'!$C:$C,$D172,'00 PDC SP'!L:L)","v":1221581.3999999999},{"$f":"SUMIF('00 PDC SP'!$C:$C,$D172,'00 PDC SP'!M:M)","v":1514988.6},{"$f":"SUMIF('00 PDC SP'!$C:$C,$D172,'00 PDC SP'!N:N)","v":998627.2099999995}]
["ACZ999","C) RATEI E RISCONTI ATTIVI","S","ACZ999",null,{"$f":"F174+F177","v":8698.51},{"$f":"G174+G177","v":10533.97},8698.51,10533.97,8697.9699999999993,10533.97,8697.9699999999993]
["ACA000","C.I) RATEI ATTIVI","S","ACA000",null,{"$f":"F175+F176","v":0},{"$f":"G175+G176","v":0},0,0,0,0,0]
["ACA010","C.I.1) Ratei attivi",null,"ACA010",null,{"$f":"SUMIF('00 PDC SP'!$C:$C,$D175,'00 PDC SP'!H:H)","v":0},{"$f":"SUMIF('00 PDC SP'!$C:$C,$D175,'00 PDC SP'!I:I)","v":0},{"$f":"SUMIF('00 PDC SP'!$C:$C,$D175,'00 PDC SP'!J:J)","v":0},{"$f":"SUMIF('00 PDC SP'!$C:$C,$D175,'00 PDC SP'!K:K)","v":0},{"$f":"SUMIF('00 PDC SP'!$C:$C,$D175,'00 PDC SP'!L:L)","v":0},{"$f":"SUMIF('00 PDC SP'!$C:$C,$D175,'00 PDC SP'!M:M)","v":0},{"$f":"SUMIF('00 PDC SP'!$C:$C,$D175,'00 PDC SP'!N:N)","v":0}]
["ACA020","C.I.2) Ratei attivi v/Aziende sanitarie pubbliche della Regione",null,"ACA020",null,{"$f":"SUMIF('00 PDC SP'!$C:$C,$D176,'00 PDC SP'!H:H)","v":0},{"$f":"SUMIF('00 PDC SP'!$C:$C,$D176,'00 PDC SP'!I:I)","v":0},{"$f":"SUMIF('00 PDC SP'!$C:$C,$D176,'00 PDC SP'!J:J)","v":0},{"$f":"SUMIF('00 PDC SP'!$C:$C,$D176,'00 PDC SP'!K:K)","v":0},{"$f":"SUMIF('00 PDC SP'!$C:$C,$D176,'00 PDC SP'!L:L)","v":0},{"$f":"SUMIF('00 PDC SP'!$C:$C,$D176,'00 PDC SP'!M:M)","v":0},{"$f":"SUMIF('00 PDC SP'!$C:$C,$D176,'00 PDC SP'!N:N)","v":0}]
["ACA030","C.II) RISCONTI ATTIVI","S","ACA030",null,{"$f":"F178+F179","v":8698.51},{"$f":"G178+G179","v":10533.97},8698.51,10533.97,8697.9699999999993,10533.97,8697.9699999999993]
["ACA040","C.II.1) Risconti attivi",null,"ACA040",null,{"$f":"SUMIF('00 PDC SP'!$C:$C,$D178,'00 PDC SP'!H:H)","v":8698.51},{"$f":"SUMIF('00 PDC SP'!$C:$C,$D178,'00 PDC SP'!I:I)","v":10533.97},{"$f":"SUMIF('00 PDC SP'!$C:$C,$D178,'00 PDC SP'!J:J)","v":8698.51},{"$f":"SUMIF('00 PDC SP'!$C:$C,$D178,'00 PDC SP'!K:K)","v":10533.97},{"$f":"SUMIF('00 PDC SP'!$C:$C,$D178,'00 PDC SP'!L:L)","v":8697.9699999999993},{"$f":"SUMIF('00 PDC SP'!$C:$C,$D178,'00 PDC SP'!M:M)","v":10533.97},{"$f":"SUMIF('00 PDC SP'!$C:$C,$D178,'00 PDC SP'!N:N)","v":8697.9699999999993}]
["ACA050","C.II.2) Risconti attivi v/Aziende sanitarie pubbliche della Regione",null,"ACA050",null,{"$f":"SUMIF('00 PDC SP'!$C:$C,$D179,'00 PDC SP'!H:H)","v":0},{"$f":"SUMIF('00 PDC SP'!$C:$C,$D179,'00 PDC SP'!I:I)","v":0},{"$f":"SUMIF('00 PDC SP'!$C:$C,$D179,'00 PDC SP'!J:J)","v":0},{"$f":"SUMIF('00 PDC SP'!$C:$C,$D179,'00 PDC SP'!K:K)","v":0},{"$f":"SUMIF('00 PDC SP'!$C:$C,$D179,'00 PDC SP'!L:L)","v":0},{"$f":"SUMIF('00 PDC SP'!$C:$C,$D179,'00 PDC SP'!M:M)","v":0},{"$f":"SUMIF('00 PDC SP'!$C:$C,$D179,'00 PDC SP'!N:N)","v":0}]
["AZZ999","D) TOTALE ATTIVO","S","AZZ999",null,{"$f":"F3+F81+F173","v":374557752.88999999},{"$f":"G3+G81+G173","v":2105962429.2599998},2094098076.7600002,386422105.39000005,2264577990.3800001,2258202719.6599998,392797376.11000001]
["ADZ999","E) CONTI D'ORDINE","S","ADZ999",null,{"$f":"F182+F183+F184+F185+F186","v":0},{"$f":"G182+G183+G184+G185+G186","v":0},0,0,0,0,0]
["ADA000","E.I) CANONI DI LEASING ANCORA DA PAGARE",null,"ADA000",null,{"$f":"SUMIF('00 PDC SP'!$C:$C,$D182,'00 PDC SP'!H:H)","v":0},{"$f":"SUMIF('00 PDC SP'!$C:$C,$D182,'00 PDC SP'!I:I)","v":0},{"$f":"SUMIF('00 PDC SP'!$C:$C,$D182,'00 PDC SP'!J:J)","v":0},{"$f":"SUMIF('00 PDC SP'!$C:$C,$D182,'00 PDC SP'!K:K)","v":0},{"$f":"SUMIF('00 PDC SP'!$C:$C,$D182,'00 PDC SP'!L:L)","v":0},{"$f":"SUMIF('00 PDC SP'!$C:$C,$D182,'00 PDC SP'!M:M)","v":0},{"$f":"SUMIF('00 PDC SP'!$C:$C,$D182,'00 PDC SP'!N:N)","v":0}]
["ADA010","E.II) DEPOSITI CAUZIONALI",null,"ADA010",null,{"$f":"SUMIF('00 PDC SP'!$C:$C,$D183,'00 PDC SP'!H:H)","v":0},{"$f":"SUMIF('00 PDC SP'!$C:$C,$D183,'00 PDC SP'!I:I)","v":0},{"$f":"SUMIF('00 PDC SP'!$C:$C,$D183,'00 PDC SP'!J:J)","v":0},{"$f":"SUMIF('00 PDC SP'!$C:$C,$D183,'00 PDC SP'!K:K)","v":0},{"$f":"SUMIF('00 PDC SP'!$C:$C,$D183,'00 PDC SP'!L:L)","v":0},{"$f":"SUMIF('00 PDC SP'!$C:$C,$D183,'00 PDC SP'!M:M)","v":0},{"$f":"SUMIF('00 PDC SP'!$C:$C,$D183,'00 PDC SP'!N:N)","v":0}]
["ADA020","E.III) BENI IN COMODATO",null,"ADA020",null,{"$f":"SUMIF('00 PDC SP'!$C:$C,$D184,'00 PDC SP'!H:H)","v":0},{"$f":"SUMIF('00 PDC SP'!$C:$C,$D184,'00 PDC SP'!I:I)","v":0},{"$f":"SUMIF('00 PDC SP'!$C:$C,$D184,'00 PDC SP'!J:J)","v":0},{"$f":"SUMIF('00 PDC SP'!$C:$C,$D184,'00 PDC SP'!K:K)","v":0},{"$f":"SUMIF('00 PDC SP'!$C:$C,$D184,'00 PDC SP'!L:L)","v":0},{"$f":"SUMIF('00 PDC SP'!$C:$C,$D184,'00 PDC SP'!M:M)","v":0},{"$f":"SUMIF('00 PDC SP'!$C:$C,$D184,'00 PDC SP'!N:N)","v":0}]
["ADA021","E.IV) CANONI DI PROJECT FINANCING ANCORA DA PAGARE",null,"ADA021",null,{"$f":"SUMIF('00 PDC SP'!$C:$C,$D185,'00 PDC SP'!H:H)","v":0},{"$f":"SUMIF('00 PDC SP'!$C:$C,$D185,'00 PDC SP'!I:I)","v":0},{"$f":"SUMIF('00 PDC SP'!$C:$C,$D185,'00 PDC SP'!J:J)","v":0},{"$f":"SUMIF('00 PDC SP'!$C:$C,$D185,'00 PDC SP'!K:K)","v":0},{"$f":"SUMIF('00 PDC SP'!$C:$C,$D185,'00 PDC SP'!L:L)","v":0},{"$f":"SUMIF('00 PDC SP'!$C:$C,$D185,'00 PDC SP'!M:M)","v":0},{"$f":"SUMIF('00 PDC SP'!$C:$C,$D185,'00 PDC SP'!N:N)","v":0}]
["ADA030","E.V) ALTRI CONTI D'ORDINE",null,"ADA030",null,{"$f":"SUMIF('00 PDC SP'!$C:$C,$D186,'00 PDC SP'!H:H)","v":0},{"$f":"SUMIF('00 PDC SP'!$C:$C,$D186,'00 PDC SP'!I:I)","v":0},{"$f":"SUMIF('00 PDC SP'!$C:$C,$D186,'00 PDC SP'!J:J)","v":0},{"$f":"SUMIF('00 PDC SP'!$C:$C,$D186,'00 PDC SP'!K:K)","v":0},{"$f":"SUMIF('00 PDC SP'!$C:$C,$D186,'00 PDC SP'!L:L)","v":0},{"$f":"SUMIF('00 PDC SP'!$C:$C,$D186,'00 PDC SP'!M:M)","v":0},{"$f":"SUMIF('00 PDC SP'!$C:$C,$D186,'00 PDC SP'!N:N)","v":0}]
["PAZ999","A) PATRIMONIO NETTO","S","PAZ999",null,{"$f":"F188+F189+F198+F199+F205+F209+F210","v":108484341.48},{"$f":"G188+G189+G198+G199+G205+G209+G210","v":33821651.93},24101299.18,118204694.22999999,17189710.740000002,34468971.990000002,100925432.98]
["PAA000","A.I) FONDO DI DOTAZIONE",null,"PAA000",null,{"$f":"SUMIF('00 PDC SP'!$C:$C,$D188,'00 PDC SP'!H:H)","v":0},{"$f":"SUMIF('00 PDC SP'!$C:$C,$D188,'00 PDC SP'!I:I)","v":0},{"$f":"SUMIF('00 PDC SP'!$C:$C,$D188,'00 PDC SP'!J:J)","v":0},{"$f":"SUMIF('00 PDC SP'!$C:$C,$D188,'00 PDC SP'!K:K)","v":0},{"$f":"SUMIF('00 PDC SP'!$C:$C,$D188,'00 PDC SP'!L:L)","v":0},{"$f":"SUMIF('00 PDC SP'!$C:$C,$D188,'00 PDC SP'!M:M)","v":0},{"$f":"SUMIF('00 PDC SP'!$C:$C,$D188,'00 PDC SP'!N:N)","v":0}]
["PAA010","A.II) FINANZIAMENTI PER INVESTIMENTI","S","PAA010",null,{"$f":"F190+F191+F195+F196+F197","v":119162770.05000001},{"$f":"G190+G191+G195+G196+G197","v":6486693.4499999993},10436920.890000001,115212542.61,16879206.280000001,24143477.520000003,107948271.37]
["PAA020","A.II.1) Finanziamenti per beni di prima dotazione",null,"PAA020",null,{"$f":"SUMIF('00 PDC SP'!$C:$C,$D190,'00 PDC SP'!H:H)","v":63708881.740000002},{"$f":"SUMIF('00 PDC SP'!$C:$C,$D190,'00 PDC SP'!I:I)","v":0},{"$f":"SUMIF('00 PDC SP'!$C:$C,$D190,'00 PDC SP'!J:J)","v":3577467.93},{"$f":"SUMIF('00 PDC SP'!$C:$C,$D190,'00 PDC SP'!K:K)","v":60131413.810000002},{"$f":"SUMIF('00 PDC SP'!$C:$C,$D190,'00 PDC SP'!L:L)","v":0},{"$f":"SUMIF('00 PDC SP'!$C:$C,$D190,'00 PDC SP'!M:M)","v":3577467.93},{"$f":"SUMIF('00 PDC SP'!$C:$C,$D190,'00 PDC SP'!N:N)","v":56553945.880000003}]
["PAA030","A.II.2) Finanziamenti da Stato per investimenti","S","PAA030",null,{"$f":"F192+F193+F194","v":0},{"$f":"G192+G193+G194","v":0},0,0,0,0,0]
["PAA040","A.II.2.a) Finanziamenti da Stato per investimenti - ex art. 20 legge 67/88",null,"PAA040",null,{"$f":"SUMIF('00 PDC SP'!$C:$C,$D192,'00 PDC SP'!H:H)","v":0},{"$f":"SUMIF('00 PDC SP'!$C:$C,$D192,'00 PDC SP'!I:I)","v":0},{"$f":"SUMIF('00 PDC SP'!$C:$C,$D192,'00 PDC SP'!J:J)","v":0},{"$f":"SUMIF('00 PDC SP'!$C:$C,$D192,'00 PDC SP'!K:K)","v":0},{"$f":"SUMIF('00 PDC SP'!$C:$C,$D192,'00 PDC SP'!L:L)","v":0},{"$f":"SUMIF('00 PDC SP'!$C:$C,$D192,'00 PDC SP'!M:M)","v":0},{"$f":"SUMIF('00 PDC SP'!$C:$C,$D192,'00 PDC SP'!N:N)","v":0}]
["PAA050","A.II.2.b) Finanziamenti da Stato per investimenti - ricerca",null,"PAA050",null,{"$f":"SUMIF('00 PDC SP'!$C:$C,$D193,'00 PDC SP'!H:H)","v":0},{"$f":"SUMIF('00 PDC SP'!$C:$C,$D193,'00 PDC SP'!I:I)","v":0},{"$f":"SUMIF('00 PDC SP'!$C:$C,$D193,'00 PDC SP'!J:J)","v":0},{"$f":"SUMIF('00 PDC SP'!$C:$C,$D193,'00 PDC SP'!K:K)","v":0},{"$f":"SUMIF('00 PDC SP'!$C:$C,$D193,'00 PDC SP'!L:L)","v":0},{"$f":"SUMIF('00 PDC SP'!$C:$C,$D193,'00 PDC SP'!M:M)","v":0},{"$f":"SUMIF('00 PDC SP'!$C:$C,$D193,'00 PDC SP'!N:N)","v":0}]
["PAA060","A.II.2.c) Finanziamenti da Stato per investimenti - altro",null,"PAA060",null,{"$f":"SUMIF('00 PDC SP'!$C:$C,$D194,'00 PDC SP'!H:H)","v":0},{"$f":"SUMIF('00 PDC SP'!$C:$C,$D194,'00 PDC SP'!I:I)","v":0},{"$f":"SUMIF('00 PDC SP'!$C:$C,$D194,'00 PDC SP'!J:J)","v":0},{"$f":"SUMIF('00 PDC SP'!$C:$C,$D194,'00 PDC SP'!K:K)","v":0},{"$f":"SUMIF('00 PDC SP'!$C:$C,$D194,'00 PDC SP'!L:L)","v":0},{"$f":"SUMIF('00 PDC SP'!$C:$C,$D194,'00 PDC SP'!M:M)","v":0},{"$f":"SUMIF('00 PDC SP'!$C:$C,$D194,'00 PDC SP'!N:N)","v":0}]
["PAA070","A.II.3) Finanziamenti da Regione per investimenti",null,"PAA070",null,{"$f":"SUMIF('00 PDC SP'!$C:$C,$D195,'00 PDC SP'!H:H)","v":37556665.460000001},{"$f":"SUMIF('00 PDC SP'!$C:$C,$D195,'00 PDC SP'!I:I)","v":2138846.64},{"$f":"SUMIF('00 PDC SP'!$C:$C,$D195,'00 PDC SP'!J:J)","v":1674245.68},{"$f":"SUMIF('00 PDC SP'!$C:$C,$D195,'00 PDC SP'!K:K)","v":38021266.420000002},{"$f":"SUMIF('00 PDC SP'!$C:$C,$D195,'00 PDC SP'!L:L)","v":13499505.02},{"$f":"SUMIF('00 PDC SP'!$C:$C,$D195,'00 PDC SP'!M:M)","v":15486369.17},{"$f":"SUMIF('00 PDC SP'!$C:$C,$D195,'00 PDC SP'!N:N)","v":36034402.269999996}]
["PAA080","A.II.4) Finanziamenti da altri soggetti pubblici per investimenti",null,"PAA080",null,{"$f":"SUMIF('00 PDC SP'!$C:$C,$D196,'00 PDC SP'!H:H)","v":0},{"$f":"SUMIF('00 PDC SP'!$C:$C,$D196,'00 PDC SP'!I:I)","v":0},{"$f":"SUMIF('00 PDC SP'!$C:$C,$D196,'00 PDC SP'!J:J)","v":0},{"$f":"SUMIF('00 PDC SP'!$C:$C,$D196,'00 PDC SP'!K:K)","v":0},{"$f":"SUMIF('00 PDC SP'!$C:$C,$D196,'00 PDC SP'!L:L)","v":0},{"$f":"SUMIF('00 PDC SP'!$C:$C,$D196,'00 PDC SP'!M:M)","v":0},{"$f":"SUMIF('00 PDC SP'!$C:$C,$D196,'00 PDC SP'!N:N)","v":0}]
["PAA090","A.II.5) Finanziamenti per investimenti da rettifica contributi in conto esercizio",null,"PAA090",null,{"$f":"SUMIF('00 PDC SP'!$C:$C,$D197,'00 PDC SP'!H:H)","v":17897222.850000001},{"$f":"SUMIF('00 PDC SP'!$C:$C,$D197,'00 PDC SP'!I:I)","v":4347846.8099999996},{"$f":"SUMIF('00 PDC SP'!$C:$C,$D197,'00 PDC SP'!J:J)","v":5185207.28},{"$f":"SUMIF('00 PDC SP'!$C:$C,$D197,'00 PDC SP'!K:K)","v":17059862.379999999},{"$f":"SUMIF('00 PDC SP'!$C:$C,$D197,'00 PDC SP'!L:L)","v":3379701.26},{"$f":"SUMIF('00 PDC SP'!$C:$C,$D197,'00 PDC SP'!M:M)","v":5079640.42},{"$f":"SUMIF('00 PDC SP'!$C:$C,$D197,'00 PDC SP'!N:N)","v":15359923.220000001}]
["PAA100","A.III) RISERVE DA DONAZIONI E LASCITI VINCOLATI AD INVESTIMENTI",null,"PAA100",null,{"$f":"SUMIF('00 PDC SP'!$C:$C,$D198,'00 PDC SP'!H:H)","v":201195.25},{"$f":"SUMIF('00 PDC SP'!$C:$C,$D198,'00 PDC SP'!I:I)","v":114032.88},{"$f":"SUMIF('00 PDC SP'!$C:$C,$D198,'00 PDC SP'!J:J)","v":54754.03},{"$f":"SUMIF('00 PDC SP'!$C:$C,$D198,'00 PDC SP'!K:K)","v":260474.1},{"$f":"SUMIF('00 PDC SP'!$C:$C,$D198,'00 PDC SP'!L:L)","v":308827.12},{"$f":"SUMIF('00 PDC SP'!$C:$C,$D198,'00 PDC SP'!M:M)","v":86964.13},{"$f":"SUMIF('00 PDC SP'!$C:$C,$D198,'00 PDC SP'!N:N)","v":482337.08999999997}]
["PAA110","A.IV) ALTRE RISERVE","S","PAA110",null,{"$f":"F200+F201+F202+F203+F204","v":2730000},{"$f":"G200+G201+G202+G203+G204","v":0},0,2730000,0,0,2730000]
["PAA120","A.IV.1) Riserve da rivalutazioni",null,"PAA120",null,{"$f":"SUMIF('00 PDC SP'!$C:$C,$D200,'00 PDC SP'!H:H)","v":0},{"$f":"SUMIF('00 PDC SP'!$C:$C,$D200,'00 PDC SP'!I:I)","v":0},{"$f":"SUMIF('00 PDC SP'!$C:$C,$D200,'00 PDC SP'!J:J)","v":0},{"$f":"SUMIF('00 PDC SP'!$C:$C,$D200,'00 PDC SP'!K:K)","v":0},{"$f":"SUMIF('00 PDC SP'!$C:$C,$D200,'00 PDC SP'!L:L)","v":0},{"$f":"SUMIF('00 PDC SP'!$C:$C,$D200,'00 PDC SP'!M:M)","v":0},{"$f":"SUMIF('00 PDC SP'!$C:$C,$D200,'00 PDC SP'!N:N)","v":0}]
["PAA130","A.IV.2) Riserve da plusvalenze da reinvestire",null,"PAA130",null,{"$f":"SUMIF('00 PDC SP'!$C:$C,$D201,'00 PDC SP'!H:H)","v":0},{"$f":"SUMIF('00 PDC SP'!$C:$C,$D201,'00 PDC SP'!I:I)","v":0},{"$f":"SUMIF('00 PDC SP'!$C:$C,$D201,'00 PDC SP'!J:J)","v":0},{"$f":"SUMIF('00 PDC SP'!$C:$C,$D201,'00 PDC SP'!K:K)","v":0},{"$f":"SUMIF('00 PDC SP'!$C:$C,$D201,'00 PDC SP'!L:L)","v":0},{"$f":"SUMIF('00 PDC SP'!$C:$C,$D201,'00 PDC SP'!M:M)","v":0},{"$f":"SUMIF('00 PDC SP'!$C:$C,$D201,'00 PDC SP'!N:N)","v":0}]
["PAA140","A.IV.3) Contributi da reinvestire",null,"PAA140",null,{"$f":"SUMIF('00 PDC SP'!$C:$C,$D202,'00 PDC SP'!H:H)","v":0},{"$f":"SUMIF('00 PDC SP'!$C:$C,$D202,'00 PDC SP'!I:I)","v":0},{"$f":"SUMIF('00 PDC SP'!$C:$C,$D202,'00 PDC SP'!J:J)","v":0},{"$f":"SUMIF('00 PDC SP'!$C:$C,$D202,'00 PDC SP'!K:K)","v":0},{"$f":"SUMIF('00 PDC SP'!$C:$C,$D202,'00 PDC SP'!L:L)","v":0},{"$f":"SUMIF('00 PDC SP'!$C:$C,$D202,'00 PDC SP'!M:M)","v":0},{"$f":"SUMIF('00 PDC SP'!$C:$C,$D202,'00 PDC SP'!N:N)","v":0}]
["PAA150","A.IV.4) Riserve da utili di esercizio destinati ad investimenti",null,"PAA150",null,{"$f":"SUMIF('00 PDC SP'!$C:$C,$D203,'00 PDC SP'!H:H)","v":0},{"$f":"SUMIF('00 PDC SP'!$C:$C,$D203,'00 PDC SP'!I:I)","v":0},{"$f":"SUMIF('00 PDC SP'!$C:$C,$D203,'00 PDC SP'!J:J)","v":0},{"$f":"SUMIF('00 PDC SP'!$C:$C,$D203,'00 PDC SP'!K:K)","v":0},{"$f":"SUMIF('00 PDC SP'!$C:$C,$D203,'00 PDC SP'!L:L)","v":0},{"$f":"SUMIF('00 PDC SP'!$C:$C,$D203,'00 PDC SP'!M:M)","v":0},{"$f":"SUMIF('00 PDC SP'!$C:$C,$D203,'00 PDC SP'!N:N)","v":0}]
["PAA160","A.IV.5) Riserve diverse",null,"PAA160",null,{"$f":"SUMIF('00 PDC SP'!$C:$C,$D204,'00 PDC SP'!H:H)","v":2730000},{"$f":"SUMIF('00 PDC SP'!$C:$C,$D204,'00 PDC SP'!I:I)","v":0},{"$f":"SUMIF('00 PDC SP'!$C:$C,$D204,'00 PDC SP'!J:J)","v":0},{"$f":"SUMIF('00 PDC SP'!$C:$C,$D204,'00 PDC SP'!K:K)","v":2730000},{"$f":"SUMIF('00 PDC SP'!$C:$C,$D204,'00 PDC SP'!L:L)","v":0},{"$f":"SUMIF('00 PDC SP'!$C:$C,$D204,'00 PDC SP'!M:M)","v":0},{"$f":"SUMIF('00 PDC SP'!$C:$C,$D204,'00 PDC SP'!N:N)","v":2730000}]
["PAA170","A.V) CONTRIBUTI PER RIPIANO PERDITE","S","PAA170",null,{"$f":"F206+F207+F208","v":14264710},{"$f":"G206+G207+G208","v":13609624},0,27874334,0,0,27874334]
["PAA180","A.V.1) Contributi per copertura debiti al 31/12/2005",null,"PAA180",null,{"$f":"SUMIF('00 PDC SP'!$C:$C,$D206,'00 PDC SP'!H:H)","v":0},{"$f":"SUMIF('00 PDC SP'!$C:$C,$D206,'00 PDC SP'!I:I)","v":0},{"$f":"SUMIF('00 PDC SP'!$C:$C,$D206,'00 PDC SP'!J:J)","v":0},{"$f":"SUMIF('00 PDC SP'!$C:$C,$D206,'00 PDC SP'!K:K)","v":0},{"$f":"SUMIF('00 PDC SP'!$C:$C,$D206,'00 PDC SP'!L:L)","v":0},{"$f":"SUMIF('00 PDC SP'!$C:$C,$D206,'00 PDC SP'!M:M)","v":0},{"$f":"SUMIF('00 PDC SP'!$C:$C,$D206,'00 PDC SP'!N:N)","v":0}]
["PAA190","A.V.2) Contributi per ricostituzione risorse da investimenti esercizi precedenti",null,"PAA190",null,{"$f":"SUMIF('00 PDC SP'!$C:$C,$D207,'00 PDC SP'!H:H)","v":0},{"$f":"SUMIF('00 PDC SP'!$C:$C,$D207,'00 PDC SP'!I:I)","v":0},{"$f":"SUMIF('00 PDC SP'!$C:$C,$D207,'00 PDC SP'!J:J)","v":0},{"$f":"SUMIF('00 PDC SP'!$C:$C,$D207,'00 PDC SP'!K:K)","v":0},{"$f":"SUMIF('00 PDC SP'!$C:$C,$D207,'00 PDC SP'!L:L)","v":0},{"$f":"SUMIF('00 PDC SP'!$C:$C,$D207,'00 PDC SP'!M:M)","v":0},{"$f":"SUMIF('00 PDC SP'!$C:$C,$D207,'00 PDC SP'!N:N)","v":0}]
["PAA200","A.V.3) Altro",null,"PAA200",null,{"$f":"SUMIF('00 PDC SP'!$C:$C,$D208,'00 PDC SP'!H:H)","v":14264710},{"$f":"SUMIF('00 PDC SP'!$C:$C,$D208,'00 PDC SP'!I:I)","v":13609624},{"$f":"SUMIF('00 PDC SP'!$C:$C,$D208,'00 PDC SP'!J:J)","v":0},{"$f":"SUMIF('00 PDC SP'!$C:$C,$D208,'00 PDC SP'!K:K)","v":27874334},{"$f":"SUMIF('00 PDC SP'!$C:$C,$D208,'00 PDC SP'!L:L)","v":0},{"$f":"SUMIF('00 PDC SP'!$C:$C,$D208,'00 PDC SP'!M:M)","v":0},{"$f":"SUMIF('00 PDC SP'!$C:$C,$D208,'00 PDC SP'!N:N)","v":27874334}]
["PAA210","A.VI) UTILI (PERDITE) PORTATI A NUOVO",null,"PAA210",null,{"$f":"SUMIF('00 PDC SP'!$C:$C,$D209,'00 PDC SP'!H:H)","v":-14264709.560000001},{"$f":"SUMIF('00 PDC SP'!$C:$C,$D209,'00 PDC SP'!I:I)","v":0},{"$f":"SUMIF('00 PDC SP'!$C:$C,$D209,'00 PDC SP'!J:J)","v":13609624.26},{"$f":"SUMIF('00 PDC SP'!$C:$C,$D209,'00 PDC SP'!K:K)","v":-27874333.82},{"$f":"SUMIF('00 PDC SP'!$C:$C,$D209,'00 PDC SP'!L:L)","v":1677.34},{"$f":"SUMIF('00 PDC SP'!$C:$C,$D209,'00 PDC SP'!M:M)","v":0},{"$f":"SUMIF('00 PDC SP'!$C:$C,$D209,'00 PDC SP'!N:N)","v":-27872656.48}]
["PAA220","A.VII) UTILE (PERDITA) D'ESERCIZIO",null,"PAA220",null,{"$f":"SUMIF('00 PDC SP'!$C:$C,$D210,'00 PDC SP'!H:H)","v":-13609624.26},{"$f":"SUMIF('00 PDC SP'!$C:$C,$D210,'00 PDC SP'!I:I)","v":13611301.6},{"$f":"SUMIF('00 PDC SP'!$C:$C,$D210,'00 PDC SP'!J:J)","v":0},{"$f":"SUMIF('00 PDC SP'!$C:$C,$D210,'00 PDC SP'!K:K)","v":1677.34},{"$f":"SUMIF('00 PDC SP'!$C:$C,$D210,'00 PDC SP'!L:L)","v":0},{"$f":"SUMIF('00 PDC SP'!$C:$C,$D210,'00 PDC SP'!M:M)","v":10238530.34},{"$f":"SUMIF('00 PDC SP'!$C:$C,$D210,'00 PDC SP'!N:N)","v":-10236853}]
["PBZ999","B) FONDI PER RISCHI E ONERI","S","PBZ999",null,{"$f":"F212+F213+F221+F230+F236","v":-85752573.330000013},{"$f":"G212+G213+G221+G230+G236","v":-18073168.949999999},-20991484.870000001,-82834257.409999996,-40460848.109999999,-43617806.399999999,-79677299.120000005]
["PBA000","B.I) FONDI PER IMPOSTE, ANCHE DIFFERITE",null,"PBA000",null,{"$f":"SUMIF('00 PDC SP'!$C:$C,$D212,'00 PDC SP'!H:H)","v":0},{"$f":"SUMIF('00 PDC SP'!$C:$C,$D212,'00 PDC SP'!I:I)","v":0},{"$f":"SUMIF('00 PDC SP'!$C:$C,$D212,'00 PDC SP'!J:J)","v":0},{"$f":"SUMIF('00 PDC SP'!$C:$C,$D212,'00 PDC SP'!K:K)","v":0},{"$f":"SUMIF('00 PDC SP'!$C:$C,$D212,'00 PDC SP'!L:L)","v":0},{"$f":"SUMIF('00 PDC SP'!$C:$C,$D212,'00 PDC SP'!M:M)","v":0},{"$f":"SUMIF('00 PDC SP'!$C:$C,$D212,'00 PDC SP'!N:N)","v":0}]
["PBA010","B.II) FONDI PER RISCHI","S","PBA010",null,{"$f":"F214+F215+F216+F217+F218+F219+F220","v":-46340058.510000005},{"$f":"G214+G215+G216+G217+G218+G219+G220","v":-3927713.96},-10442430.949999999,-39825341.520000003,-13914474.879999999,-8166645.9699999997,-45573170.43]
["PBA020","B.II.1) Fondo rischi per cause civili ed oneri processuali",null,"PBA020",null,{"$f":"SUMIF('00 PDC SP'!$C:$C,$D214,'00 PDC SP'!H:H)","v":-16265222},{"$f":"SUMIF('00 PDC SP'!$C:$C,$D214,'00 PDC SP'!I:I)","v":-1357811.38},{"$f":"SUMIF('00 PDC SP'!$C:$C,$D214,'00 PDC SP'!J:J)","v":-6579085.1600000001},{"$f":"SUMIF('00 PDC SP'!$C:$C,$D214,'00 PDC SP'!K:K)","v":-11043948.220000001},{"$f":"SUMIF('00 PDC SP'!$C:$C,$D214,'00 PDC SP'!L:L)","v":-6378882.71},{"$f":"SUMIF('00 PDC SP'!$C:$C,$D214,'00 PDC SP'!M:M)","v":-2138381.25},{"$f":"SUMIF('00 PDC SP'!$C:$C,$D214,'00 PDC SP'!N:N)","v":-15284449.68}]
["PBA030","B.II.2) Fondo rischi per contenzioso personale dipendente",null,"PBA030",null,{"$f":"SUMIF('00 PDC SP'!$C:$C,$D215,'00 PDC SP'!H:H)","v":-1250000},{"$f":"SUMIF('00 PDC SP'!$C:$C,$D215,'00 PDC SP'!I:I)","v":0},{"$f":"SUMIF('00 PDC SP'!$C:$C,$D215,'00 PDC SP'!J:J)","v":-254237.67},{"$f":"SUMIF('00 PDC SP'!$C:$C,$D215,'00 PDC SP'!K:K)","v":-995762.33},{"$f":"SUMIF('00 PDC SP'!$C:$C,$D215,'00 PDC SP'!L:L)","v":-811978.17},{"$f":"SUMIF('00 PDC SP'!$C:$C,$D215,'00 PDC SP'!M:M)","v":-252340.5},{"$f":"SUMIF('00 PDC SP'!$C:$C,$D215,'00 PDC SP'!N:N)","v":-1555400}]
["PBA040","B.II.3) Fondo rischi connessi all'acquisto di prestazioni sanitarie da privato",null,"PBA040",null,{"$f":"SUMIF('00 PDC SP'!$C:$C,$D216,'00 PDC SP'!H:H)","v":-23324836.510000002},{"$f":"SUMIF('00 PDC SP'!$C:$C,$D216,'00 PDC SP'!I:I)","v":-272176.8},{"$f":"SUMIF('00 PDC SP'!$C:$C,$D216,'00 PDC SP'!J:J)","v":-1311382.44},{"$f":"SUMIF('00 PDC SP'!$C:$C,$D216,'00 PDC SP'!K:K)","v":-22285630.870000001},{"$f":"SUMIF('00 PDC SP'!$C:$C,$D216,'00 PDC SP'!L:L)","v":-1823614},{"$f":"SUMIF('00 PDC SP'!$C:$C,$D216,'00 PDC SP'!M:M)","v":-275924.12},{"$f":"SUMIF('00 PDC SP'!$C:$C,$D216,'00 PDC SP'!N:N)","v":-23833320.75}]
["PBA050","B.II.4) Fondo rischi per copertura diretta dei rischi (autoassicurazione)",null,"PBA050",null,{"$f":"SUMIF('00 PDC SP'!$C:$C,$D217,'00 PDC SP'!H:H)","v":-5500000},{"$f":"SUMIF('00 PDC SP'!$C:$C,$D217,'00 PDC SP'!I:I)","v":-2297725.7799999998},{"$f":"SUMIF('00 PDC SP'!$C:$C,$D217,'00 PDC SP'!J:J)","v":-2297725.6800000002},{"$f":"SUMIF('00 PDC SP'!$C:$C,$D217,'00 PDC SP'!K:K)","v":-5500000.0999999996},{"$f":"SUMIF('00 PDC SP'!$C:$C,$D217,'00 PDC SP'!L:L)","v":0},{"$f":"SUMIF('00 PDC SP'!$C:$C,$D217,'00 PDC SP'!M:M)","v":-5500000.0999999996},{"$f":"SUMIF('00 PDC SP'!$C:$C,$D217,'00 PDC SP'!N:N)","v":0}]
["PBA051","B.II.5) Fondo rischi per franchigia assicurativa",null,"PBA051",null,{"$f":"SUMIF('00 PDC SP'!$C:$C,$D218,'00 PDC SP'!H:H)","v":0},{"$f":"SUMIF('00 PDC SP'!$C:$C,$D218,'00 PDC SP'!I:I)","v":0},{"$f":"SUMIF('00 PDC SP'!$C:$C,$D218,'00 PDC SP'!J:J)","v":0},{"$f":"SUMIF('00 PDC SP'!$C:$C,$D218,'00 PDC SP'!K:K)","v":0},{"$f":"SUMIF('00 PDC SP'!$C:$C,$D218,'00 PDC SP'!L:L)","v":-4900000},{"$f":"SUMIF('00 PDC SP'!$C:$C,$D218,'00 PDC SP'!M:M)","v":0},{"$f":"SUMIF('00 PDC SP'!$C:$C,$D218,'00 PDC SP'!N:N)","v":-4900000}]
["PBA052","B.II.6) Fondo rischi per interessi di mora",null,"PBA052",null,{"$f":"SUMIF('00 PDC SP'!$C:$C,$D219,'00 PDC SP'!H:H)","v":0},{"$f":"SUMIF('00 PDC SP'!$C:$C,$D219,'00 PDC SP'!I:I)","v":0},{"$f":"SUMIF('00 PDC SP'!$C:$C,$D219,'00 PDC SP'!J:J)","v":0},{"$f":"SUMIF('00 PDC SP'!$C:$C,$D219,'00 PDC SP'!K:K)","v":0},{"$f":"SUMIF('00 PDC SP'!$C:$C,$D219,'00 PDC SP'!L:L)","v":0},{"$f":"SUMIF('00 PDC SP'!$C:$C,$D219,'00 PDC SP'!M:M)","v":0},{"$f":"SUMIF('00 PDC SP'!$C:$C,$D219,'00 PDC SP'!N:N)","v":0}]
["PBA060","B.II.7) Altri fondi rischi",null,"PBA060",null,{"$f":"SUMIF('00 PDC SP'!$C:$C,$D220,'00 PDC SP'!H:H)","v":0},{"$f":"SUMIF('00 PDC SP'!$C:$C,$D220,'00 PDC SP'!I:I)","v":0},{"$f":"SUMIF('00 PDC SP'!$C:$C,$D220,'00 PDC SP'!J:J)","v":0},{"$f":"SUMIF('00 PDC SP'!$C:$C,$D220,'00 PDC SP'!K:K)","v":0},{"$f":"SUMIF('00 PDC SP'!$C:$C,$D220,'00 PDC SP'!L:L)","v":0},{"$f":"SUMIF('00 PDC SP'!$C:$C,$D220,'00 PDC SP'!M:M)","v":0},{"$f":"SUMIF('00 PDC SP'!$C:$C,$D220,'00 PDC SP'!N:N)","v":0}]
["PBA070","B.III) FONDI DA DISTRIBUIRE","S","PBA070",null,{"$f":"F222+F223+F224+F225+F226+F227+F228+F229","v":0},{"$f":"G222+G223+G224+G225+G226+G227+G228+G229","v":0},0,0,0,0,0]
["PBA080","B.III.1) FSR indistinto da distribuire",null,"PBA080",null,{"$f":"SUMIF('00 PDC SP'!$C:$C,$D222,'00 PDC SP'!H:H)","v":0},{"$f":"SUMIF('00 PDC SP'!$C:$C,$D222,'00 PDC SP'!I:I)","v":0},{"$f":"SUMIF('00 PDC SP'!$C:$C,$D222,'00 PDC SP'!J:J)","v":0},{"$f":"SUMIF('00 PDC SP'!$C:$C,$D222,'00 PDC SP'!K:K)","v":0},{"$f":"SUMIF('00 PDC SP'!$C:$C,$D222,'00 PDC SP'!L:L)","v":0},{"$f":"SUMIF('00 PDC SP'!$C:$C,$D222,'00 PDC SP'!M:M)","v":0},{"$f":"SUMIF('00 PDC SP'!$C:$C,$D222,'00 PDC SP'!N:N)","v":0}]
["PBA090","B.III.2) FSR vincolato da distribuire",null,"PBA090",null,{"$f":"SUMIF('00 PDC SP'!$C:$C,$D223,'00 PDC SP'!H:H)","v":0},{"$f":"SUMIF('00 PDC SP'!$C:$C,$D223,'00 PDC SP'!I:I)","v":0},{"$f":"SUMIF('00 PDC SP'!$C:$C,$D223,'00 PDC SP'!J:J)","v":0},{"$f":"SUMIF('00 PDC SP'!$C:$C,$D223,'00 PDC SP'!K:K)","v":0},{"$f":"SUMIF('00 PDC SP'!$C:$C,$D223,'00 PDC SP'!L:L)","v":0},{"$f":"SUMIF('00 PDC SP'!$C:$C,$D223,'00 PDC SP'!M:M)","v":0},{"$f":"SUMIF('00 PDC SP'!$C:$C,$D223,'00 PDC SP'!N:N)","v":0}]
["PBA100","B.III.3) Fondo per ripiano disavanzi pregressi",null,"PBA100",null,{"$f":"SUMIF('00 PDC SP'!$C:$C,$D224,'00 PDC SP'!H:H)","v":0},{"$f":"SUMIF('00 PDC SP'!$C:$C,$D224,'00 PDC SP'!I:I)","v":0},{"$f":"SUMIF('00 PDC SP'!$C:$C,$D224,'00 PDC SP'!J:J)","v":0},{"$f":"SUMIF('00 PDC SP'!$C:$C,$D224,'00 PDC SP'!K:K)","v":0},{"$f":"SUMIF('00 PDC SP'!$C:$C,$D224,'00 PDC SP'!L:L)","v":0},{"$f":"SUMIF('00 PDC SP'!$C:$C,$D224,'00 PDC SP'!M:M)","v":0},{"$f":"SUMIF('00 PDC SP'!$C:$C,$D224,'00 PDC SP'!N:N)","v":0}]
["PBA110","B.III.4) Fondo finanziamento sanitario aggiuntivo corrente LEA",null,"PBA110",null,{"$f":"SUMIF('00 PDC SP'!$C:$C,$D225,'00 PDC SP'!H:H)","v":0},{"$f":"SUMIF('00 PDC SP'!$C:$C,$D225,'00 PDC SP'!I:I)","v":0},{"$f":"SUMIF('00 PDC SP'!$C:$C,$D225,'00 PDC SP'!J:J)","v":0},{"$f":"SUMIF('00 PDC SP'!$C:$C,$D225,'00 PDC SP'!K:K)","v":0},{"$f":"SUMIF('00 PDC SP'!$C:$C,$D225,'00 PDC SP'!L:L)","v":0},{"$f":"SUMIF('00 PDC SP'!$C:$C,$D225,'00 PDC SP'!M:M)","v":0},{"$f":"SUMIF('00 PDC SP'!$C:$C,$D225,'00 PDC SP'!N:N)","v":0}]
["PBA120","B.III.5) Fondo finanziamento sanitario aggiuntivo corrente extra LEA",null,"PBA120",null,{"$f":"SUMIF('00 PDC SP'!$C:$C,$D226,'00 PDC SP'!H:H)","v":0},{"$f":"SUMIF('00 PDC SP'!$C:$C,$D226,'00 PDC SP'!I:I)","v":0},{"$f":"SUMIF('00 PDC SP'!$C:$C,$D226,'00 PDC SP'!J:J)","v":0},{"$f":"SUMIF('00 PDC SP'!$C:$C,$D226,'00 PDC SP'!K:K)","v":0},{"$f":"SUMIF('00 PDC SP'!$C:$C,$D226,'00 PDC SP'!L:L)","v":0},{"$f":"SUMIF('00 PDC SP'!$C:$C,$D226,'00 PDC SP'!M:M)","v":0},{"$f":"SUMIF('00 PDC SP'!$C:$C,$D226,'00 PDC SP'!N:N)","v":0}]
["PBA130","B.III.6) Fondo finanziamento per ricerca",null,"PBA130",null,{"$f":"SUMIF('00 PDC SP'!$C:$C,$D227,'00 PDC SP'!H:H)","v":0},{"$f":"SUMIF('00 PDC SP'!$C:$C,$D227,'00 PDC SP'!I:I)","v":0},{"$f":"SUMIF('00 PDC SP'!$C:$C,$D227,'00 PDC SP'!J:J)","v":0},{"$f":"SUMIF('00 PDC SP'!$C:$C,$D227,'00 PDC SP'!K:K)","v":0},{"$f":"SUMIF('00 PDC SP'!$C:$C,$D227,'00 PDC SP'!L:L)","v":0},{"$f":"SUMIF('00 PDC SP'!$C:$C,$D227,'00 PDC SP'!M:M)","v":0},{"$f":"SUMIF('00 PDC SP'!$C:$C,$D227,'00 PDC SP'!N:N)","v":0}]
["PBA140","B.III.7) Fondo finanziamento per investimenti",null,"PBA140",null,{"$f":"SUMIF('00 PDC SP'!$C:$C,$D228,'00 PDC SP'!H:H)","v":0},{"$f":"SUMIF('00 PDC SP'!$C:$C,$D228,'00 PDC SP'!I:I)","v":0},{"$f":"SUMIF('00 PDC SP'!$C:$C,$D228,'00 PDC SP'!J:J)","v":0},{"$f":"SUMIF('00 PDC SP'!$C:$C,$D228,'00 PDC SP'!K:K)","v":0},{"$f":"SUMIF('00 PDC SP'!$C:$C,$D228,'00 PDC SP'!L:L)","v":0},{"$f":"SUMIF('00 PDC SP'!$C:$C,$D228,'00 PDC SP'!M:M)","v":0},{"$f":"SUMIF('00 PDC SP'!$C:$C,$D228,'00 PDC SP'!N:N)","v":0}]
["PBA141","B.III.8) Fondo finanziamento sanitario aggiuntivo corrente (extra fondo) - Risorse aggiuntive da bilancio regionale a titolo di copertura extra LEA",null,"PBA141",null,{"$f":"SUMIF('00 PDC SP'!$C:$C,$D229,'00 PDC SP'!H:H)","v":0},{"$f":"SUMIF('00 PDC SP'!$C:$C,$D229,'00 PDC SP'!I:I)","v":0},{"$f":"SUMIF('00 PDC SP'!$C:$C,$D229,'00 PDC SP'!J:J)","v":0},{"$f":"SUMIF('00 PDC SP'!$C:$C,$D229,'00 PDC SP'!K:K)","v":0},{"$f":"SUMIF('00 PDC SP'!$C:$C,$D229,'00 PDC SP'!L:L)","v":0},{"$f":"SUMIF('00 PDC SP'!$C:$C,$D229,'00 PDC SP'!M:M)","v":0},{"$f":"SUMIF('00 PDC SP'!$C:$C,$D229,'00 PDC SP'!N:N)","v":0}]
["PBA150","B.IV) QUOTE INUTILIZZATE CONTRIBUTI","S","PBA150",null,{"$f":"F231+F232+F233+F234+F235","v":-32869065.669999998},{"$f":"G231+G232+G233+G234+G235","v":-7269835.4900000002},-7199516.7300000004,-32939384.430000003,-23473893.68,-34764223.43,-21649054.68]
["PBA151","B.IV.1) Quote inutilizzate contributi da Regione o Prov. Aut. per quota F.S. indistinto finalizzato",null,"PBA151",null,{"$f":"SUMIF('00 PDC SP'!$C:$C,$D231,'00 PDC SP'!H:H)","v":0},{"$f":"SUMIF('00 PDC SP'!$C:$C,$D231,'00 PDC SP'!I:I)","v":0},{"$f":"SUMIF('00 PDC SP'!$C:$C,$D231,'00 PDC SP'!J:J)","v":0},{"$f":"SUMIF('00 PDC SP'!$C:$C,$D231,'00 PDC SP'!K:K)","v":0},{"$f":"SUMIF('00 PDC SP'!$C:$C,$D231,'00 PDC SP'!L:L)","v":0},{"$f":"SUMIF('00 PDC SP'!$C:$C,$D231,'00 PDC SP'!M:M)","v":0},{"$f":"SUMIF('00 PDC SP'!$C:$C,$D231,'00 PDC SP'!N:N)","v":0}]
["PBA160","B.IV.2) Quote inutilizzate contributi da Regione o Prov. Aut. per quota F.S. vincolato",null,"PBA160",null,{"$f":"SUMIF('00 PDC SP'!$C:$C,$D232,'00 PDC SP'!H:H)","v":-32730609.77},{"$f":"SUMIF('00 PDC SP'!$C:$C,$D232,'00 PDC SP'!I:I)","v":-7216729.6299999999},{"$f":"SUMIF('00 PDC SP'!$C:$C,$D232,'00 PDC SP'!J:J)","v":-7199516.7300000004},{"$f":"SUMIF('00 PDC SP'!$C:$C,$D232,'00 PDC SP'!K:K)","v":-32747822.670000002},{"$f":"SUMIF('00 PDC SP'!$C:$C,$D232,'00 PDC SP'!L:L)","v":-23473893.68},{"$f":"SUMIF('00 PDC SP'!$C:$C,$D232,'00 PDC SP'!M:M)","v":-34572661.670000002},{"$f":"SUMIF('00 PDC SP'!$C:$C,$D232,'00 PDC SP'!N:N)","v":-21649054.68}]
["PBA170","B.IV.3) Quote inutilizzate contributi vincolati da soggetti pubblici (extra fondo)",null,"PBA170",null,{"$f":"SUMIF('00 PDC SP'!$C:$C,$D233,'00 PDC SP'!H:H)","v":-138455.9},{"$f":"SUMIF('00 PDC SP'!$C:$C,$D233,'00 PDC SP'!I:I)","v":-53105.86},{"$f":"SUMIF('00 PDC SP'!$C:$C,$D233,'00 PDC SP'!J:J)","v":0},{"$f":"SUMIF('00 PDC SP'!$C:$C,$D233,'00 PDC SP'!K:K)","v":-191561.76},{"$f":"SUMIF('00 PDC SP'!$C:$C,$D233,'00 PDC SP'!L:L)","v":0},{"$f":"SUMIF('00 PDC SP'!$C:$C,$D233,'00 PDC SP'!M:M)","v":-191561.76},{"$f":"SUMIF('00 PDC SP'!$C:$C,$D233,'00 PDC SP'!N:N)","v":0}]
["PBA180","B.IV.4) Quote inutilizzate contributi per ricerca",null,"PBA180",null,{"$f":"SUMIF('00 PDC SP'!$C:$C,$D234,'00 PDC SP'!H:H)","v":0},{"$f":"SUMIF('00 PDC SP'!$C:$C,$D234,'00 PDC SP'!I:I)","v":0},{"$f":"SUMIF('00 PDC SP'!$C:$C,$D234,'00 PDC SP'!J:J)","v":0},{"$f":"SUMIF('00 PDC SP'!$C:$C,$D234,'00 PDC SP'!K:K)","v":0},{"$f":"SUMIF('00 PDC SP'!$C:$C,$D234,'00 PDC SP'!L:L)","v":0},{"$f":"SUMIF('00 PDC SP'!$C:$C,$D234,'00 PDC SP'!M:M)","v":0},{"$f":"SUMIF('00 PDC SP'!$C:$C,$D234,'00 PDC SP'!N:N)","v":0}]
["PBA190","B.IV.5) Quote inutilizzate contributi vincolati da privati",null,"PBA190",null,{"$f":"SUMIF('00 PDC SP'!$C:$C,$D235,'00 PDC SP'!H:H)","v":0},{"$f":"SUMIF('00 PDC SP'!$C:$C,$D235,'00 PDC SP'!I:I)","v":0},{"$f":"SUMIF('00 PDC SP'!$C:$C,$D235,'00 PDC SP'!J:J)","v":0},{"$f":"SUMIF('00 PDC SP'!$C:$C,$D235,'00 PDC SP'!K:K)","v":0},{"$f":"SUMIF('00 PDC SP'!$C:$C,$D235,'00 PDC SP'!L:L)","v":0},{"$f":"SUMIF('00 PDC SP'!$C:$C,$D235,'00 PDC SP'!M:M)","v":0},{"$f":"SUMIF('00 PDC SP'!$C:$C,$D235,'00 PDC SP'!N:N)","v":0}]
["PBA200","B.V) ALTRI FONDI PER ONERI E SPESE","S","PBA200",null,{"$f":"F237+F238+F242+F243","v":-6543449.1500000004},{"$f":"G237+G238+G242+G243","v":-6875619.5},-3349537.1900000004,-10069531.460000001,-3072479.55,-686937,-12455074.010000002]
["PBA210","B.V.1) Fondi integrativi pensione",null,"PBA210",null,{"$f":"SUMIF('00 PDC SP'!$C:$C,$D237,'00 PDC SP'!H:H)","v":0},{"$f":"SUMIF('00 PDC SP'!$C:$C,$D237,'00 PDC SP'!I:I)","v":0},{"$f":"SUMIF('00 PDC SP'!$C:$C,$D237,'00 PDC SP'!J:J)","v":0},{"$f":"SUMIF('00 PDC SP'!$C:$C,$D237,'00 PDC SP'!K:K)","v":0},{"$f":"SUMIF('00 PDC SP'!$C:$C,$D237,'00 PDC SP'!L:L)","v":0},{"$f":"SUMIF('00 PDC SP'!$C:$C,$D237,'00 PDC SP'!M:M)","v":0},{"$f":"SUMIF('00 PDC SP'!$C:$C,$D237,'00 PDC SP'!N:N)","v":0}]
["PBA220","B.V.2) Fondi rinnovi contrattuali","S","PBA220",null,{"$f":"F239+F240+F241","v":-6543449.1500000004},{"$f":"G239+G240+G241","v":-4475619.5},-3349537.1900000004,-7669531.46,-3072479.55,-686937,-10055074.010000002]
["PBA230","B.V.2.a) Fondo rinnovi contrattuali personale dipendente ",null,"PBA230",null,{"$f":"SUMIF('00 PDC SP'!$C:$C,$D239,'00 PDC SP'!H:H)","v":-2516697},{"$f":"SUMIF('00 PDC SP'!$C:$C,$D239,'00 PDC SP'!I:I)","v":-2658672},{"$f":"SUMIF('00 PDC SP'!$C:$C,$D239,'00 PDC SP'!J:J)","v":-1421530.85},{"$f":"SUMIF('00 PDC SP'!$C:$C,$D239,'00 PDC SP'!K:K)","v":-3753838.15},{"$f":"SUMIF('00 PDC SP'!$C:$C,$D239,'00 PDC SP'!L:L)","v":-820311.55},{"$f":"SUMIF('00 PDC SP'!$C:$C,$D239,'00 PDC SP'!M:M)","v":-686937},{"$f":"SUMIF('00 PDC SP'!$C:$C,$D239,'00 PDC SP'!N:N)","v":-3887212.7}]
["PBA240","B.V.2.b) Fondo rinnovi convenzioni MMG/PLS/MCA",null,"PBA240",null,{"$f":"SUMIF('00 PDC SP'!$C:$C,$D240,'00 PDC SP'!H:H)","v":-3807702.15},{"$f":"SUMIF('00 PDC SP'!$C:$C,$D240,'00 PDC SP'!I:I)","v":-1507157},{"$f":"SUMIF('00 PDC SP'!$C:$C,$D240,'00 PDC SP'!J:J)","v":-1600163.8400000001},{"$f":"SUMIF('00 PDC SP'!$C:$C,$D240,'00 PDC SP'!K:K)","v":-3714695.31},{"$f":"SUMIF('00 PDC SP'!$C:$C,$D240,'00 PDC SP'!L:L)","v":-1990220},{"$f":"SUMIF('00 PDC SP'!$C:$C,$D240,'00 PDC SP'!M:M)","v":0},{"$f":"SUMIF('00 PDC SP'!$C:$C,$D240,'00 PDC SP'!N:N)","v":-5704915.3100000005}]
["PBA250","B.V.2.c) Fondo rinnovi convenzioni medici Sumai",null,"PBA250",null,{"$f":"SUMIF('00 PDC SP'!$C:$C,$D241,'00 PDC SP'!H:H)","v":-219050},{"$f":"SUMIF('00 PDC SP'!$C:$C,$D241,'00 PDC SP'!I:I)","v":-309790.5},{"$f":"SUMIF('00 PDC SP'!$C:$C,$D241,'00 PDC SP'!J:J)","v":-327842.5},{"$f":"SUMIF('00 PDC SP'!$C:$C,$D241,'00 PDC SP'!K:K)","v":-200998},{"$f":"SUMIF('00 PDC SP'!$C:$C,$D241,'00 PDC SP'!L:L)","v":-261948},{"$f":"SUMIF('00 PDC SP'!$C:$C,$D241,'00 PDC SP'!M:M)","v":0},{"$f":"SUMIF('00 PDC SP'!$C:$C,$D241,'00 PDC SP'!N:N)","v":-462946}]
["PBA260","B.V.3) Altri fondi per oneri e spese",null,"PBA260",null,{"$f":"SUMIF('00 PDC SP'!$C:$C,$D242,'00 PDC SP'!H:H)","v":0},{"$f":"SUMIF('00 PDC SP'!$C:$C,$D242,'00 PDC SP'!I:I)","v":-2400000},{"$f":"SUMIF('00 PDC SP'!$C:$C,$D242,'00 PDC SP'!J:J)","v":0},{"$f":"SUMIF('00 PDC SP'!$C:$C,$D242,'00 PDC SP'!K:K)","v":-2400000},{"$f":"SUMIF('00 PDC SP'!$C:$C,$D242,'00 PDC SP'!L:L)","v":0},{"$f":"SUMIF('00 PDC SP'!$C:$C,$D242,'00 PDC SP'!M:M)","v":0},{"$f":"SUMIF('00 PDC SP'!$C:$C,$D242,'00 PDC SP'!N:N)","v":-2400000}]
["PBA270","B.V.4) Altri Fondi incentivi funzioni tecniche Art. 113 D.Lgs 50/2016",null,"PBA270",null,{"$f":"SUMIF('00 PDC SP'!$C:$C,$D243,'00 PDC SP'!H:H)","v":0},{"$f":"SUMIF('00 PDC SP'!$C:$C,$D243,'00 PDC SP'!I:I)","v":0},{"$f":"SUMIF('00 PDC SP'!$C:$C,$D243,'00 PDC SP'!J:J)","v":0},{"$f":"SUMIF('00 PDC SP'!$C:$C,$D243,'00 PDC SP'!K:K)","v":0},{"$f":"SUMIF('00 PDC SP'!$C:$C,$D243,'00 PDC SP'!L:L)","v":0},{"$f":"SUMIF('00 PDC SP'!$C:$C,$D243,'00 PDC SP'!M:M)","v":0},{"$f":"SUMIF('00 PDC SP'!$C:$C,$D243,'00 PDC SP'!N:N)","v":0}]
["PCZ999","C) TRATTAMENTO FINE RAPPORTO","S","PCZ999",null,{"$f":"F245+F246+F247","v":-2201092.41},{"$f":"G245+G246+G247","v":-264664.11},-197944.41,-2267812.11,-277851.92,-441070.23,-2104593.7999999998]
["PCA000","C.I) FONDO PER PREMI OPEROSITA' MEDICI SUMAI",null,"PCA000",null,{"$f":"SUMIF('00 PDC SP'!$C:$C,$D245,'00 PDC SP'!H:H)","v":-2201092.41},{"$f":"SUMIF('00 PDC SP'!$C:$C,$D245,'00 PDC SP'!I:I)","v":-264664.11},{"$f":"SUMIF('00 PDC SP'!$C:$C,$D245,'00 PDC SP'!J:J)","v":-197944.41},{"$f":"SUMIF('00 PDC SP'!$C:$C,$D245,'00 PDC SP'!K:K)","v":-2267812.11},{"$f":"SUMIF('00 PDC SP'!$C:$C,$D245,'00 PDC SP'!L:L)","v":-277851.92},{"$f":"SUMIF('00 PDC SP'!$C:$C,$D245,'00 PDC SP'!M:M)","v":-441070.23},{"$f":"SUMIF('00 PDC SP'!$C:$C,$D245,'00 PDC SP'!N:N)","v":-2104593.7999999998}]
["PCA010","C.II) FONDO PER TRATTAMENTO DI FINE RAPPORTO DIPENDENTI",null,"PCA010",null,{"$f":"SUMIF('00 PDC SP'!$C:$C,$D246,'00 PDC SP'!H:H)","v":0},{"$f":"SUMIF('00 PDC SP'!$C:$C,$D246,'00 PDC SP'!I:I)","v":0},{"$f":"SUMIF('00 PDC SP'!$C:$C,$D246,'00 PDC SP'!J:J)","v":0},{"$f":"SUMIF('00 PDC SP'!$C:$C,$D246,'00 PDC SP'!K:K)","v":0},{"$f":"SUMIF('00 PDC SP'!$C:$C,$D246,'00 PDC SP'!L:L)","v":0},{"$f":"SUMIF('00 PDC SP'!$C:$C,$D246,'00 PDC SP'!M:M)","v":0},{"$f":"SUMIF('00 PDC SP'!$C:$C,$D246,'00 PDC SP'!N:N)","v":0}]
["PCA020","C.III) FONDO PER TRATTAMENTI DI QUIESCENZA E SIMILI",null,"PCA020",null,{"$f":"SUMIF('00 PDC SP'!$C:$C,$D247,'00 PDC SP'!H:H)","v":0},{"$f":"SUMIF('00 PDC SP'!$C:$C,$D247,'00 PDC SP'!I:I)","v":0},{"$f":"SUMIF('00 PDC SP'!$C:$C,$D247,'00 PDC SP'!J:J)","v":0},{"$f":"SUMIF('00 PDC SP'!$C:$C,$D247,'00 PDC SP'!K:K)","v":0},{"$f":"SUMIF('00 PDC SP'!$C:$C,$D247,'00 PDC SP'!L:L)","v":0},{"$f":"SUMIF('00 PDC SP'!$C:$C,$D247,'00 PDC SP'!M:M)","v":0},{"$f":"SUMIF('00 PDC SP'!$C:$C,$D247,'00 PDC SP'!N:N)","v":0}]
["PDZ999","D) DEBITI","S","PDZ999",null,{"$f":"F249+F250+F256+F267+F268+F286+F290+F297+F298+F299+F300","v":-178133782.12000003},{"$f":"G249+G250+G256+G267+G268+G286+G290+G297+G298+G299+G300","v":-1452726710.3},-1447731114.3300004,-183129378.09000003,-1510168087.3700001,-1483193378.8,-210104086.66]
["PDA000","D.I) DEBITI PER MUTUI PASSIVI",null,"PDA000",null,{"$f":"SUMIF('00 PDC SP'!$C:$C,$D249,'00 PDC SP'!H:H)","v":0},{"$f":"SUMIF('00 PDC SP'!$C:$C,$D249,'00 PDC SP'!I:I)","v":0},{"$f":"SUMIF('00 PDC SP'!$C:$C,$D249,'00 PDC SP'!J:J)","v":0},{"$f":"SUMIF('00 PDC SP'!$C:$C,$D249,'00 PDC SP'!K:K)","v":0},{"$f":"SUMIF('00 PDC SP'!$C:$C,$D249,'00 PDC SP'!L:L)","v":0},{"$f":"SUMIF('00 PDC SP'!$C:$C,$D249,'00 PDC SP'!M:M)","v":0},{"$f":"SUMIF('00 PDC SP'!$C:$C,$D249,'00 PDC SP'!N:N)","v":0}]
["PDA010","D.II) DEBITI V/STATO","S","PDA010",null,{"$f":"F251+F252+F253+F254+F255","v":0},{"$f":"G251+G252+G253+G254+G255","v":0},0,0,0,0,0]
["PDA020","D.II.1) Debiti v/Stato per mobilità passiva extraregionale",null,"PDA020",null,{"$f":"SUMIF('00 PDC SP'!$C:$C,$D251,'00 PDC SP'!H:H)","v":0},{"$f":"SUMIF('00 PDC SP'!$C:$C,$D251,'00 PDC SP'!I:I)","v":0},{"$f":"SUMIF('00 PDC SP'!$C:$C,$D251,'00 PDC SP'!J:J)","v":0},{"$f":"SUMIF('00 PDC SP'!$C:$C,$D251,'00 PDC SP'!K:K)","v":0},{"$f":"SUMIF('00 PDC SP'!$C:$C,$D251,'00 PDC SP'!L:L)","v":0},{"$f":"SUMIF('00 PDC SP'!$C:$C,$D251,'00 PDC SP'!M:M)","v":0},{"$f":"SUMIF('00 PDC SP'!$C:$C,$D251,'00 PDC SP'!N:N)","v":0}]
["PDA030","D.II.2) Debiti v/Stato per mobilità passiva internazionale",null,"PDA030",null,{"$f":"SUMIF('00 PDC SP'!$C:$C,$D252,'00 PDC SP'!H:H)","v":0},{"$f":"SUMIF('00 PDC SP'!$C:$C,$D252,'00 PDC SP'!I:I)","v":0},{"$f":"SUMIF('00 PDC SP'!$C:$C,$D252,'00 PDC SP'!J:J)","v":0},{"$f":"SUMIF('00 PDC SP'!$C:$C,$D252,'00 PDC SP'!K:K)","v":0},{"$f":"SUMIF('00 PDC SP'!$C:$C,$D252,'00 PDC SP'!L:L)","v":0},{"$f":"SUMIF('00 PDC SP'!$C:$C,$D252,'00 PDC SP'!M:M)","v":0},{"$f":"SUMIF('00 PDC SP'!$C:$C,$D252,'00 PDC SP'!N:N)","v":0}]
["PDA040","D.II.3) Acconto quota FSR v/Stato",null,"PDA040",null,{"$f":"SUMIF('00 PDC SP'!$C:$C,$D253,'00 PDC SP'!H:H)","v":0},{"$f":"SUMIF('00 PDC SP'!$C:$C,$D253,'00 PDC SP'!I:I)","v":0},{"$f":"SUMIF('00 PDC SP'!$C:$C,$D253,'00 PDC SP'!J:J)","v":0},{"$f":"SUMIF('00 PDC SP'!$C:$C,$D253,'00 PDC SP'!K:K)","v":0},{"$f":"SUMIF('00 PDC SP'!$C:$C,$D253,'00 PDC SP'!L:L)","v":0},{"$f":"SUMIF('00 PDC SP'!$C:$C,$D253,'00 PDC SP'!M:M)","v":0},{"$f":"SUMIF('00 PDC SP'!$C:$C,$D253,'00 PDC SP'!N:N)","v":0}]
["PDA050","D.II.4) Debiti v/Stato per restituzione finanziamenti - per ricerca",null,"PDA050",null,{"$f":"SUMIF('00 PDC SP'!$C:$C,$D254,'00 PDC SP'!H:H)","v":0},{"$f":"SUMIF('00 PDC SP'!$C:$C,$D254,'00 PDC SP'!I:I)","v":0},{"$f":"SUMIF('00 PDC SP'!$C:$C,$D254,'00 PDC SP'!J:J)","v":0},{"$f":"SUMIF('00 PDC SP'!$C:$C,$D254,'00 PDC SP'!K:K)","v":0},{"$f":"SUMIF('00 PDC SP'!$C:$C,$D254,'00 PDC SP'!L:L)","v":0},{"$f":"SUMIF('00 PDC SP'!$C:$C,$D254,'00 PDC SP'!M:M)","v":0},{"$f":"SUMIF('00 PDC SP'!$C:$C,$D254,'00 PDC SP'!N:N)","v":0}]
["PDA060","D.II.5) Altri debiti v/Stato",null,"PDA060",null,{"$f":"SUMIF('00 PDC SP'!$C:$C,$D255,'00 PDC SP'!H:H)","v":0},{"$f":"SUMIF('00 PDC SP'!$C:$C,$D255,'00 PDC SP'!I:I)","v":0},{"$f":"SUMIF('00 PDC SP'!$C:$C,$D255,'00 PDC SP'!J:J)","v":0},{"$f":"SUMIF('00 PDC SP'!$C:$C,$D255,'00 PDC SP'!K:K)","v":0},{"$f":"SUMIF('00 PDC SP'!$C:$C,$D255,'00 PDC SP'!L:L)","v":0},{"$f":"SUMIF('00 PDC SP'!$C:$C,$D255,'00 PDC SP'!M:M)","v":0},{"$f":"SUMIF('00 PDC SP'!$C:$C,$D255,'00 PDC SP'!N:N)","v":0}]
["PDA070","D.III) DEBITI V/REGIONE O PROVINCIA AUTONOMA","S","PDA070",null,{"$f":"F257+F258+F259+F260+F261+F262+F263+F264+F265+F266","v":-30296203.669999998},{"$f":"G257+G258+G259+G260+G261+G262+G263+G264+G265+G266","v":-664380815.47000003},-664380815.47000003,-30296203.669999998,-694202269.86000001,-688605970.91999996,-35892502.609999999]
["PDA080","D.III.1) Debiti v/Regione o Provincia Autonoma per finanziamenti - GSA",null,"PDA080",null,{"$f":"SUMIF('00 PDC SP'!$C:$C,$D257,'00 PDC SP'!H:H)","v":0},{"$f":"SUMIF('00 PDC SP'!$C:$C,$D257,'00 PDC SP'!I:I)","v":0},{"$f":"SUMIF('00 PDC SP'!$C:$C,$D257,'00 PDC SP'!J:J)","v":0},{"$f":"SUMIF('00 PDC SP'!$C:$C,$D257,'00 PDC SP'!K:K)","v":0},{"$f":"SUMIF('00 PDC SP'!$C:$C,$D257,'00 PDC SP'!L:L)","v":0},{"$f":"SUMIF('00 PDC SP'!$C:$C,$D257,'00 PDC SP'!M:M)","v":0},{"$f":"SUMIF('00 PDC SP'!$C:$C,$D257,'00 PDC SP'!N:N)","v":0}]
["PDA081","D.III.2) Debiti v/Regione o Provincia Autonoma per finanziamenti",null,"PDA081",null,{"$f":"SUMIF('00 PDC SP'!$C:$C,$D258,'00 PDC SP'!H:H)","v":0},{"$f":"SUMIF('00 PDC SP'!$C:$C,$D258,'00 PDC SP'!I:I)","v":0},{"$f":"SUMIF('00 PDC SP'!$C:$C,$D258,'00 PDC SP'!J:J)","v":0},{"$f":"SUMIF('00 PDC SP'!$C:$C,$D258,'00 PDC SP'!K:K)","v":0},{"$f":"SUMIF('00 PDC SP'!$C:$C,$D258,'00 PDC SP'!L:L)","v":0},{"$f":"SUMIF('00 PDC SP'!$C:$C,$D258,'00 PDC SP'!M:M)","v":0},{"$f":"SUMIF('00 PDC SP'!$C:$C,$D258,'00 PDC SP'!N:N)","v":0}]
["PDA090","D.III.3) Debiti v/Regione o Provincia Autonoma per mobilità passiva intraregionale",null,"PDA090",null,{"$f":"SUMIF('00 PDC SP'!$C:$C,$D259,'00 PDC SP'!H:H)","v":-20765655.579999998},{"$f":"SUMIF('00 PDC SP'!$C:$C,$D259,'00 PDC SP'!I:I)","v":-49387581.229999997},{"$f":"SUMIF('00 PDC SP'!$C:$C,$D259,'00 PDC SP'!J:J)","v":-49387581.229999997},{"$f":"SUMIF('00 PDC SP'!$C:$C,$D259,'00 PDC SP'!K:K)","v":-20765655.579999998},{"$f":"SUMIF('00 PDC SP'!$C:$C,$D259,'00 PDC SP'!L:L)","v":-52055370.390000001},{"$f":"SUMIF('00 PDC SP'!$C:$C,$D259,'00 PDC SP'!M:M)","v":-52055370.390000001},{"$f":"SUMIF('00 PDC SP'!$C:$C,$D259,'00 PDC SP'!N:N)","v":-20765655.579999998}]
["PDA100","D.III.4) Debiti v/Regione o Provincia Autonoma per mobilità passiva extraregionale",null,"PDA100",null,{"$f":"SUMIF('00 PDC SP'!$C:$C,$D260,'00 PDC SP'!H:H)","v":-9530548.0899999999},{"$f":"SUMIF('00 PDC SP'!$C:$C,$D260,'00 PDC SP'!I:I)","v":-33463665.77},{"$f":"SUMIF('00 PDC SP'!$C:$C,$D260,'00 PDC SP'!J:J)","v":-33463665.77},{"$f":"SUMIF('00 PDC SP'!$C:$C,$D260,'00 PDC SP'!K:K)","v":-9530548.0899999999},{"$f":"SUMIF('00 PDC SP'!$C:$C,$D260,'00 PDC SP'!L:L)","v":-36714312.75},{"$f":"SUMIF('00 PDC SP'!$C:$C,$D260,'00 PDC SP'!M:M)","v":-36714312.75},{"$f":"SUMIF('00 PDC SP'!$C:$C,$D260,'00 PDC SP'!N:N)","v":-9530548.0900000036}]
["PDA101","D.III.5) Debiti v/Regione o Provincia Autonoma per mobilità passiva internazionale",null,"PDA101",null,{"$f":"SUMIF('00 PDC SP'!$C:$C,$D261,'00 PDC SP'!H:H)","v":0},{"$f":"SUMIF('00 PDC SP'!$C:$C,$D261,'00 PDC SP'!I:I)","v":0},{"$f":"SUMIF('00 PDC SP'!$C:$C,$D261,'00 PDC SP'!J:J)","v":0},{"$f":"SUMIF('00 PDC SP'!$C:$C,$D261,'00 PDC SP'!K:K)","v":0},{"$f":"SUMIF('00 PDC SP'!$C:$C,$D261,'00 PDC SP'!L:L)","v":-2330052.7799999998},{"$f":"SUMIF('00 PDC SP'!$C:$C,$D261,'00 PDC SP'!M:M)","v":-2330052.7799999998},{"$f":"SUMIF('00 PDC SP'!$C:$C,$D261,'00 PDC SP'!N:N)","v":0}]
["PDA110","D.III.6) Acconto quota FSR da Regione o Provincia Autonoma",null,"PDA110",null,{"$f":"SUMIF('00 PDC SP'!$C:$C,$D262,'00 PDC SP'!H:H)","v":0},{"$f":"SUMIF('00 PDC SP'!$C:$C,$D262,'00 PDC SP'!I:I)","v":-581529568.47000003},{"$f":"SUMIF('00 PDC SP'!$C:$C,$D262,'00 PDC SP'!J:J)","v":-581529568.47000003},{"$f":"SUMIF('00 PDC SP'!$C:$C,$D262,'00 PDC SP'!K:K)","v":0},{"$f":"SUMIF('00 PDC SP'!$C:$C,$D262,'00 PDC SP'!L:L)","v":-597506235},{"$f":"SUMIF('00 PDC SP'!$C:$C,$D262,'00 PDC SP'!M:M)","v":-597506235},{"$f":"SUMIF('00 PDC SP'!$C:$C,$D262,'00 PDC SP'!N:N)","v":0}]
["PDA111","D.III.7) Acconto da Regione o Provincia Autonoma per anticipazione ripiano disavanzo programmato dai Piani aziendali di cui all'art. 1, comma 528, L. 208/2015",null,"PDA111",null,{"$f":"SUMIF('00 PDC SP'!$C:$C,$D263,'00 PDC SP'!H:H)","v":0},{"$f":"SUMIF('00 PDC SP'!$C:$C,$D263,'00 PDC SP'!I:I)","v":0},{"$f":"SUMIF('00 PDC SP'!$C:$C,$D263,'00 PDC SP'!J:J)","v":0},{"$f":"SUMIF('00 PDC SP'!$C:$C,$D263,'00 PDC SP'!K:K)","v":0},{"$f":"SUMIF('00 PDC SP'!$C:$C,$D263,'00 PDC SP'!L:L)","v":0},{"$f":"SUMIF('00 PDC SP'!$C:$C,$D263,'00 PDC SP'!M:M)","v":0},{"$f":"SUMIF('00 PDC SP'!$C:$C,$D263,'00 PDC SP'!N:N)","v":0}]
["PDA112","D.III.8) Debiti v/Regione o Provincia Autonoma per contributi L. 210/92 ",null,"PDA112",null,{"$f":"SUMIF('00 PDC SP'!$C:$C,$D264,'00 PDC SP'!H:H)","v":0},{"$f":"SUMIF('00 PDC SP'!$C:$C,$D264,'00 PDC SP'!I:I)","v":0},{"$f":"SUMIF('00 PDC SP'!$C:$C,$D264,'00 PDC SP'!J:J)","v":0},{"$f":"SUMIF('00 PDC SP'!$C:$C,$D264,'00 PDC SP'!K:K)","v":0},{"$f":"SUMIF('00 PDC SP'!$C:$C,$D264,'00 PDC SP'!L:L)","v":0},{"$f":"SUMIF('00 PDC SP'!$C:$C,$D264,'00 PDC SP'!M:M)","v":0},{"$f":"SUMIF('00 PDC SP'!$C:$C,$D264,'00 PDC SP'!N:N)","v":0}]
["PDA120","D.III.9) Altri debiti v/Regione o Provincia Autonoma – GSA",null,"PDA120",null,{"$f":"SUMIF('00 PDC SP'!$C:$C,$D265,'00 PDC SP'!H:H)","v":0},{"$f":"SUMIF('00 PDC SP'!$C:$C,$D265,'00 PDC SP'!I:I)","v":0},{"$f":"SUMIF('00 PDC SP'!$C:$C,$D265,'00 PDC SP'!J:J)","v":0},{"$f":"SUMIF('00 PDC SP'!$C:$C,$D265,'00 PDC SP'!K:K)","v":0},{"$f":"SUMIF('00 PDC SP'!$C:$C,$D265,'00 PDC SP'!L:L)","v":-5596298.9400000004},{"$f":"SUMIF('00 PDC SP'!$C:$C,$D265,'00 PDC SP'!M:M)","v":0},{"$f":"SUMIF('00 PDC SP'!$C:$C,$D265,'00 PDC SP'!N:N)","v":-5596298.9400000004}]
["PDA121","D.III.10) Altri debiti v/Regione o Provincia Autonoma",null,"PDA121",null,{"$f":"SUMIF('00 PDC SP'!$C:$C,$D266,'00 PDC SP'!H:H)","v":0},{"$f":"SUMIF('00 PDC SP'!$C:$C,$D266,'00 PDC SP'!I:I)","v":0},{"$f":"SUMIF('00 PDC SP'!$C:$C,$D266,'00 PDC SP'!J:J)","v":0},{"$f":"SUMIF('00 PDC SP'!$C:$C,$D266,'00 PDC SP'!K:K)","v":0},{"$f":"SUMIF('00 PDC SP'!$C:$C,$D266,'00 PDC SP'!L:L)","v":0},{"$f":"SUMIF('00 PDC SP'!$C:$C,$D266,'00 PDC SP'!M:M)","v":0},{"$f":"SUMIF('00 PDC SP'!$C:$C,$D266,'00 PDC SP'!N:N)","v":0}]
["PDA130","D.IV) DEBITI V/COMUNI",null,"PDA130",null,{"$f":"SUMIF('00 PDC SP'!$C:$C,$D267,'00 PDC SP'!H:H)","v":-150000},{"$f":"SUMIF('00 PDC SP'!$C:$C,$D267,'00 PDC SP'!I:I)","v":0},{"$f":"SUMIF('00 PDC SP'!$C:$C,$D267,'00 PDC SP'!J:J)","v":0},{"$f":"SUMIF('00 PDC SP'!$C:$C,$D267,'00 PDC SP'!K:K)","v":-150000},{"$f":"SUMIF('00 PDC SP'!$C:$C,$D267,'00 PDC SP'!L:L)","v":0},{"$f":"SUMIF('00 PDC SP'!$C:$C,$D267,'00 PDC SP'!M:M)","v":0},{"$f":"SUMIF('00 PDC SP'!$C:$C,$D267,'00 PDC SP'!N:N)","v":-150000}]
["PDA140","D.V) DEBITI V/AZIENDE SANITARIE PUBBLICHE","S","PDA140",null,{"$f":"F269+F279+F280","v":-2590787.98},{"$f":"G269+G279+G280","v":-974625.5},-700678.94,-2864734.54,-1250609.6599999999,-1116693.5299999998,-2998650.6699999995]
["PDA150","D.V.1) Debiti v/Aziende sanitarie pubbliche della Regione","S","PDA150",null,{"$f":"F270+F271+F272+F273+F274+F275+F276+F277+F278","v":-2389762.08},{"$f":"G270+G271+G272+G273+G274+G275+G276+G277+G278","v":-679354.5},-403497.63,-2665618.9500000002,-923656.48999999987,-806134.89999999991,-2783140.5399999996]
["PDA160","D.V.1.a) Debiti v/Aziende sanitarie pubbliche della Regione - per quota FSR",null,"PDA160",null,{"$f":"SUMIF('00 PDC SP'!$C:$C,$D270,'00 PDC SP'!H:H)","v":0},{"$f":"SUMIF('00 PDC SP'!$C:$C,$D270,'00 PDC SP'!I:I)","v":0},{"$f":"SUMIF('00 PDC SP'!$C:$C,$D270,'00 PDC SP'!J:J)","v":0},{"$f":"SUMIF('00 PDC SP'!$C:$C,$D270,'00 PDC SP'!K:K)","v":0},{"$f":"SUMIF('00 PDC SP'!$C:$C,$D270,'00 PDC SP'!L:L)","v":0},{"$f":"SUMIF('00 PDC SP'!$C:$C,$D270,'00 PDC SP'!M:M)","v":0},{"$f":"SUMIF('00 PDC SP'!$C:$C,$D270,'00 PDC SP'!N:N)","v":0}]
["PDA170","D.V.1.b) Debiti v/Aziende sanitarie pubbliche della Regione - per finanziamento sanitario aggiuntivo corrente LEA",null,"PDA170",null,{"$f":"SUMIF('00 PDC SP'!$C:$C,$D271,'00 PDC SP'!H:H)","v":0},{"$f":"SUMIF('00 PDC SP'!$C:$C,$D271,'00 PDC SP'!I:I)","v":0},{"$f":"SUMIF('00 PDC SP'!$C:$C,$D271,'00 PDC SP'!J:J)","v":0},{"$f":"SUMIF('00 PDC SP'!$C:$C,$D271,'00 PDC SP'!K:K)","v":0},{"$f":"SUMIF('00 PDC SP'!$C:$C,$D271,'00 PDC SP'!L:L)","v":0},{"$f":"SUMIF('00 PDC SP'!$C:$C,$D271,'00 PDC SP'!M:M)","v":0},{"$f":"SUMIF('00 PDC SP'!$C:$C,$D271,'00 PDC SP'!N:N)","v":0}]
["PDA180","D.V.1.c) Debiti v/Aziende sanitarie pubbliche della Regione - per finanziamento sanitario aggiuntivo corrente extra LEA",null,"PDA180",null,{"$f":"SUMIF('00 PDC SP'!$C:$C,$D272,'00 PDC SP'!H:H)","v":0},{"$f":"SUMIF('00 PDC SP'!$C:$C,$D272,'00 PDC SP'!I:I)","v":0},{"$f":"SUMIF('00 PDC SP'!$C:$C,$D272,'00 PDC SP'!J:J)","v":0},{"$f":"SUMIF('00 PDC SP'!$C:$C,$D272,'00 PDC SP'!K:K)","v":0},{"$f":"SUMIF('00 PDC SP'!$C:$C,$D272,'00 PDC SP'!L:L)","v":0},{"$f":"SUMIF('00 PDC SP'!$C:$C,$D272,'00 PDC SP'!M:M)","v":0},{"$f":"SUMIF('00 PDC SP'!$C:$C,$D272,'00 PDC SP'!N:N)","v":0}]
["PDA190","D.V.1.d) Debiti v/Aziende sanitarie pubbliche della Regione - per mobilità in compensazione",null,"PDA190",null,{"$f":"SUMIF('00 PDC SP'!$C:$C,$D273,'00 PDC SP'!H:H)","v":0},{"$f":"SUMIF('00 PDC SP'!$C:$C,$D273,'00 PDC SP'!I:I)","v":0},{"$f":"SUMIF('00 PDC SP'!$C:$C,$D273,'00 PDC SP'!J:J)","v":0},{"$f":"SUMIF('00 PDC SP'!$C:$C,$D273,'00 PDC SP'!K:K)","v":0},{"$f":"SUMIF('00 PDC SP'!$C:$C,$D273,'00 PDC SP'!L:L)","v":0},{"$f":"SUMIF('00 PDC SP'!$C:$C,$D273,'00 PDC SP'!M:M)","v":0},{"$f":"SUMIF('00 PDC SP'!$C:$C,$D273,'00 PDC SP'!N:N)","v":0}]
["PDA200","D.V.1.e) Debiti v/Aziende sanitarie pubbliche della Regione - per mobilità non in compensazione",null,"PDA200",null,{"$f":"SUMIF('00 PDC SP'!$C:$C,$D274,'00 PDC SP'!H:H)","v":0},{"$f":"SUMIF('00 PDC SP'!$C:$C,$D274,'00 PDC SP'!I:I)","v":0},{"$f":"SUMIF('00 PDC SP'!$C:$C,$D274,'00 PDC SP'!J:J)","v":0},{"$f":"SUMIF('00 PDC SP'!$C:$C,$D274,'00 PDC SP'!K:K)","v":0},{"$f":"SUMIF('00 PDC SP'!$C:$C,$D274,'00 PDC SP'!L:L)","v":0},{"$f":"SUMIF('00 PDC SP'!$C:$C,$D274,'00 PDC SP'!M:M)","v":0},{"$f":"SUMIF('00 PDC SP'!$C:$C,$D274,'00 PDC SP'!N:N)","v":0}]
["PDA210","D.V.1.f) Debiti v/Aziende sanitarie pubbliche della Regione - per altre prestazioni",null,"PDA210",null,{"$f":"SUMIF('00 PDC SP'!$C:$C,$D275,'00 PDC SP'!H:H)","v":-2389762.08},{"$f":"SUMIF('00 PDC SP'!$C:$C,$D275,'00 PDC SP'!I:I)","v":-679354.5},{"$f":"SUMIF('00 PDC SP'!$C:$C,$D275,'00 PDC SP'!J:J)","v":-403497.63},{"$f":"SUMIF('00 PDC SP'!$C:$C,$D275,'00 PDC SP'!K:K)","v":-2665618.9500000002},{"$f":"SUMIF('00 PDC SP'!$C:$C,$D275,'00 PDC SP'!L:L)","v":-923656.48999999987},{"$f":"SUMIF('00 PDC SP'!$C:$C,$D275,'00 PDC SP'!M:M)","v":-806134.89999999991},{"$f":"SUMIF('00 PDC SP'!$C:$C,$D275,'00 PDC SP'!N:N)","v":-2783140.5399999996}]
["PDA211","D.V.1.g) Debiti v/Aziende sanitarie pubbliche della Regione - altre prestazioni per STP",null,"PDA211",null,{"$f":"SUMIF('00 PDC SP'!$C:$C,$D276,'00 PDC SP'!H:H)","v":0},{"$f":"SUMIF('00 PDC SP'!$C:$C,$D276,'00 PDC SP'!I:I)","v":0},{"$f":"SUMIF('00 PDC SP'!$C:$C,$D276,'00 PDC SP'!J:J)","v":0},{"$f":"SUMIF('00 PDC SP'!$C:$C,$D276,'00 PDC SP'!K:K)","v":0},{"$f":"SUMIF('00 PDC SP'!$C:$C,$D276,'00 PDC SP'!L:L)","v":0},{"$f":"SUMIF('00 PDC SP'!$C:$C,$D276,'00 PDC SP'!M:M)","v":0},{"$f":"SUMIF('00 PDC SP'!$C:$C,$D276,'00 PDC SP'!N:N)","v":0}]
["PDA212","D.V.1.h)  Debiti v/Aziende sanitarie pubbliche della Regione - per Contributi da Aziende sanitarie pubbliche della Regione o Prov. Aut. (extra fondo) ",null,"PDA212",null,{"$f":"SUMIF('00 PDC SP'!$C:$C,$D277,'00 PDC SP'!H:H)","v":0},{"$f":"SUMIF('00 PDC SP'!$C:$C,$D277,'00 PDC SP'!I:I)","v":0},{"$f":"SUMIF('00 PDC SP'!$C:$C,$D277,'00 PDC SP'!J:J)","v":0},{"$f":"SUMIF('00 PDC SP'!$C:$C,$D277,'00 PDC SP'!K:K)","v":0},{"$f":"SUMIF('00 PDC SP'!$C:$C,$D277,'00 PDC SP'!L:L)","v":0},{"$f":"SUMIF('00 PDC SP'!$C:$C,$D277,'00 PDC SP'!M:M)","v":0},{"$f":"SUMIF('00 PDC SP'!$C:$C,$D277,'00 PDC SP'!N:N)","v":0}]
["PDA213","D.V.1.i) Debiti v/Aziende sanitarie pubbliche della Regione - per contributi L. 210/92 ",null,"PDA213",null,{"$f":"SUMIF('00 PDC SP'!$C:$C,$D278,'00 PDC SP'!H:H)","v":0},{"$f":"SUMIF('00 PDC SP'!$C:$C,$D278,'00 PDC SP'!I:I)","v":0},{"$f":"SUMIF('00 PDC SP'!$C:$C,$D278,'00 PDC SP'!J:J)","v":0},{"$f":"SUMIF('00 PDC SP'!$C:$C,$D278,'00 PDC SP'!K:K)","v":0},{"$f":"SUMIF('00 PDC SP'!$C:$C,$D278,'00 PDC SP'!L:L)","v":0},{"$f":"SUMIF('00 PDC SP'!$C:$C,$D278,'00 PDC SP'!M:M)","v":0},{"$f":"SUMIF('00 PDC SP'!$C:$C,$D278,'00 PDC SP'!N:N)","v":0}]
["PDA220","D.V.2) Debiti v/Aziende sanitarie pubbliche Extraregione ",null,"PDA220",null,{"$f":"SUMIF('00 PDC SP'!$C:$C,$D279,'00 PDC SP'!H:H)","v":-201025.89999999997},{"$f":"SUMIF('00 PDC SP'!$C:$C,$D279,'00 PDC SP'!I:I)","v":-295271},{"$f":"SUMIF('00 PDC SP'!$C:$C,$D279,'00 PDC SP'!J:J)","v":-297181.31},{"$f":"SUMIF('00 PDC SP'!$C:$C,$D279,'00 PDC SP'!K:K)","v":-199115.59},{"$f":"SUMIF('00 PDC SP'!$C:$C,$D279,'00 PDC SP'!L:L)","v":-326953.17},{"$f":"SUMIF('00 PDC SP'!$C:$C,$D279,'00 PDC SP'!M:M)","v":-310558.63},{"$f":"SUMIF('00 PDC SP'!$C:$C,$D279,'00 PDC SP'!N:N)","v":-215510.12999999995}]
["PDA230","D.V.3) Debiti v/Aziende sanitarie pubbliche della Regione per versamenti c/patrimonio netto","S","PDA230",null,{"$f":"F281+F282+F283+F284+F285","v":0},{"$f":"G281+G282+G283+G284+G285","v":0},0,0,0,0,0]
["PDA231","D.V.3.a) Debiti v/Aziende sanitarie pubbliche della Regione per versamenti c/patrimonio netto - finanziamenti per investimenti",null,"PDA231",null,{"$f":"SUMIF('00 PDC SP'!$C:$C,$D281,'00 PDC SP'!H:H)","v":0},{"$f":"SUMIF('00 PDC SP'!$C:$C,$D281,'00 PDC SP'!I:I)","v":0},{"$f":"SUMIF('00 PDC SP'!$C:$C,$D281,'00 PDC SP'!J:J)","v":0},{"$f":"SUMIF('00 PDC SP'!$C:$C,$D281,'00 PDC SP'!K:K)","v":0},{"$f":"SUMIF('00 PDC SP'!$C:$C,$D281,'00 PDC SP'!L:L)","v":0},{"$f":"SUMIF('00 PDC SP'!$C:$C,$D281,'00 PDC SP'!M:M)","v":0},{"$f":"SUMIF('00 PDC SP'!$C:$C,$D281,'00 PDC SP'!N:N)","v":0}]
["PDA232","D.V.3.b) Debiti v/Aziende sanitarie pubbliche della Regione per versamenti c/patrimonio netto - incremento fondo dotazione",null,"PDA232",null,{"$f":"SUMIF('00 PDC SP'!$C:$C,$D282,'00 PDC SP'!H:H)","v":0},{"$f":"SUMIF('00 PDC SP'!$C:$C,$D282,'00 PDC SP'!I:I)","v":0},{"$f":"SUMIF('00 PDC SP'!$C:$C,$D282,'00 PDC SP'!J:J)","v":0},{"$f":"SUMIF('00 PDC SP'!$C:$C,$D282,'00 PDC SP'!K:K)","v":0},{"$f":"SUMIF('00 PDC SP'!$C:$C,$D282,'00 PDC SP'!L:L)","v":0},{"$f":"SUMIF('00 PDC SP'!$C:$C,$D282,'00 PDC SP'!M:M)","v":0},{"$f":"SUMIF('00 PDC SP'!$C:$C,$D282,'00 PDC SP'!N:N)","v":0}]
["PDA233","D.V.3.c) Debiti v/Aziende sanitarie pubbliche della Regione per versamenti c/patrimonio netto - ripiano perdite",null,"PDA233",null,{"$f":"SUMIF('00 PDC SP'!$C:$C,$D283,'00 PDC SP'!H:H)","v":0},{"$f":"SUMIF('00 PDC SP'!$C:$C,$D283,'00 PDC SP'!I:I)","v":0},{"$f":"SUMIF('00 PDC SP'!$C:$C,$D283,'00 PDC SP'!J:J)","v":0},{"$f":"SUMIF('00 PDC SP'!$C:$C,$D283,'00 PDC SP'!K:K)","v":0},{"$f":"SUMIF('00 PDC SP'!$C:$C,$D283,'00 PDC SP'!L:L)","v":0},{"$f":"SUMIF('00 PDC SP'!$C:$C,$D283,'00 PDC SP'!M:M)","v":0},{"$f":"SUMIF('00 PDC SP'!$C:$C,$D283,'00 PDC SP'!N:N)","v":0}]
["PDA234","D.V.3.d) Debiti v/Aziende sanitarie pubbliche della Regione per anticipazione ripiano disavanzo programmato dai Piani aziendali di cui all'art. 1, comma 528, L. 208/2015",null,"PDA234",null,{"$f":"SUMIF('00 PDC SP'!$C:$C,$D284,'00 PDC SP'!H:H)","v":0},{"$f":"SUMIF('00 PDC SP'!$C:$C,$D284,'00 PDC SP'!I:I)","v":0},{"$f":"SUMIF('00 PDC SP'!$C:$C,$D284,'00 PDC SP'!J:J)","v":0},{"$f":"SUMIF('00 PDC SP'!$C:$C,$D284,'00 PDC SP'!K:K)","v":0},{"$f":"SUMIF('00 PDC SP'!$C:$C,$D284,'00 PDC SP'!L:L)","v":0},{"$f":"SUMIF('00 PDC SP'!$C:$C,$D284,'00 PDC SP'!M:M)","v":0},{"$f":"SUMIF('00 PDC SP'!$C:$C,$D284,'00 PDC SP'!N:N)","v":0}]
["PDA235","D.V.3.e) Debiti v/Aziende sanitarie pubbliche della Regione per versamenti c/patrimonio netto - altro",null,"PDA235",null,{"$f":"SUMIF('00 PDC SP'!$C:$C,$D285,'00 PDC SP'!H:H)","v":0},{"$f":"SUMIF('00 PDC SP'!$C:$C,$D285,'00 PDC SP'!I:I)","v":0},{"$f":"SUMIF('00 PDC SP'!$C:$C,$D285,'00 PDC SP'!J:J)","v":0},{"$f":"SUMIF('00 PDC SP'!$C:$C,$D285,'00 PDC SP'!K:K)","v":0},{"$f":"SUMIF('00 PDC SP'!$C:$C,$D285,'00 PDC SP'!L:L)","v":0},{"$f":"SUMIF('00 PDC SP'!$C:$C,$D285,'00 PDC SP'!M:M)","v":0},{"$f":"SUMIF('00 PDC SP'!$C:$C,$D285,'00 PDC SP'!N:N)","v":0}]
["PDA240","D.VI) DEBITI V/ SOCIETA' PARTECIPATE E/O ENTI DIPENDENTI DELLA REGIONE","S","PDA240",null,{"$f":"F287+F288+F289","v":0},{"$f":"G287+G288+G289","v":0},0,0,0,0,0]
["PDA250","D.VI.1) Debiti v/enti regionali",null,"PDA250",null,{"$f":"SUMIF('00 PDC SP'!$C:$C,$D287,'00 PDC SP'!H:H)","v":0},{"$f":"SUMIF('00 PDC SP'!$C:$C,$D287,'00 PDC SP'!I:I)","v":0},{"$f":"SUMIF('00 PDC SP'!$C:$C,$D287,'00 PDC SP'!J:J)","v":0},{"$f":"SUMIF('00 PDC SP'!$C:$C,$D287,'00 PDC SP'!K:K)","v":0},{"$f":"SUMIF('00 PDC SP'!$C:$C,$D287,'00 PDC SP'!L:L)","v":0},{"$f":"SUMIF('00 PDC SP'!$C:$C,$D287,'00 PDC SP'!M:M)","v":0},{"$f":"SUMIF('00 PDC SP'!$C:$C,$D287,'00 PDC SP'!N:N)","v":0}]
["PDA260","D.VI.2) Debiti v/sperimentazioni gestionali",null,"PDA260",null,{"$f":"SUMIF('00 PDC SP'!$C:$C,$D288,'00 PDC SP'!H:H)","v":0},{"$f":"SUMIF('00 PDC SP'!$C:$C,$D288,'00 PDC SP'!I:I)","v":0},{"$f":"SUMIF('00 PDC SP'!$C:$C,$D288,'00 PDC SP'!J:J)","v":0},{"$f":"SUMIF('00 PDC SP'!$C:$C,$D288,'00 PDC SP'!K:K)","v":0},{"$f":"SUMIF('00 PDC SP'!$C:$C,$D288,'00 PDC SP'!L:L)","v":0},{"$f":"SUMIF('00 PDC SP'!$C:$C,$D288,'00 PDC SP'!M:M)","v":0},{"$f":"SUMIF('00 PDC SP'!$C:$C,$D288,'00 PDC SP'!N:N)","v":0}]
["PDA270","D.VI.3) Debiti v/altre partecipate",null,"PDA270",null,{"$f":"SUMIF('00 PDC SP'!$C:$C,$D289,'00 PDC SP'!H:H)","v":0},{"$f":"SUMIF('00 PDC SP'!$C:$C,$D289,'00 PDC SP'!I:I)","v":0},{"$f":"SUMIF('00 PDC SP'!$C:$C,$D289,'00 PDC SP'!J:J)","v":0},{"$f":"SUMIF('00 PDC SP'!$C:$C,$D289,'00 PDC SP'!K:K)","v":0},{"$f":"SUMIF('00 PDC SP'!$C:$C,$D289,'00 PDC SP'!L:L)","v":0},{"$f":"SUMIF('00 PDC SP'!$C:$C,$D289,'00 PDC SP'!M:M)","v":0},{"$f":"SUMIF('00 PDC SP'!$C:$C,$D289,'00 PDC SP'!N:N)","v":0}]
["PDA280","D.VII) DEBITI V/FORNITORI","S","PDA280",null,{"$f":"F291+F294","v":-125745023.87},{"$f":"G291+G294","v":-536635603.63},-534893371.63999999,-127487255.86000001,-564142170.86000013,-562932374.95000005,-128697051.77000001]
["PDA290","D.VII.1) Debiti verso erogatori (privati accreditati e convenzionati) di prestazioni sanitarie ","S","PDA290",null,{"$f":"F292+F293","v":-73910641.299999997},{"$f":"G292+G293","v":-206227882.84000003},-200801539.89999998,-79336984.24000001,-204351599.66,-204792610.84000003,-78895973.059999973]
["PDA291","D.VII.1.a) Debiti verso erogatori (privati accreditati e convenzionati) di prestazioni sanitarie ",null,"PDA291",null,{"$f":"SUMIF('00 PDC SP'!$C:$C,$D292,'00 PDC SP'!H:H)","v":-103174829.84999999},{"$f":"SUMIF('00 PDC SP'!$C:$C,$D292,'00 PDC SP'!I:I)","v":-209062200.22000003},{"$f":"SUMIF('00 PDC SP'!$C:$C,$D292,'00 PDC SP'!J:J)","v":-207003904.86999997},{"$f":"SUMIF('00 PDC SP'!$C:$C,$D292,'00 PDC SP'!K:K)","v":-105233125.2},{"$f":"SUMIF('00 PDC SP'!$C:$C,$D292,'00 PDC SP'!L:L)","v":-206289070.38999999},{"$f":"SUMIF('00 PDC SP'!$C:$C,$D292,'00 PDC SP'!M:M)","v":-207630675.54000002},{"$f":"SUMIF('00 PDC SP'!$C:$C,$D292,'00 PDC SP'!N:N)","v":-103891520.04999998}]
["PDA292","D.VII.1.b) Note di credito da ricevere (privati accreditati e convenzionati)",null,"PDA292",null,{"$f":"SUMIF('00 PDC SP'!$C:$C,$D293,'00 PDC SP'!H:H)","v":29264188.550000001},{"$f":"SUMIF('00 PDC SP'!$C:$C,$D293,'00 PDC SP'!I:I)","v":2834317.38},{"$f":"SUMIF('00 PDC SP'!$C:$C,$D293,'00 PDC SP'!J:J)","v":6202364.9700000007},{"$f":"SUMIF('00 PDC SP'!$C:$C,$D293,'00 PDC SP'!K:K)","v":25896140.960000001},{"$f":"SUMIF('00 PDC SP'!$C:$C,$D293,'00 PDC SP'!L:L)","v":1937470.73},{"$f":"SUMIF('00 PDC SP'!$C:$C,$D293,'00 PDC SP'!M:M)","v":2838064.6999999997},{"$f":"SUMIF('00 PDC SP'!$C:$C,$D293,'00 PDC SP'!N:N)","v":24995546.990000002}]
["PDA300","D.VII.2) Debiti verso altri fornitori","S","PDA300",null,{"$f":"F295+F296","v":-51834382.57},{"$f":"G295+G296","v":-330407720.78999996},-334091831.74000001,-48150271.619999997,-359790571.20000011,-358139764.10999995,-49801078.710000038]
["PDA301","D.VII.2.a) Debiti verso altri fornitori",null,"PDA301",null,{"$f":"SUMIF('00 PDC SP'!$C:$C,$D295,'00 PDC SP'!H:H)","v":-52964183.649999999},{"$f":"SUMIF('00 PDC SP'!$C:$C,$D295,'00 PDC SP'!I:I)","v":-331690131.42999995},{"$f":"SUMIF('00 PDC SP'!$C:$C,$D295,'00 PDC SP'!J:J)","v":-335221632.81999999},{"$f":"SUMIF('00 PDC SP'!$C:$C,$D295,'00 PDC SP'!K:K)","v":-49432682.259999998},{"$f":"SUMIF('00 PDC SP'!$C:$C,$D295,'00 PDC SP'!L:L)","v":-360529050.54000008},{"$f":"SUMIF('00 PDC SP'!$C:$C,$D295,'00 PDC SP'!M:M)","v":-359422174.74999994},{"$f":"SUMIF('00 PDC SP'!$C:$C,$D295,'00 PDC SP'!N:N)","v":-50539558.050000042}]
["PDA302","D.VII.2.b) Note di credito da ricevere (altri fornitori)",null,"PDA302",null,{"$f":"SUMIF('00 PDC SP'!$C:$C,$D296,'00 PDC SP'!H:H)","v":1129801.08},{"$f":"SUMIF('00 PDC SP'!$C:$C,$D296,'00 PDC SP'!I:I)","v":1282410.6399999999},{"$f":"SUMIF('00 PDC SP'!$C:$C,$D296,'00 PDC SP'!J:J)","v":1129801.08},{"$f":"SUMIF('00 PDC SP'!$C:$C,$D296,'00 PDC SP'!K:K)","v":1282410.6399999999},{"$f":"SUMIF('00 PDC SP'!$C:$C,$D296,'00 PDC SP'!L:L)","v":738479.34},{"$f":"SUMIF('00 PDC SP'!$C:$C,$D296,'00 PDC SP'!M:M)","v":1282410.6399999999},{"$f":"SUMIF('00 PDC SP'!$C:$C,$D296,'00 PDC SP'!N:N)","v":738479.34000000008}]
["PDA310","D.VIII) DEBITI V/ISTITUTO TESORIERE",null,"PDA310",null,{"$f":"SUMIF('00 PDC SP'!$C:$C,$D297,'00 PDC SP'!H:H)","v":0},{"$f":"SUMIF('00 PDC SP'!$C:$C,$D297,'00 PDC SP'!I:I)","v":0},{"$f":"SUMIF('00 PDC SP'!$C:$C,$D297,'00 PDC SP'!J:J)","v":0},{"$f":"SUMIF('00 PDC SP'!$C:$C,$D297,'00 PDC SP'!K:K)","v":0},{"$f":"SUMIF('00 PDC SP'!$C:$C,$D297,'00 PDC SP'!L:L)","v":0},{"$f":"SUMIF('00 PDC SP'!$C:$C,$D297,'00 PDC SP'!M:M)","v":0},{"$f":"SUMIF('00 PDC SP'!$C:$C,$D297,'00 PDC SP'!N:N)","v":0}]
["PDA320","D.IX) DEBITI TRIBUTARI",null,"PDA320",null,{"$f":"SUMIF('00 PDC SP'!$C:$C,$D298,'00 PDC SP'!H:H)","v":-3075022.27},{"$f":"SUMIF('00 PDC SP'!$C:$C,$D298,'00 PDC SP'!I:I)","v":-81770826.739999995},{"$f":"SUMIF('00 PDC SP'!$C:$C,$D298,'00 PDC SP'!J:J)","v":-80709847.110000014},{"$f":"SUMIF('00 PDC SP'!$C:$C,$D298,'00 PDC SP'!K:K)","v":-4136001.9},{"$f":"SUMIF('00 PDC SP'!$C:$C,$D298,'00 PDC SP'!L:L)","v":-82084331.469999999},{"$f":"SUMIF('00 PDC SP'!$C:$C,$D298,'00 PDC SP'!M:M)","v":-74410482.609999999},{"$f":"SUMIF('00 PDC SP'!$C:$C,$D298,'00 PDC SP'!N:N)","v":-11809850.760000004}]
["PDA330","D.X) DEBITI V/ISTITUTI PREVIDENZIALI, ASSISTENZIALI E SICUREZZA SOCIALE",null,"PDA330",null,{"$f":"SUMIF('00 PDC SP'!$C:$C,$D299,'00 PDC SP'!H:H)","v":-1518530.61},{"$f":"SUMIF('00 PDC SP'!$C:$C,$D299,'00 PDC SP'!I:I)","v":-61881373.919999994},{"$f":"SUMIF('00 PDC SP'!$C:$C,$D299,'00 PDC SP'!J:J)","v":-61879449.490000002},{"$f":"SUMIF('00 PDC SP'!$C:$C,$D299,'00 PDC SP'!K:K)","v":-1520455.04},{"$f":"SUMIF('00 PDC SP'!$C:$C,$D299,'00 PDC SP'!L:L)","v":-60322035.579999998},{"$f":"SUMIF('00 PDC SP'!$C:$C,$D299,'00 PDC SP'!M:M)","v":-52822795.079999998},{"$f":"SUMIF('00 PDC SP'!$C:$C,$D299,'00 PDC SP'!N:N)","v":-9019695.5400000028}]
["PDA340","D.XI) DEBITI V/ALTRI","S","PDA340",null,{"$f":"F301+F302+F303+F304","v":-14758213.719999999},{"$f":"G301+G302+G303+G304","v":-107083465.03999999},-105166951.67999999,-16674727.08,-108166669.94,-103305061.70999999,-21536335.309999999]
["PDA350","D.XI.1) Debiti v/altri finanziatori",null,"PDA350",null,{"$f":"SUMIF('00 PDC SP'!$C:$C,$D301,'00 PDC SP'!H:H)","v":0},{"$f":"SUMIF('00 PDC SP'!$C:$C,$D301,'00 PDC SP'!I:I)","v":0},{"$f":"SUMIF('00 PDC SP'!$C:$C,$D301,'00 PDC SP'!J:J)","v":0},{"$f":"SUMIF('00 PDC SP'!$C:$C,$D301,'00 PDC SP'!K:K)","v":0},{"$f":"SUMIF('00 PDC SP'!$C:$C,$D301,'00 PDC SP'!L:L)","v":0},{"$f":"SUMIF('00 PDC SP'!$C:$C,$D301,'00 PDC SP'!M:M)","v":0},{"$f":"SUMIF('00 PDC SP'!$C:$C,$D301,'00 PDC SP'!N:N)","v":0}]
["PDA360","D.XI.2) Debiti v/dipendenti",null,"PDA360",null,{"$f":"SUMIF('00 PDC SP'!$C:$C,$D302,'00 PDC SP'!H:H)","v":-13855245.439999999},{"$f":"SUMIF('00 PDC SP'!$C:$C,$D302,'00 PDC SP'!I:I)","v":-98561758.25999999},{"$f":"SUMIF('00 PDC SP'!$C:$C,$D302,'00 PDC SP'!J:J)","v":-96905871.109999999},{"$f":"SUMIF('00 PDC SP'!$C:$C,$D302,'00 PDC SP'!K:K)","v":-15511132.59},{"$f":"SUMIF('00 PDC SP'!$C:$C,$D302,'00 PDC SP'!L:L)","v":-99619014.390000001},{"$f":"SUMIF('00 PDC SP'!$C:$C,$D302,'00 PDC SP'!M:M)","v":-95304606.739999995},{"$f":"SUMIF('00 PDC SP'!$C:$C,$D302,'00 PDC SP'!N:N)","v":-19825540.239999998}]
["PDA370","D.XI.3) Debiti v/gestioni liquidatorie",null,"PDA370",null,{"$f":"SUMIF('00 PDC SP'!$C:$C,$D303,'00 PDC SP'!H:H)","v":0},{"$f":"SUMIF('00 PDC SP'!$C:$C,$D303,'00 PDC SP'!I:I)","v":0},{"$f":"SUMIF('00 PDC SP'!$C:$C,$D303,'00 PDC SP'!J:J)","v":0},{"$f":"SUMIF('00 PDC SP'!$C:$C,$D303,'00 PDC SP'!K:K)","v":0},{"$f":"SUMIF('00 PDC SP'!$C:$C,$D303,'00 PDC SP'!L:L)","v":0},{"$f":"SUMIF('00 PDC SP'!$C:$C,$D303,'00 PDC SP'!M:M)","v":0},{"$f":"SUMIF('00 PDC SP'!$C:$C,$D303,'00 PDC SP'!N:N)","v":0}]
["PDA380","D.XI.4) Altri debiti diversi",null,"PDA380",null,{"$f":"SUMIF('00 PDC SP'!$C:$C,$D304,'00 PDC SP'!H:H)","v":-902968.28},{"$f":"SUMIF('00 PDC SP'!$C:$C,$D304,'00 PDC SP'!I:I)","v":-8521706.7799999993},{"$f":"SUMIF('00 PDC SP'!$C:$C,$D304,'00 PDC SP'!J:J)","v":-8261080.5699999994},{"$f":"SUMIF('00 PDC SP'!$C:$C,$D304,'00 PDC SP'!K:K)","v":-1163594.49},{"$f":"SUMIF('00 PDC SP'!$C:$C,$D304,'00 PDC SP'!L:L)","v":-8547655.5499999989},{"$f":"SUMIF('00 PDC SP'!$C:$C,$D304,'00 PDC SP'!M:M)","v":-8000454.9700000007},{"$f":"SUMIF('00 PDC SP'!$C:$C,$D304,'00 PDC SP'!N:N)","v":-1710795.0699999989}]
["PEZ999","E) RATEI E RISCONTI PASSIVI","S","PEZ999",null,{"$f":"F306+F309","v":0},{"$f":"G306+G309","v":0},0,0,0,0,0]
["PEA000","E.I) RATEI PASSIVI","S","PEA000",null,{"$f":"F307+F308","v":0},{"$f":"G307+G308","v":0},0,0,0,0,0]
["PEA010","E.I.1) Ratei passivi",null,"PEA010",null,{"$f":"SUMIF('00 PDC SP'!$C:$C,$D307,'00 PDC SP'!H:H)","v":0},{"$f":"SUMIF('00 PDC SP'!$C:$C,$D307,'00 PDC SP'!I:I)","v":0},{"$f":"SUMIF('00 PDC SP'!$C:$C,$D307,'00 PDC SP'!J:J)","v":0},{"$f":"SUMIF('00 PDC SP'!$C:$C,$D307,'00 PDC SP'!K:K)","v":0},{"$f":"SUMIF('00 PDC SP'!$C:$C,$D307,'00 PDC SP'!L:L)","v":0},{"$f":"SUMIF('00 PDC SP'!$C:$C,$D307,'00 PDC SP'!M:M)","v":0},{"$f":"SUMIF('00 PDC SP'!$C:$C,$D307,'00 PDC SP'!N:N)","v":0}]
["PEA020","E.I.2) Ratei passivi v/Aziende sanitarie pubbliche della Regione",null,"PEA020",null,{"$f":"SUMIF('00 PDC SP'!$C:$C,$D308,'00 PDC SP'!H:H)","v":0},{"$f":"SUMIF('00 PDC SP'!$C:$C,$D308,'00 PDC SP'!I:I)","v":0},{"$f":"SUMIF('00 PDC SP'!$C:$C,$D308,'00 PDC SP'!J:J)","v":0},{"$f":"SUMIF('00 PDC SP'!$C:$C,$D308,'00 PDC SP'!K:K)","v":0},{"$f":"SUMIF('00 PDC SP'!$C:$C,$D308,'00 PDC SP'!L:L)","v":0},{"$f":"SUMIF('00 PDC SP'!$C:$C,$D308,'00 PDC SP'!M:M)","v":0},{"$f":"SUMIF('00 PDC SP'!$C:$C,$D308,'00 PDC SP'!N:N)","v":0}]
["PEA030","E.II) RISCONTI PASSIVI","S","PEA030",null,{"$f":"F310+F311+F312","v":0},{"$f":"G310+G311+G312","v":0},0,0,0,0,0]
["PEA040","E.II.1) Risconti passivi",null,"PEA040",null,{"$f":"SUMIF('00 PDC SP'!$C:$C,$D310,'00 PDC SP'!H:H)","v":0},{"$f":"SUMIF('00 PDC SP'!$C:$C,$D310,'00 PDC SP'!I:I)","v":0},{"$f":"SUMIF('00 PDC SP'!$C:$C,$D310,'00 PDC SP'!J:J)","v":0},{"$f":"SUMIF('00 PDC SP'!$C:$C,$D310,'00 PDC SP'!K:K)","v":0},{"$f":"SUMIF('00 PDC SP'!$C:$C,$D310,'00 PDC SP'!L:L)","v":0},{"$f":"SUMIF('00 PDC SP'!$C:$C,$D310,'00 PDC SP'!M:M)","v":0},{"$f":"SUMIF('00 PDC SP'!$C:$C,$D310,'00 PDC SP'!N:N)","v":0}]
["PEA050","E.II.2) Risconti passivi v/Aziende sanitarie pubbliche della Regione",null,"PEA050",null,{"$f":"SUMIF('00 PDC SP'!$C:$C,$D311,'00 PDC SP'!H:H)","v":0},{"$f":"SUMIF('00 PDC SP'!$C:$C,$D311,'00 PDC SP'!I:I)","v":0},{"$f":"SUMIF('00 PDC SP'!$C:$C,$D311,'00 PDC SP'!J:J)","v":0},{"$f":"SUMIF('00 PDC SP'!$C:$C,$D311,'00 PDC SP'!K:K)","v":0},{"$f":"SUMIF('00 PDC SP'!$C:$C,$D311,'00 PDC SP'!L:L)","v":0},{"$f":"SUMIF('00 PDC SP'!$C:$C,$D311,'00 PDC SP'!M:M)","v":0},{"$f":"SUMIF('00 PDC SP'!$C:$C,$D311,'00 PDC SP'!N:N)","v":0}]
["PEA060","E.II.3) Risconti passivi - in attuazione dell’art.79, comma 1 sexies lettera c), del D.L. 112/2008, convertito con legge 133/2008 e della legge 23 dicembre 2009 n. 191",null,"PEA060",null,{"$f":"SUMIF('00 PDC SP'!$C:$C,$D312,'00 PDC SP'!H:H)","v":0},{"$f":"SUMIF('00 PDC SP'!$C:$C,$D312,'00 PDC SP'!I:I)","v":0},{"$f":"SUMIF('00 PDC SP'!$C:$C,$D312,'00 PDC SP'!J:J)","v":0},{"$f":"SUMIF('00 PDC SP'!$C:$C,$D312,'00 PDC SP'!K:K)","v":0},{"$f":"SUMIF('00 PDC SP'!$C:$C,$D312,'00 PDC SP'!L:L)","v":0},{"$f":"SUMIF('00 PDC SP'!$C:$C,$D312,'00 PDC SP'!M:M)","v":0},{"$f":"SUMIF('00 PDC SP'!$C:$C,$D312,'00 PDC SP'!N:N)","v":0}]
["PZZ999","F) TOTALE PASSIVO E PATRIMONIO NETTO","S","PZZ999",null,{"$f":"F187+F211++F244+F248+F305","v":-157603106.38000005},{"$f":"G187+G211++G244+G248+G305","v":-1437242891.4300001},-1444819244.4300003,-150026753.38000005,-1533717076.6600001,-1492783283.4400001,-190960546.59999999]
["PFZ999","G) CONTI D'ORDINE","S","PFZ999",null,{"$f":"F315+F316+F317+F318+F319","v":0},{"$f":"G315+G316+G317+G318+G319","v":0},0,0,0,0,0]
["PFA000","G.I) CANONI DI LEASING ANCORA DA PAGARE",null,"PFA000",null,{"$f":"SUMIF('00 PDC SP'!$C:$C,$D315,'00 PDC SP'!H:H)","v":0},{"$f":"SUMIF('00 PDC SP'!$C:$C,$D315,'00 PDC SP'!I:I)","v":0},{"$f":"SUMIF('00 PDC SP'!$C:$C,$D315,'00 PDC SP'!J:J)","v":0},{"$f":"SUMIF('00 PDC SP'!$C:$C,$D315,'00 PDC SP'!K:K)","v":0},{"$f":"SUMIF('00 PDC SP'!$C:$C,$D315,'00 PDC SP'!L:L)","v":0},{"$f":"SUMIF('00 PDC SP'!$C:$C,$D315,'00 PDC SP'!M:M)","v":0},{"$f":"SUMIF('00 PDC SP'!$C:$C,$D315,'00 PDC SP'!N:N)","v":0}]
["PFA010","G.II) DEPOSITI CAUZIONALI",null,"PFA010",null,{"$f":"SUMIF('00 PDC SP'!$C:$C,$D316,'00 PDC SP'!H:H)","v":0},{"$f":"SUMIF('00 PDC SP'!$C:$C,$D316,'00 PDC SP'!I:I)","v":0},{"$f":"SUMIF('00 PDC SP'!$C:$C,$D316,'00 PDC SP'!J:J)","v":0},{"$f":"SUMIF('00 PDC SP'!$C:$C,$D316,'00 PDC SP'!K:K)","v":0},{"$f":"SUMIF('00 PDC SP'!$C:$C,$D316,'00 PDC SP'!L:L)","v":0},{"$f":"SUMIF('00 PDC SP'!$C:$C,$D316,'00 PDC SP'!M:M)","v":0},{"$f":"SUMIF('00 PDC SP'!$C:$C,$D316,'00 PDC SP'!N:N)","v":0}]
["PFA020","G.III) BENI IN COMODATO",null,"PFA020",null,{"$f":"SUMIF('00 PDC SP'!$C:$C,$D317,'00 PDC SP'!H:H)","v":0},{"$f":"SUMIF('00 PDC SP'!$C:$C,$D317,'00 PDC SP'!I:I)","v":0},{"$f":"SUMIF('00 PDC SP'!$C:$C,$D317,'00 PDC SP'!J:J)","v":0},{"$f":"SUMIF('00 PDC SP'!$C:$C,$D317,'00 PDC SP'!K:K)","v":0},{"$f":"SUMIF('00 PDC SP'!$C:$C,$D317,'00 PDC SP'!L:L)","v":0},{"$f":"SUMIF('00 PDC SP'!$C:$C,$D317,'00 PDC SP'!M:M)","v":0},{"$f":"SUMIF('00 PDC SP'!$C:$C,$D317,'00 PDC SP'!N:N)","v":0}]
["PFA021","G.IV) CANONI DI PROJECT FINANCING ANCORA DA PAGARE",null,"PFA021",null,{"$f":"SUMIF('00 PDC SP'!$C:$C,$D318,'00 PDC SP'!H:H)","v":0},{"$f":"SUMIF('00 PDC SP'!$C:$C,$D318,'00 PDC SP'!I:I)","v":0},{"$f":"SUMIF('00 PDC SP'!$C:$C,$D318,'00 PDC SP'!J:J)","v":0},{"$f":"SUMIF('00 PDC SP'!$C:$C,$D318,'00 PDC SP'!K:K)","v":0},{"$f":"SUMIF('00 PDC SP'!$C:$C,$D318,'00 PDC SP'!L:L)","v":0},{"$f":"SUMIF('00 PDC SP'!$C:$C,$D318,'00 PDC SP'!M:M)","v":0},{"$f":"SUMIF('00 PDC SP'!$C:$C,$D318,'00 PDC SP'!N:N)","v":0}]
["PFA030","G.V) ALTRI CONTI D'ORDINE",null,"PFA030",null,{"$f":"SUMIF('00 PDC SP'!$C:$C,$D319,'00 PDC SP'!H:H)","v":0},{"$f":"SUMIF('00 PDC SP'!$C:$C,$D319,'00 PDC SP'!I:I)","v":0},{"$f":"SUMIF('00 PDC SP'!$C:$C,$D319,'00 PDC SP'!J:J)","v":0},{"$f":"SUMIF('00 PDC SP'!$C:$C,$D319,'00 PDC SP'!K:K)","v":0},{"$f":"SUMIF('00 PDC SP'!$C:$C,$D319,'00 PDC SP'!L:L)","v":0},{"$f":"SUMIF('00 PDC SP'!$C:$C,$D319,'00 PDC SP'!M:M)","v":0},{"$f":"SUMIF('00 PDC SP'!$C:$C,$D319,'00 PDC SP'!N:N)","v":0}]
[]
[null,"TOTALE ATTIVO",null,null,null,{"$f":"F180","v":374557752.88999999},null,null,{"$f":"I180","v":386422105.39000005},null,null,{"$f":"L180","v":392797376.11000001}]
[null,"PATRIMONIO NETTO",null,null,null,{"$f":"F187","v":108484341.48},null,null,{"$f":"I187","v":118204694.22999999},null,null,{"$f":"L187","v":100925432.98}]
[null,"TOTALE PASSIVO",null,null,null,{"$f":"F313-F322","v":-266087447.86000007},null,null,{"$f":"I313-I322","v":-268231447.61000004},null,null,{"$f":"L313-L322","v":-291885979.57999998}]
[]
[null,"UTILE/PERDITA DI ESERCIZIO",null,null,null,{"$f":"F210","v":-13609624.26},null,null,{"$f":"I210","v":1677.34},null,null,{"$f":"L210","v":-10236853}]
[null,"ATTIVO - (PATRIMONIO NETTO + PASSIVO)",null,null,null,{"$f":"F321-F322+F323","v":-14036.450000107288},null,null,{"$f":"I321-I322+I323","v":-14036.449999988079},null,null,{"$f":"L321-L322+L323","v":-14036.449999988079}]

{"sheet":"01 Rendiconto Finanziario","index":3,"n_rows":119,"n_cols":10,"rows_kept":119,"cut":false,"hidden":false,"merged":[[92,3,92,4],[106,3,106,4],[107,3,107,4],[108,3,108,4],[109,3,109,4],[91,3,91,4],[1,3,1,4],[3,3,3,4],[5,3,5,4],[9,3,9,4],[12,3,12,4],[17,3,17,4],[21,3,21,4],[24,3,24,4],[25,3,25,4],[54,3,54,4],[55,3,55,4]]}
[]
[null,null,null,"Rendiconto Finanziario",null,{"$f":"'00 SP'!L2","v":"Esercizio 2019"},{"$f":"'00 SP'!I2","v":"Esercizio 2018"},null,"NOTE"]
[]
[null,null,null,"OPERAZIONI DI GESTIONE REDDITUALE"]
[1,"SP",1,"(+)","risultato di esercizio",{"$f":"SUMIF('00 PDC SP'!$D:$D,'01 Rendiconto Finanziario'!$A5,'00 PDC SP'!N:N)*'01 Rendiconto Finanziario'!$C5","v":-10236853},{"$f":"SUMIF('00 PDC SP'!$D:$D,'01 Rendiconto Finanziario'!$A5,'00 PDC SP'!K:K)*'01 Rendiconto Finanziario'!$C5","v":1677.3400000929832}]
[null,null,null,"Voci che non hanno effetto sulla liquidità: costi e ricavi non monetari"]
[2,"VP",-1,"(+)","ammortamenti fabbricati",{"$f":"(SUMIF('00 PDC SP'!$D:$D,'01 Rendiconto Finanziario'!$A7,'00 PDC SP'!L:L)-SUMIF('00 PDC SP'!$D:$D,'01 Rendiconto Finanziario'!$A7,'00 PDC SP'!M:M))*'01 Rendiconto Finanziario'!$C7","v":5032903.95},{"$f":"(SUMIF('00 PDC SP'!$D:$D,'01 Rendiconto Finanziario'!$A7,'00 PDC SP'!I:I)-SUMIF('00 PDC SP'!$D:$D,'01 Rendiconto Finanziario'!$A7,'00 PDC SP'!J:J))*'01 Rendiconto Finanziario'!$C7","v":4970458.6100000003}]
[3,"VP",-1,"(+)","ammortamenti altre immobilizzazioni materiali",{"$f":"(SUMIF('00 PDC SP'!$D:$D,'01 Rendiconto Finanziario'!$A8,'00 PDC SP'!L:L)-SUMIF('00 PDC SP'!$D:$D,'01 Rendiconto Finanziario'!$A8,'00 PDC SP'!M:M))*'01 Rendiconto Finanziario'!$C8","v":4948210.4600000009},{"$f":"(SUMIF('00 PDC SP'!$D:$D,'01 Rendiconto Finanziario'!$A8,'00 PDC SP'!I:I)-SUMIF('00 PDC SP'!$D:$D,'01 Rendiconto Finanziario'!$A8,'00 PDC SP'!J:J))*'01 Rendiconto Finanziario'!C8","v":-670108.15999999922}]
[4,"VP",-1,"(+)","ammortamenti immobilizzazioni immateriali",{"$f":"(SUMIF('00 PDC SP'!$D:$D,'01 Rendiconto Finanziario'!$A9,'00 PDC SP'!L:L)-SUMIF('00 PDC SP'!$D:$D,'01 Rendiconto Finanziario'!$A9,'00 PDC SP'!M:M))*'01 Rendiconto Finanziario'!$C9","v":155437.62},{"$f":"(SUMIF('00 PDC SP'!$D:$D,'01 Rendiconto Finanziario'!$A9,'00 PDC SP'!I:I)-SUMIF('00 PDC SP'!$D:$D,'01 Rendiconto Finanziario'!$A9,'00 PDC SP'!J:J))*'01 Rendiconto Finanziario'!C9","v":149477.16}]
[null,null,null,"Ammortamenti",null,{"$f":"SUM(F7:F9)","v":10136552.029999999},{"$f":"SUM(G7:G9)","v":4449827.6100000013}]
[5,"DP",-1,"(-)","Utilizzo finanziamenti per investimenti",{"$f":"(SUMIF('00 PDC SP'!$D:$D,'01 Rendiconto Finanziario'!$A11,'00 PDC SP'!M:M))*'01 Rendiconto Finanziario'!$C11","v":-24143477.520000003},{"$f":"(SUMIF('00 PDC SP'!$D:$D,'01 Rendiconto Finanziario'!$A11,'00 PDC SP'!J:J))*'01 Rendiconto Finanziario'!C11","v":-10436920.890000001}]
[6,"DP",-1,"(-)","Utilizzo fondi riserva: investimenti, incentivi al personale, successioni e donaz., plusvalenze da reinvestire",0,{"$f":"(SUMIF('00 PDC SP'!$D:$D,'01 Rendiconto Finanziario'!$A12,'00 PDC SP'!J:J))*'01 Rendiconto Finanziario'!C12","v":0}]
[null,null,null,"Utilizzo contributi in c/capitale e fondi riserva",null,{"$f":"SUM(F11:F12)","v":-24143477.520000003},{"$f":"SUM(G11:G12)","v":-10436920.890000001}]
[7,"IP",-1,"(+)","accantonamenti SUMAI",{"$f":"(SUMIF('00 PDC SP'!$D:$D,'01 Rendiconto Finanziario'!$A14,'00 PDC SP'!L:L))*'01 Rendiconto Finanziario'!$C14","v":277851.92},{"$f":"(SUMIF('00 PDC SP'!$D:$D,'01 Rendiconto Finanziario'!$A14,'00 PDC SP'!I:I))*'01 Rendiconto Finanziario'!C14","v":264664.11}]
[7,"DP",1,"(-)","pagamenti SUMAI",{"$f":"(SUMIF('00 PDC SP'!$D:$D,'01 Rendiconto Finanziario'!$A15,'00 PDC SP'!M:M))*'01 Rendiconto Finanziario'!$C15","v":-441070.23},{"$f":"(SUMIF('00 PDC SP'!$D:$D,'01 Rendiconto Finanziario'!$A15,'00 PDC SP'!J:J))*'01 Rendiconto Finanziario'!C15","v":-197944.41}]
[8,"IP",-1,"(+)","accantonamenti TFR",{"$f":"(SUMIF('00 PDC SP'!$D:$D,'01 Rendiconto Finanziario'!$A16,'00 PDC SP'!L:L))*'01 Rendiconto Finanziario'!$C16","v":0},{"$f":"(SUMIF('00 PDC SP'!$D:$D,'01 Rendiconto Finanziario'!$A16,'00 PDC SP'!J:J))*'01 Rendiconto Finanziario'!C16","v":0}]
[8,"DP",1,"(-)","pagamenti TFR",{"$f":"(SUMIF('00 PDC SP'!$D:$D,'01 Rendiconto Finanziario'!$A17,'00 PDC SP'!M:M))*'01 Rendiconto Finanziario'!$C17","v":0},{"$f":"(SUMIF('00 PDC SP'!$D:$D,'01 Rendiconto Finanziario'!$A17,'00 PDC SP'!J:J))*'01 Rendiconto Finanziario'!C17","v":0}]
[null,null,null,"- Premio operosità medici SUMAI + TFR",null,{"$f":"SUM(F14:F17)","v":-163218.31},{"$f":"SUM(G14:G17)","v":66719.699999999983}]
[9,"VA",1,"(+/-)","Rivalutazioni/svalutazioni di attività finanziarie",{"$f":"(SUMIF('00 PDC SP'!$D:$D,'01 Rendiconto Finanziario'!$A19,'00 PDC SP'!L:L)-SUMIF('00 PDC SP'!$D:$D,'01 Rendiconto Finanziario'!$A19,'00 PDC SP'!M:M))*'01 Rendiconto Finanziario'!$C19","v":0},{"$f":"(SUMIF('00 PDC SP'!$D:$D,'01 Rendiconto Finanziario'!$A19,'00 PDC SP'!I:I)-SUMIF('00 PDC SP'!$D:$D,'01 Rendiconto Finanziario'!$A19,'00 PDC SP'!J:J))*'01 Rendiconto Finanziario'!C19","v":0}]
[10,"IP",-1,"(+)","accantonamenti a fondi svalutazioni",{"$f":"(SUMIF('00 PDC SP'!$D:$D,'01 Rendiconto Finanziario'!$A20,'00 PDC SP'!L:L))*'01 Rendiconto Finanziario'!$C20","v":0},{"$f":"(SUMIF('00 PDC SP'!$D:$D,'01 Rendiconto Finanziario'!$A20,'00 PDC SP'!I:I))*'01 Rendiconto Finanziario'!C20","v":0}]
[10,"DP",1,"(-)","utilizzo fondi svalutazioni (*)",{"$f":"(SUMIF('00 PDC SP'!$D:$D,'01 Rendiconto Finanziario'!$A21,'00 PDC SP'!M:M))*'01 Rendiconto Finanziario'!$C21","v":0},{"$f":"(SUMIF('00 PDC SP'!$D:$D,'01 Rendiconto Finanziario'!$A21,'00 PDC SP'!J:J))*'01 Rendiconto Finanziario'!C21","v":0}]
[null,null,null,"- Fondi svalutazione di attività",null,{"$f":"SUM(F19:F21)","v":0},{"$f":"SUM(G19:G21)","v":0}]
[11,"IP",-1,"(+)","accantonamenti a fondi per rischi e oneri",{"$f":"(SUMIF('00 PDC SP'!$D:$D,'01 Rendiconto Finanziario'!$A23,'00 PDC SP'!L:L))*'01 Rendiconto Finanziario'!$C23","v":40460848.109999999},{"$f":"(SUMIF('00 PDC SP'!$D:$D,'01 Rendiconto Finanziario'!$A23,'00 PDC SP'!I:I))*'01 Rendiconto Finanziario'!C23","v":18073168.949999999}]
[11,"DP",1,"(-)","utilizzo fondi per rischi e oneri",{"$f":"(SUMIF('00 PDC SP'!$D:$D,'01 Rendiconto Finanziario'!$A24,'00 PDC SP'!M:M))*'01 Rendiconto Finanziario'!$C24","v":-43617806.399999999},{"$f":"(SUMIF('00 PDC SP'!$D:$D,'01 Rendiconto Finanziario'!$A24,'00 PDC SP'!J:J))*'01 Rendiconto Finanziario'!C24","v":-20991484.870000001}]
[null,null,null,"- Fondo per rischi ed oneri futuri",null,{"$f":"SUM(F23:F24)","v":-3156958.2899999991},{"$f":"SUM(G23:G24)","v":-2918315.9200000018}]
[null,null,null,"TOTALE Flusso di CCN della gestione corrente",null,{"$f":"F5+F10+F13+F18+F22+F25","v":-27563955.09},{"$f":"G5+G10+G13+G18+G22+G25","v":-8837012.159999907}]
[12,"VP",-1,"(+)/(-)","aumento/diminuzione debiti verso regione e provincia autonoma, esclusa la variazione relativa a debiti per acquisto di beni strumentali",{"$f":"((SUMIF('00 PDC SP'!$D:$D,'01 Rendiconto Finanziario'!$A27,'00 PDC SP'!L:L)-SUMIF('00 PDC SP'!$D:$D,'01 Rendiconto Finanziario'!$A27,'00 PDC SP'!M:M))*'01 Rendiconto Finanziario'!C27)","v":5596298.9400000572},{"$f":"((SUMIF('00 PDC SP'!$D:$D,'01 Rendiconto Finanziario'!$A27,'00 PDC SP'!I:I)-SUMIF('00 PDC SP'!$D:$D,'01 Rendiconto Finanziario'!$A27,'00 PDC SP'!J:J))*'01 Rendiconto Finanziario'!C27)","v":0}]
[13,"VP",-1,"(+)/(-)","aumento/diminuzione debiti verso comune",{"$f":"((SUMIF('00 PDC SP'!$D:$D,'01 Rendiconto Finanziario'!$A28,'00 PDC SP'!L:L)-SUMIF('00 PDC SP'!$D:$D,'01 Rendiconto Finanziario'!$A28,'00 PDC SP'!M:M))*'01 Rendiconto Finanziario'!C28)","v":0},{"$f":"(SUMIF('00 PDC SP'!$D:$D,'01 Rendiconto Finanziario'!$A28,'00 PDC SP'!I:I)-SUMIF('00 PDC SP'!$D:$D,'01 Rendiconto Finanziario'!$A28,'00 PDC SP'!J:J))*'01 Rendiconto Finanziario'!C28","v":0}]
[14,"VP",-1,"(+)/(-)","aumento/diminuzione debiti verso aziende sanitarie pubbliche",{"$f":"((SUMIF('00 PDC SP'!$D:$D,'01 Rendiconto Finanziario'!$A29,'00 PDC SP'!L:L)-SUMIF('00 PDC SP'!$D:$D,'01 Rendiconto Finanziario'!$A29,'00 PDC SP'!M:M))*'01 Rendiconto Finanziario'!C29)","v":133916.12999999989},{"$f":"(SUMIF('00 PDC SP'!$D:$D,'01 Rendiconto Finanziario'!$A29,'00 PDC SP'!I:I)-SUMIF('00 PDC SP'!$D:$D,'01 Rendiconto Finanziario'!$A29,'00 PDC SP'!J:J))*'01 Rendiconto Finanziario'!C29","v":273946.56000000006}]
[15,"VP",-1,"(+)/(-)","aumento/diminuzione debiti verso arpa",{"$f":"((SUMIF('00 PDC SP'!$D:$D,'01 Rendiconto Finanziario'!$A30,'00 PDC SP'!L:L)-SUMIF('00 PDC SP'!$D:$D,'01 Rendiconto Finanziario'!$A30,'00 PDC SP'!M:M))*'01 Rendiconto Finanziario'!C30)","v":0},{"$f":"(SUMIF('00 PDC SP'!$D:$D,'01 Rendiconto Finanziario'!$A30,'00 PDC SP'!I:I)-SUMIF('00 PDC SP'!$D:$D,'01 Rendiconto Finanziario'!$A30,'00 PDC SP'!J:J))*'01 Rendiconto Finanziario'!C30","v":0}]
[16,"VP",-1,"(+)/(-)","aumento/diminuzione debiti verso fornitori",{"$f":"((SUMIF('00 PDC SP'!$D:$D,'01 Rendiconto Finanziario'!$A31,'00 PDC SP'!L:L)-SUMIF('00 PDC SP'!$D:$D,'01 Rendiconto Finanziario'!$A31,'00 PDC SP'!M:M))*'01 Rendiconto Finanziario'!C31)-F91","v":258375.90999984741},{"$f":"((SUMIF('00 PDC SP'!$D:$D,'01 Rendiconto Finanziario'!$A31,'00 PDC SP'!I:I)-SUMIF('00 PDC SP'!$D:$D,'01 Rendiconto Finanziario'!$A31,'00 PDC SP'!J:J))*'01 Rendiconto Finanziario'!C31)-G91","v":690526.99000000954},null,"IMPOSTATA FORMULA DI SOTTRAZIONE VS CODICE DI AGGREGAZIONE 58",{"$f":"F31-G31","v":-432151.08000016212}]
[17,"VP",-1,"(+)/(-)","aumento/diminuzione debiti tributari",{"$f":"((SUMIF('00 PDC SP'!$D:$D,'01 Rendiconto Finanziario'!$A32,'00 PDC SP'!L:L)-SUMIF('00 PDC SP'!$D:$D,'01 Rendiconto Finanziario'!$A32,'00 PDC SP'!M:M))*'01 Rendiconto Finanziario'!C32)","v":7673848.8599999994},{"$f":"(SUMIF('00 PDC SP'!$D:$D,'01 Rendiconto Finanziario'!$A32,'00 PDC SP'!I:I)-SUMIF('00 PDC SP'!$D:$D,'01 Rendiconto Finanziario'!$A32,'00 PDC SP'!J:J))*'01 Rendiconto Finanziario'!C32","v":1060979.6299999803}]
[18,"VP",-1,"(+)/(-)","aumento/diminuzione debiti verso istituti di previdenza",{"$f":"((SUMIF('00 PDC SP'!$D:$D,'01 Rendiconto Finanziario'!$A33,'00 PDC SP'!L:L)-SUMIF('00 PDC SP'!$D:$D,'01 Rendiconto Finanziario'!$A33,'00 PDC SP'!M:M))*'01 Rendiconto Finanziario'!C33)","v":7499240.5},{"$f":"(SUMIF('00 PDC SP'!$D:$D,'01 Rendiconto Finanziario'!$A33,'00 PDC SP'!I:I)-SUMIF('00 PDC SP'!$D:$D,'01 Rendiconto Finanziario'!$A33,'00 PDC SP'!J:J))*'01 Rendiconto Finanziario'!C33","v":1924.4299999922514}]
[19,"VP",-1,"(+)/(-)","aumento/diminuzione altri debiti",{"$f":"((SUMIF('00 PDC SP'!$D:$D,'01 Rendiconto Finanziario'!$A34,'00 PDC SP'!L:L)-SUMIF('00 PDC SP'!$D:$D,'01 Rendiconto Finanziario'!$A34,'00 PDC SP'!M:M))*'01 Rendiconto Finanziario'!C34)","v":4861608.2300000042},{"$f":"(SUMIF('00 PDC SP'!$D:$D,'01 Rendiconto Finanziario'!$A34,'00 PDC SP'!I:I)-SUMIF('00 PDC SP'!$D:$D,'01 Rendiconto Finanziario'!$A34,'00 PDC SP'!J:J))*'01 Rendiconto Finanziario'!C34","v":1916513.3599999696}]
[null,null,null,"(+)/(-)","aumento/diminuzione debiti (escl. forn. di immob. e C/C bancari e istituto tesoriere)",{"$f":"SUM(F27:F34)","v":26023288.569999907},{"$f":"SUM(G27:G34)","v":3943890.9699999518}]
[20,"VP",-1,"(+)/(-)","aumento/diminuzione ratei e risconti passivi",{"$f":"((SUMIF('00 PDC SP'!$D:$D,'01 Rendiconto Finanziario'!$A36,'00 PDC SP'!L:L)-SUMIF('00 PDC SP'!$D:$D,'01 Rendiconto Finanziario'!$A36,'00 PDC SP'!M:M))*'01 Rendiconto Finanziario'!C36)","v":0},{"$f":"(SUMIF('00 PDC SP'!$D:$D,'01 Rendiconto Finanziario'!$A36,'00 PDC SP'!I:I)-SUMIF('00 PDC SP'!$D:$D,'01 Rendiconto Finanziario'!$A36,'00 PDC SP'!J:J))*'01 Rendiconto Finanziario'!C36","v":0}]
[21,"VA",-1,"(+)/(-)","diminuzione/aumento crediti parte corrente v/Stato quote indistinte",{"$f":"((SUMIF('00 PDC SP'!$D:$D,'01 Rendiconto Finanziario'!$A37,'00 PDC SP'!L:L)-SUMIF('00 PDC SP'!$D:$D,'01 Rendiconto Finanziario'!$A37,'00 PDC SP'!M:M))*'01 Rendiconto Finanziario'!C37)-F38","v":-5807.6800000000076},{"$f":"((SUMIF('00 PDC SP'!$D:$D,'01 Rendiconto Finanziario'!$A37,'00 PDC SP'!I:I)-SUMIF('00 PDC SP'!$D:$D,'01 Rendiconto Finanziario'!$A37,'00 PDC SP'!J:J))*'01 Rendiconto Finanziario'!C37)-G38","v":91161.22},null,"IMPOSTATA FORMULA DI SOTTRAZIONE VS CODICE DI AGGREGAZIONE 22 "]
[22,"VA",-1,"(+)/(-)","diminuzione/aumento crediti parte corrente v/Stato quote vincolate",{"$f":"((SUMIF('00 PDC SP'!$D:$D,'01 Rendiconto Finanziario'!$A38,'00 PDC SP'!L:L)-SUMIF('00 PDC SP'!$D:$D,'01 Rendiconto Finanziario'!$A38,'00 PDC SP'!M:M))*'01 Rendiconto Finanziario'!C38)","v":0},{"$f":"(SUMIF('00 PDC SP'!$D:$D,'01 Rendiconto Finanziario'!$A38,'00 PDC SP'!I:I)-SUMIF('00 PDC SP'!$D:$D,'01 Rendiconto Finanziario'!$A38,'00 PDC SP'!J:J))*'01 Rendiconto Finanziario'!C38","v":0},null,"CODICE 22  - DA INSERIRE MANUALMENTE"]
[23,"VA",-1,"(+)/(-)","diminuzione/aumento crediti parte corrente v/Regione per gettito addizionali Irpef e Irap",{"$f":"((SUMIF('00 PDC SP'!$D:$D,'01 Rendiconto Finanziario'!$A39,'00 PDC SP'!L:L)-SUMIF('00 PDC SP'!$D:$D,'01 Rendiconto Finanziario'!$A39,'00 PDC SP'!M:M))*'01 Rendiconto Finanziario'!C39)","v":0},{"$f":"(SUMIF('00 PDC SP'!$D:$D,'01 Rendiconto Finanziario'!$A39,'00 PDC SP'!I:I)-SUMIF('00 PDC SP'!$D:$D,'01 Rendiconto Finanziario'!$A39,'00 PDC SP'!J:J))*'01 Rendiconto Finanziario'!C39","v":0},null,"CODICE 23 - DA INSERIRE MANUALMENTE"]
[23,"VA",-1,"(+)/(-)","diminuzione/aumento crediti parte corrente v/Regione per partecipazioni regioni a Statuto speciale",{"$f":"((SUMIF('00 PDC SP'!$D:$D,'01 Rendiconto Finanziario'!$A40,'00 PDC SP'!L:L)-SUMIF('00 PDC SP'!$D:$D,'01 Rendiconto Finanziario'!$A40,'00 PDC SP'!M:M))*'01 Rendiconto Finanziario'!C40)","v":0},{"$f":"(SUMIF('00 PDC SP'!$D:$D,'01 Rendiconto Finanziario'!$A40,'00 PDC SP'!I:I)-SUMIF('00 PDC SP'!$D:$D,'01 Rendiconto Finanziario'!$A40,'00 PDC SP'!J:J))*'01 Rendiconto Finanziario'!C40","v":0},null,"CODICE 23 - DA INSERIRE MANUALMENTE"]
[23,"VA",-1,"(+)/(-)","diminuzione/aumento crediti parte corrente v/Regione - vincolate per partecipazioni regioni a Statuto speciale",{"$f":"((SUMIF('00 PDC SP'!$D:$D,'01 Rendiconto Finanziario'!$A41,'00 PDC SP'!L:L)-SUMIF('00 PDC SP'!$D:$D,'01 Rendiconto Finanziario'!$A41,'00 PDC SP'!M:M))*'01 Rendiconto Finanziario'!C41)","v":0},{"$f":"(SUMIF('00 PDC SP'!$D:$D,'01 Rendiconto Finanziario'!$A41,'00 PDC SP'!I:I)-SUMIF('00 PDC SP'!$D:$D,'01 Rendiconto Finanziario'!$A41,'00 PDC SP'!J:J))*'01 Rendiconto Finanziario'!C41","v":0},null,"CODICE 23 - DA INSERIRE MANUALMENTE"]
[23,"VA",-1,"(+)/(-)","diminuzione/aumento crediti parte corrente v/Regione - gettito fiscalità regionale",{"$f":"((SUMIF('00 PDC SP'!$D:$D,'01 Rendiconto Finanziario'!$A42,'00 PDC SP'!L:L)-SUMIF('00 PDC SP'!$D:$D,'01 Rendiconto Finanziario'!$A42,'00 PDC SP'!M:M))*'01 Rendiconto Finanziario'!C42)","v":0},{"$f":"(SUMIF('00 PDC SP'!$D:$D,'01 Rendiconto Finanziario'!$A42,'00 PDC SP'!I:I)-SUMIF('00 PDC SP'!$D:$D,'01 Rendiconto Finanziario'!$A42,'00 PDC SP'!J:J))*'01 Rendiconto Finanziario'!C42","v":0},null,"CODICE 23 - DA INSERIRE MANUALMENTE"]
[23,"VA",-1,"(+)/(-)","diminuzione/aumento crediti parte corrente v/Regione - altri contributi extrafondo",{"$f":"((SUMIF('00 PDC SP'!$D:$D,'01 Rendiconto Finanziario'!$A43,'00 PDC SP'!L:L)-SUMIF('00 PDC SP'!$D:$D,'01 Rendiconto Finanziario'!$A43,'00 PDC SP'!M:M))*'01 Rendiconto Finanziario'!C43)","v":0},{"$f":"(SUMIF('00 PDC SP'!$D:$D,'01 Rendiconto Finanziario'!$A43,'00 PDC SP'!I:I)-SUMIF('00 PDC SP'!$D:$D,'01 Rendiconto Finanziario'!$A43,'00 PDC SP'!J:J))*'01 Rendiconto Finanziario'!C43","v":0},null,"CODICE 23 - DA INSERIRE MANUALMENTE"]
[25,"VA",-1,"(+)/(-)","diminuzione/aumento crediti parte corrente v/Regione",{"$f":"((SUMIF('00 PDC SP'!$D:$D,'01 Rendiconto Finanziario'!$A44,'00 PDC SP'!L:L)-SUMIF('00 PDC SP'!$D:$D,'01 Rendiconto Finanziario'!$A44,'00 PDC SP'!M:M))*'01 Rendiconto Finanziario'!C44)-(F39+F40+F41+F42+F43)","v":16892426.409999847},{"$f":"((SUMIF('00 PDC SP'!$D:$D,'01 Rendiconto Finanziario'!$A44,'00 PDC SP'!I:I)-SUMIF('00 PDC SP'!$D:$D,'01 Rendiconto Finanziario'!$A44,'00 PDC SP'!J:J))*'01 Rendiconto Finanziario'!C44)-(G39+G40+G41+G42+G43)","v":-24310162.380000114},null,"IMPOSTATA FORMULA DI SOTTRAZIONE VS CODICE DI AGGREGAZIONE 23"]
[26,"VA",-1,"(+)/(-)","diminuzione/aumento crediti parte corrente v/Comune",{"$f":"((SUMIF('00 PDC SP'!$D:$D,'01 Rendiconto Finanziario'!$A45,'00 PDC SP'!L:L)-SUMIF('00 PDC SP'!$D:$D,'01 Rendiconto Finanziario'!$A45,'00 PDC SP'!M:M))*'01 Rendiconto Finanziario'!C45)","v":22599.540000000008},{"$f":"(SUMIF('00 PDC SP'!$D:$D,'01 Rendiconto Finanziario'!$A45,'00 PDC SP'!I:I)-SUMIF('00 PDC SP'!$D:$D,'01 Rendiconto Finanziario'!$A45,'00 PDC SP'!J:J))*'01 Rendiconto Finanziario'!C45","v":-16426.130000000005}]
[27,"VA",-1,"(+)/(-)","diminuzione/aumento crediti parte corrente v/Asl-Ao",{"$f":"((SUMIF('00 PDC SP'!$D:$D,'01 Rendiconto Finanziario'!$A46,'00 PDC SP'!L:L)-SUMIF('00 PDC SP'!$D:$D,'01 Rendiconto Finanziario'!$A46,'00 PDC SP'!M:M))*'01 Rendiconto Finanziario'!C46)","v":-24925.04999999993},{"$f":"(SUMIF('00 PDC SP'!$D:$D,'01 Rendiconto Finanziario'!$A46,'00 PDC SP'!I:I)-SUMIF('00 PDC SP'!$D:$D,'01 Rendiconto Finanziario'!$A46,'00 PDC SP'!J:J))*'01 Rendiconto Finanziario'!C46","v":-32452.239999999991}]
[28,"VA",-1,"(+)/(-)","diminuzione/aumento crediti parte corrente v/ARPA",{"$f":"((SUMIF('00 PDC SP'!$D:$D,'01 Rendiconto Finanziario'!$A47,'00 PDC SP'!L:L)-SUMIF('00 PDC SP'!$D:$D,'01 Rendiconto Finanziario'!$A47,'00 PDC SP'!M:M))*'01 Rendiconto Finanziario'!C47)","v":0},{"$f":"(SUMIF('00 PDC SP'!$D:$D,'01 Rendiconto Finanziario'!$A47,'00 PDC SP'!I:I)-SUMIF('00 PDC SP'!$D:$D,'01 Rendiconto Finanziario'!$A47,'00 PDC SP'!J:J))*'01 Rendiconto Finanziario'!C47","v":0}]
[29,"VA",-1,"(+)/(-)","diminuzione/aumento crediti parte corrente v/Erario",{"$f":"((SUMIF('00 PDC SP'!$D:$D,'01 Rendiconto Finanziario'!$A48,'00 PDC SP'!L:L)-SUMIF('00 PDC SP'!$D:$D,'01 Rendiconto Finanziario'!$A48,'00 PDC SP'!M:M))*'01 Rendiconto Finanziario'!C48)","v":1511.0300000000279},{"$f":"(SUMIF('00 PDC SP'!$D:$D,'01 Rendiconto Finanziario'!$A48,'00 PDC SP'!I:I)-SUMIF('00 PDC SP'!$D:$D,'01 Rendiconto Finanziario'!$A48,'00 PDC SP'!J:J))*'01 Rendiconto Finanziario'!C48","v":-8695.5}]
[30,"VA",-1,"(+)/(-)","diminuzione/aumento crediti parte corrente v/Altri",{"$f":"((SUMIF('00 PDC SP'!$D:$D,'01 Rendiconto Finanziario'!$A49,'00 PDC SP'!L:L)-SUMIF('00 PDC SP'!$D:$D,'01 Rendiconto Finanziario'!$A49,'00 PDC SP'!M:M))*'01 Rendiconto Finanziario'!C49)","v":-1668326.370000001},{"$f":"(SUMIF('00 PDC SP'!$D:$D,'01 Rendiconto Finanziario'!$A49,'00 PDC SP'!I:I)-SUMIF('00 PDC SP'!$D:$D,'01 Rendiconto Finanziario'!$A49,'00 PDC SP'!J:J))*'01 Rendiconto Finanziario'!C49","v":267329.51999999583}]
[null,null,null,"(+)/(-)","diminuzione/aumento di crediti",{"$f":"SUM(F37:F49)","v":15217477.879999846},{"$f":"SUM(G37:G49)","v":-24009245.510000117}]
[31,"VA",-1,"(+)/(-)","diminuzione/aumento del magazzino",{"$f":"((SUMIF('00 PDC SP'!$D:$D,'01 Rendiconto Finanziario'!$A51,'00 PDC SP'!L:L)-SUMIF('00 PDC SP'!$D:$D,'01 Rendiconto Finanziario'!$A51,'00 PDC SP'!M:M))*'01 Rendiconto Finanziario'!C51)","v":484397.12999999896},{"$f":"(SUMIF('00 PDC SP'!$D:$D,'01 Rendiconto Finanziario'!$A51,'00 PDC SP'!I:I)-SUMIF('00 PDC SP'!$D:$D,'01 Rendiconto Finanziario'!$A51,'00 PDC SP'!J:J))*'01 Rendiconto Finanziario'!C51","v":-5011001.5599999987}]
[32,"VA",-1,"(+)/(-)","diminuzione/aumento di acconti a fornitori per magazzino",{"$f":"((SUMIF('00 PDC SP'!$D:$D,'01 Rendiconto Finanziario'!$A52,'00 PDC SP'!L:L)-SUMIF('00 PDC SP'!$D:$D,'01 Rendiconto Finanziario'!$A52,'00 PDC SP'!M:M))*'01 Rendiconto Finanziario'!C52)","v":0},{"$f":"(SUMIF('00 PDC SP'!$D:$D,'01 Rendiconto Finanziario'!$A52,'00 PDC SP'!I:I)-SUMIF('00 PDC SP'!$D:$D,'01 Rendiconto Finanziario'!$A52,'00 PDC SP'!J:J))*'01 Rendiconto Finanziario'!C52","v":0}]
[null,null,null,"(+)/(-)","diminuzione/aumento rimanenze",{"$f":"SUM(F51:F52)","v":484397.12999999896},{"$f":"SUM(G51:G52)","v":-5011001.5599999987}]
[33,"VA",-1,"(+)/(-)","diminuzione/aumento ratei e risconti attivi",{"$f":"((SUMIF('00 PDC SP'!$D:$D,'01 Rendiconto Finanziario'!$A54,'00 PDC SP'!L:L)-SUMIF('00 PDC SP'!$D:$D,'01 Rendiconto Finanziario'!$A54,'00 PDC SP'!M:M))*'01 Rendiconto Finanziario'!C54)","v":1836},{"$f":"(SUMIF('00 PDC SP'!$D:$D,'01 Rendiconto Finanziario'!$A54,'00 PDC SP'!I:I)-SUMIF('00 PDC SP'!$D:$D,'01 Rendiconto Finanziario'!$A54,'00 PDC SP'!J:J))*'01 Rendiconto Finanziario'!C54","v":-1835.4599999999991}]
[null,null,null,"A - Totale operazioni di gestione reddituale",null,{"$f":"F26+F35+F36+F50+F53+F54","v":14163044.489999752},{"$f":"G26+G35+G36+G50+G53+G54","v":-33915203.720000066}]
[null,null,null,"ATTIVITA' DI INVESTIMENTO"]
[34,"IA",-1,"(-)","Acquisto costi di impianto e di ampliamento",{"$f":"((SUMIF('00 PDC SP'!$D:$D,'01 Rendiconto Finanziario'!$A57,'00 PDC SP'!L:L)))*'01 Rendiconto Finanziario'!C57","v":0},{"$f":"(SUMIF('00 PDC SP'!$D:$D,'01 Rendiconto Finanziario'!$A57,'00 PDC SP'!I:I))*'01 Rendiconto Finanziario'!C57","v":0}]
[35,"IA",-1,"(-)","Acquisto costi di ricerca e sviluppo",{"$f":"((SUMIF('00 PDC SP'!$D:$D,'01 Rendiconto Finanziario'!$A58,'00 PDC SP'!L:L)))*'01 Rendiconto Finanziario'!C58","v":0},{"$f":"(SUMIF('00 PDC SP'!$D:$D,'01 Rendiconto Finanziario'!$A58,'00 PDC SP'!I:I))*'01 Rendiconto Finanziario'!C58","v":0}]
[36,"IA",-1,"(-)","Acquisto Diritti di brevetto e diritti di utilizzazione delle opere d'ingegno",{"$f":"((SUMIF('00 PDC SP'!$D:$D,'01 Rendiconto Finanziario'!$A59,'00 PDC SP'!L:L)))*'01 Rendiconto Finanziario'!C59","v":0},{"$f":"(SUMIF('00 PDC SP'!$D:$D,'01 Rendiconto Finanziario'!$A59,'00 PDC SP'!I:I))*'01 Rendiconto Finanziario'!C59","v":0}]
[37,"IA",-1,"(-)","Acquisto immobilizzazioni immateriali in corso",{"$f":"((SUMIF('00 PDC SP'!$D:$D,'01 Rendiconto Finanziario'!$A60,'00 PDC SP'!L:L)))*'01 Rendiconto Finanziario'!C60","v":0},{"$f":"(SUMIF('00 PDC SP'!$D:$D,'01 Rendiconto Finanziario'!$A60,'00 PDC SP'!I:I))*'01 Rendiconto Finanziario'!C60","v":0}]
[38,"IA",-1,"(-)","Acquisto altre immobilizzazioni immateriali",{"$f":"((SUMIF('00 PDC SP'!$D:$D,'01 Rendiconto Finanziario'!$A61,'00 PDC SP'!L:L)))*'01 Rendiconto Finanziario'!C61","v":-65627.89},{"$f":"(SUMIF('00 PDC SP'!$D:$D,'01 Rendiconto Finanziario'!$A61,'00 PDC SP'!I:I))*'01 Rendiconto Finanziario'!C61","v":-131197.56}]
[null,null,null,"(-)","Acquisto immobilizzazioni immateriali",{"$f":"SUM(F57:F61)","v":-65627.89},{"$f":"SUM(G57:G61)","v":-131197.56}]
[34,"DA",1,"(+)","Valore netto contabile costi di impianto e di ampliamento dismessi",{"$f":"((SUMIF('00 PDC SP'!$D:$D,'01 Rendiconto Finanziario'!$A63,'00 PDC SP'!M:M)))*'01 Rendiconto Finanziario'!C63","v":0},{"$f":"(SUMIF('00 PDC SP'!$D:$D,'01 Rendiconto Finanziario'!$A63,'00 PDC SP'!J:J))*'01 Rendiconto Finanziario'!C63","v":0}]
[35,"DA",1,"(+)","Valore netto contabile costi di ricerca e sviluppo dismessi",{"$f":"((SUMIF('00 PDC SP'!$D:$D,'01 Rendiconto Finanziario'!$A64,'00 PDC SP'!M:M)))*'01 Rendiconto Finanziario'!C64","v":0},{"$f":"(SUMIF('00 PDC SP'!$D:$D,'01 Rendiconto Finanziario'!$A64,'00 PDC SP'!J:J))*'01 Rendiconto Finanziario'!C64","v":0}]
[36,"DA",1,"(+)","Valore netto contabile Diritti di brevetto e diritti di utilizzazione delle opere d'ingegno dismessi",{"$f":"((SUMIF('00 PDC SP'!$D:$D,'01 Rendiconto Finanziario'!$A65,'00 PDC SP'!M:M)))*'01 Rendiconto Finanziario'!C65","v":0},{"$f":"(SUMIF('00 PDC SP'!$D:$D,'01 Rendiconto Finanziario'!$A65,'00 PDC SP'!J:J))*'01 Rendiconto Finanziario'!C65","v":0}]
[37,"DA",1,"(+)","Valore netto contabile immobilizzazioni immateriali in corso dismesse",{"$f":"((SUMIF('00 PDC SP'!$D:$D,'01 Rendiconto Finanziario'!$A66,'00 PDC SP'!M:M)))*'01 Rendiconto Finanziario'!C66","v":0},{"$f":"(SUMIF('00 PDC SP'!$D:$D,'01 Rendiconto Finanziario'!$A66,'00 PDC SP'!J:J))*'01 Rendiconto Finanziario'!C66","v":0}]
[38,"DA",1,"(+)","Valore netto contabile altre immobilizzazioni immateriali dismesse",{"$f":"((SUMIF('00 PDC SP'!$D:$D,'01 Rendiconto Finanziario'!$A67,'00 PDC SP'!M:M)))*'01 Rendiconto Finanziario'!C67","v":0},{"$f":"(SUMIF('00 PDC SP'!$D:$D,'01 Rendiconto Finanziario'!$A67,'00 PDC SP'!J:J))*'01 Rendiconto Finanziario'!C67","v":11461.65}]
[null,null,null,"(+)","Valore netto contabile Immobilizzazioni Immateriali dismesse",{"$f":"SUM(F63:F67)","v":0},{"$f":"SUM(G63:G67)","v":11461.65}]
[39,"IA",-1,"(-)","Acquisto terreni",{"$f":"((SUMIF('00 PDC SP'!$D:$D,'01 Rendiconto Finanziario'!$A69,'00 PDC SP'!L:L)))*'01 Rendiconto Finanziario'!C69","v":0},{"$f":"(SUMIF('00 PDC SP'!$D:$D,'01 Rendiconto Finanziario'!$A69,'00 PDC SP'!I:I))*'01 Rendiconto Finanziario'!C69","v":0}]
[40,"IA",-1,"(-)","Acquisto fabbricati",{"$f":"((SUMIF('00 PDC SP'!$D:$D,'01 Rendiconto Finanziario'!$A70,'00 PDC SP'!L:L)))*'01 Rendiconto Finanziario'!C70","v":0},{"$f":"(SUMIF('00 PDC SP'!$D:$D,'01 Rendiconto Finanziario'!$A70,'00 PDC SP'!I:I))*'01 Rendiconto Finanziario'!C70","v":-2087230}]
[41,"IA",-1,"(-)","Acquisto impianti e macchinari",{"$f":"((SUMIF('00 PDC SP'!$D:$D,'01 Rendiconto Finanziario'!$A71,'00 PDC SP'!L:L)))*'01 Rendiconto Finanziario'!C71","v":-456581.73},{"$f":"(SUMIF('00 PDC SP'!$D:$D,'01 Rendiconto Finanziario'!$A71,'00 PDC SP'!I:I))*'01 Rendiconto Finanziario'!C71","v":-653192.51}]
[42,"IA",-1,"(-)","Acquisto attrezzature sanitarie e scientifiche",{"$f":"((SUMIF('00 PDC SP'!$D:$D,'01 Rendiconto Finanziario'!$A72,'00 PDC SP'!L:L)))*'01 Rendiconto Finanziario'!C72","v":-2217999.9300000002},{"$f":"(SUMIF('00 PDC SP'!$D:$D,'01 Rendiconto Finanziario'!$A72,'00 PDC SP'!I:I))*'01 Rendiconto Finanziario'!C72","v":-4303427.6100000003}]
[43,"IA",-1,"(-)","Acquisto mobili e arredi",{"$f":"((SUMIF('00 PDC SP'!$D:$D,'01 Rendiconto Finanziario'!$A73,'00 PDC SP'!L:L)))*'01 Rendiconto Finanziario'!C73","v":-233981.82},{"$f":"(SUMIF('00 PDC SP'!$D:$D,'01 Rendiconto Finanziario'!$A73,'00 PDC SP'!I:I))*'01 Rendiconto Finanziario'!C73","v":-339281.25}]
[44,"IA",-1,"(-)","Acquisto automezzi",{"$f":"((SUMIF('00 PDC SP'!$D:$D,'01 Rendiconto Finanziario'!$A74,'00 PDC SP'!L:L)))*'01 Rendiconto Finanziario'!C74","v":-492735.99},{"$f":"(SUMIF('00 PDC SP'!$D:$D,'01 Rendiconto Finanziario'!$A74,'00 PDC SP'!I:I))*'01 Rendiconto Finanziario'!C74","v":-93196.97}]
[45,"IA",-1,"(-)","Acquisto altri beni materiali",{"$f":"((SUMIF('00 PDC SP'!$D:$D,'01 Rendiconto Finanziario'!$A75,'00 PDC SP'!L:L)))*'01 Rendiconto Finanziario'!C75","v":-2468859.33},{"$f":"(SUMIF('00 PDC SP'!$D:$D,'01 Rendiconto Finanziario'!$A75,'00 PDC SP'!I:I))*'01 Rendiconto Finanziario'!C75","v":-1783845.47}]
[null,null,null,"(-)","Acquisto Immobilizzazioni Materiali",{"$f":"SUM(F69:F75)","v":-5870158.7999999998},{"$f":"SUM(G69:G75)","v":-9260173.8100000005}]
[39,"DA",1,"(+)","Valore netto contabile terreni dismessi",{"$f":"((SUMIF('00 PDC SP'!$D:$D,'01 Rendiconto Finanziario'!$A77,'00 PDC SP'!M:M)))*'01 Rendiconto Finanziario'!C77","v":0},{"$f":"(SUMIF('00 PDC SP'!$D:$D,'01 Rendiconto Finanziario'!$A77,'00 PDC SP'!J:J))*'01 Rendiconto Finanziario'!C77","v":0}]
[40,"DA",1,"(+)","Valore netto contabile fabbricati dismessi",{"$f":"((SUMIF('00 PDC SP'!$D:$D,'01 Rendiconto Finanziario'!$A78,'00 PDC SP'!M:M)))*'01 Rendiconto Finanziario'!C78","v":0},{"$f":"(SUMIF('00 PDC SP'!$D:$D,'01 Rendiconto Finanziario'!$A78,'00 PDC SP'!J:J))*'01 Rendiconto Finanziario'!C78","v":0}]
[41,"DA",1,"(+)","Valore netto contabile impianti e macchinari dismessi",{"$f":"((SUMIF('00 PDC SP'!$D:$D,'01 Rendiconto Finanziario'!$A79,'00 PDC SP'!M:M)))*'01 Rendiconto Finanziario'!C79","v":56990.8},{"$f":"(SUMIF('00 PDC SP'!$D:$D,'01 Rendiconto Finanziario'!$A79,'00 PDC SP'!J:J))*'01 Rendiconto Finanziario'!C79","v":17647.73}]
[42,"DA",1,"(+)","Valore netto contabile attrezzature sanitarie e scientifiche dismesse",{"$f":"((SUMIF('00 PDC SP'!$D:$D,'01 Rendiconto Finanziario'!$A80,'00 PDC SP'!M:M)))*'01 Rendiconto Finanziario'!C80","v":996227.99},{"$f":"(SUMIF('00 PDC SP'!$D:$D,'01 Rendiconto Finanziario'!$A80,'00 PDC SP'!J:J))*'01 Rendiconto Finanziario'!C80","v":5885338.1699999999}]
[43,"DA",1,"(+)","Valore netto contabile mobili e arredi dismessi",{"$f":"((SUMIF('00 PDC SP'!$D:$D,'01 Rendiconto Finanziario'!$A81,'00 PDC SP'!M:M)))*'01 Rendiconto Finanziario'!C81","v":30493.53},{"$f":"(SUMIF('00 PDC SP'!$D:$D,'01 Rendiconto Finanziario'!$A81,'00 PDC SP'!J:J))*'01 Rendiconto Finanziario'!C81","v":91861.65}]
[44,"DA",1,"(+)","Valore netto contabile automezzi dismessi",{"$f":"((SUMIF('00 PDC SP'!$D:$D,'01 Rendiconto Finanziario'!$A82,'00 PDC SP'!M:M)))*'01 Rendiconto Finanziario'!C82","v":0},{"$f":"(SUMIF('00 PDC SP'!$D:$D,'01 Rendiconto Finanziario'!$A82,'00 PDC SP'!J:J))*'01 Rendiconto Finanziario'!C82","v":149825.10999999999}]
[45,"DA",1,"(+)","Valore netto contabile altri beni materiali dismessi",{"$f":"((SUMIF('00 PDC SP'!$D:$D,'01 Rendiconto Finanziario'!$A83,'00 PDC SP'!M:M)))*'01 Rendiconto Finanziario'!C83","v":99409.540000000008},{"$f":"(SUMIF('00 PDC SP'!$D:$D,'01 Rendiconto Finanziario'!$A83,'00 PDC SP'!J:J))*'01 Rendiconto Finanziario'!C83","v":4254289.6900000004}]
[null,null,null,"(+)","Valore netto contabile Immobilizzazioni Materiali dismesse",{"$f":"SUM(F77:F83)","v":1183121.8600000001},{"$f":"SUM(G77:G83)","v":10398962.350000001}]
[46,"IA",-1,"(-)","Acquisto crediti finanziari",{"$f":"((SUMIF('00 PDC SP'!$D:$D,'01 Rendiconto Finanziario'!$A85,'00 PDC SP'!L:L)))*'01 Rendiconto Finanziario'!C85","v":0},{"$f":"(SUMIF('00 PDC SP'!$D:$D,'01 Rendiconto Finanziario'!$A85,'00 PDC SP'!I:I))*'01 Rendiconto Finanziario'!C85","v":0}]
[47,"IA",-1,"(-)","Acquisto titoli",{"$f":"((SUMIF('00 PDC SP'!$D:$D,'01 Rendiconto Finanziario'!$A86,'00 PDC SP'!L:L)))*'01 Rendiconto Finanziario'!C86","v":0},{"$f":"(SUMIF('00 PDC SP'!$D:$D,'01 Rendiconto Finanziario'!$A86,'00 PDC SP'!I:I))*'01 Rendiconto Finanziario'!C86","v":0}]
[null,null,null,"(-)","Acquisto Immobilizzazioni Finanziarie",{"$f":"SUM(F85:F86)","v":0},{"$f":"SUM(G85:G86)","v":0}]
[46,"DA",1,"(+)","Valore netto contabile crediti finanziari dismessi",{"$f":"((SUMIF('00 PDC SP'!$D:$D,'01 Rendiconto Finanziario'!$A88,'00 PDC SP'!M:M)))*'01 Rendiconto Finanziario'!C88","v":0},{"$f":"(SUMIF('00 PDC SP'!$D:$D,'01 Rendiconto Finanziario'!$A88,'00 PDC SP'!J:J))*'01 Rendiconto Finanziario'!C88","v":0}]
[47,"DA",1,"(+)","Valore netto contabile titoli dismessi",{"$f":"((SUMIF('00 PDC SP'!$D:$D,'01 Rendiconto Finanziario'!$A89,'00 PDC SP'!M:M)))*'01 Rendiconto Finanziario'!C89","v":0},{"$f":"(SUMIF('00 PDC SP'!$D:$D,'01 Rendiconto Finanziario'!$A89,'00 PDC SP'!J:J))*'01 Rendiconto Finanziario'!C89","v":0}]
[null,null,null,"(+)","Valore netto contabile Immobilizzazioni Finanziarie dismesse",{"$f":"SUM(F88:F89)","v":0},{"$f":"SUM(G88:G89)","v":0}]
[58,"VP",-1,"(+/-)","Aumento/Diminuzione debiti v/fornitori di immobilizzazioni",951420,1051705,null,"CODICE 58 - DA INSERIRE MANUALMENTE"]
[null,null,null,"B - Totale attività di investimento",null,{"$f":"F62+F68+F76+F84+F87+F90+F91+0.0000001416","v":-3801244.8299998576},{"$f":"G62+G68+G76+G84+G87+G90+G91","v":2070757.6300000008}]
[null,null,null,"ATTIVITA' DI FINANZIAMENTO"]
[48,"VA",-1,"(+)/(-)","diminuzione/aumento crediti vs Stato (finanziamenti per investimenti)",{"$f":"((SUMIF('00 PDC SP'!$D:$D,'01 Rendiconto Finanziario'!$A94,'00 PDC SP'!L:L)-SUMIF('00 PDC SP'!$D:$D,'01 Rendiconto Finanziario'!$A94,'00 PDC SP'!M:M))*'01 Rendiconto Finanziario'!C94)","v":0},{"$f":"(SUMIF('00 PDC SP'!$D:$D,'01 Rendiconto Finanziario'!$A94,'00 PDC SP'!I:I)-SUMIF('00 PDC SP'!$D:$D,'01 Rendiconto Finanziario'!$A94,'00 PDC SP'!J:J))*'01 Rendiconto Finanziario'!C94","v":0}]
[49,"VA",-1,"(+)/(-)","diminuzione/aumento crediti vs Regione (finanziamenti per investimenti)",{"$f":"((SUMIF('00 PDC SP'!$D:$D,'01 Rendiconto Finanziario'!$A95,'00 PDC SP'!L:L)-SUMIF('00 PDC SP'!$D:$D,'01 Rendiconto Finanziario'!$A95,'00 PDC SP'!M:M))*'01 Rendiconto Finanziario'!C95)","v":0},{"$f":"(SUMIF('00 PDC SP'!$D:$D,'01 Rendiconto Finanziario'!$A95,'00 PDC SP'!I:I)-SUMIF('00 PDC SP'!$D:$D,'01 Rendiconto Finanziario'!$A95,'00 PDC SP'!J:J))*'01 Rendiconto Finanziario'!C95","v":0}]
[50,"VA",-1,"(+)/(-)","diminuzione/aumento crediti vs Regione (aumento fondo di dotazione)",{"$f":"((SUMIF('00 PDC SP'!$D:$D,'01 Rendiconto Finanziario'!$A96,'00 PDC SP'!L:L)-SUMIF('00 PDC SP'!$D:$D,'01 Rendiconto Finanziario'!$A96,'00 PDC SP'!M:M))*'01 Rendiconto Finanziario'!C96)","v":0},{"$f":"(SUMIF('00 PDC SP'!$D:$D,'01 Rendiconto Finanziario'!$A96,'00 PDC SP'!I:I)-SUMIF('00 PDC SP'!$D:$D,'01 Rendiconto Finanziario'!$A96,'00 PDC SP'!J:J))*'01 Rendiconto Finanziario'!C96","v":0}]
[51,"VA",-1,"(+)/(-)","diminuzione/aumento crediti vs Regione (ripiano perdite)",{"$f":"((SUMIF('00 PDC SP'!$D:$D,'01 Rendiconto Finanziario'!$A97,'00 PDC SP'!L:L)-SUMIF('00 PDC SP'!$D:$D,'01 Rendiconto Finanziario'!$A97,'00 PDC SP'!M:M))*'01 Rendiconto Finanziario'!C97)","v":353804.19},{"$f":"(SUMIF('00 PDC SP'!$D:$D,'01 Rendiconto Finanziario'!$A97,'00 PDC SP'!I:I)-SUMIF('00 PDC SP'!$D:$D,'01 Rendiconto Finanziario'!$A97,'00 PDC SP'!J:J))*'01 Rendiconto Finanziario'!C97","v":-13609624}]
[52,"VA",-1,"(+)/(-)","diminuzione/aumento crediti vs Regione (copertura debiti al 31.12.2005)",{"$f":"((SUMIF('00 PDC SP'!$D:$D,'01 Rendiconto Finanziario'!$A98,'00 PDC SP'!L:L)-SUMIF('00 PDC SP'!$D:$D,'01 Rendiconto Finanziario'!$A98,'00 PDC SP'!M:M))*'01 Rendiconto Finanziario'!C98)","v":0},{"$f":"(SUMIF('00 PDC SP'!$D:$D,'01 Rendiconto Finanziario'!$A98,'00 PDC SP'!I:I)-SUMIF('00 PDC SP'!$D:$D,'01 Rendiconto Finanziario'!$A98,'00 PDC SP'!J:J))*'01 Rendiconto Finanziario'!C98","v":0}]
[null,null,null,"(+)","aumento fondo di dotazione",{"$f":"SUM(F94:F98)","v":353804.19},{"$f":"SUM(G94:G98)","v":-13609624}]
[5,"IP",1,"(+)","aumento contributi in c/capitale da regione e da altri",{"$f":"(SUMIF('00 PDC SP'!$D:$D,'01 Rendiconto Finanziario'!$A100,'00 PDC SP'!L:L))*'01 Rendiconto Finanziario'!C100","v":16879206.280000001},{"$f":"(SUMIF('00 PDC SP'!$D:$D,'01 Rendiconto Finanziario'!$A100,'00 PDC SP'!I:I))*'01 Rendiconto Finanziario'!C100","v":6486693.4499999993}]
[6,"IP",1,"(+)","aumento fondi riserva: investimenti, incentivi al personale, successioni e donaz., plusvalenze da reinvestire",0,{"$f":"(SUMIF('00 PDC SP'!$D:$D,'01 Rendiconto Finanziario'!$A101,'00 PDC SP'!I:I))*'01 Rendiconto Finanziario'!C101","v":0}]
[53,"VP",1,"(+)/(-)","altri aumenti/diminuzioni al patrimonio netto (*)",{"$f":"((SUMIF('00 PDC SP'!$D:$D,'01 Rendiconto Finanziario'!$A102,'00 PDC SP'!L:L)-SUMIF('00 PDC SP'!$D:$D,'01 Rendiconto Finanziario'!$A102,'00 PDC SP'!M:M))*'01 Rendiconto Finanziario'!C102)-F5","v":221862.99000000022},{"$f":"((SUMIF('00 PDC SP'!$D:$D,'01 Rendiconto Finanziario'!$A102,'00 PDC SP'!I:I)-SUMIF('00 PDC SP'!$D:$D,'01 Rendiconto Finanziario'!$A102,'00 PDC SP'!J:J))*'01 Rendiconto Finanziario'!C102)-G5","v":13668902.849999908}]
[null,null,null,"(+)/(-)","aumenti/diminuzioni nette contabili al patrimonio netto",{"$f":"SUM(F100:F102)","v":17101069.270000003},{"$f":"SUM(G100:G102)","v":20155596.299999908}]
[54,"VA",-1,"(+)/(-)","aumenti/diminuzione debiti C/C bancari e istituto tesoriere (*)",{"$f":"((SUMIF('00 PDC SP'!$D:$D,'01 Rendiconto Finanziario'!$A104,'00 PDC SP'!L:L)-SUMIF('00 PDC SP'!$D:$D,'01 Rendiconto Finanziario'!$A104,'00 PDC SP'!M:M))*'01 Rendiconto Finanziario'!C104)","v":0},{"$f":"(SUMIF('00 PDC SP'!$D:$D,'01 Rendiconto Finanziario'!$A104,'00 PDC SP'!I:I)-SUMIF('00 PDC SP'!$D:$D,'01 Rendiconto Finanziario'!$A104,'00 PDC SP'!J:J))*'01 Rendiconto Finanziario'!C104","v":0}]
[55,"IP",1,"(+)","assunzione nuovi mutui (*)",{"$f":"((SUMIF('00 PDC SP'!$D:$D,'01 Rendiconto Finanziario'!$A105,'00 PDC SP'!L:L))*'01 Rendiconto Finanziario'!C105)","v":0},{"$f":"(SUMIF('00 PDC SP'!$D:$D,'01 Rendiconto Finanziario'!$A105,'00 PDC SP'!I:I))*'01 Rendiconto Finanziario'!C105","v":0}]
[56,"DP",-1,"(-)","mutui quota capitale rimborsata",{"$f":"((SUMIF('00 PDC SP'!$D:$D,'01 Rendiconto Finanziario'!$A106,'00 PDC SP'!M:M))*'01 Rendiconto Finanziario'!C106)","v":0},{"$f":"(SUMIF('00 PDC SP'!$D:$D,'01 Rendiconto Finanziario'!$A106,'00 PDC SP'!J:J))*'01 Rendiconto Finanziario'!C106","v":0}]
[null,null,null,"C - Totale attività di finanziamento",null,{"$f":"F99+F103+F104+F105+F106","v":17454873.460000005},{"$f":"G99+G103+G104+G105+G106","v":6545972.2999999076}]
[null,null,null,"FLUSSO DI CASSA COMPLESSIVO (A+B+C+)",null,{"$f":"F55+F92+F107","v":27816673.1199999},{"$f":"G55+G92+G107","v":-25298473.790000156}]
[57,"VA",1,"Delta liquidità tra inizio e fine esercizio (al netto dei conti bancari passivi)",null,{"$f":"((SUMIF('00 PDC SP'!$D:$D,'01 Rendiconto Finanziario'!$A109,'00 PDC SP'!L:L)-SUMIF('00 PDC SP'!$D:$D,'01 Rendiconto Finanziario'!$A109,'00 PDC SP'!M:M))*'01 Rendiconto Finanziario'!C109)","v":27816673.119999886},{"$f":"(SUMIF('00 PDC SP'!$D:$D,'01 Rendiconto Finanziario'!$A109,'00 PDC SP'!I:I)-SUMIF('00 PDC SP'!$D:$D,'01 Rendiconto Finanziario'!$A109,'00 PDC SP'!J:J))*'01 Rendiconto Finanziario'!C109","v":-25298473.790000081}]
[null,null,null,"Squadratura tra il valore delle disponibilità liquide nello SP e il valore del flusso di cassa complessivo",null,{"$f":"F108-F109","v":0},{"$f":"G108-G109","v":-7.4505805969238281E-8}]
[]
[null,null,null,null,"LEGENDA"]
[null,null,null,"SP","Saldo Stato Patrimoniale"]
[null,null,null,"IP","Passività - Incrementi"]
[null,null,null,"DP","Passività - Decrementi"]
[null,null,null,"VA","Attività - Variazione Saldo"]
[null,null,null,"VP","Passività - Variazione Saldo"]
[null,null,null,"IA","Attività - Incrementi"]
[null,null,null,"DA","Attività - Decrementi"]

{"sheet":"Personale","index":4,"n_rows":39,"n_cols":5,"rows_kept":39,"cut":false,"hidden":false,"merged":[]}
["Dati sull'occupazione al 31.12 XX"]
[]
["PERSONALE DIPENDENTE (Conto Annuale)"]
[null,"T1A","T1C","T1A","T1C"]
["Tipologia di personale","Personale in comando al 31/12/X-1 \nad altri enti","Personale in comando al 31/12/X-1 \nda altri enti","Personale in comando al 31/12/X ad altri enti","Personale in comando al 31/12/X da altri enti"]
["RUOLO SANITARIO"]
["Dirigenza"]
["- Medico veterinaria",1,1,null,1]
["- Sanitaria"]
["Comparto"]
["- Categoria Ds"]
["- Categoria D",3,7,1,10]
["- Categoria C"]
["- Categoria Bs"]
["RUOLO PROFESSIONALE"]
["Dirigenza"]
["Livello dirigenziale"]
["Comparto"]
["- Categoria D"]
["RUOLO TECNICO"]
["Dirigenza"]
["Livello dirigenziale"]
["Comparto"]
["- Categoria Ds"]
["- Categoria D"]
["- Categoria C"]
["- Categoria Bs",null,null,null,1]
["- Categoria B"]
["- Categoria A"]
["RUOLO AMMINISTRATIVO"]
["Dirigenza"]
["Livello dirigenziale"]
["Comparto"]
["- Categoria Ds",null,1]
["- Categoria D",1]
["- Categoria C"]
["- Categoria Bs"]
["- Categoria B"]
["- Categoria A"]

{"sheet":"Universitario","index":5,"n_rows":15,"n_cols":5,"rows_kept":15,"cut":false,"hidden":true,"merged":[]}
[]
["PERSONALE UNIVERSITARIO (Conto Annuale T1B)"]
["Tipologia di personale","Personale al 31/12/X-1","di cui Personale a tempo parziale al 31/12/X-1","Personale al 31/12/X","di cui Personale a tempo parziale al 31/12/X"]
["RUOLO SANITARIO"]
["Dirigenza"]
["Comparto"]
["RUOLO PROFESSIONALE"]
["Dirigenza"]
["Comparto"]
["RUOLO TECNICO"]
["Dirigenza"]
["Comparto"]
["RUOLO AMMINISTRATIVO"]
["Dirigenza"]
["Comparto"]

{"sheet":"Altro contratto","index":6,"n_rows":59,"n_cols":3,"rows_kept":59,"cut":false,"hidden":true,"merged":[[1,0,1,2],[18,0,18,2],[52,0,52,2],[35,0,35,2]]}
[]
["PERSONALE CON ALTRO CONTRATTO - FORMAZIONE LAVORO (Conto Annuale T2)"]
["Tipologia di personale","Uomini-anno  \nanno X -1","Uomini-anno \nanno X"]
["RUOLO SANITARIO"]
["Dirigenza"]
["- Medico - Veterinari"]
["- Sanitaria non medica"]
["Comparto"]
["RUOLO PROFESSIONALE"]
["Dirigenza"]
["Comparto"]
["RUOLO TECNICO"]
["Dirigenza"]
["Comparto"]
["RUOLO AMMINISTRATIVO"]
["Dirigenza"]
["Comparto"]
[]
["PERSONALE CON ALTRO CONTRATTO - CONTRATTO DI SOMMINISTRAZIONE (Conto Annuale T2)"]
["Tipologia di personale","Uomini-anno \nanno X -1","Uomini-anno \nanno X"]
["RUOLO SANITARIO"]
["Dirigenza"]
["- Medico - Veterinari"]
["- Sanitaria non medica"]
["Comparto"]
["RUOLO PROFESSIONALE"]
["Dirigenza"]
["Comparto"]
["RUOLO TECNICO"]
["Dirigenza"]
["Comparto"]
["RUOLO AMMINISTRATIVO"]
["Dirigenza"]
["Comparto"]
[]
["PERSONALE CON ALTRO CONTRATTO - LSU (Conto Annuale T2)"]
["Tipologia di personale","Uomini-anno \nanno X -1","Uomini-anno \nanno X"]
["RUOLO SANITARIO"]
["Dirigenza"]
["- Medico - Veterinari"]
["- Sanitaria non medica"]
["Comparto"]
["RUOLO PROFESSIONALE"]
["Dirigenza"]
["Comparto"]
["RUOLO TECNICO"]
["Dirigenza"]
["Comparto"]
["RUOLO AMMINISTRATIVO"]
["Dirigenza"]
["Comparto"]
[]
["PERSONALE IN CONVENZIONE  (FLS 12 quadro E per MMG e PLS)"]
["Tipologia di personale","Personale al \n31/12/ X-1","Personale al \n31/12/ X"]
["MEDICINA DI BASE"]
["MMG"]
["PLS"]
["Continuità assistenziale"]
["Altro"]

{"sheet":"Tab 1-2-3-4","index":7,"n_rows":47,"n_cols":24,"rows_kept":47,"cut":false,"hidden":false,"merged":[[44,10,44,11],[45,10,45,11],[46,10,46,11],[37,10,37,11],[38,10,38,11],[39,10,39,11],[42,4,43,4],[42,6,42,8],[42,9,42,11],[43,10,43,11],[31,10,31,11],[32,10,32,11],[35,4,36,4],[35,6,35,8],[35,9,35,11],[36,10,36,11],[34,4,34,11],[30,10,30,11],[0,3,0,19],[3,3,4,3],[3,4,4,4],[3,6,4,6],[3,7,3,10],[3,11,3,18],[3,19,4,19],[28,4,29,4],[28,6,28,8],[28,9,28,11],[29,10,29,11],[2,3,2,13],[27,4,27,11]]}
[null,null,null,"4.4     Immobilizzazioni materiali e immateriali"]
[]
[null,null,null,"Tab. 1 – Dettagli e movimentazioni delle immobilizzazioni immateriali "]
[null,null,null,"CODICE MOD. SP","IMMOBILIZZAZIONI IMMATERIALI",null,"Costo\nstorico","ESERCIZI PRECEDENTI",null,null,null,"MOVIMENTI DELL'ESERCIZIO",null,null,null,null,null,null,null,"Valore Netto Contabile"]
["Costo Storico","F.do Amm.to","F.do Svalutaz",null,null,null,null,"Rivalutaz. (+)","Svalutaz. (-)","Fondo Amm.to (-)","Valore netto iniz.","Giroconti e Riclass. (+/-)","Rivalutaz. (+)","Svalutaz. (-)","Acquisizioni e costruzioni in economia ","Manuten. increment.","Interessi capital.","Dismiss. (valore netto) (-)","Ammort. (-)",null,null,"Valore SP","Diff","Ctrl"]
["AAA020","AAA030","AAA230","AAA010"," Costi d'impianto e di ampliamento",null,{"$f":"SUMIF('00 SP'!$A:$A,'Tab 1-2-3-4'!A6,'00 SP'!I:I)","v":0},{"$f":"SUMIF('00 SP'!A:A,'Tab 1-2-3-4'!C6,'00 SP'!H:H)*-1","v":0},{"$f":"SUMIF('00 SP'!A:A,'Tab 1-2-3-4'!C6,'00 SP'!G:G)","v":0},{"$f":"SUMIF('00 SP'!A:A,'Tab 1-2-3-4'!B6,'00 SP'!I:I)","v":0},{"$f":"G6+H6+I6+J6","v":0},0,{"$f":"SUMIF('00 SP'!A:A,'Tab 1-2-3-4'!C6,'00 SP'!K:K)*-1","v":0},{"$f":"SUMIF('00 SP'!A:A,'Tab 1-2-3-4'!C6,'00 SP'!J:J)","v":0},{"$f":"SUMIF('00 SP'!A:A,A6,'00 SP'!J:J)-SUMIF('00 SP'!A:A,A6,'00 SP'!K:K)-(P6+Q6+L6)","v":0},0,0,0,{"$f":"(SUMIF('00 SP'!A:A,'Tab 1-2-3-4'!B6,'00 SP'!J:J)-SUMIF('00 SP'!A:A,B6,'00 SP'!K:K)-R6)","v":0},{"$f":"K6+L6+M6+N6+O6+P6+Q6+R6+S6","v":0},null,{"$f":"SUMIF('00 SP'!A:A,'Tab 1-2-3-4'!D6,'00 SP'!L:L)","v":0},{"$f":"T6-V6","v":0},{"$f":"IF(W6=0,\"OK\",\"CTRL\")","v":"OK"}]
[null,null,null,null,"di cui soggetti a sterilizzazione",null,null,null,null,null,0,null,null,null,null,null,null,null,null,0]
["AAA050","AAA060","AAA240","AAA040"," Costi di ricerca e sviluppo",null,{"$f":"SUMIF('00 SP'!$A:$A,'Tab 1-2-3-4'!A8,'00 SP'!I:I)","v":0},{"$f":"SUMIF('00 SP'!A:A,'Tab 1-2-3-4'!C8,'00 SP'!H:H)*-1","v":0},{"$f":"SUMIF('00 SP'!A:A,'Tab 1-2-3-4'!C8,'00 SP'!G:G)","v":0},{"$f":"SUMIF('00 SP'!A:A,'Tab 1-2-3-4'!B8,'00 SP'!I:I)","v":0},0,0,{"$f":"SUMIF('00 SP'!A:A,'Tab 1-2-3-4'!C8,'00 SP'!K:K)*-1","v":0},{"$f":"SUMIF('00 SP'!A:A,'Tab 1-2-3-4'!C8,'00 SP'!J:J)","v":0},{"$f":"SUMIF('00 SP'!A:A,A8,'00 SP'!J:J)-SUMIF('00 SP'!A:A,A8,'00 SP'!K:K)-(P8+Q8+L8)","v":0},0,0,0,{"$f":"(SUMIF('00 SP'!A:A,'Tab 1-2-3-4'!B8,'00 SP'!J:J)-SUMIF('00 SP'!A:A,B8,'00 SP'!K:K)-R8)","v":0},0,null,{"$f":"SUMIF('00 SP'!A:A,'Tab 1-2-3-4'!D8,'00 SP'!L:L)","v":0},{"$f":"T8-V8","v":0},{"$f":"IF(W8=0,\"OK\",\"CTRL\")","v":"OK"}]
[null,null,null,null,"di cui soggetti a sterilizzazione",null,null,null,null,null,0,null,null,null,null,null,null,null,null,0]
["AAA080","AAA090","AAA250","AAA070"," Diritti di brevetto e utilizzazione opere d'ingegno",null,{"$f":"SUMIF('00 SP'!$A:$A,'Tab 1-2-3-4'!A10,'00 SP'!I:I)","v":0},{"$f":"SUMIF('00 SP'!A:A,'Tab 1-2-3-4'!C10,'00 SP'!H:H)*-1","v":0},{"$f":"SUMIF('00 SP'!A:A,'Tab 1-2-3-4'!C10,'00 SP'!G:G)","v":0},{"$f":"SUMIF('00 SP'!A:A,'Tab 1-2-3-4'!B10,'00 SP'!I:I)","v":0},0,0,{"$f":"SUMIF('00 SP'!A:A,'Tab 1-2-3-4'!C10,'00 SP'!K:K)*-1","v":0},{"$f":"SUMIF('00 SP'!A:A,'Tab 1-2-3-4'!C10,'00 SP'!J:J)","v":0},{"$f":"SUMIF('00 SP'!A:A,A10,'00 SP'!J:J)-SUMIF('00 SP'!A:A,A10,'00 SP'!K:K)-(P10+Q10+L10)","v":0},0,0,0,{"$f":"(SUMIF('00 SP'!A:A,'Tab 1-2-3-4'!B10,'00 SP'!J:J)-SUMIF('00 SP'!A:A,B10,'00 SP'!K:K)-R10)","v":0},0,null,{"$f":"SUMIF('00 SP'!A:A,'Tab 1-2-3-4'!D10,'00 SP'!L:L)","v":0},{"$f":"T10-V10","v":0},{"$f":"IF(W10=0,\"OK\",\"CTRL\")","v":"OK"}]
[null,null,null,null,"di cui soggetti a sterilizzazione",null,null,null,null,null,0,null,null,null,null,null,null,null,null,0]
["AAA120",null,null,"AAA120"," Immobilizzazioni immateriali in corso e acconti",null,{"$f":"SUMIF('00 SP'!$A:$A,'Tab 1-2-3-4'!A12,'00 SP'!I:I)","v":0},{"$f":"SUMIF('00 SP'!A:A,'Tab 1-2-3-4'!C12,'00 SP'!H:H)*-1","v":0},{"$f":"SUMIF('00 SP'!A:A,'Tab 1-2-3-4'!C12,'00 SP'!G:G)","v":0},{"$f":"SUMIF('00 SP'!A:A,'Tab 1-2-3-4'!B12,'00 SP'!I:I)","v":0},0,0,{"$f":"SUMIF('00 SP'!A:A,'Tab 1-2-3-4'!C12,'00 SP'!K:K)*-1","v":0},{"$f":"SUMIF('00 SP'!A:A,'Tab 1-2-3-4'!C12,'00 SP'!J:J)","v":0},{"$f":"SUMIF('00 SP'!A:A,A12,'00 SP'!J:J)-SUMIF('00 SP'!A:A,A12,'00 SP'!K:K)-(P12+Q12+L12)","v":0},0,0,0,{"$f":"(SUMIF('00 SP'!A:A,'Tab 1-2-3-4'!B12,'00 SP'!J:J)-SUMIF('00 SP'!A:A,B12,'00 SP'!K:K)-R12)","v":0},0,null,{"$f":"SUMIF('00 SP'!A:A,'Tab 1-2-3-4'!D12,'00 SP'!L:L)","v":0},{"$f":"T12-V12","v":0},{"$f":"IF(W12=0,\"OK\",\"CTRL\")","v":"OK"}]
["AAA200","AAA210",null,"AAA130"," Altre immobilizzazioni immateriali",null,{"$f":"G15+G17+G19+G21","v":2307880.4900000002},{"$f":"H15+H17+H19+H21","v":0},0,-1844654.7,{"$f":"K15+K17+K19+K21","v":463225.79000000027},0,0,0,{"$f":"O15+O17+O19+O21","v":65627.89},0,0,0,-155437.62,{"$f":"T15+T17+T19+T21","v":373416.06000000029},null,{"$f":"SUMIF('00 SP'!A:A,'Tab 1-2-3-4'!D13,'00 SP'!L:L)","v":373416.06000000052},{"$f":"T13-V13","v":0},{"$f":"IF(W13=0,\"OK\",\"CTRL\")","v":"OK"}]
[null,null,null,null,"di cui soggette a sterilizzazione",null,{"$f":"G16+G18+G20+G22","v":1135003.6600000001},{"$f":"H16+H18+H20+H22","v":0},0,-671777.86999999988,463225.79000000027,0,0,0,65628,0,0,0,{"$f":"S16+S18+S20+S22","v":-155438},373415.79000000027]
["AAA140","AAA150","AAA260","AAA140"," Concessioni, licenze, marchi e diritti simili",null,{"$f":"SUMIF('00 SP'!$A:$A,'Tab 1-2-3-4'!A15,'00 SP'!I:I)","v":2307880.4900000002},{"$f":"SUMIF('00 SP'!A:A,'Tab 1-2-3-4'!C15,'00 SP'!H:H)*-1","v":0},{"$f":"SUMIF('00 SP'!A:A,'Tab 1-2-3-4'!C15,'00 SP'!G:G)","v":0},{"$f":"SUMIF('00 SP'!A:A,'Tab 1-2-3-4'!B15,'00 SP'!I:I)","v":-1844654.7},{"$f":"G15+H15+I15+J15","v":463225.79000000027},0,{"$f":"SUMIF('00 SP'!A:A,'Tab 1-2-3-4'!C15,'00 SP'!K:K)*-1","v":0},{"$f":"SUMIF('00 SP'!A:A,'Tab 1-2-3-4'!C15,'00 SP'!J:J)","v":0},{"$f":"SUMIF('00 SP'!A:A,A15,'00 SP'!J:J)-SUMIF('00 SP'!A:A,A15,'00 SP'!K:K)-(P15+Q15+L15)","v":65627.89},0,0,0,{"$f":"(SUMIF('00 SP'!A:A,'Tab 1-2-3-4'!B15,'00 SP'!J:J)-SUMIF('00 SP'!A:A,B15,'00 SP'!K:K)-R15)","v":-155437.62},{"$f":"K15+L15+M15+N15+O15+P15+Q15+R15+S15","v":373416.06000000029}]
[null,null,null,null,"di cui soggette a sterilizzazione",null,{"$f":"G15-1172876.83","v":1135003.6600000001},null,null,{"$f":"J15+1172876.83","v":-671777.86999999988},{"$f":"G16+H16+I16+J16","v":463225.79000000027},null,null,null,65628,null,null,null,-155438,{"$f":"K16+L16+M16+N16+O16+P16+Q16+R16+S16","v":373415.79000000027}]
["AAA160","AAA170",null,"AAA160"," Migliorie su beni di terzi",null,{"$f":"SUMIF('00 SP'!$A:$A,'Tab 1-2-3-4'!A17,'00 SP'!I:I)","v":0},{"$f":"SUMIF('00 SP'!A:A,'Tab 1-2-3-4'!C17,'00 SP'!H:H)*-1","v":0},{"$f":"SUMIF('00 SP'!A:A,'Tab 1-2-3-4'!C17,'00 SP'!G:G)","v":0},{"$f":"SUMIF('00 SP'!A:A,'Tab 1-2-3-4'!B17,'00 SP'!I:I)","v":0},0,0,{"$f":"SUMIF('00 SP'!A:A,'Tab 1-2-3-4'!C17,'00 SP'!K:K)*-1","v":0},{"$f":"SUMIF('00 SP'!A:A,'Tab 1-2-3-4'!C17,'00 SP'!J:J)","v":0},{"$f":"SUMIF('00 SP'!A:A,A17,'00 SP'!J:J)-SUMIF('00 SP'!A:A,A17,'00 SP'!K:K)-(P17+Q17+L17)","v":0},0,0,0,{"$f":"(SUMIF('00 SP'!A:A,'Tab 1-2-3-4'!B17,'00 SP'!J:J)-SUMIF('00 SP'!A:A,B17,'00 SP'!K:K)-R17)","v":0},0]
[null,null,null,null,"di cui soggette a sterilizzazione",null,null,null,null,null,0,null,null,null,null,null,null,null,null,0]
["AAA180","AAA190",null,"AAA180","Pubblicità",null,{"$f":"SUMIF('00 SP'!$A:$A,'Tab 1-2-3-4'!A19,'00 SP'!I:I)","v":0},{"$f":"SUMIF('00 SP'!A:A,'Tab 1-2-3-4'!C19,'00 SP'!H:H)*-1","v":0},{"$f":"SUMIF('00 SP'!A:A,'Tab 1-2-3-4'!C19,'00 SP'!G:G)","v":0},{"$f":"SUMIF('00 SP'!A:A,'Tab 1-2-3-4'!B19,'00 SP'!I:I)","v":0},0,0,{"$f":"SUMIF('00 SP'!A:A,'Tab 1-2-3-4'!C19,'00 SP'!K:K)*-1","v":0},{"$f":"SUMIF('00 SP'!A:A,'Tab 1-2-3-4'!C19,'00 SP'!J:J)","v":0},{"$f":"SUMIF('00 SP'!A:A,A19,'00 SP'!J:J)-SUMIF('00 SP'!A:A,A19,'00 SP'!K:K)-(P19+Q19+L19)","v":0},0,0,0,{"$f":"(SUMIF('00 SP'!A:A,'Tab 1-2-3-4'!B19,'00 SP'!J:J)-SUMIF('00 SP'!A:A,B19,'00 SP'!K:K)-R19)","v":0},0]
[null,null,null,null,"di cui soggette a sterilizzazione",null,null,null,null,null,0,null,null,null,null,null,null,null,null,0]
["AAA200","AAA210",null,"AAA200","Altre immobilizzazioni immateriali",null,{"$f":"SUMIF('00 SP'!$A:$A,'Tab 1-2-3-4'!A21,'00 SP'!I:I)","v":0},{"$f":"SUMIF('00 SP'!A:A,'Tab 1-2-3-4'!C21,'00 SP'!H:H)*-1","v":0},{"$f":"SUMIF('00 SP'!A:A,'Tab 1-2-3-4'!C21,'00 SP'!G:G)","v":0},{"$f":"SUMIF('00 SP'!A:A,'Tab 1-2-3-4'!B21,'00 SP'!I:I)","v":0},0,0,{"$f":"SUMIF('00 SP'!A:A,'Tab 1-2-3-4'!C21,'00 SP'!K:K)*-1","v":0},{"$f":"SUMIF('00 SP'!A:A,'Tab 1-2-3-4'!C21,'00 SP'!J:J)","v":0},{"$f":"SUMIF('00 SP'!A:A,A21,'00 SP'!J:J)-SUMIF('00 SP'!A:A,A21,'00 SP'!K:K)-(P21+Q21+L21)","v":0},0,0,0,{"$f":"(SUMIF('00 SP'!A:A,'Tab 1-2-3-4'!B21,'00 SP'!J:J)-SUMIF('00 SP'!A:A,B21,'00 SP'!K:K)-R21)","v":0},0,null,{"$f":"SUMIF('00 SP'!A:A,'Tab 1-2-3-4'!D21,'00 SP'!L:L)","v":0},{"$f":"T21-V21","v":0},{"$f":"IF(W21=0,\"OK\",\"CTRL\")","v":"OK"}]
[null,null,null,null,"di cui soggette a sterilizzazione",null,null,null,null,null,0,null,null,null,null,null,null,null,null,0]
[null,null,null,null,"TOTALE IMMOBILIZZAZIONI IMMATERIALI",null,{"$f":"G6+G8+G10+G12+G13","v":2307880.4900000002},{"$f":"H6+H8+H10+H12+H13","v":0},0,{"$f":"J6+J8+J10+J12+J13","v":-1844654.7},463225.79000000027,0,0,0,65627.89,0,0,0,-155437.62,373416.06000000029]
[]
[null,null,null,null,"di cui soggette a sterilizzazione",null,{"$f":"G7+G9+G11+G14","v":1135003.6600000001},{"$f":"H7+H9+H11+H14","v":0},0,-671777.86999999988,463225.79000000027,0,0,0,65628,0,0,0,-155438,{"$f":"T7+T9+T11+T14","v":373415.79000000027}]
[]
[]
[null,null,null,null,"Tab. 2 – Dettaglio costi di impianto e di ampliamento"]
[null,null,null,null,"DETTAGLIO COSTI D'IMPIANTO E DI AMPLIAMENTO",null,"MOVIMENTI DELL'ESERCIZIO",null,null,"ALTRE INFORMAZIONI"]
[null,null,null,null,null,null,"Valore\niniziale","Incrementi","Valore\nfinale","Ragioni iscrizione","Estremi del verbale del Collegio Sindacale"]
[null,null,null,null,"Descrizione composizione"]
[null,null,null,null,"…."]
[null,null,null,null,"…."]
[]
[null,null,null,null,"Tab. 3 – Dettaglio costi di ricerca e sviluppo"]
[null,null,null,null,"DETTAGLIO COSTI DI RICERCA E SVILUPPO",null,"MOVIMENTI DELL'ESERCIZIO",null,null,"ALTRE INFORMAZIONI"]
[null,null,null,null,null,null,"Valore\niniziale","Incrementi","Valore\nfinale","Ragioni iscrizione","Estremi del verbale del Collegio Sindacale"]
[null,null,null,null,"Descrizione composizione"]
[null,null,null,null,"…."]
[null,null,null,null,"…"]
[]
[null,null,null,null,"Tab. 4 – Dettaglio costi di pubblicità"]
[null,null,null,null,"DETTAGLIO PUBBLICITA'",null,"MOVIMENTI DELL'ESERCIZIO",null,null,"ALTRE INFORMAZIONI"]
[null,null,null,null,null,null,"Valore\niniziale","Incrementi","Valore\nfinale","Ragioni iscrizione","Estremi del verbale del Collegio Sindacale"]
[null,null,null,null,"Descrizione composizione"]
[null,null,null,null,"…."]
[null,null,null,null,"…"]

{"sheet":"Tab 5-6","index":8,"n_rows":40,"n_cols":24,"rows_kept":40,"cut":false,"hidden":false,"merged":[[34,11,35,11],[34,12,35,12],[34,4,35,4],[34,6,35,6],[34,7,35,7],[34,8,35,8],[34,10,35,10],[1,4,1,9],[33,4,33,8],[2,19,3,19],[2,3,3,3],[2,4,3,4],[2,6,3,6],[2,7,2,10],[2,11,2,18],[30,4,31,17]]}
[]
[null,null,null,null,"Tab. 5 – Dettagli e movimentazioni delle immobilizzazioni materiali "]
[null,null,null,"CODICE MOD. SP","IMMOBILIZZAZIONI MATERIALI",null,"Costo\nstorico","ESERCIZI PRECEDENTI",null,null,null,"MOVIMENTI DELL'ESERCIZIO",null,null,null,null,null,null,null,"Valore Netto Contabile"]
["Costo Storico","F.do Amm.to","F.do Svalutaz",null,null,null,null,"Rivalutaz.","Svalutaz.","Fondo\namm.","Valore netto iniziale","Giroconti e Riclassifiche","Rivalutaz.","Svalutaz.","Acquisizioni e costruzioni in economia ","Manutenz. increm.","Interessi capitalizz.","Dismissioni (valore netto)","Ammort. 2019",null,null,"Valore SP","Diff","Ctrl"]
["AAA290",null,null,"AAA290","Terreni disponibili",null,{"$f":"SUMIF('00 SP'!$A:$A,'Tab 5-6'!A5,'00 SP'!I:I)","v":0},{"$f":"SUMIF('00 SP'!A:A,'Tab 5-6'!C5,'00 SP'!H:H)*-1","v":0},{"$f":"SUMIF('00 SP'!A:A,'Tab 5-6'!C5,'00 SP'!G:G)","v":0},{"$f":"SUMIF('00 SP'!A:A,'Tab 5-6'!B5,'00 SP'!I:I)","v":0},{"$f":"G5+H5+I5+J5","v":0},0,{"$f":"SUMIF('00 SP'!A:A,'Tab 5-6'!C5,'00 SP'!K:K)*-1","v":0},{"$f":"SUMIF('00 SP'!A:A,'Tab 5-6'!C5,'00 SP'!J:J)","v":0},{"$f":"SUMIF('00 SP'!A:A,A5,'00 SP'!J:J)-SUMIF('00 SP'!A:A,A5,'00 SP'!K:K)-(P5+Q5)","v":0},0,0,0,{"$f":"SUMIF('00 SP'!A:A,'Tab 5-6'!B5,'00 SP'!J:J)-SUMIF('00 SP'!A:A,B5,'00 SP'!K:K)-R5","v":0},{"$f":"K5+L5+M5+N5+O5+P5+Q5+R5+S5","v":0},null,{"$f":"SUMIF('00 SP'!A:A,'Tab 5-6'!D5,'00 SP'!L:L)","v":0},{"$f":"T5-V5","v":0},{"$f":"IF(W5=0,\"OK\",\"CTRL\")","v":"OK"}]
[null,null,null,null,"di cui soggetti a sterilizzazione",null,null,null,null,null,0,null,null,null,null,null,null,null,null,0]
["AAA300",null,"AAA560","AAA300","Terreni indisponibili",null,{"$f":"SUMIF('00 SP'!$A:$A,'Tab 5-6'!A7,'00 SP'!I:I)","v":942655.12},{"$f":"SUMIF('00 SP'!A:A,'Tab 5-6'!C7,'00 SP'!H:H)*-1","v":0},{"$f":"SUMIF('00 SP'!A:A,'Tab 5-6'!C7,'00 SP'!G:G)","v":0},{"$f":"SUMIF('00 SP'!A:A,'Tab 5-6'!B7,'00 SP'!I:I)","v":0},{"$f":"G7+H7+I7+J7","v":942655.12},0,{"$f":"SUMIF('00 SP'!A:A,'Tab 5-6'!C7,'00 SP'!K:K)*-1","v":0},{"$f":"SUMIF('00 SP'!A:A,'Tab 5-6'!C7,'00 SP'!J:J)","v":0},{"$f":"SUMIF('00 SP'!A:A,A7,'00 SP'!J:J)-SUMIF('00 SP'!A:A,A7,'00 SP'!K:K)-(P7+Q7)","v":0},0,0,0,{"$f":"SUMIF('00 SP'!A:A,'Tab 5-6'!B7,'00 SP'!J:J)-SUMIF('00 SP'!A:A,B7,'00 SP'!K:K)-R7","v":0},942655.12,null,{"$f":"SUMIF('00 SP'!A:A,'Tab 5-6'!D7,'00 SP'!L:L)","v":942655.12},{"$f":"T7-V7","v":0},{"$f":"IF(W7=0,\"OK\",\"CTRL\")","v":"OK"}]
[null,null,null,null,"di cui soggetti a sterilizzazione",null,null,null,null,null,0,null,null,null,null,null,null,null,null,0]
["AAA330","AAA340",null,"AAA320"," Fabbricati non strumentali (disponibili)",null,{"$f":"SUMIF('00 SP'!$A:$A,'Tab 5-6'!A9,'00 SP'!I:I)","v":0},{"$f":"SUMIF('00 SP'!A:A,'Tab 5-6'!C9,'00 SP'!H:H)*-1","v":0},{"$f":"SUMIF('00 SP'!A:A,'Tab 5-6'!C9,'00 SP'!G:G)","v":0},{"$f":"SUMIF('00 SP'!A:A,'Tab 5-6'!B9,'00 SP'!I:I)","v":0},0,0,{"$f":"SUMIF('00 SP'!A:A,'Tab 5-6'!C9,'00 SP'!K:K)*-1","v":0},{"$f":"SUMIF('00 SP'!A:A,'Tab 5-6'!C9,'00 SP'!J:J)","v":0},{"$f":"SUMIF('00 SP'!A:A,A9,'00 SP'!J:J)-SUMIF('00 SP'!A:A,A9,'00 SP'!K:K)-(P9+Q9)","v":0},0,0,0,{"$f":"SUMIF('00 SP'!A:A,'Tab 5-6'!B9,'00 SP'!J:J)-SUMIF('00 SP'!A:A,B9,'00 SP'!K:K)-R9","v":0},0,null,{"$f":"SUMIF('00 SP'!A:A,'Tab 5-6'!D9,'00 SP'!L:L)","v":0},{"$f":"T9-V9","v":0},{"$f":"IF(W9=0,\"OK\",\"CTRL\")","v":"OK"}]
[null,null,null,null,"di cui soggetti a sterilizzazione",null,null,null,null,null,0,null,null,null,null,null,null,null,null,0]
["AAA360","AAA370","AAA570","AAA350"," Fabbricati strumentali (indisponibili)",null,{"$f":"SUMIF('00 SP'!$A:$A,'Tab 5-6'!A11,'00 SP'!I:I)","v":171183789.22999999},{"$f":"SUMIF('00 SP'!A:A,'Tab 5-6'!C11,'00 SP'!H:H)*-1","v":0},{"$f":"SUMIF('00 SP'!A:A,'Tab 5-6'!C11,'00 SP'!G:G)","v":0},{"$f":"SUMIF('00 SP'!A:A,'Tab 5-6'!B11,'00 SP'!I:I)","v":-95852232.950000003},{"$f":"G11+H11+I11+J11","v":75331556.279999986},0,{"$f":"SUMIF('00 SP'!A:A,'Tab 5-6'!C11,'00 SP'!K:K)*-1","v":0},{"$f":"SUMIF('00 SP'!A:A,'Tab 5-6'!C11,'00 SP'!J:J)","v":0},{"$f":"SUMIF('00 SP'!A:A,A11,'00 SP'!J:J)-SUMIF('00 SP'!A:A,A11,'00 SP'!K:K)-(P11+Q11)","v":0},0,0,0,{"$f":"SUMIF('00 SP'!A:A,'Tab 5-6'!B11,'00 SP'!J:J)-SUMIF('00 SP'!A:A,B11,'00 SP'!K:K)-R11","v":-5032903.95},70298652.329999983,null,{"$f":"SUMIF('00 SP'!A:A,'Tab 5-6'!D11,'00 SP'!L:L)","v":70298652.329999983},{"$f":"T11-V11","v":0},{"$f":"IF(W11=0,\"OK\",\"CTRL\")","v":"OK"}]
[null,null,null,null,"di cui soggetti a sterilizzazione",null,{"$f":"G11-11340620.67","v":159843168.56},null,null,{"$f":"J11+3976792.29","v":-91875440.659999996},67967727.900000006,null,null,null,0,null,null,null,{"$f":"S11","v":-5032903.95},62934823.950000003]
["AAA390","AAA400","AAA580","AAA380"," Impianti e macchinari",null,{"$f":"SUMIF('00 SP'!$A:$A,'Tab 5-6'!A13,'00 SP'!I:I)","v":6802322.3099999996},{"$f":"SUMIF('00 SP'!A:A,'Tab 5-6'!C13,'00 SP'!H:H)*-1","v":0},{"$f":"SUMIF('00 SP'!A:A,'Tab 5-6'!C13,'00 SP'!G:G)","v":0},{"$f":"SUMIF('00 SP'!A:A,'Tab 5-6'!B13,'00 SP'!I:I)","v":-5393858.3099999996},1408464,0,{"$f":"SUMIF('00 SP'!A:A,'Tab 5-6'!C13,'00 SP'!K:K)*-1","v":0},{"$f":"SUMIF('00 SP'!A:A,'Tab 5-6'!C13,'00 SP'!J:J)","v":0},{"$f":"SUMIF('00 SP'!A:A,A13,'00 SP'!J:J)-SUMIF('00 SP'!A:A,A13,'00 SP'!K:K)-(P13+Q13)+32590.8","v":432181.73},0,0,0,{"$f":"SUMIF('00 SP'!A:A,'Tab 5-6'!B13,'00 SP'!J:J)-SUMIF('00 SP'!A:A,B13,'00 SP'!K:K)-R13-32590.8","v":-319573.24},{"$f":"K13+L13+M13+N13+O13+P13+Q13+R13+S13","v":1521072.49},null,{"$f":"SUMIF('00 SP'!A:A,'Tab 5-6'!D13,'00 SP'!L:L)","v":1521072.4899999993},{"$f":"T13-V13","v":0},{"$f":"IF(W13=0,\"OK\",\"CTRL\")","v":"OK"}]
[null,null,null,null,"di cui soggetti a sterilizzazione",null,{"$f":"G13-4071120.23-500000+467409","v":2698611.0799999996},null,null,{"$f":"J13+4103710.73","v":-1290147.5799999996},1408463.5,null,null,null,{"$f":"O13","v":432181.73},null,null,null,{"$f":"S13+0.31","v":-319572.93},1521072.3]
["AAA420","AAA430","AAA590","AAA410"," Attrezzature sanitarie e scientifiche",null,{"$f":"SUMIF('00 SP'!$A:$A,'Tab 5-6'!A15,'00 SP'!I:I)","v":83135937.980000004},{"$f":"SUMIF('00 SP'!A:A,'Tab 5-6'!C15,'00 SP'!H:H)*-1","v":0},{"$f":"SUMIF('00 SP'!A:A,'Tab 5-6'!C15,'00 SP'!G:G)","v":0},{"$f":"SUMIF('00 SP'!A:A,'Tab 5-6'!B15,'00 SP'!I:I)","v":-69436276.099999994},13699661.88000001,0,{"$f":"SUMIF('00 SP'!A:A,'Tab 5-6'!C15,'00 SP'!K:K)*-1","v":0},{"$f":"SUMIF('00 SP'!A:A,'Tab 5-6'!C15,'00 SP'!J:J)","v":0},{"$f":"SUMIF('00 SP'!A:A,A15,'00 SP'!J:J)-SUMIF('00 SP'!A:A,A15,'00 SP'!K:K)-(P15+Q15)+895108.9","v":2116880.8400000003},0,0,-15224.7,{"$f":"SUMIF('00 SP'!A:A,'Tab 5-6'!B15,'00 SP'!J:J)-SUMIF('00 SP'!A:A,B15,'00 SP'!K:K)-879884.2","v":-4807029.55},{"$f":"K15+L15+M15+N15+O15+P15+Q15+R15+S15","v":10994288.47000001},null,{"$f":"SUMIF('00 SP'!A:A,'Tab 5-6'!D15,'00 SP'!L:L)","v":10994288.470000029},{"$f":"T15-V15","v":-1.862645149230957E-8},{"$f":"IF(W15=0,\"OK\",\"CTRL\")","v":"CTRL"}]
[null,null,null,null,"di cui soggette a sterilizzazione",null,{"$f":"G15-44363027.96-2000000+1132025+2699","v":37907634.020000003},null,null,{"$f":"J15+45213079.05","v":-24223197.049999997},13684436.970000006,null,null,null,{"$f":"O15","v":2116880.8400000003},null,null,null,{"$f":"S15","v":-4807029.55},10994288.260000005]
["AAA450","AAA460","AAA600","AAA440"," Mobili e arredi",null,{"$f":"SUMIF('00 SP'!$A:$A,'Tab 5-6'!A17,'00 SP'!I:I)","v":10845395.25},{"$f":"SUMIF('00 SP'!A:A,'Tab 5-6'!C17,'00 SP'!H:H)*-1","v":0},{"$f":"SUMIF('00 SP'!A:A,'Tab 5-6'!C17,'00 SP'!G:G)","v":0},{"$f":"SUMIF('00 SP'!A:A,'Tab 5-6'!B17,'00 SP'!I:I)","v":-9348723.0999999996},{"$f":"G17+H17+I17+J17","v":1496672.1500000004},0,{"$f":"SUMIF('00 SP'!A:A,'Tab 5-6'!C17,'00 SP'!K:K)*-1","v":0},{"$f":"SUMIF('00 SP'!A:A,'Tab 5-6'!C17,'00 SP'!J:J)","v":0},{"$f":"SUMIF('00 SP'!A:A,A17,'00 SP'!J:J)-SUMIF('00 SP'!A:A,A17,'00 SP'!K:K)-(P17+Q17)+22547.5","v":226035.79},0,0,-652.79999999999995,{"$f":"SUMIF('00 SP'!A:A,'Tab 5-6'!B17,'00 SP'!J:J)-SUMIF('00 SP'!A:A,B17,'00 SP'!K:K)-21894.7","v":-361509.62},{"$f":"K17+L17+M17+N17+O17+P17+Q17+R17+S17","v":1360545.5200000005},null,{"$f":"SUMIF('00 SP'!A:A,'Tab 5-6'!D17,'00 SP'!L:L)","v":1360545.5200000014},{"$f":"T17-V17","v":0},{"$f":"IF(W17=0,\"OK\",\"CTRL\")","v":"OK"}]
[null,null,null,null,"di cui soggetti a sterilizzazione",null,{"$f":"G17-7484038.47-300000+279577+5","v":3340938.7800000003},null,null,{"$f":"J17+7503804.44","v":-1844918.6599999992},1496020.120000001,null,null,null,{"$f":"O17","v":226035.79},null,null,null,{"$f":"S17","v":-361509.62},1360546.290000001]
["AAA480","AAA490","AAA610","AAA470"," Automezzi",null,{"$f":"SUMIF('00 SP'!$A:$A,'Tab 5-6'!A19,'00 SP'!I:I)","v":1906360.63},{"$f":"SUMIF('00 SP'!A:A,'Tab 5-6'!C19,'00 SP'!H:H)*-1","v":0},{"$f":"SUMIF('00 SP'!A:A,'Tab 5-6'!C19,'00 SP'!G:G)","v":0},{"$f":"SUMIF('00 SP'!A:A,'Tab 5-6'!B19,'00 SP'!I:I)","v":-1672263.96},234096.66999999993,0,{"$f":"SUMIF('00 SP'!A:A,'Tab 5-6'!C19,'00 SP'!K:K)*-1","v":0},{"$f":"SUMIF('00 SP'!A:A,'Tab 5-6'!C19,'00 SP'!J:J)","v":0},{"$f":"SUMIF('00 SP'!A:A,A19,'00 SP'!J:J)-SUMIF('00 SP'!A:A,A19,'00 SP'!K:K)","v":492735.99},0,0,0,{"$f":"SUMIF('00 SP'!A:A,'Tab 5-6'!B19,'00 SP'!J:J)-SUMIF('00 SP'!A:A,B19,'00 SP'!K:K)","v":-133711.75},593120.90999999992,null,{"$f":"SUMIF('00 SP'!A:A,'Tab 5-6'!D19,'00 SP'!L:L)","v":593120.91000000015},{"$f":"T19-V19","v":0},{"$f":"IF(W19=0,\"OK\",\"CTRL\")","v":"OK"}]
[null,null,null,null,"di cui soggetti a sterilizzazione",null,{"$f":"G19-921202.24","v":985158.3899999999},null,null,{"$f":"J19+921202.24","v":-751061.72},234096.66999999993,null,null,null,{"$f":"O19","v":492735.99},null,null,null,{"$f":"S19","v":-133711.75},593120.90999999992]
["AAA500",null,null,"AAA500","Oggetti d'arte",null,{"$f":"SUMIF('00 SP'!$A:$A,'Tab 5-6'!A21,'00 SP'!I:I)","v":0},{"$f":"SUMIF('00 SP'!A:A,'Tab 5-6'!C21,'00 SP'!H:H)*-1","v":0},{"$f":"SUMIF('00 SP'!A:A,'Tab 5-6'!C21,'00 SP'!G:G)","v":0},{"$f":"SUMIF('00 SP'!A:A,'Tab 5-6'!B21,'00 SP'!I:I)","v":0},0,0,{"$f":"SUMIF('00 SP'!A:A,'Tab 5-6'!C21,'00 SP'!K:K)*-1","v":0},{"$f":"SUMIF('00 SP'!A:A,'Tab 5-6'!C21,'00 SP'!J:J)","v":0},{"$f":"SUMIF('00 SP'!A:A,A21,'00 SP'!J:J)-SUMIF('00 SP'!A:A,A21,'00 SP'!K:K)-(P21+Q21)","v":0},0,0,0,{"$f":"SUMIF('00 SP'!A:A,'Tab 5-6'!B21,'00 SP'!J:J)-SUMIF('00 SP'!A:A,B21,'00 SP'!K:K)-R21","v":0},0,null,{"$f":"SUMIF('00 SP'!A:A,'Tab 5-6'!D21,'00 SP'!L:L)","v":0},{"$f":"T21-V21","v":0},{"$f":"IF(W21=0,\"OK\",\"CTRL\")","v":"OK"}]
["AAA520","AAA530","AAA620","AAA510"," Altre immobilizzazioni materiali",null,{"$f":"SUMIF('00 SP'!$A:$A,'Tab 5-6'!A22,'00 SP'!I:I)","v":5855302.5700000003},{"$f":"SUMIF('00 SP'!A:A,'Tab 5-6'!C22,'00 SP'!H:H)*-1","v":0},{"$f":"SUMIF('00 SP'!A:A,'Tab 5-6'!C22,'00 SP'!G:G)","v":0},{"$f":"SUMIF('00 SP'!A:A,'Tab 5-6'!B22,'00 SP'!I:I)","v":-5195292.1599999992},660010.41000000108,0,{"$f":"SUMIF('00 SP'!A:A,'Tab 5-6'!C22,'00 SP'!K:K)*-1","v":0},{"$f":"SUMIF('00 SP'!A:A,'Tab 5-6'!C22,'00 SP'!J:J)","v":0},{"$f":"SUMIF('00 SP'!A:A,A22,'00 SP'!J:J)-SUMIF('00 SP'!A:A,A22,'00 SP'!K:K)-(P22+Q22)+616.61+651","v":364296.66},0,0,0,{"$f":"SUMIF('00 SP'!A:A,'Tab 5-6'!B22,'00 SP'!J:J)-SUMIF('00 SP'!A:A,B22,'00 SP'!K:K)-616.61-651","v":-262023.61},762283.46000000101,null,{"$f":"SUMIF('00 SP'!A:A,'Tab 5-6'!D22,'00 SP'!L:L)","v":762283.46},{"$f":"T22-V22","v":1.0477378964424133E-9},{"$f":"IF(W22=0,\"OK\",\"CTRL\")","v":"CTRL"}]
[null,null,null,null,"di cui soggetti a sterilizzazione",null,{"$f":"G22-3435240.3-200000+198732","v":2418794.2700000005},null,null,{"$f":"J22+3436507.91","v":-1758784.2499999991},660010.02000000142,null,null,null,{"$f":"O22","v":364296.66},null,null,0,{"$f":"S22","v":-262023.61},762283.07000000135]
["AAA540",null,"AAA630","AAA540"," Immobilizzazioni materiali in corso e acconti",null,{"$f":"SUMIF('00 SP'!$A:$A,'Tab 5-6'!A24,'00 SP'!I:I)","v":8590200.7599999998},{"$f":"SUMIF('00 SP'!A:A,'Tab 5-6'!C24,'00 SP'!H:H)*-1","v":0},{"$f":"SUMIF('00 SP'!A:A,'Tab 5-6'!C24,'00 SP'!G:G)","v":0},{"$f":"SUMIF('00 SP'!A:A,'Tab 5-6'!B24,'00 SP'!I:I)","v":0},8590200.7599999998,-66213,{"$f":"SUMIF('00 SP'!A:A,'Tab 5-6'!C24,'00 SP'!K:K)*-1","v":0},{"$f":"SUMIF('00 SP'!A:A,'Tab 5-6'!C24,'00 SP'!J:J)","v":0},{"$f":"SUMIF('00 SP'!A:A,A24,'00 SP'!J:J)-SUMIF('00 SP'!A:A,A24,'00 SP'!K:K)-(P24+Q24)+66213","v":2072633.74},0,0,0,{"$f":"SUMIF('00 SP'!A:A,'Tab 5-6'!B24,'00 SP'!J:J)-SUMIF('00 SP'!A:A,B24,'00 SP'!K:K)-R24","v":0},10596621.5,null,{"$f":"SUMIF('00 SP'!A:A,'Tab 5-6'!D24,'00 SP'!L:L)","v":10596621.5},{"$f":"T24-V24","v":0},{"$f":"IF(W24=0,\"OK\",\"CTRL\")","v":"OK"}]
[null,null,null,null,"TOTALE IMMOBILIZZAZIONI MATERIALI",null,{"$f":"G5+G7+G9+G11+G13+G15+G17+G19+G21+G22+G24","v":289261963.84999996},0,0,{"$f":"J5+J7+J9+J11+J13+J15+J17+J19+J21+J22+J24","v":-186898646.58000001},{"$f":"K5+K7+K9+K11+K13+K15+K17+K19+K21+K22+K24","v":102363317.27000001},-66213,0,0,{"$f":"O5+O7+O9+O11+O13+O15+O17+O19+O21+O22+O24","v":5704764.7500000009},0,0,-15877.5,-10916751.719999999,{"$f":"T5+T7+T9+T11+T13+T15+T17+T19+T21+T22+T24","v":97069239.799999997}]
[]
[null,null,null,null,"di cui soggette a sterilizzazione",null,{"$f":"G6+G8+G10+G12+G14+G16+G18+G20+G23","v":207194305.10000002},0,0,-121743549.91999999,85450755.180000007,0,0,0,3632131.0100000007,0,0,0,-10916751.409999998,78166134.780000016]
[]
[]
[]
[null,null,null,null,"Nel corso dell'esercizio 2019 sono stati acquistati cespiti con contributi in c/esercizio per un valore complessivo di €. 1.554.862,26  Ai fini della contabilizzazione degli ammortamenti di tali beni, è stata data applicazione alla casistica applicativa del Titolo II del D. Lgs. n. 118/2011, Documento n. 1 \"La sterilizzazione degli ammortamenti\", allegata all'Intesa del 06/09/2013. "]
[]
[]
[null,null,null,null,"Tab. 6 – Dettaglio altre immobilizzazioni materiali "]
[null,null,null,null,"DETTAGLIO ALTRE IMMOBILIZZAZIONI MATERIALI",null,"Valore lordo","Fondo Amm.to","Valore netto"]
[]
[null,null,null,null,"Computer e macchinari elettronici",null,5771418.5199999996,5037692.03,{"$f":"G37-H37","v":733726.48999999929}]
[null,null,null,null,"Altri beni materiali",null,446913.1,418356.13,{"$f":"G38-H38","v":28556.969999999972}]
[null,null,null,null,"…"]
[null,null,null,null,"TOTALE",null,{"$f":"SUM(G37:G39)","v":6218331.6199999992},{"$f":"SUM(H37:H39)","v":5456048.1600000001},{"$f":"SUM(I37:I39)","v":762283.45999999926}]

{"sheet":"Tab 7","index":9,"n_rows":35,"n_cols":7,"rows_kept":35,"cut":false,"hidden":false,"merged":[[1,0,1,5],[2,0,3,0],[2,2,3,2],[2,3,2,6]]}
[]
["Tab. 7 – Dettaglio immobilizzazioni materiali in corso"]
["DETTAGLIO IMMOBILIZZAZIONI MATERIALI IN CORSO",null,"Tipologia finanziamento","MOVIMENTI DELL'ESERCIZIO"]
[null,null,null,"Valore \niniziale","Incrementi","Giroconti e Riclassifiche","Valore \nfinale"]
["Ristrutturazione   DSB Pescara SUD - Stanziati     €.1.291.142",null,"Art.20/88",359831,25813.13,null,{"$f":"D5+E5-F5","v":385644.13}]
["Ristrutturazione   DSB Pescara SUD ",null,"progetto obiettivo",149843.70000000001,612536.74,null,{"$f":"D6+E6-F6","v":762380.44}]
["Costruzione Canile Pubblico a Loreto Aprutino - stanziati € 309.874",null,"Regione ,Comune e ASL",6257,null,0,6257]
["Ristrutturazione consultotorio Familiare di Bussi- materno infantile-€ 154.937",null,"L.34/96",156569,null,null,156569]
["Ristrutturazione consultorio familiare di Bussi-materno infantile-€ 200.000",null,"C/Capitale",200000,1385.49,0,{"$f":"D9+E9-F9","v":201385.49}]
["Ristrutturazione consultorio familiare di Bussi-materno infantile-€ 150.000 dati dal comune",null,"Comune di Bussi",86644,0,0,86644]
["Ristrutturazione ex pediatria",null,"Art.20/88",3550729,0,null,3550729]
["Ristrutturazione ex pediatria",null,"progetto obiettivo",null,18814.740000000002,null,18814.740000000002]
["Ristrutturazione reparto di neonatologia",null,"Art.20/88",311022,0,0,311022]
["Adeguamento locali nuova allocazione Pronto soccorso P.O. di Pescara",null,"Art.20/88",761208,846900.18,null,1608108.1800000002]
["Adeguamento locali nuova allocazione Pronto soccorso P.O. di Pescara",null,"Fondi Propri",0,43810.17,null,43810.17]
["Riqualificazione P.O. di Penne",null,"Fondi Propri",565380,null,0,565380]
["Riqualificazione P.O. di Penne",null,"progetto obiettivo",188346,51086.45,null,239432.45]
["Adeguamento e messa a norma  nuovi locali di Scafa",null,"Art.20/88",95532,0,null,95532]
["Ristrutturazione DSB Montesilvano",null,"Art.20/88",125241,0,0,125241]
["Ristrutturazione DSB Montesilvano",null,"progetto obiettivo",306453,0,null,306453]
["Reingegnerizzazione P.O. Pescara",null,"Fondi Propri",203362,6524,null,209886]
["Lavori bòlocco parto Pescara",null,"C/Capitale",818309,0,0,818309]
["Riqualificazione Area Verde",null,"Fondi Propri",124571,0,0,124571]
["Lavori normativa antincendio",null,"C/Capitale",259710,122115.66,0,381825.66000000003]
["Risanam.igienico-sanitario oncologia P.O. Pescara",null,"Fondi Propri",71190.8,0,0,71190.8]
["Abbattim.barriere arch.sistemaz.a verdeed arredo urbano",null,"Fondi Propri",62198.27,0,0,62198.27]
["Lavori per servizio CEREBROPATIE POPOLI",null,"Fondi Propri",86889,0,0,86889]
["Lavoro di riqualificazione area esterna vecchio PO di Pescara",null,"progetto obiettivo",34702,0,0,34702]
["Prevenzione Palazzina G",null,"Fondi propri",0,25985.33,0,25985.33]
["DSB SCAFA",null,"progetto obiettivo",null,4015,null,4015]
["Centrale di sterilizzaziuone",null,"Fondi Propri",null,188434.76,null,188434.76]
["Terapia del dolore",null,"progetto obiettivo",null,22365.55,null,22365.55]
["TOTALE",null,null,{"$f":"SUM(D5:D32)","v":8523987.7699999996},{"$f":"SUM(E5:E32)","v":1969787.2},{"$f":"SUM(F5:F32)","v":0},{"$f":"SUM(G5:G32)","v":10493774.970000003}]
["Fatture relative a cespiti non ancora collaudati",null,null,66213,{"$f":"103225-378.1","v":102846.9},66213.399999999994,102846.5]
["TOTALE GENERALE",null,null,{"$f":"SUM(D33:D34)","v":8590200.7699999996},{"$f":"SUM(E33:E34)","v":2072634.0999999999},{"$f":"SUM(F33:F34)","v":66213.399999999994},{"$f":"SUM(G33:G34)","v":10596621.470000003}]

{"sheet":"Tab 7bis","index":10,"n_rows":73,"n_cols":9,"rows_kept":73,"cut":false,"hidden":false,"merged":[[57,0,57,5],[0,0,0,6],[2,0,2,4],[61,0,61,4]]}
["Di seguito si riporta il dettaglio della composizione delle manutenzioni incrementative su \"Immobilizzazioni in corso e acconti\":"]
[]
["Tab. 7 bis – Dettaglio manutenzioni incrementative su \"Immobilizzazioni in corso e acconti\"- fabbricati in costruzione"]
["Descrizione",null,"Codice Fornitore","Fornitore","Numero Fattura","Data Fattura","Importo"]
["DSB PE SUD",null,13330,"DI NICOLA ELVIRA","DG n. 100","2019-01-24",6800.63]
["DSB PE SUD",null,13361,"PUNGINELLI COSTRUZIONI SRL",1,"2019-01-28",19012.5]
["DSB PE SUD",null,19172,"L.G.P. COSTRUZIONI SRL","FPA1/2019","2019-07-01",320283.21000000002]
["DSB PE SUD",null,19172,"L.G.P. COSTRUZIONI SRL","FPA7/2019","2019-11-14",292253.53000000003]
["LAVORI PALAZZINA AMM.VA P.O. PENNE",null,5008954,"GEO SERVICE SAS",10,"2019-03-27",39123.39]
["LAVORI PALAZZINA AMM.VA P.O. PENNE",null,5008954,"GEO SERVICE SAS",11,"2019-04-15",3300]
["LAVORI PALAZZINA AMM.VA P.O. PENNE",null,5008954,"GEO SERVICE SAS",12,"2019-05-04",1143.06]
["LAVORI PALAZZINA AMM.VA P.O. PENNE",null,null,"Personale dipendente",null,null,7520]
["LAVORI PALAZZINA G RIABILITAZIONE",null,17422,"S2 SOC. DI SERVIZI PER L'EDILIZIA SRL","00311/A","2019-01-29",1362.9]
["LAVORI PALAZZINA G RIABILITAZIONE",null,17422,"S2 SOC. DI SERVIZI PER L'EDILIZIA SRL","00306/A","2019-01-29",1562]
["LAVORI PALAZZINA G RIABILITAZIONE",null,17422,"S2 SOC. DI SERVIZI PER L'EDILIZIA SRL","00631/A","2019-02-25",5940]
["LAVORI PALAZZINA G RIABILITAZIONE",null,17422,"S2 SOC. DI SERVIZI PER L'EDILIZIA SRL","01615/A","2019-05-14",6605.37]
["LAVORI PALAZZINA G RIABILITAZIONE",null,17422,"S2 SOC. DI SERVIZI PER L'EDILIZIA SRL","01616/A","2019-05-14",1630.34]
["LAVORI PALAZZINA G RIABILITAZIONE",null,17422,"S2 SOC. DI SERVIZI PER L'EDILIZIA SRL","01915/A","2019-06-03",1625.72]
["LAVORI PALAZZINA G RIABILITAZIONE",null,17422,"S2 SOC. DI SERVIZI PER L'EDILIZIA SRL","02177/A","2019-06-28",7259]
["LAVORI PRONTO SOCCORSO P.O. PESCARA",null,18227,"AR.CO. LAVORI S.C.C.","4133/2019/D","2019-09-23",739640]
["LAVORI PRONTO SOCCORSO P.O. PESCARA",null,18227,"AR.CO. LAVORI S.C.C.","5679/2019/D","2019-11-29",21033.24]
["LAVORI PRONTO SOCCORSO P.O. PESCARA",null,18366,"COZZOLINO CIRO",18,"2018-12-31",10447.34]
["LAVORI PRONTO SOCCORSO P.O. PESCARA",null,18366,"COZZOLINO CIRO","FATTPA 2_19","2019-09-22",46578.66]
["LAVORI PRONTO SOCCORSO P.O. PESCARA",null,18366,"COZZOLINO CIRO","FATTPA 3_19","2019-11-01",11904.55]
["LAVORI PRONTO SOCCORSO P.O. PESCARA",null,18366,"COZZOLINO CIRO","FATTPA 4_19","2019-11-27",17296.39]
["LAVORI PRONTO SOCCORSO P.O. PESCARA",null,3200,"CPL CONCORDIA SOC.COOP.",19014373,"2019-10-14",18422.8]
["LAVORI PRONTO SOCCORSO P.O. PESCARA",null,19791,"ITEM OXYGEN S.R.L.","3/578","2019-12-09",13615.2]
["LAVORI PRONTO SOCCORSO P.O. PESCARA",null,18366,"COZZOLINO CIRO","FATTPA 1_19","2019-08-08",3172]
["LAVORI PRONTO SOCCORSO P.O. PESCARA",null,18385,"SICURCANTIERI CO.SRL","FATTPA 1_19","2019-01-31",1244.33]
["LAVORI PRONTO SOCCORSO P.O. PESCARA",null,18385,"SICURCANTIERI CO.SRL","FATTPA 4_19","2019-09-30",5623.6]
["LAVORI PRONTO SOCCORSO P.O. PESCARA",null,5011249,"DI FELICE ANNALIA","3/FE","2019-06-19",1732.24]
["NORMATIVA ANTIINCENDIO",null,16978,"SACIM SYSTEMS","FATTPA 1_19","2019-05-11",52984.05]
["NORMATIVA ANTIINCENDIO",null,16978,"SACIM SYSTEMS","FATTPA 2_19","2019-05-31",14984.08]
["NORMATIVA ANTIINCENDIO",null,16978,"SACIM SYSTEMS","FATTPA 4_19","2019-12-06",31550.43]
["NORMATIVA ANTIINCENDIO",null,16978,"SACIM SYSTEMS","FATTPA 5_19","2019-12-07",31550.43]
["NORMATIVA ANTIINCENDIO",null,16978,"SACIM SYSTEMS","FATTPA 6_19","2019-12-09",-31550.43]
["NORMATIVA ANTIINCENDIO",null,18017,"RAINIERO","FATTPA 3_17         ","2017-08-03",3806.4]
["NORMATIVA ANTIINCENDIO",null,18017,"RAINIERO","FATTPA 4_17         ","2017-08-08",3329.75]
["NORMATIVA ANTIINCENDIO",null,18017,"RAINIERO","FATTPA 2_18         ","2018-08-03",3045.12]
["NORMATIVA ANTIINCENDIO",null,18017,"RAINIERO","FATTPA 3_18         ","2018-08-03",3329.75]
["NORMATIVA ANTIINCENDIO",null,18017,"RAINIERO",4,"2019-02-25",1268.8]
["NORMATIVA ANTIINCENDIO",null,18017,"RAINIERO",18,"2019-09-10",7817.28]
["CONSULTORIO BUSSI",null,13276,"IECOM SRL",26,"2019-04-19",1385.49]
["RISSTRUTTURAZ.P.O.PE REIGENERIZZAZIONE",null,1311,"A. MANZONI A.& C. S.P.A.","AMC100006573272019","2019-06-30",244.98]
["RISSTRUTTURAZ.P.O.PE REIGENERIZZAZIONE",null,1311,"A. MANZONI A.& C. S.P.A.","AMC100006595622019","2019-08-31",1594.17]
["RISSTRUTTURAZ.P.O.PE REIGENERIZZAZIONE",null,19189,"GOODEA SRL","1020/A","2019-05-28",1744.84]
["RISSTRUTTURAZ.P.O.PE REIGENERIZZAZIONE",null,19189,"GOODEA SRL","1400/A","2019-07-15",1744.84]
["RISSTRUTTURAZ.P.O.PE REIGENERIZZAZIONE",null,1314,"IL SOLE 24 ORE S.P.A.",3410000546,"2019-06-13",488]
["RISSTRUTTURAZ.P.O.PE REIGENERIZZAZIONE",null,1313,"PIEMME SPA CONCESSIONARIA DI PUBBLICITA","VE0017502019","2019-06-30",488]
["RISSTRUTTURAZ.P.O.PE REIGENERIZZAZIONE",null,1313,"PIEMME SPA CONCESSIONARIA DI PUBBLICITA","VE0022012019","2019-07-31",219.6]
["CENTRALE STERELIZZAZIONE",null,16335,"C.N.S.","V5/0017495","2019-05-24",46848]
["CENTRALE STERELIZZAZIONE",null,18549,"SORGENTONE COSTRUZIONI S.N.C.","49/2019/IMM","2019-09-16",34433.9]
["CENTRALE STERELIZZAZIONE",null,16574,"ELETTROIDRAULICA SILVI S.R.L",98,"2019-09-16",107152.86]
["TERAPIA DEL DOLORE",null,14965,"GRIFONE DARIO INGEGNERE","0005426/19","2019-01-15",4473.12]
["TERAPIA DEL DOLORE",null,14965,"GRIFONE DARIO INGEGNERE","0081834/19","2019-06-21",17892.43]
["MATERNO INFANTILE",null,18935,"AL AYOUB IMAD",1,"2019-01-23",18814.740000000002]
["DSB SCAFA",null,5011331,"EDILMA DI FRATTAROLA MAURO","18/2019","2019-02-12",4015]
["TOTALE",null,null,null,null,null,{"$f":"SUM(G5:G57)","v":1969787.6300000006}]
[]
[]
[]
["Tab. 7 ter – Dettaglio manutenzioni incrementative su \"Immobilizzazioni in corso e acconti\" - attrezzature da collaudare",null,null,null,null,null,null,null,{"$f":"SUM(I60:I61)","v":0}]
["CONDIZIONATORI N.10 UNICO",null,16427,"MR SERVICE     ","128/PA-2019         ","2019-03-18",11608.3]
["CONDIZIONATORI N.40 BEKO",null,17467,"NEON TOMA ILLUMINAZIONE SRL","2019/V9/6900037     ","2019-03-30",13981.2]
["CONDIZIONATORI N.10 MONOSPLIT SPLENDID",null,18009,"LAITECH SRL    ","FPA 146/19          ","2019-04-30",9490.3799999999992]
["CONDIZIONATORI N.25 DAITSU",null,16427,"MR SERVICE     ","291/PA-2019         ","2019-06-21",8607.1]
["CONDIZIONATORI N.20UNICO SMART",null,19303,"STRANO S.P.A.  ",60000151,"2019-06-30",21203.599999999999]
["CONDIZIONATORI N.17 BEKO",null,17467,"NEON TOMA ILLUMINAZIONE SRL","2019/V9/6900103     ","2019-09-30",5869.42]
["CONGELATORE",null,1271,"M.P.I.M. S.R.L.","3/179               ","2019-11-29",12688]
["TRANSPALLET  - NC DA RICEVERE 1-2020-9171",null,4790,"FAI EUROPE S.R.L.","00002/PA","2020-02-26",-378]
["TRANSPALLET  ",null,4790,"FAI EUROPE S.R.L.","000020/PA           ","2019-12-20",378.2]
["GRUPPO CONTINUITA'",null,19466,"SIRTA S.R.L.   ","371/2019            ","2019-12-11",19398]
[null,null,null,null,null,"TOTALE",{"$f":"SUM(G63:G72)","v":102846.2}]

{"sheet":"Tab 7ter ","index":11,"n_rows":23,"n_cols":7,"rows_kept":23,"cut":false,"hidden":false,"merged":[[22,0,22,5],[1,0,1,6],[3,0,3,4],[11,0,11,5],[16,0,16,6],[18,0,18,4]]}
[]
[","]
[]
["Tab. 7 ter ( bis) – Dettaglio manutenzioni incrementative su \"Fabbricati strumentali (indisponibili)\""]
["Descrizione",null,"Codice Fornitore","Denominazione Fornitore","Numero Fattura","Data Fattura","Importo"]
[]
[]
[]
[]
[]
[]
["TOTALE",null,null,null,null,null,{"$f":"SUM(G6:G11)","v":0}]
[]
[]
[]
[]
["Di seguito si riporta il dettaglio della composizione delle manutenzioni incrementative su \"impianti\":"]
[]
["Tab. 7 ter ( bis) – Dettaglio manutenzioni incrementative su \"Impianti\""]
["Descrizione",null,"Codice Fornitore","Denominazione Fornitore","Numero Fattura","Data Fattura","Importo"]
[0,null,0,0,0,0,0]
[0,null,0,0,0,0,0]
[0,null,null,null,null,null,{"$f":"SUM(G21:G22)","v":0}]

{"sheet":"Tab 7ter  (2)","index":12,"n_rows":8,"n_cols":7,"rows_kept":8,"cut":false,"hidden":false,"merged":[[1,0,1,6],[3,0,3,4],[7,0,7,5]]}
[]
["Di seguito si riporta il dettaglio della composizione delle manutenzioni incrementative su \"impianti\":"]
[]
["Tab. 7 ter ( bis) – Dettaglio manutenzioni incrementative su \"Impianti\""]
["Descrizione",null,"Codice Fornitore","Denominazione Fornitore","Numero Fattura","Data Fattura","Importo"]
[0,null,0,0,0,0,0]
[0,null,0,0,0,0,0]
[0,null,null,null,null,null,{"$f":"SUM(G6:G7)","v":0}]

{"sheet":"Tab 7quater","index":13,"n_rows":61,"n_cols":5,"rows_kept":61,"cut":false,"hidden":false,"merged":[[46,0,46,1],[52,0,52,3],[45,0,45,1],[24,0,27,0],[24,1,27,1],[28,0,28,1],[33,0,33,1],[34,0,36,0],[34,1,36,1],[37,0,37,1],[38,0,38,1],[39,0,39,1],[40,0,44,0],[40,1,44,1],[29,1,32,1],[29,0,32,0],[23,0,23,1],[7,0,9,0],[7,1,9,1],[10,0,10,1],[11,0,12,0],[11,1,12,1],[13,0,13,1],[14,0,17,0],[14,1,17,1],[18,0,18,1],[19,0,22,0],[19,1,22,1],[1,0,1,5],[3,0,3,3],[5,0,6,0],[5,1,6,1],[5,2,6,2],[5,3,6,3]]}
[]
["Di seguito si riporta il dettaglio degli acquisti di immobilizzazioni effettuati nel corso dell'esercizio 2019, con indicazione delle relative fonti di finanziamento. "]
[]
["Tab. 7 quater – Dettaglio degli acquisti di immobilizzazioni"]
[]
["CODICE MOD. SP","DESCRIZIONE","IMPORTO","FONTE DI FINANZIAMENTO"]
[]
["AAA130","immobilizzazioni immateria",0,"Donazioni","d"]
[null,null,40275.03,"Fondi propri","f"]
[null,null,25352.86,"Fondi propri","f"]
["TOTALE ACQUISTI IMMOBILIZZAZIONI IMMATERIALI",null,{"$f":"SUM(C8:C10)","v":65627.89}]
["AAA350","FABBRICATI",0,"Donazioni"]
[null,null,0,"Fondi propri","f"]
["TOTALE ACQUISTI FABBRICATI STRUMENTALI",null,{"$f":"SUM(C12:C13)","v":0}]
["AAA380","Impianti e macchinari",0,"Donazioni","d"]
[null,null,334173.49,"Fondi propri","f"]
[null,null,0,"Contributi in c/capitale","c"]
[null,null,98008.24,"Fondi propri","f"]
["TOTALE ACQUISTI MACCHINARI GENERICI",null,{"$f":"SUM(C15:C18)","v":432181.73}]
["AAA410","Attrezzature sanitarie e scientifiche",{"$f":"56666.56+252288.52","v":308955.07999999996},"Fondi propri","f"]
[null,null,252906.79,"Contributi in c/capitale","c"]
[null,null,296357.03999999998,"Donazioni","d"]
[null,null,1258662,"Fondi propri","f"]
["TOTALE ACQUISTI ATTREZZATURE",null,{"$f":"SUM(C20:C23)","v":2116880.91}]
["AAA440","Mobili e arredi",15906.77,"Donazioni","d"]
[null,null,{"$f":"78537.23+9999.49","v":88536.72},"Fondi propri","f"]
[null,null,3660,"Contributi in c/capitale","c"]
[null,null,117932.3,"Fondi propri","f"]
["TOTALE ACQUISTI MOBILI E ARREDI",null,{"$f":"SUM(C25:C28)","v":226035.79}]
["AAA470","Automezzi",0,"Donazioni","d"]
[null,null,429708.9,"Contributi in c/capitale","c"]
[null,null,{"$f":"39204.19+23822.89","v":63027.08},"Fondi propri","f"]
[null,null,0,"Fondi propri","f"]
["TOTALE AUTOMEZZI",null,{"$f":"SUM(C30:C33)","v":492735.98000000004}]
["AAA510","Altre immobilizzazioni materiali",2145,"Donazioni","d"]
[null,null,{"$f":"211304+95940.79","v":307244.78999999998},"Fondi propri","f"]
[null,null,54906.86,"Fondi propri","f"]
["TOTALE ALTRE IMMOBILIZZAZIONI",null,{"$f":"SUM(C35:C37)","v":364296.64999999997}]
["TOTALE IMMOBILIZZAZIONI MATERIALI ",null,{"$f":"C14+C19+C24+C29+C34+C38","v":3632131.06}]
["TOTALE IMMOBILIZZAZIONI MATERIALI ED IMMATERIALI",null,{"$f":"C39+C11","v":3697758.95}]
["AAA540","Immobilizzazioni materiali in corso e acconti",{"$f":"1385+122116","v":123501},"Contributi in c/capitale","c"]
[null,null,872713,"Finanziamenti ex art. 20","a20"]
[null,null,708818,"Progetto Obiettivo","po"]
[null,null,0,"Donazioni","d"]
[null,null,{"$f":"264756+102846","v":367602},"Fondi propri","f"]
["TOTALE IMMOBILIZZAZIONI MATERIALI IN CORSO",null,{"$f":"SUM(C41:C45)","v":2072634}]
["TOTALE GENERALE",null,{"$f":"C14+C19+C24+C29+C34+C38+C46+C11","v":5770392.9500000002}]
[]
[]
[]
[]
[]
["RIEPILOGO PER FONTE DI FINANZIAMENTO"]
[]
[]
[null,"Contributi in c/capitale",{"$f":"C21+C41+C17+C27+C31","v":809776.69000000006}]
[null,"Finanziamenti ex art. 20",{"$f":"C42","v":872713}]
[null,"Donazioni",{"$f":"C15+C22+C25+C35+C30+C12+C8","v":314408.81}]
[null,"Progetti obiettivo",{"$f":"C43","v":708818}]
[null,"Fondi propri",{"$f":"C9+C10+C13+C16+C18+C20+C23+C26+C28+C32+C33+C36+C37+C45","v":3064676.4499999997}]
[null,"TOTALE GENERALE",{"$f":"SUM(C56:C60)","v":5770392.9499999993}]

{"sheet":"IMM01-IMM14","index":14,"n_rows":55,"n_cols":7,"rows_kept":55,"cut":false,"hidden":false,"merged":[[54,0,54,3],[49,0,49,3],[50,0,50,3],[51,0,51,3],[52,0,52,3],[53,0,53,3],[34,1,34,6],[38,1,38,6],[1,1,1,6],[12,1,12,6],[48,0,48,3],[48,4,48,5],[47,0,47,5],[25,1,25,6],[42,1,42,6],[31,1,31,6],[45,1,45,6]]}
["IMM01 - Aliquote di ammortamento immobilizzazioni immateriali."]
["IMM01 - NO","Per le immobilizzazioni immateriali, non ci si è avvalsi della facoltà di adottare aliquote di ammortamento superiori a quelle indicate nel D. Lgs. 118/2011 e s.m.i., nonché dai successivi decreti ministeriali di attuazione."]
[]
[]
[null,"Immobilizzazioni Immateriali","Aliquota indicata nel D. Lgs. 118/2011","Aliquota utilizzata dall'azienda"]
[null," Costi d'impianto e di ampliamento",0.2,0.2]
[null," Costi di ricerca e sviluppo",0.2,0.2]
[null," Diritti di brevetto e diritti di utilizzazione delle opere d'ingegno",0.2,0.2]
[null," Concessioni, licenze, marchi e diritti simili",0.2,0.2]
[null,"Altre immobilizzazioni immateriali",0.2,0.2]
[]
["IMM02 - Aliquote di ammortamento immobilizzazioni materiali."]
["IMM02 - NO","Per le immobilizzazioni materiali, non ci si è avvalsi della facoltà di adottare aliquote di ammortamento superiori a quelle indicate nel D. Lgs. 118/2011 e s.m.i., nonché dai successivi decreti ministeriali di attuazione."]
[]
[null,"Immobilizzazioni materiali","Aliquota indicata nel D. Lgs. 118/2011","Aliquota utilizzata dall'azienda"]
[null,"Fabbricati",0.03,0.03]
[null,"Impianti e macchinari",0.125,0.125]
[null,"Impianti e macchinari-Audiovisivi",0.2,0.2]
[null,"Impianti inseriti stabilmente nel fabbricato",0.03,0.03]
[null,"Attrezzature Sanitarie e scientifiche",0.2,0.2]
[null,"Mobili e arredi",0.125,0.125]
[null,"Automezzi",0.25,0.25]
[null,"Altri Beni Materiali",0.2,0.2]
[]
["IMM03 - Eventuale ammortamento dimezzato per i cespiti acquistati nell'anno."]
["IMM03 - NO","Per i cespiti acquistati nell'anno, l'aliquota di ammortamento è stata analiticamente commisurata al periodo intercorso tra (i) il momento in cui il bene è divenuto disponibile e pronto per l'uso e (ii)  il 31/12. "]
[]
[]
[]
[]
["IMM04 - Eventuale ammortamento integrale."]
["IMM04 - NO","Per i cespiti di valore inferiore a € 516,46, non ci si è avvalsi della facoltà di ammortizzare integralmente il bene nell'esercizio in cui il bene è diventato disponibile e pronto per l'uso. "]
[]
["IMM05 - Svalutazioni."]
["IMM05 - NO","Nel corso dell'esercizio non sono state effettuate svalutazioni di immobilizzazioni materiali e/o immateriali."]
[]
[]
["IMM06 - Rivalutazioni."]
["IMM06 - NO","Nel corso dell'esercizio non sono state effettuate rivalutazioni di immobilizzazioni materiali e/o immateriali."]
[]
[]
["IMM07 - Incrementi delle immobilizzazioni per lavori interni."]
["IMM07 - NO","Nel corso dell'esercizio non si sono effettuate capitalizzazioni di costi (la voce CE \"Incrementi delle immobilizzazioni per lavori interni\" è pari a zero)."]
[]
["IMM08 - Oneri finanziari capitalizzati"]
["IMM08 - NO","Nel corso dell'esercizio non si sono capitalizzati oneri finanziari."]
[]
["Altre informazioni relative alle immobilizzazioni materiali e immateriali"]
["Informazione",null,null,null,"Caso presente in azienda?",null,"Se sì, illustrare"]
["IMM09 - Gravami. Sulle immobilizzazionidell'azienda vi sono gravami quali ipoteche, privilegi, pegni, pignoramenti, ecc.?",null,null,null,null,"NO"]
["IMM10 - Immobilizzazioni in contenzioso iscritte in bilancio. Sulle immobilizzazioni iscritte in bilancio sono in corso contenziosin con altre aziende sanitarie, con altri enti pubblici o con enti privati?",null,null,null,null,"NO"]
["IMM11 - Immobilizzazioni in contenzioso  non iscritte in bilancio. Esistono immobilizzazioni non iscritte nello stato patrimoniale perché non riconosciute come proprietà dell'azienda in seguito a contenziosi in corso con altre aziende sanitarie, con altri enti pubblici o con soggetti privati?",null,null,null,null,"NO"]
["IMM12 - Eventuali impegni significativi assunti con fornitori per l'acquisizione di immobilizzazioni materiali. Esistono impegni già assunti, ma non ancora tradottisi in debiti? (SE SI, ILLUSTRARE L'AMMONTARE PER SINGOLO IMPEGNO)",null,null,null,null,"NO"]
["IMM13 - Immobilizzazioni destinate alla vendita. Esistono immobilizzazioni destinate alla vendita con apposito atto deliberativo aziendale?",null,null,null,null,"NO"]
["IMM14 - Altro. Esistono altre informazioni che si ritiene necessario fornire per soddisfare la regola generale secondo cui \"Se le informazioni richieste da specifiche disposizioni di legge non sono sufficienti a dare una rappresentazione veritiera e corretta, si devono fornire le informazioni complementari necessarie allo scopo\" (art. 2423 cc)?",null,null,null,"SI",null,"L'azienda è provvista di un libro cespiti aggiornato"]

{"sheet":"Tab 8-9-10-11-12-13-14","index":15,"n_rows":75,"n_cols":19,"rows_kept":75,"cut":false,"hidden":false,"merged":[[67,9,67,14],[44,2,45,2],[44,3,45,3],[44,5,45,5],[44,6,44,8],[44,9,44,14],[57,3,57,8],[67,3,68,3],[67,5,68,5],[67,6,67,8],[13,7,14,7],[13,2,14,2],[13,3,14,3],[13,5,14,5],[13,6,14,6],[39,2,39,14],[0,2,0,3],[2,3,2,8],[13,8,14,8],[22,2,23,2],[22,3,23,3],[22,5,22,9],[3,8,4,8],[3,2,4,2],[3,3,4,3],[3,5,4,5],[3,6,4,6],[3,7,4,7],[31,2,32,2],[31,3,32,3],[31,5,31,7]]}
[null,null,"4.5     Immobilizzazioni finanziarie"]
[]
[null,null,null,"Tab. 8 – Movimentazione dei crediti finanziari"]
[null,null,"CODICE MOD. SP","CREDITI FINANZIARI\n(VALORE NOMINALE)",null,"Valore iniziale","Incrementi","Decrementi","Valore finale"]
[]
[{"$f":"C6&\"CR\"","v":"AAA660CR"},{"$f":"C6&\"CR\"","v":"AAA660CR"},"AAA660"," Crediti finanziari v/Stato",null,{"$f":"SUMIF('00 PDC SP'!$A:$A,'Tab 8-9-10-11-12-13-14'!$A6,'00 PDC SP'!K:K)","v":0},{"$f":"SUMIF('00 PDC SP'!$A:$A,'Tab 8-9-10-11-12-13-14'!$A6,'00 PDC SP'!L:L)+SUMIF('00 PDC SP'!$A:$A,'Tab 8-9-10-11-12-13-14'!$B6,'00 PDC SP'!L:L)","v":0},{"$f":"SUMIF('00 PDC SP'!$A:$A,'Tab 8-9-10-11-12-13-14'!$A6,'00 PDC SP'!M:M)+SUMIF('00 PDC SP'!$A:$A,'Tab 8-9-10-11-12-13-14'!$B6,'00 PDC SP'!M:M)","v":0},{"$f":"F6+G6-H6","v":0}]
[{"$f":"C7&\"CR\"","v":"AAA670CR"},{"$f":"C7&\"CR\"","v":"AAA670CR"},"AAA670"," Crediti finanziari v/Regione",null,{"$f":"SUMIF('00 PDC SP'!$A:$A,'Tab 8-9-10-11-12-13-14'!$A7,'00 PDC SP'!K:K)","v":0},{"$f":"SUMIF('00 PDC SP'!$A:$A,'Tab 8-9-10-11-12-13-14'!$A7,'00 PDC SP'!L:L)+SUMIF('00 PDC SP'!$A:$A,'Tab 8-9-10-11-12-13-14'!$B7,'00 PDC SP'!L:L)","v":0},{"$f":"SUMIF('00 PDC SP'!$A:$A,'Tab 8-9-10-11-12-13-14'!$A7,'00 PDC SP'!M:M)+SUMIF('00 PDC SP'!$A:$A,'Tab 8-9-10-11-12-13-14'!$B7,'00 PDC SP'!M:M)","v":0},{"$f":"F7+G7-H7","v":0}]
["AAA680CR",{"$f":"C8&\"CR\"","v":"AAA680CR"},"AAA680"," Crediti finanziari v/partecipate:",null,{"$f":"SUMIF('00 PDC SP'!$A:$A,'Tab 8-9-10-11-12-13-14'!$A8,'00 PDC SP'!K:K)","v":0},{"$f":"SUMIF('00 PDC SP'!$A:$A,'Tab 8-9-10-11-12-13-14'!$A8,'00 PDC SP'!L:L)+SUMIF('00 PDC SP'!$A:$A,'Tab 8-9-10-11-12-13-14'!$B8,'00 PDC SP'!L:L)","v":0},{"$f":"SUMIF('00 PDC SP'!$A:$A,'Tab 8-9-10-11-12-13-14'!$A8,'00 PDC SP'!M:M)+SUMIF('00 PDC SP'!$A:$A,'Tab 8-9-10-11-12-13-14'!$B8,'00 PDC SP'!M:M)","v":0},0]
["AAA690CR",{"$f":"C9&\"CR\"","v":"AAA690CR"},"AAA690"," Crediti finanziari v/altri:",null,14036.45,0,{"$f":"SUMIF('00 PDC SP'!$A:$A,'Tab 8-9-10-11-12-13-14'!$A9,'00 PDC SP'!M:M)+SUMIF('00 PDC SP'!$A:$A,'Tab 8-9-10-11-12-13-14'!$B9,'00 PDC SP'!M:M)","v":0},14036.45]
[null,null,null,null,null,{"$f":"SUMIF('00 PDC SP'!$A:$A,'Tab 8-9-10-11-12-13-14'!$A10,'00 PDC SP'!K:K)","v":0},{"$f":"SUMIF('00 PDC SP'!$A:$A,'Tab 8-9-10-11-12-13-14'!$A10,'00 PDC SP'!L:L)+SUMIF('00 PDC SP'!$A:$A,'Tab 8-9-10-11-12-13-14'!$B10,'00 PDC SP'!L:L)","v":0},{"$f":"SUMIF('00 PDC SP'!$A:$A,'Tab 8-9-10-11-12-13-14'!$A10,'00 PDC SP'!M:M)+SUMIF('00 PDC SP'!$A:$A,'Tab 8-9-10-11-12-13-14'!$B10,'00 PDC SP'!M:M)","v":0},0]
[null,null,null,"TOTALE CREDITI FINANZIARI",null,{"$f":"SUM(F6:F9)","v":14036.45},{"$f":"SUM(G6:G9)","v":0},{"$f":"SUM(H6:H9)","v":0},{"$f":"SUM(I6:I9)","v":14036.45}]
[]
[null,null,null,"Tab. 9 – Movimentazione del fondo svalutazione dei crediti finanziari"]
[null,null,"CODICE MOD. SP","CREDITI FINANZIARI\n(FONDO SVALUTAZIONE)",null,"Fondo svalutaz. iniziale","Accanton.ti","Utilizzi","Fondo svalutaz.  finale"]
[]
[null,{"$f":"C16&\"FS\"","v":"AAA660FS"},"AAA660"," Crediti finanziari v/Stato",null,{"$f":"SUMIF('00 PDC SP'!$A:$A,'Tab 8-9-10-11-12-13-14'!$B16,'00 PDC SP'!K:K)","v":0},{"$f":"SUMIF('00 PDC SP'!$A:$A,'Tab 8-9-10-11-12-13-14'!$B16,'00 PDC SP'!L:L)","v":0},{"$f":"SUMIF('00 PDC SP'!$A:$A,'Tab 8-9-10-11-12-13-14'!$B16,'00 PDC SP'!M:M)","v":0},{"$f":"F16+G16-H16","v":0}]
[null,{"$f":"C17&\"FS\"","v":"AAA670FS"},"AAA670"," Crediti finanziari v/Regione",null,{"$f":"SUMIF('00 PDC SP'!$A:$A,'Tab 8-9-10-11-12-13-14'!$B17,'00 PDC SP'!K:K)","v":0},{"$f":"SUMIF('00 PDC SP'!$A:$A,'Tab 8-9-10-11-12-13-14'!$B17,'00 PDC SP'!L:L)","v":0},{"$f":"SUMIF('00 PDC SP'!$A:$A,'Tab 8-9-10-11-12-13-14'!$B17,'00 PDC SP'!M:M)","v":0},{"$f":"SUMIF('00 PDC SP'!$A:$A,'Tab 8-9-10-11-12-13-14'!$B17,'00 PDC SP'!N:N)","v":0}]
[null,{"$f":"C18&\"FS\"","v":"AAA680FS"},"AAA680"," Crediti finanziari v/partecipate:",null,{"$f":"SUMIF('00 PDC SP'!$A:$A,'Tab 8-9-10-11-12-13-14'!$B18,'00 PDC SP'!K:K)","v":0},{"$f":"SUMIF('00 PDC SP'!$A:$A,'Tab 8-9-10-11-12-13-14'!$B18,'00 PDC SP'!L:L)","v":0},{"$f":"SUMIF('00 PDC SP'!$A:$A,'Tab 8-9-10-11-12-13-14'!$B18,'00 PDC SP'!M:M)","v":0},{"$f":"SUMIF('00 PDC SP'!$A:$A,'Tab 8-9-10-11-12-13-14'!$B18,'00 PDC SP'!N:N)","v":0}]
[null,{"$f":"C19&\"FS\"","v":"AAA690FS"},"AAA690"," Crediti finanziari v/altri:",null,{"$f":"SUMIF('00 PDC SP'!$A:$A,'Tab 8-9-10-11-12-13-14'!$B19,'00 PDC SP'!K:K)","v":0},{"$f":"SUMIF('00 PDC SP'!$A:$A,'Tab 8-9-10-11-12-13-14'!$B19,'00 PDC SP'!L:L)","v":0},{"$f":"SUMIF('00 PDC SP'!$A:$A,'Tab 8-9-10-11-12-13-14'!$B19,'00 PDC SP'!M:M)","v":0},{"$f":"SUMIF('00 PDC SP'!$A:$A,'Tab 8-9-10-11-12-13-14'!$B19,'00 PDC SP'!N:N)","v":0}]
[null,null,null,"TOTALE CREDITI FINANZIARI",null,{"$f":"SUM(F16:F19)","v":0},{"$f":"SUM(G16:G19)","v":0},{"$f":"SUM(H16:H19)","v":0},{"$f":"SUM(I16:I19)","v":0}]
[]
[null,null,null,"Tab. 10 – Valore nominale dei crediti finanziari distinti per anno di formazione"]
[null,null,"CODICE MOD. SP","CREDITI FINANZIARI",null,{"$f":"\"VALORE NOMINALE DEI CREDITI AL 31/12/\" & '00 PDC SP'!$F$2 & \" PER ANNO DI FORMAZIONE\"","v":"VALORE NOMINALE DEI CREDITI AL 31/12/2019 PER ANNO DI FORMAZIONE"}]
[null,null,null,null,null,{"$f":"\"Anno \" & '00 PDC SP'!$F$2-4 & \" e precedenti\"","v":"Anno 2015 e precedenti"},{"$f":"\"Anno \" & '00 PDC SP'!$F$2-3","v":"Anno 2016"},{"$f":"\"Anno \" & '00 PDC SP'!$F$2-2","v":"Anno 2017"},{"$f":"\"Anno \" & '00 PDC SP'!$F$2 -1","v":"Anno 2018"},{"$f":"\"Anno \" & '00 PDC SP'!$F$2","v":"Anno 2019"},null,null,null,null,null,null,"Valore SP","Diff","Ctrl"]
[null,null,"AAA660"," Crediti finanziari v/Stato",null,0,0,0,0,0,null,null,null,null,null,null,{"$f":"SUMIF('00 SP'!A:A,'Tab 8-9-10-11-12-13-14'!C25,'00 SP'!L:L)","v":0},{"$f":"(F25+G25+H25+I25+J25)-Q25","v":0},{"$f":"IF(R25=0,\"OK\",\"CTRL\")","v":"OK"}]
[null,null,"AAA670"," Crediti finanziari v/Regione",null,0,0,0,0,0,null,null,null,null,null,null,{"$f":"SUMIF('00 SP'!A:A,'Tab 8-9-10-11-12-13-14'!C26,'00 SP'!L:L)","v":0},{"$f":"(F26+G26+H26+I26+J26)-Q26","v":0},{"$f":"IF(R26=0,\"OK\",\"CTRL\")","v":"OK"}]
[null,null,"AAA680"," Crediti finanziari v/partecipate:",null,0,0,0,0,0,null,null,null,null,null,null,{"$f":"SUMIF('00 SP'!A:A,'Tab 8-9-10-11-12-13-14'!C27,'00 SP'!L:L)","v":0},{"$f":"(F27+G27+H27+I27+J27)-Q27","v":0},{"$f":"IF(R27=0,\"OK\",\"CTRL\")","v":"OK"}]
[null,null,"AAA690"," Crediti finanziari v/altri:",null,12379.7,0,1656.75,null,0,null,null,null,null,null,null,{"$f":"SUMIF('00 SP'!A:A,'Tab 8-9-10-11-12-13-14'!C28,'00 SP'!L:L)","v":14036.45},{"$f":"(F28+G28+H28+I28+J28)-Q28","v":0},{"$f":"IF(R28=0,\"OK\",\"CTRL\")","v":"OK"}]
[null,null,null,"TOTALE CREDITI FINANZIARI",null,{"$f":"SUM(F25:F28)","v":12379.7},{"$f":"SUM(G25:G28)","v":0},1656.75,0,0]
[]
[null,null,null,"Tab. 11 – Valore netto dei crediti finanziari distinti per scadenza"]
[null,null,"CODICE MOD. SP","CREDITI FINANZIARI",null,{"$f":"\"VALORE NETTO DEI CREDITI AL 31/12/\" & '00 PDC SP'!$F$2 & \" PER SCADENZA\"","v":"VALORE NETTO DEI CREDITI AL 31/12/2019 PER SCADENZA"}]
[null,null,null,null,null,"Entro\n12 mesi","Tra 1 e 5 anni","Oltre\n5 anni",null,null,null,null,null,null,null,null,"Valore SP","Diff","Ctrl"]
[null,null,"AAA660"," Crediti finanziari v/Stato",null,0,0,0,null,null,null,null,null,null,null,null,{"$f":"SUMIF('00 SP'!A:A,'Tab 8-9-10-11-12-13-14'!C34,'00 SP'!L:L)","v":0},{"$f":"(F34+G34+H34)-Q34","v":0},{"$f":"IF(R34=0,\"OK\",\"CTRL\")","v":"OK"}]
[null,null,"AAA670"," Crediti finanziari v/Regione",null,0,0,0,null,null,null,null,null,null,null,null,{"$f":"SUMIF('00 SP'!A:A,'Tab 8-9-10-11-12-13-14'!C35,'00 SP'!L:L)","v":0},{"$f":"(F35+G35+H35)-Q35","v":0},{"$f":"IF(R35=0,\"OK\",\"CTRL\")","v":"OK"}]
[null,null,"AAA680"," Crediti finanziari v/partecipate:",null,0,0,0,null,null,null,null,null,null,null,null,{"$f":"SUMIF('00 SP'!A:A,'Tab 8-9-10-11-12-13-14'!C36,'00 SP'!L:L)","v":0},{"$f":"(F36+G36+H36)-Q36","v":0},{"$f":"IF(R36=0,\"OK\",\"CTRL\")","v":"OK"}]
[null,null,"AAA690"," Crediti finanziari v/altri:",null,0,0,{"$f":"12379.7+1656.75","v":14036.45},null,null,null,null,null,null,null,null,{"$f":"SUMIF('00 SP'!A:A,'Tab 8-9-10-11-12-13-14'!C37,'00 SP'!L:L)","v":14036.45},{"$f":"(F37+G37+H37)-Q37","v":0},{"$f":"IF(R37=0,\"OK\",\"CTRL\")","v":"OK"}]
[null,null,null,"TOTALE CREDITI FINANZIARI",null,{"$f":"SUM(F34:F37)","v":0},0,{"$f":"SUM(H34:H37)","v":14036.45}]
[]
[null,null,"L'importo di € 12.380 si riferisce al deposito cauzionale versato dall'Azienda con riferimento al contratto di locazione relativo all'immobile sito in via Rieti n. 47, sede del DSB di Pescara Sud. Il deposito in questione è stato versato e contabilizzato nel corso dell'esercizio 2010. Ad oggi il contratto di locazione è ancora in essere, per cui il credito relativo al deposito cauzionale risulta ancora apero.Il contratto è stato rinnovato nel 2016 con l'integrazione del deposito cauzionale di €. 1657"]
[]
[]
[]
[null,null,null,"Tab. 12 – Dettagli e movimentazioni dei titoli iscritti nelle immobilizzazioni finanziarie"]
[null,null,"CODICE MOD. SP","TITOLI CHE COSTITUISCONO IMMOBILIZZAZIONI FINANZIARIE",null,"Costo\nstorico","ESERCIZI PRECEDENTI",null,null,"MOVIMENTI DELL'ESERCIZIO"]
[null,null,null,null,null,null,"Rivalutazioni","Svalutazioni","Valore iniziale","Giroconti e Riclassificaz.","Rivalutazioni (+)","Svalutazioni (-)","Acquisizioni e conferimenti ","Cessioni\n(valore contabile)","Valore contabile",null,"Valore SP","Diff","Ctrl"]
[null,null,"AAA710"," Partecipazioni:",null,{"$f":"SUMIF('00 SP'!$A:$A,'Tab 8-9-10-11-12-13-14'!$C47,'00 SP'!F:F)","v":0},{"$f":"SUMIF('00 SP'!$A:$A,'Tab 8-9-10-11-12-13-14'!$C47,'00 SP'!G:G)","v":0},{"$f":"SUMIF('00 SP'!$A:$A,'Tab 8-9-10-11-12-13-14'!$C47,'00 SP'!H:H)","v":0},{"$f":"F47+G47-H47","v":0},0,0,0,{"$f":"SUMIF('00 SP'!$A:$A,'Tab 8-9-10-11-12-13-14'!$C47,'00 SP'!J:J)-(J47+K47+L47)","v":0},{"$f":"SUMIF('00 SP'!$A:$A,'Tab 8-9-10-11-12-13-14'!$C47,'00 SP'!K:K)","v":0},{"$f":"I47+J47+K47-L47+M47-N47","v":0},null,{"$f":"SUMIF('00 SP'!A:A,'Tab 8-9-10-11-12-13-14'!C47,'00 SP'!L:L)","v":0},{"$f":"O47-Q47","v":0},{"$f":"IF(R47=0,\"OK\",\"CTRL\")","v":"OK"}]
[null,null,null," Partecipazioni in imprese controllate"]
[null,null,null," Partecipazioni in imprese collegate"]
[null,null,null," Partecipazioni in altre imprese"]
[null,null,"AAA720"," Altri titoli:",null,{"$f":"SUM(F52:F55)","v":0},0,0,0,0,0,0,0,0,0,null,{"$f":"SUMIF('00 SP'!A:A,'Tab 8-9-10-11-12-13-14'!C51,'00 SP'!L:L)","v":0},{"$f":"O51-Q51","v":0},{"$f":"IF(R51=0,\"OK\",\"CTRL\")","v":"OK"}]
[null,null,"AAA730"," Titoli di Stato",null,{"$f":"SUMIF('00 SP'!$A:$A,'Tab 8-9-10-11-12-13-14'!$C52,'00 SP'!F:F)","v":0},{"$f":"SUMIF('00 SP'!$A:$A,'Tab 8-9-10-11-12-13-14'!$C52,'00 SP'!G:G)","v":0},{"$f":"SUMIF('00 SP'!$A:$A,'Tab 8-9-10-11-12-13-14'!$C52,'00 SP'!H:H)","v":0},{"$f":"F52+G52-H52","v":0},0,0,0,{"$f":"SUMIF('00 SP'!$A:$A,'Tab 8-9-10-11-12-13-14'!$C52,'00 SP'!J:J)-(J52+K52+L52)","v":0},{"$f":"SUMIF('00 SP'!$A:$A,'Tab 8-9-10-11-12-13-14'!$C52,'00 SP'!K:K)","v":0},{"$f":"I52+J52+K52-L52+M52-N52","v":0},null,{"$f":"SUMIF('00 SP'!A:A,'Tab 8-9-10-11-12-13-14'!C52,'00 SP'!L:L)","v":0},{"$f":"O52-Q52","v":0},{"$f":"IF(R52=0,\"OK\",\"CTRL\")","v":"OK"}]
[null,null,"AAA740"," Altre Obbligazioni",null,{"$f":"SUMIF('00 SP'!$A:$A,'Tab 8-9-10-11-12-13-14'!$C53,'00 SP'!F:F)","v":0},{"$f":"SUMIF('00 SP'!$A:$A,'Tab 8-9-10-11-12-13-14'!$C53,'00 SP'!G:G)","v":0},{"$f":"SUMIF('00 SP'!$A:$A,'Tab 8-9-10-11-12-13-14'!$C53,'00 SP'!H:H)","v":0},{"$f":"F53+G53-H53","v":0},0,0,0,{"$f":"SUMIF('00 SP'!$A:$A,'Tab 8-9-10-11-12-13-14'!$C53,'00 SP'!J:J)-(J53+K53+L53)","v":0},{"$f":"SUMIF('00 SP'!$A:$A,'Tab 8-9-10-11-12-13-14'!$C53,'00 SP'!K:K)","v":0},{"$f":"I53+J53+K53-L53+M53-N53","v":0},null,{"$f":"SUMIF('00 SP'!A:A,'Tab 8-9-10-11-12-13-14'!C53,'00 SP'!L:L)","v":0},{"$f":"O53-Q53","v":0},{"$f":"IF(R53=0,\"OK\",\"CTRL\")","v":"OK"}]
[null,null,"AAA750"," Titoli azionari quotati in Borsa",null,{"$f":"SUMIF('00 SP'!$A:$A,'Tab 8-9-10-11-12-13-14'!$C54,'00 SP'!F:F)","v":0},{"$f":"SUMIF('00 SP'!$A:$A,'Tab 8-9-10-11-12-13-14'!$C54,'00 SP'!G:G)","v":0},{"$f":"SUMIF('00 SP'!$A:$A,'Tab 8-9-10-11-12-13-14'!$C54,'00 SP'!H:H)","v":0},0,0,0,0,{"$f":"SUMIF('00 SP'!$A:$A,'Tab 8-9-10-11-12-13-14'!$C54,'00 SP'!J:J)-(J54+K54+L54)","v":0},{"$f":"SUMIF('00 SP'!$A:$A,'Tab 8-9-10-11-12-13-14'!$C54,'00 SP'!K:K)","v":0},0,null,{"$f":"SUMIF('00 SP'!A:A,'Tab 8-9-10-11-12-13-14'!C54,'00 SP'!L:L)","v":0},{"$f":"O54-Q54","v":0},{"$f":"IF(R54=0,\"OK\",\"CTRL\")","v":"OK"}]
[null,null,"AAA760"," Titoli diversi",null,{"$f":"SUMIF('00 SP'!$A:$A,'Tab 8-9-10-11-12-13-14'!$C55,'00 SP'!F:F)","v":0},{"$f":"SUMIF('00 SP'!$A:$A,'Tab 8-9-10-11-12-13-14'!$C55,'00 SP'!G:G)","v":0},{"$f":"SUMIF('00 SP'!$A:$A,'Tab 8-9-10-11-12-13-14'!$C55,'00 SP'!H:H)","v":0},0,0,0,0,{"$f":"SUMIF('00 SP'!$A:$A,'Tab 8-9-10-11-12-13-14'!$C55,'00 SP'!J:J)-(J55+K55+L55)","v":0},{"$f":"SUMIF('00 SP'!$A:$A,'Tab 8-9-10-11-12-13-14'!$C55,'00 SP'!K:K)","v":0},0,null,{"$f":"SUMIF('00 SP'!A:A,'Tab 8-9-10-11-12-13-14'!C55,'00 SP'!L:L)","v":0},{"$f":"O55-Q55","v":0},{"$f":"IF(R55=0,\"OK\",\"CTRL\")","v":"OK"}]
[null,null,null,"TOTALE",null,{"$f":"F47+F51","v":0},0,0,0,0,0,0,0,0,0]
[]
[null,null,null,"Tab. 13 – Informativa in merito alle partecipazioni iscritte nelle immobilizzazioni finanziarie"]
[null,null,null,"ELENCO PARTECIPAZIONI",null,"Sede","Forma\ngiuridica","Capitale","% capitale pubblico","Patrimonio netto incluso riserve","Totale\nAttivo","Risultato di esercizio","% di possesso","Valore attribuito a bilancio","Criterio di valorizzazione (costo / PN)"]
[null,null,null," Partecipazioni in imprese controllate:"]
[null,null,null,"…"]
[null,null,null," Partecipazioni in imprese collegate:"]
[null,null,null,"…"]
[null,null,null," Partecipazioni in altre imprese:"]
[null,null,null,"…"]
[]
[null,null,null,"Tab. 14 – Dettagli e movimentazioni delle partecipazioni iscritte nelle immobilizzazioni finanziarie"]
[null,null,null,"DETTAGLIO PARTECIPAZIONI",null,"Costo \nstorico","ESERCIZI PRECEDENTI",null,null,"MOVIMENTI DELL'ESERCIZIO"]
[null,null,null,null,null,null,"Rivalutazioni","Svalutazioni","Valore iniziale","Giroconti e Riclassificazioni","Rivalutazioni","Svalutazioni","Acquisizioni e conferimenti","Cessioni (valore contabile)","Valore\nfinale"]
[null,null,null," Partecipazioni in imprese controllate:"]
[null,null,null,"…"]
[null,null,null," Partecipazioni in imprese collegate:"]
[null,null,null,"…"]
[null,null,null," Partecipazioni in altre imprese:"]
[null,null,null,"…"]

{"sheet":"IF01-IF02","index":16,"n_rows":9,"n_cols":5,"rows_kept":9,"cut":false,"hidden":false,"merged":[[1,1,1,4],[7,0,7,1],[8,0,8,1],[3,0,3,4],[4,0,4,1],[4,2,4,3],[5,0,5,1],[6,0,6,1]]}
["IF01 - Svalutazione delle immobilizzazioni finanziarie."]
["IF01 - NO","Nel corso dell'esercizio non sono state effettuate svalutazioni delle immobilizzazioni finanziarie."]
[]
["Altre informazioni relative alle immobilizzazioni finanziarie"]
["Informazione",null,"Caso presente in azienda?",null,"Se sì, illustrare"]
["IF02 - Gravami. Su crediti immobilizzati, partecipazioni e altri titoli dell'azienda vi sono gravami quali pegni, pignoramenti, ecc.?",null,null,"NO"]
["IF03 - Contenzioso con iscrizione in bilancio. Su crediti immobilizzati, partecipazioni e altri titoli iscritti in bilancio sono in corso contenziosi con altre aziende sanitarie, con altri enti pubblici o con enti privati?",null,null,"NO"]
["IF04 - Contenzioso senza iscrizione in bilancio. Esistono partecipazioni o altri titoli non iscritti nello stato patrimoniale perché non riconosciuti come proprietà dell'azienda in seguito a contenziosi in corso con altre aziende sanitarie, con altri enti pubblici o con soggetti privati?",null,null,"NO"]
["IF05 - Altro. Esistono altre informazioni che si ritiene necessario fornire per soddisfare la regola generale secondo cui \"Se le informazioni richieste da specifiche disposizioni di legge non sono sufficienti a dare una rappresentazione veritiera e corretta, si devono fornire le informazioni complementari necessarie allo scopo\" (art. 2423 cc)?",null,null,"NO"]

{"sheet":"Tab 15","index":17,"n_rows":41,"n_cols":15,"rows_kept":41,"cut":false,"hidden":false,"merged":[[38,7,38,10],[37,7,37,10],[36,7,36,10],[40,0,40,4],[37,0,37,4],[38,0,38,4],[39,0,39,4],[40,7,40,10],[39,7,39,10],[35,0,35,3],[36,0,36,4],[36,5,36,6],[2,1,2,10],[30,0,30,10],[33,1,33,10]]}
[null,"6.     Rimanenze"]
[]
[null,"Tab. 15 – Movimentazioni delle rimanenze di beni sanitari e non sanitari"]
["CODICE MOD. SP","RIMANENZE",null,"Valore\niniziale","Giroconti e Riclassifiche (+/-)","Incrementi","Incrementi/ Utilizzi Fondo Svalutazione magazzino (+/-)","Decrementi","Valore finale","di cui presso terzi per distribuzione per nome e per conto","di cui scorte di reparto",null,"Valore SP","Diff","Ctrl"]
["ABA020","  Prodotti farmaceutici ed emoderivati:",null,{"$f":"SUMIF('00 SP'!A:A,'Tab 15'!A5,'00 SP'!I:I)","v":10541532.870000001},0,{"$f":"SUMIF('00 SP'!A:A,'Tab 15'!A5,'00 SP'!J:J)-(G5+E5)","v":10200393.279999999},0,{"$f":"SUMIF('00 SP'!A:A,'Tab 15'!A5,'00 SP'!K:K)","v":10541532.870000001},{"$f":"D5+E5+F5+G5-H5","v":10200393.279999997},3537064,2367102.63,null,{"$f":"SUMIF('00 SP'!A:A,'Tab 15'!A5,'00 SP'!L:L)","v":10200393.279999997},{"$f":"I5-M5","v":0},{"$f":"IF(N5=0,\"OK\",\"CTRL\")","v":"OK"}]
[null,"   Medicinali con AIC, ad eccezione di vaccini ed emoderivati di produzione  regionale"]
[null,"   Medicinali senza AIC"]
[null,"   Emoderivati di produzione regionale"]
["ABA030","  Sangue ed emocomponenti",null,{"$f":"SUMIF('00 SP'!A:A,'Tab 15'!A9,'00 SP'!I:I)","v":0},0,{"$f":"SUMIF('00 SP'!A:A,'Tab 15'!A9,'00 SP'!J:J)-(G9+E9)","v":0},0,{"$f":"SUMIF('00 SP'!A:A,'Tab 15'!A9,'00 SP'!K:K)*-1","v":0},{"$f":"D9+E9+F9+G9-H9","v":0},0,0,null,{"$f":"SUMIF('00 SP'!A:A,'Tab 15'!A9,'00 SP'!L:L)","v":0},{"$f":"I9-M9","v":0},{"$f":"IF(N9=0,\"OK\",\"CTRL\")","v":"OK"}]
["ABA040","  Dispositivi medici:",null,{"$f":"SUMIF('00 SP'!A:A,'Tab 15'!A10,'00 SP'!I:I)","v":5544382.7299999986},0,{"$f":"SUMIF('00 SP'!A:A,'Tab 15'!A10,'00 SP'!J:J)-(G10+E10)","v":5489072.3599999994},0,{"$f":"SUMIF('00 SP'!A:A,'Tab 15'!A10,'00 SP'!K:K)","v":5544382.7299999986},5489072.3599999994,0,4259520.66,null,{"$f":"SUMIF('00 SP'!A:A,'Tab 15'!A10,'00 SP'!L:L)","v":5489072.3599999994},{"$f":"I10-M10","v":0},{"$f":"IF(N10=0,\"OK\",\"CTRL\")","v":"OK"}]
[null,"   Dispositivi medici"]
[null,"   Dispositivi medici impiantabili attivi"]
[null,"   Dispositivi medico diagnostici in vitro (IVD)"]
["ABA050","  Prodotti dietetici",null,{"$f":"SUMIF('00 SP'!A:A,'Tab 15'!A14,'00 SP'!I:I)","v":71649.81},0,{"$f":"SUMIF('00 SP'!A:A,'Tab 15'!A14,'00 SP'!J:J)-(G14+E14)","v":75502.989999999991},0,{"$f":"SUMIF('00 SP'!A:A,'Tab 15'!A14,'00 SP'!K:K)","v":71649.81},75502.989999999991,0,17537.14,null,{"$f":"SUMIF('00 SP'!A:A,'Tab 15'!A14,'00 SP'!L:L)","v":75502.990000000005},{"$f":"I14-M14","v":0},{"$f":"IF(N14=0,\"OK\",\"CTRL\")","v":"OK"}]
["ABA060","  Materiali per la profilassi (vaccini)",null,{"$f":"SUMIF('00 SP'!A:A,'Tab 15'!A15,'00 SP'!I:I)","v":2856.7},0,{"$f":"SUMIF('00 SP'!A:A,'Tab 15'!A15,'00 SP'!J:J)-(G15+E15)","v":0},0,{"$f":"SUMIF('00 SP'!A:A,'Tab 15'!A15,'00 SP'!K:K)","v":2856.7},0,0,0,null,{"$f":"SUMIF('00 SP'!A:A,'Tab 15'!A15,'00 SP'!L:L)","v":0},0,"OK"]
["ABA070","  Prodotti chimici",null,{"$f":"SUMIF('00 SP'!A:A,'Tab 15'!A16,'00 SP'!I:I)","v":0},0,{"$f":"SUMIF('00 SP'!A:A,'Tab 15'!A16,'00 SP'!J:J)-(G16+E16)","v":0},0,{"$f":"SUMIF('00 SP'!A:A,'Tab 15'!A16,'00 SP'!K:K)","v":0},0,0,0,null,{"$f":"SUMIF('00 SP'!A:A,'Tab 15'!A16,'00 SP'!L:L)","v":0},0,"OK"]
["ABA080","  Materiali e prodotti per uso veterinario",null,{"$f":"SUMIF('00 SP'!A:A,'Tab 15'!A17,'00 SP'!I:I)","v":0},0,{"$f":"SUMIF('00 SP'!A:A,'Tab 15'!A17,'00 SP'!J:J)-(G17+E17)","v":0},0,{"$f":"SUMIF('00 SP'!A:A,'Tab 15'!A17,'00 SP'!K:K)","v":0},0,0,0,null,{"$f":"SUMIF('00 SP'!A:A,'Tab 15'!A17,'00 SP'!L:L)","v":0},0,"OK"]
["ABA090","  Altri beni e prodotti sanitari",null,{"$f":"SUMIF('00 SP'!A:A,'Tab 15'!A18,'00 SP'!I:I)","v":297183.24},0,{"$f":"SUMIF('00 SP'!A:A,'Tab 15'!A18,'00 SP'!J:J)-(G18+E18)","v":328063.14},0,{"$f":"SUMIF('00 SP'!A:A,'Tab 15'!A18,'00 SP'!K:K)","v":297183.24},328063.14,0,220372.46,null,{"$f":"SUMIF('00 SP'!A:A,'Tab 15'!A18,'00 SP'!L:L)","v":328063.14},0,"OK"]
["ABA100","  Acconti per acquisto di beni e prodotti sanitari",null,{"$f":"SUMIF('00 SP'!A:A,'Tab 15'!A19,'00 SP'!I:I)","v":0},0,{"$f":"SUMIF('00 SP'!A:A,'Tab 15'!A19,'00 SP'!J:J)-(G19+E19)","v":0},0,{"$f":"SUMIF('00 SP'!A:A,'Tab 15'!A19,'00 SP'!K:K)","v":0},0,0,0,null,{"$f":"SUMIF('00 SP'!A:A,'Tab 15'!A19,'00 SP'!L:L)","v":0},0,"OK"]
[null," RIMANENZE BENI SANITARI",null,{"$f":"D5+D9+D10+D14+D15+D16+D17+D18+D19","v":16457605.35},{"$f":"SUM(E5:E19)","v":0},16093031.77,0,16457605.35,16093031.769999998,3537064,6864532.8899999997]
[]
["ABA120","  Prodotti alimentari",null,{"$f":"SUMIF('00 SP'!A:A,'Tab 15'!A22,'00 SP'!I:I)","v":0},0,{"$f":"SUMIF('00 SP'!A:A,'Tab 15'!A22,'00 SP'!J:J)-(G22+E22)","v":0},0,{"$f":"SUMIF('00 SP'!A:A,'Tab 15'!A22,'00 SP'!K:K)","v":0},{"$f":"D22+E22+F22+G22-H22","v":0},0,0,null,{"$f":"SUMIF('00 SP'!A:A,'Tab 15'!A22,'00 SP'!L:L)","v":0},{"$f":"I22-M22","v":0},{"$f":"IF(N22=0,\"OK\",\"CTRL\")","v":"OK"}]
["ABA130","  Materiali di guardaroba, di pulizia e di convivenza in genere",null,{"$f":"SUMIF('00 SP'!A:A,'Tab 15'!A23,'00 SP'!I:I)","v":29504.9},0,{"$f":"SUMIF('00 SP'!A:A,'Tab 15'!A23,'00 SP'!J:J)-(G23+E23)","v":30345.25},0,{"$f":"SUMIF('00 SP'!A:A,'Tab 15'!A23,'00 SP'!K:K)","v":29504.9},30345.25,0,2481.89,null,{"$f":"SUMIF('00 SP'!A:A,'Tab 15'!A23,'00 SP'!L:L)","v":30345.25},{"$f":"I23-M23","v":0},{"$f":"IF(N23=0,\"OK\",\"CTRL\")","v":"OK"}]
["ABA140","  Combustibili, carburanti e lubrificanti",null,{"$f":"SUMIF('00 SP'!A:A,'Tab 15'!A24,'00 SP'!I:I)","v":0},0,{"$f":"SUMIF('00 SP'!A:A,'Tab 15'!A24,'00 SP'!J:J)-(G24+E24)","v":0},0,{"$f":"SUMIF('00 SP'!A:A,'Tab 15'!A24,'00 SP'!K:K)","v":0},0,0,0,null,{"$f":"SUMIF('00 SP'!A:A,'Tab 15'!A24,'00 SP'!L:L)","v":0},0,"OK"]
["ABA150","  Supporti informatici e cancelleria",null,{"$f":"SUMIF('00 SP'!A:A,'Tab 15'!A25,'00 SP'!I:I)","v":209556.43},0,{"$f":"SUMIF('00 SP'!A:A,'Tab 15'!A25,'00 SP'!J:J)-(G25+E25)","v":225256.65},0,{"$f":"SUMIF('00 SP'!A:A,'Tab 15'!A25,'00 SP'!K:K)","v":209556.43},225256.64999999997,0,33168.239999999998,null,{"$f":"SUMIF('00 SP'!A:A,'Tab 15'!A25,'00 SP'!L:L)","v":225256.64999999997},0,"OK"]
["ABA160","  Materiale per la manutenzione",null,{"$f":"SUMIF('00 SP'!A:A,'Tab 15'!A26,'00 SP'!I:I)","v":158555.70000000001},0,{"$f":"SUMIF('00 SP'!A:A,'Tab 15'!A26,'00 SP'!J:J)-(G26+E26)","v":21536.05},0,{"$f":"SUMIF('00 SP'!A:A,'Tab 15'!A26,'00 SP'!K:K)","v":158555.70000000001},21536.049999999988,0,1545.38,null,{"$f":"SUMIF('00 SP'!A:A,'Tab 15'!A26,'00 SP'!L:L)","v":21536.05000000001},0,"OK"]
["ABA170","  Altri beni e prodotti non sanitari",null,{"$f":"SUMIF('00 SP'!A:A,'Tab 15'!A27,'00 SP'!I:I)","v":502.43},0,{"$f":"SUMIF('00 SP'!A:A,'Tab 15'!A27,'00 SP'!J:J)-(G27+E27)","v":1157.96},0,{"$f":"SUMIF('00 SP'!A:A,'Tab 15'!A27,'00 SP'!K:K)","v":502.43},{"$f":"D27+E27+F27+G27-H27","v":1157.96},0,179.11,null,{"$f":"SUMIF('00 SP'!A:A,'Tab 15'!A27,'00 SP'!L:L)","v":1157.96},0,"OK"]
["ABA180","  Acconti per acquisto di beni e prodotti non sanitari",null,{"$f":"SUMIF('00 SP'!A:A,'Tab 15'!A28,'00 SP'!I:I)","v":0},0,{"$f":"SUMIF('00 SP'!A:A,'Tab 15'!A28,'00 SP'!J:J)-(G28+E28)","v":0},0,{"$f":"SUMIF('00 SP'!A:A,'Tab 15'!A28,'00 SP'!K:K)","v":0},0,0,0,null,{"$f":"SUMIF('00 SP'!A:A,'Tab 15'!A28,'00 SP'!L:L)","v":0},0,"OK"]
[null," RIMANENZE BENI NON SANITARI",null,{"$f":"SUM(D22:D28)","v":398119.46},0,278295.91000000003,0,398119.46,278295.90999999997,0,37374.619999999995]
[]
["Al 31/12/2019 è stato effettuato l'inventario fisico delle giacenze sia presso i magazzini che presso i reparti."]
[]
["RIM01 - Svalutazioni."]
["RIM01 - NO","Nel corso dell'esercizio non sono state effettuate svalutazioni di rimanenze obsolete o a lento rigiro."]
[]
["Altre informazioni relative alle rimanenze"]
["Informazione",null,null,null,null,"Caso presente in azienda?",null,"Se SI, illustrare"]
["RIM02 - Gravami. Sulle rimanenze dell'azienda vi sono gravami quali pegni, patti di riservato dominio, pignoramenti, ecc.?",null,null,null,null,null,"NO"]
["RIM03 - Modifiche di classificazione. Nel corso dell'esercizio vi sono stati rilevanti cambiamenti nella classificazione delle voci?",null,null,null,null,null,"NO"]
["RIM04 - Valore a prezzi di mercato. Vi è una differenza, positiva e significativa, tra il valore delle rimanenze a prezzi di mercato e la loro valutazione a bilancio?",null,null,null,null,null,"NO"]
["RIM05 - Altro. Esistono altre informazioni che si ritiene necessario fornire per soddisfare la regola generale secondo cui \"Se le informazioni richieste da specifiche disposizioni di legge non sono sufficienti a dare una rappresentazione veritiera e corretta, si devono fornire le informazioni complementari necessarie allo scopo\" (art. 2423 cc)?",null,null,null,null,"SI ",null,"Le rimanenze d'esercizio sono state valorizzate secondo il metodo della media ponderata in ossequio a quanto stabilito con d.lgs 118/2011"]

{"sheet":"Tab 16-17","index":18,"n_rows":130,"n_cols":10,"rows_kept":130,"cut":false,"hidden":false,"merged":[[54,5,54,9],[54,3,55,3],[54,2,55,2],[117,2,117,9],[129,2,129,3],[95,2,95,9],[105,2,105,3],[108,2,115,5],[2,3,2,9],[3,2,4,2],[3,3,4,3],[3,5,3,9],[53,3,53,5]]}
[null,null,null,"7.     Crediti"]
[]
[null,null,null,"Tab. 16 – Movimentazioni dei crediti (valore nominale) – I parte"]
[null,null,"CODICE MOD. SP","CREDITI\n(VALORE NOMINALE)",null,"MOVIMENTI DELL'ESERCIZIO"]
[null,null,null,null,null,"Valore\niniziale","Incrementi","Decrementi","Valore finale","di cui per fatt. da emett."]
[null,null,null," CREDITI V/STATO - PARTE CORRENTE",null,{"$f":"F7+F14","v":2301.52},{"$f":"G7+G14","v":98325.05},93639.37,6987.2000000000116,0]
[null,null,null," Crediti v/Stato per spesa corrente e acconti:",null,{"$f":"SUM(F8:F13)","v":2301.52},{"$f":"SUM(G8:G13)","v":98325.05},{"$f":"SUM(H8:H13)","v":93639.37},{"$f":"SUM(I8:I13)","v":6987.2000000000116},{"$f":"SUM(J8:J13)","v":0}]
[{"$f":"C8&\"CR\"","v":"ABA201CR"},{"$f":"C8&\"FE\"","v":"ABA201FE"},"ABA201","  Crediti v/Stato per spesa corrente - FSN indistinto",null,{"$f":"SUMIF('00 PDC SP'!A:A,'Tab 16-17'!A8,'00 PDC SP'!K:K)+SUMIF('00 PDC SP'!A:A,'Tab 16-17'!B8,'00 PDC SP'!K:K)","v":2301.52},{"$f":"SUMIF('00 PDC SP'!A:A,'Tab 16-17'!A8,'00 PDC SP'!L:L)+SUMIF('00 PDC SP'!A:A,'Tab 16-17'!B8,'00 PDC SP'!L:L)","v":98325.05},{"$f":"SUMIF('00 PDC SP'!A:A,'Tab 16-17'!A8,'00 PDC SP'!M:M)+SUMIF('00 PDC SP'!A:A,'Tab 16-17'!B8,'00 PDC SP'!M:M)","v":93639.37},{"$f":"F8+G8-H8","v":6987.2000000000116},{"$f":"SUMIF('00 PDC SP'!A:A,'Tab 16-17'!B8,'00 PDC SP'!N:N)","v":0}]
[{"$f":"C9&\"CR\"","v":"ABA220CR"},{"$f":"C9&\"FE\"","v":"ABA220FE"},"ABA220","  Crediti v/Stato per spesa corrente - FSN vincolato",null,{"$f":"SUMIF('00 PDC SP'!A:A,'Tab 16-17'!A9,'00 PDC SP'!K:K)+SUMIF('00 PDC SP'!A:A,'Tab 16-17'!B9,'00 PDC SP'!K:K)","v":0},{"$f":"SUMIF('00 PDC SP'!A:A,'Tab 16-17'!A9,'00 PDC SP'!L:L)+SUMIF('00 PDC SP'!A:A,'Tab 16-17'!B9,'00 PDC SP'!L:L)","v":0},{"$f":"SUMIF('00 PDC SP'!A:A,'Tab 16-17'!A9,'00 PDC SP'!M:M)+SUMIF('00 PDC SP'!A:A,'Tab 16-17'!B9,'00 PDC SP'!M:M)","v":0},0,{"$f":"SUMIF('00 PDC SP'!A:A,'Tab 16-17'!B9,'00 PDC SP'!N:N)","v":0}]
["ABA230CR","ABA230FE","ABA230","  Crediti v/Stato per mobilità attiva extraregionale",null,{"$f":"SUMIF('00 PDC SP'!A:A,'Tab 16-17'!A10,'00 PDC SP'!K:K)+SUMIF('00 PDC SP'!A:A,'Tab 16-17'!B10,'00 PDC SP'!K:K)","v":0},{"$f":"SUMIF('00 PDC SP'!A:A,'Tab 16-17'!A10,'00 PDC SP'!L:L)+SUMIF('00 PDC SP'!A:A,'Tab 16-17'!B10,'00 PDC SP'!L:L)","v":0},{"$f":"SUMIF('00 PDC SP'!A:A,'Tab 16-17'!A10,'00 PDC SP'!M:M)+SUMIF('00 PDC SP'!A:A,'Tab 16-17'!B10,'00 PDC SP'!M:M)","v":0},0,{"$f":"SUMIF('00 PDC SP'!A:A,'Tab 16-17'!B10,'00 PDC SP'!N:N)","v":0}]
["ABA240CR","ABA240FE","ABA240","  Crediti v/Stato per mobilità attiva internazionale",null,{"$f":"SUMIF('00 PDC SP'!A:A,'Tab 16-17'!A11,'00 PDC SP'!K:K)+SUMIF('00 PDC SP'!A:A,'Tab 16-17'!B11,'00 PDC SP'!K:K)","v":0},{"$f":"SUMIF('00 PDC SP'!A:A,'Tab 16-17'!A11,'00 PDC SP'!L:L)+SUMIF('00 PDC SP'!A:A,'Tab 16-17'!B11,'00 PDC SP'!L:L)","v":0},{"$f":"SUMIF('00 PDC SP'!A:A,'Tab 16-17'!A11,'00 PDC SP'!M:M)+SUMIF('00 PDC SP'!A:A,'Tab 16-17'!B11,'00 PDC SP'!M:M)","v":0},0,{"$f":"SUMIF('00 PDC SP'!A:A,'Tab 16-17'!B11,'00 PDC SP'!N:N)","v":0}]
["ABA250CR","ABA250FE","ABA250","  Crediti v/Stato per acconto quota fabbisogno sanitario regionale standard",null,{"$f":"SUMIF('00 PDC SP'!A:A,'Tab 16-17'!A12,'00 PDC SP'!K:K)+SUMIF('00 PDC SP'!A:A,'Tab 16-17'!B12,'00 PDC SP'!K:K)","v":0},{"$f":"SUMIF('00 PDC SP'!A:A,'Tab 16-17'!A12,'00 PDC SP'!L:L)+SUMIF('00 PDC SP'!A:A,'Tab 16-17'!B12,'00 PDC SP'!L:L)","v":0},{"$f":"SUMIF('00 PDC SP'!A:A,'Tab 16-17'!A12,'00 PDC SP'!M:M)+SUMIF('00 PDC SP'!A:A,'Tab 16-17'!B12,'00 PDC SP'!M:M)","v":0},0,{"$f":"SUMIF('00 PDC SP'!A:A,'Tab 16-17'!B12,'00 PDC SP'!N:N)","v":0}]
["ABA260CR","ABA260FE","ABA260","  Crediti v/Stato per finanziamento sanitario aggiuntivo corrente",null,{"$f":"SUMIF('00 PDC SP'!A:A,'Tab 16-17'!A13,'00 PDC SP'!K:K)+SUMIF('00 PDC SP'!A:A,'Tab 16-17'!B13,'00 PDC SP'!K:K)","v":0},{"$f":"SUMIF('00 PDC SP'!A:A,'Tab 16-17'!A13,'00 PDC SP'!L:L)+SUMIF('00 PDC SP'!A:A,'Tab 16-17'!B13,'00 PDC SP'!L:L)","v":0},{"$f":"SUMIF('00 PDC SP'!A:A,'Tab 16-17'!A13,'00 PDC SP'!M:M)+SUMIF('00 PDC SP'!A:A,'Tab 16-17'!B13,'00 PDC SP'!M:M)","v":0},0,{"$f":"SUMIF('00 PDC SP'!A:A,'Tab 16-17'!B13,'00 PDC SP'!N:N)","v":0}]
[null,null,null," Crediti v/Stato - altro:",null,{"$f":"SUM(F15+F16)","v":0},{"$f":"SUM(G15+G16)","v":0},0,0,0]
["ABA270CR","ABA270FE","ABA270","  Crediti v/Stato per spesa corrente - altro",null,{"$f":"SUMIF('00 PDC SP'!A:A,'Tab 16-17'!A15,'00 PDC SP'!K:K)+SUMIF('00 PDC SP'!A:A,'Tab 16-17'!B15,'00 PDC SP'!K:K)","v":0},{"$f":"SUMIF('00 PDC SP'!A:A,'Tab 16-17'!A15,'00 PDC SP'!L:L)+SUMIF('00 PDC SP'!A:A,'Tab 16-17'!B15,'00 PDC SP'!L:L)","v":0},{"$f":"SUMIF('00 PDC SP'!A:A,'Tab 16-17'!A15,'00 PDC SP'!M:M)+SUMIF('00 PDC SP'!A:A,'Tab 16-17'!B15,'00 PDC SP'!M:M)","v":0},{"$f":"F15+G15-H15","v":0},{"$f":"SUMIF('00 PDC SP'!A:A,'Tab 16-17'!B15,'00 PDC SP'!N:N)","v":0}]
[null,null,"ABA271","  Crediti v/Stato per spesa corrente per STP(ex D.lgs.286/98)",null,{"$f":"SUMIF('00 PDC SP'!A:A,'Tab 16-17'!A16,'00 PDC SP'!K:K)+SUMIF('00 PDC SP'!A:A,'Tab 16-17'!B16,'00 PDC SP'!K:K)","v":0},{"$f":"SUMIF('00 PDC SP'!A:A,'Tab 16-17'!A16,'00 PDC SP'!L:L)+SUMIF('00 PDC SP'!A:A,'Tab 16-17'!B16,'00 PDC SP'!L:L)","v":0},{"$f":"SUMIF('00 PDC SP'!A:A,'Tab 16-17'!A16,'00 PDC SP'!M:M)+SUMIF('00 PDC SP'!A:A,'Tab 16-17'!B16,'00 PDC SP'!M:M)","v":0},{"$f":"F16+G16-H16","v":0},{"$f":"SUMIF('00 PDC SP'!A:A,'Tab 16-17'!B16,'00 PDC SP'!N:N)","v":0}]
[null,null,null," CREDITI V/STATO - INVESTIMENTI",null,{"$f":"SUM(F18)","v":0},{"$f":"SUM(G18)","v":0},{"$f":"SUM(H18)","v":0},{"$f":"SUM(I18)","v":0},{"$f":"SUM(J18)","v":0}]
["ABA280CR","ABA280FE","ABA280"," Crediti v/Stato per finanziamenti per investimenti:",null,{"$f":"SUMIF('00 PDC SP'!A:A,'Tab 16-17'!A18,'00 PDC SP'!K:K)+SUMIF('00 PDC SP'!A:A,'Tab 16-17'!B18,'00 PDC SP'!K:K)","v":0},{"$f":"SUMIF('00 PDC SP'!A:A,'Tab 16-17'!A18,'00 PDC SP'!L:L)+SUMIF('00 PDC SP'!A:A,'Tab 16-17'!B18,'00 PDC SP'!L:L)","v":0},{"$f":"SUMIF('00 PDC SP'!A:A,'Tab 16-17'!A18,'00 PDC SP'!M:M)+SUMIF('00 PDC SP'!A:A,'Tab 16-17'!B18,'00 PDC SP'!M:M)","v":0},{"$f":"F18+G18-H18","v":0},{"$f":"SUMIF('00 PDC SP'!A:A,'Tab 16-17'!B18,'00 PDC SP'!N:N)","v":0}]
[null,null,null," CREDITI V/STATO - RICERCA",null,{"$f":"F20+F21+F22+F23","v":4620},{"$f":"G20+G21+G22+G23","v":1122},{"$f":"H20+H21+H22+H23","v":0},5742,{"$f":"J20+J23","v":0}]
["ABA300CR","ABA300FE","ABA300"," Crediti v/Stato per ricerca corrente - Ministero della Salute ",null,{"$f":"SUMIF('00 PDC SP'!A:A,'Tab 16-17'!A20,'00 PDC SP'!K:K)+SUMIF('00 PDC SP'!A:A,'Tab 16-17'!B20,'00 PDC SP'!K:K)","v":0},{"$f":"SUMIF('00 PDC SP'!A:A,'Tab 16-17'!A20,'00 PDC SP'!L:L)+SUMIF('00 PDC SP'!A:A,'Tab 16-17'!B20,'00 PDC SP'!L:L)","v":0},{"$f":"SUMIF('00 PDC SP'!B:B,'Tab 16-17'!B20,'00 PDC SP'!M:M)+SUMIF('00 PDC SP'!B:B,'Tab 16-17'!C20,'00 PDC SP'!M:M)","v":0},0,{"$f":"SUMIF('00 PDC SP'!A:A,'Tab 16-17'!B20,'00 PDC SP'!N:N)","v":0}]
["ABA310CR","ABA310FE","ABA310"," Crediti v/Stato per ricerca finalizzata - Ministero della Salute ",null,{"$f":"SUMIF('00 PDC SP'!A:A,'Tab 16-17'!A21,'00 PDC SP'!K:K)+SUMIF('00 PDC SP'!A:A,'Tab 16-17'!B21,'00 PDC SP'!K:K)","v":4620},{"$f":"SUMIF('00 PDC SP'!A:A,'Tab 16-17'!A21,'00 PDC SP'!L:L)+SUMIF('00 PDC SP'!A:A,'Tab 16-17'!B21,'00 PDC SP'!L:L)","v":1122},{"$f":"SUMIF('00 PDC SP'!A:A,'Tab 16-17'!A21,'00 PDC SP'!M:M)+SUMIF('00 PDC SP'!A:A,'Tab 16-17'!B21,'00 PDC SP'!M:M)","v":0},5742,{"$f":"SUMIF('00 PDC SP'!A:A,'Tab 16-17'!B21,'00 PDC SP'!N:N)","v":0}]
["ABA320CR","ABA320FE","ABA320"," Crediti v/Stato per ricerca - altre Amministrazioni centrali ",null,{"$f":"SUMIF('00 PDC SP'!A:A,'Tab 16-17'!A22,'00 PDC SP'!K:K)+SUMIF('00 PDC SP'!A:A,'Tab 16-17'!B22,'00 PDC SP'!K:K)","v":0},{"$f":"SUMIF('00 PDC SP'!A:A,'Tab 16-17'!A22,'00 PDC SP'!L:L)+SUMIF('00 PDC SP'!A:A,'Tab 16-17'!B22,'00 PDC SP'!L:L)","v":0},{"$f":"SUMIF('00 PDC SP'!A:A,'Tab 16-17'!A22,'00 PDC SP'!M:M)+SUMIF('00 PDC SP'!A:A,'Tab 16-17'!B22,'00 PDC SP'!M:M)","v":0},0,{"$f":"SUMIF('00 PDC SP'!A:A,'Tab 16-17'!B22,'00 PDC SP'!N:N)","v":0}]
["ABA330CR","ABA330FE","ABA330"," Crediti v/Stato per ricerca - finanziamenti per investimenti",null,{"$f":"SUMIF('00 PDC SP'!A:A,'Tab 16-17'!A23,'00 PDC SP'!K:K)+SUMIF('00 PDC SP'!A:A,'Tab 16-17'!B23,'00 PDC SP'!K:K)","v":0},{"$f":"SUMIF('00 PDC SP'!A:A,'Tab 16-17'!A23,'00 PDC SP'!L:L)+SUMIF('00 PDC SP'!A:A,'Tab 16-17'!B23,'00 PDC SP'!L:L)","v":0},{"$f":"SUMIF('00 PDC SP'!A:A,'Tab 16-17'!A23,'00 PDC SP'!M:M)+SUMIF('00 PDC SP'!A:A,'Tab 16-17'!B23,'00 PDC SP'!M:M)","v":0},0,{"$f":"SUMIF('00 PDC SP'!A:A,'Tab 16-17'!B23,'00 PDC SP'!N:N)","v":0}]
["ABA340CR","ABA340FE","ABA340"," CREDITI V/PREFETTURE",null,{"$f":"SUMIF('00 PDC SP'!A:A,'Tab 16-17'!A24,'00 PDC SP'!K:K)+SUMIF('00 PDC SP'!A:A,'Tab 16-17'!B24,'00 PDC SP'!K:K)","v":0},{"$f":"SUMIF('00 PDC SP'!A:A,'Tab 16-17'!A24,'00 PDC SP'!L:L)+SUMIF('00 PDC SP'!A:A,'Tab 16-17'!B24,'00 PDC SP'!L:L)","v":0},{"$f":"SUMIF('00 PDC SP'!A:A,'Tab 16-17'!A24,'00 PDC SP'!M:M)+SUMIF('00 PDC SP'!A:A,'Tab 16-17'!B24,'00 PDC SP'!M:M)","v":0},0,{"$f":"SUMIF('00 PDC SP'!A:A,'Tab 16-17'!B24,'00 PDC SP'!N:N)","v":0}]
[null,null,null,"TOTALE CREDITI V/STATO",null,{"$f":"F7+F17+F19+F24","v":6921.52},{"$f":"G7+G14+G17+G19+G24","v":99447.05},{"$f":"H7+H14+H17+H19+H24","v":93639.37},{"$f":"I7+I14+I17+I19+I24","v":12729.200000000012},{"$f":"J7+J17+J19+J24","v":0}]
[]
[null,null,null," CREDITI V/REGIONE O P.A. PER SPESA CORRENTE",null,{"$f":"F29","v":217389652.13999999},{"$f":"G29","v":1528555250.4300003},1545801481.03,200143421.53999999,{"$f":"J28+J35+J36+J37","v":0}]
[null,null,null," Crediti v/Regione o P.A. per finanziamento sanitario ordinario corrente:",null,null,null,null,null,{"$f":"SUM(J29:J34)","v":0}]
[{"$f":"C29&\"CR\"","v":"ABA350CR"},{"$f":"C29&\"FE\"","v":"ABA350FE"},"ABA350","  Crediti v/Regione o P.A. ",null,{"$f":"F30+F42+F50+F51","v":217389652.13999999},{"$f":"G30+G42+G50+G51","v":1528555250.4300003},{"$f":"H30+H42+H50+H51","v":1545801481.03},200143421.53999999,{"$f":"SUMIF('00 PDC SP'!A:A,'Tab 16-17'!B29,'00 PDC SP'!N:N)","v":0}]
[{"$f":"C30&\"CR\"","v":"ABA360CR"},{"$f":"C30&\"FE\"","v":"ABA360FE"},"ABA360","  Crediti v/Regione o P.A. per spesa corrente - ",null,{"$f":"SUM(F31:F40)","v":189477063.13999999},{"$f":"SUM(G31:G40)","v":1527872623.7600002},{"$f":"SUM(H31:H40)","v":1544765050.1700001},{"$f":"SUM(I31:I40)","v":172584636.72999999},{"$f":"SUMIF('00 PDC SP'!A:A,'Tab 16-17'!B30,'00 PDC SP'!N:N)","v":0}]
["ABA390CR","ABA390FE","ABA390","  Crediti v/Regione o P.A. per quota FSR",null,{"$f":"SUMIF('00 PDC SP'!A:A,'Tab 16-17'!A31,'00 PDC SP'!K:K)+SUMIF('00 PDC SP'!A:A,'Tab 16-17'!B31,'00 PDC SP'!K:K)","v":144243512.93000001},{"$f":"SUMIF('00 PDC SP'!A:A,'Tab 16-17'!A31,'00 PDC SP'!L:L)+SUMIF('00 PDC SP'!A:A,'Tab 16-17'!B31,'00 PDC SP'!L:L)","v":743631926.5},{"$f":"SUMIF('00 PDC SP'!A:A,'Tab 16-17'!A31,'00 PDC SP'!M:M)+SUMIF('00 PDC SP'!A:A,'Tab 16-17'!B31,'00 PDC SP'!M:M)","v":761266852.44000006},{"$f":"F31+G31-H31","v":126608586.99000001},{"$f":"SUMIF('00 PDC SP'!A:A,'Tab 16-17'!B31,'00 PDC SP'!N:N)","v":0}]
["ABA400CR","ABA400FE","ABA400","  Crediti v/Regione o P.A. per mobilità attiva intraregionale",null,{"$f":"SUMIF('00 PDC SP'!A:A,'Tab 16-17'!A32,'00 PDC SP'!K:K)+SUMIF('00 PDC SP'!A:A,'Tab 16-17'!B32,'00 PDC SP'!K:K)","v":16849743.390000001},{"$f":"SUMIF('00 PDC SP'!A:A,'Tab 16-17'!A32,'00 PDC SP'!L:L)+SUMIF('00 PDC SP'!A:A,'Tab 16-17'!B32,'00 PDC SP'!L:L)","v":102476232.31999999},{"$f":"SUMIF('00 PDC SP'!A:A,'Tab 16-17'!A32,'00 PDC SP'!M:M)+SUMIF('00 PDC SP'!A:A,'Tab 16-17'!B32,'00 PDC SP'!M:M)","v":102476232.31999999},{"$f":"F32+G32-H32","v":16849743.390000001},{"$f":"SUMIF('00 PDC SP'!A:A,'Tab 16-17'!B32,'00 PDC SP'!N:N)","v":0}]
["ABA410CR","ABA410FE","ABA410","  Crediti v/Regione o P.A. per mobilità attiva extraregionale",null,{"$f":"SUMIF('00 PDC SP'!A:A,'Tab 16-17'!A33,'00 PDC SP'!K:K)+SUMIF('00 PDC SP'!A:A,'Tab 16-17'!B33,'00 PDC SP'!K:K)","v":19005500.289999999},{"$f":"SUMIF('00 PDC SP'!A:A,'Tab 16-17'!A33,'00 PDC SP'!L:L)+SUMIF('00 PDC SP'!A:A,'Tab 16-17'!B33,'00 PDC SP'!L:L)","v":26206460.129999999},{"$f":"SUMIF('00 PDC SP'!A:A,'Tab 16-17'!A33,'00 PDC SP'!M:M)+SUMIF('00 PDC SP'!A:A,'Tab 16-17'!B33,'00 PDC SP'!M:M)","v":26206460.129999999},19005500.290000003,{"$f":"SUMIF('00 PDC SP'!A:A,'Tab 16-17'!B33,'00 PDC SP'!N:N)","v":0}]
["ABA420CR","ABA420FE","ABA420","  Crediti v/Regione o P.A. per acconto quota FSR",null,{"$f":"SUMIF('00 PDC SP'!A:A,'Tab 16-17'!A34,'00 PDC SP'!K:K)+SUMIF('00 PDC SP'!A:A,'Tab 16-17'!B34,'00 PDC SP'!K:K)","v":0},{"$f":"SUMIF('00 PDC SP'!A:A,'Tab 16-17'!A34,'00 PDC SP'!L:L)+SUMIF('00 PDC SP'!A:A,'Tab 16-17'!B34,'00 PDC SP'!L:L)","v":645488212.04999995},{"$f":"SUMIF('00 PDC SP'!A:A,'Tab 16-17'!A34,'00 PDC SP'!M:M)+SUMIF('00 PDC SP'!A:A,'Tab 16-17'!B34,'00 PDC SP'!M:M)","v":645488212.04999995},0,{"$f":"SUMIF('00 PDC SP'!A:A,'Tab 16-17'!B34,'00 PDC SP'!N:N)","v":0}]
["ABA430CR","ABA430FE","ABA430"," Crediti v/Regione o P.A. per finanziamento sanitario aggiuntivo corrente LEA",null,{"$f":"SUMIF('00 PDC SP'!A:A,'Tab 16-17'!A35,'00 PDC SP'!K:K)+SUMIF('00 PDC SP'!A:A,'Tab 16-17'!B35,'00 PDC SP'!K:K)","v":9378306.5299999993},{"$f":"SUMIF('00 PDC SP'!A:A,'Tab 16-17'!A35,'00 PDC SP'!L:L)+SUMIF('00 PDC SP'!A:A,'Tab 16-17'!B35,'00 PDC SP'!L:L)","v":9459338.4600000009},{"$f":"SUMIF('00 PDC SP'!A:A,'Tab 16-17'!A35,'00 PDC SP'!M:M)+SUMIF('00 PDC SP'!A:A,'Tab 16-17'!B35,'00 PDC SP'!M:M)","v":8933757.0899999999},9903887.9000000022,{"$f":"SUMIF('00 PDC SP'!A:A,'Tab 16-17'!B35,'00 PDC SP'!N:N)","v":0}]
["ABA440CR","ABA440FE","ABA440"," Crediti v/Regione o P.A. per finanziamento sanitario aggiuntivo corrente extra LEA",null,{"$f":"SUMIF('00 PDC SP'!A:A,'Tab 16-17'!A36,'00 PDC SP'!K:K)+SUMIF('00 PDC SP'!A:A,'Tab 16-17'!B36,'00 PDC SP'!K:K)","v":0},{"$f":"SUMIF('00 PDC SP'!A:A,'Tab 16-17'!A36,'00 PDC SP'!L:L)+SUMIF('00 PDC SP'!A:A,'Tab 16-17'!B36,'00 PDC SP'!L:L)","v":0},{"$f":"SUMIF('00 PDC SP'!A:A,'Tab 16-17'!A36,'00 PDC SP'!M:M)+SUMIF('00 PDC SP'!A:A,'Tab 16-17'!B36,'00 PDC SP'!M:M)","v":0},0,{"$f":"SUMIF('00 PDC SP'!A:A,'Tab 16-17'!B36,'00 PDC SP'!N:N)","v":0}]
["ABA450CR","ABA450FE","ABA450"," Crediti v/Regione o P.A. per spesa corrente - altro",null,{"$f":"SUMIF('00 PDC SP'!A:A,'Tab 16-17'!A37,'00 PDC SP'!K:K)+SUMIF('00 PDC SP'!A:A,'Tab 16-17'!B37,'00 PDC SP'!K:K)","v":0},{"$f":"SUMIF('00 PDC SP'!A:A,'Tab 16-17'!A37,'00 PDC SP'!L:L)+SUMIF('00 PDC SP'!A:A,'Tab 16-17'!B37,'00 PDC SP'!L:L)","v":0},{"$f":"SUMIF('00 PDC SP'!A:A,'Tab 16-17'!A37,'00 PDC SP'!M:M)+SUMIF('00 PDC SP'!A:A,'Tab 16-17'!B37,'00 PDC SP'!M:M)","v":0},0,{"$f":"SUMIF('00 PDC SP'!A:A,'Tab 16-17'!B37,'00 PDC SP'!N:N)","v":0}]
[{"$f":"C38&\"CR\"","v":"ABA451CR"},{"$f":"C38&\"FE\"","v":"ABA451FE"},"ABA451","  Crediti v/Regione o P.A per spesa corrente per STP(ex D.lgs.286/98)",null,{"$f":"SUMIF('00 PDC SP'!A:A,'Tab 16-17'!A38,'00 PDC SP'!K:K)+SUMIF('00 PDC SP'!A:A,'Tab 16-17'!B38,'00 PDC SP'!K:K)","v":0},{"$f":"SUMIF('00 PDC SP'!A:A,'Tab 16-17'!A38,'00 PDC SP'!L:L)+SUMIF('00 PDC SP'!A:A,'Tab 16-17'!B38,'00 PDC SP'!L:L)","v":216918.16},{"$f":"SUMIF('00 PDC SP'!A:A,'Tab 16-17'!A38,'00 PDC SP'!M:M)+SUMIF('00 PDC SP'!A:A,'Tab 16-17'!B38,'00 PDC SP'!M:M)","v":0},{"$f":"F38+G38-H38","v":216918.16},{"$f":"SUMIF('00 PDC SP'!A:A,'Tab 16-17'!B38,'00 PDC SP'!N:N)","v":0}]
["ABA460CR","ABA460FE","ABA460"," CREDITI V/REGIONE O P.A. PER RICERCA",null,{"$f":"SUMIF('00 PDC SP'!A:A,'Tab 16-17'!A39,'00 PDC SP'!K:K)+SUMIF('00 PDC SP'!A:A,'Tab 16-17'!B39,'00 PDC SP'!K:K)","v":0},{"$f":"SUMIF('00 PDC SP'!A:A,'Tab 16-17'!A39,'00 PDC SP'!L:L)+SUMIF('00 PDC SP'!A:A,'Tab 16-17'!B39,'00 PDC SP'!L:L)","v":0},{"$f":"SUMIF('00 PDC SP'!A:A,'Tab 16-17'!A39,'00 PDC SP'!M:M)+SUMIF('00 PDC SP'!A:A,'Tab 16-17'!B39,'00 PDC SP'!M:M)","v":0},{"$f":"F39+G39-H39","v":0},{"$f":"SUMIF('00 PDC SP'!A:A,'Tab 16-17'!B39,'00 PDC SP'!N:N)","v":0}]
[{"$f":"C40&\"CR\"","v":"ABA461CR"},{"$f":"C40&\"FE\"","v":"ABA461FE"},"ABA461"," Crediti v/Regione o P.A. per mobilità attiva internazionale",null,{"$f":"SUMIF('00 PDC SP'!A:A,'Tab 16-17'!A40,'00 PDC SP'!K:K)+SUMIF('00 PDC SP'!A:A,'Tab 16-17'!B40,'00 PDC SP'!K:K)","v":0},{"$f":"SUMIF('00 PDC SP'!A:A,'Tab 16-17'!A40,'00 PDC SP'!L:L)+SUMIF('00 PDC SP'!A:A,'Tab 16-17'!B40,'00 PDC SP'!L:L)","v":393536.14},{"$f":"SUMIF('00 PDC SP'!A:A,'Tab 16-17'!A40,'00 PDC SP'!M:M)+SUMIF('00 PDC SP'!A:A,'Tab 16-17'!B40,'00 PDC SP'!M:M)","v":393536.14},0,{"$f":"SUMIF('00 PDC SP'!A:A,'Tab 16-17'!B40,'00 PDC SP'!N:N)","v":0}]
[]
[null,null,"ABA470"," CREDITI V/REGIONE O P.A. PER VERSAMENTI A PATRIMONIO NETTO",null,{"$f":"SUM(F43:F45)","v":27912589},{"$f":"SUM(G43:G45)","v":682626.67},{"$f":"SUM(H43:H45)","v":1036430.8600000001},{"$f":"SUM(I43:I45)","v":27558784.809999999},{"$f":"SUM(J43:J45)","v":0}]
[{"$f":"C43&\"CR\"","v":"ABA480CR"},{"$f":"C43&\"FE\"","v":"ABA480FE"},"ABA480","  Crediti v/Regione o P.A. per finanziamenti per investimenti",null,{"$f":"SUMIF('00 PDC SP'!A:A,'Tab 16-17'!A43,'00 PDC SP'!K:K)+SUMIF('00 PDC SP'!A:A,'Tab 16-17'!B43,'00 PDC SP'!K:K)","v":38255},{"$f":"SUMIF('00 PDC SP'!A:A,'Tab 16-17'!A43,'00 PDC SP'!L:L)+SUMIF('00 PDC SP'!A:A,'Tab 16-17'!B43,'00 PDC SP'!L:L)","v":682626.67},{"$f":"SUMIF('00 PDC SP'!A:A,'Tab 16-17'!A43,'00 PDC SP'!M:M)+SUMIF('00 PDC SP'!A:A,'Tab 16-17'!B43,'00 PDC SP'!M:M)","v":682626.67},{"$f":"F43+G43-H43","v":38255},{"$f":"SUMIF('00 PDC SP'!A:A,'Tab 16-17'!B43,'00 PDC SP'!N:N)","v":0}]
["ABA490CR","ABA490FE","ABA490","  Crediti v/Regione o P.A. per incremento fondo dotazione",null,{"$f":"SUMIF('00 PDC SP'!A:A,'Tab 16-17'!A44,'00 PDC SP'!K:K)+SUMIF('00 PDC SP'!A:A,'Tab 16-17'!B44,'00 PDC SP'!K:K)","v":0},{"$f":"SUMIF('00 PDC SP'!A:A,'Tab 16-17'!A44,'00 PDC SP'!L:L)+SUMIF('00 PDC SP'!A:A,'Tab 16-17'!B44,'00 PDC SP'!L:L)","v":0},{"$f":"SUMIF('00 PDC SP'!A:A,'Tab 16-17'!A44,'00 PDC SP'!M:M)+SUMIF('00 PDC SP'!A:A,'Tab 16-17'!B44,'00 PDC SP'!M:M)","v":0},0,{"$f":"SUMIF('00 PDC SP'!A:A,'Tab 16-17'!B44,'00 PDC SP'!N:N)","v":0}]
[null,null,null,"  Crediti v/Regione o P.A. per ripiano perdite:",null,{"$f":"SUM(F46:F49)","v":27874334},{"$f":"SUM(G46:G49)","v":0},{"$f":"SUM(H46:H49)","v":353804.19},{"$f":"SUM(I46:I49)","v":27520529.809999999},{"$f":"SUM(J46:J49)","v":0}]
[{"$f":"C46&\"CR\"","v":"ABA500CR"},{"$f":"C46&\"FE\"","v":"ABA500FE"},"ABA500","  Crediti v/Regione o P.A. per ripiano perdite",null,{"$f":"SUMIF('00 PDC SP'!A:A,'Tab 16-17'!A46,'00 PDC SP'!K:K)+SUMIF('00 PDC SP'!A:A,'Tab 16-17'!B46,'00 PDC SP'!K:K)","v":27874334},{"$f":"SUMIF('00 PDC SP'!A:A,'Tab 16-17'!A46,'00 PDC SP'!L:L)+SUMIF('00 PDC SP'!A:A,'Tab 16-17'!B46,'00 PDC SP'!L:L)","v":0},{"$f":"SUMIF('00 PDC SP'!A:A,'Tab 16-17'!A46,'00 PDC SP'!M:M)+SUMIF('00 PDC SP'!A:A,'Tab 16-17'!B46,'00 PDC SP'!M:M)","v":353804.19},{"$f":"F46+G46-H46","v":27520529.809999999},{"$f":"SUMIF('00 PDC SP'!A:A,'Tab 16-17'!B46,'00 PDC SP'!N:N)","v":0}]
[null,null,"ABA501","  Crediti v/Regione o P.A. per anticioazione ripiano disavanzo programmato dai Piani Aziendali di cui all'art.1 comma 528 L. 208/2015",null,{"$f":"SUMIF('00 PDC SP'!A:A,'Tab 16-17'!A47,'00 PDC SP'!K:K)+SUMIF('00 PDC SP'!A:A,'Tab 16-17'!B47,'00 PDC SP'!K:K)","v":0},{"$f":"SUMIF('00 PDC SP'!A:A,'Tab 16-17'!A47,'00 PDC SP'!L:L)+SUMIF('00 PDC SP'!A:A,'Tab 16-17'!B47,'00 PDC SP'!L:L)","v":0},{"$f":"SUMIF('00 PDC SP'!A:A,'Tab 16-17'!A47,'00 PDC SP'!M:M)+SUMIF('00 PDC SP'!A:A,'Tab 16-17'!B47,'00 PDC SP'!M:M)","v":0},{"$f":"F47+G47-H47","v":0},{"$f":"SUMIF('00 PDC SP'!A:A,'Tab 16-17'!B47,'00 PDC SP'!N:N)","v":0}]
["ABA510CR","ABA510FE","ABA510","  Crediti v/Regione per copertura debiti al 31/12/2005",null,{"$f":"SUMIF('00 PDC SP'!A:A,'Tab 16-17'!A48,'00 PDC SP'!K:K)+SUMIF('00 PDC SP'!A:A,'Tab 16-17'!B48,'00 PDC SP'!K:K)","v":0},{"$f":"SUMIF('00 PDC SP'!A:A,'Tab 16-17'!A48,'00 PDC SP'!L:L)+SUMIF('00 PDC SP'!A:A,'Tab 16-17'!B48,'00 PDC SP'!L:L)","v":0},{"$f":"SUMIF('00 PDC SP'!A:A,'Tab 16-17'!A48,'00 PDC SP'!M:M)+SUMIF('00 PDC SP'!A:A,'Tab 16-17'!B48,'00 PDC SP'!M:M)","v":0},0,{"$f":"SUMIF('00 PDC SP'!A:A,'Tab 16-17'!B48,'00 PDC SP'!N:N)","v":0}]
["ABA520CR","ABA520FE","ABA520","Crediti v/Regione o P.A. per ricostituzione risorse da investimenti esercizi precedenti",null,{"$f":"SUMIF('00 PDC SP'!A:A,'Tab 16-17'!A49,'00 PDC SP'!K:K)+SUMIF('00 PDC SP'!A:A,'Tab 16-17'!B49,'00 PDC SP'!K:K)","v":0},{"$f":"SUMIF('00 PDC SP'!A:A,'Tab 16-17'!A49,'00 PDC SP'!L:L)+SUMIF('00 PDC SP'!A:A,'Tab 16-17'!B49,'00 PDC SP'!L:L)","v":0},{"$f":"SUMIF('00 PDC SP'!A:A,'Tab 16-17'!A49,'00 PDC SP'!M:M)+SUMIF('00 PDC SP'!A:A,'Tab 16-17'!B49,'00 PDC SP'!M:M)","v":0},0,{"$f":"SUMIF('00 PDC SP'!A:A,'Tab 16-17'!B49,'00 PDC SP'!N:N)","v":0}]
[null,null,"ABA521","Crediti v/Regione o P.A. per contributi L.210/92",null,{"$f":"SUMIF('00 PDC SP'!A:A,'Tab 16-17'!A50,'00 PDC SP'!K:K)+SUMIF('00 PDC SP'!A:A,'Tab 16-17'!B50,'00 PDC SP'!K:K)","v":0},{"$f":"SUMIF('00 PDC SP'!A:A,'Tab 16-17'!A50,'00 PDC SP'!L:L)+SUMIF('00 PDC SP'!A:A,'Tab 16-17'!B50,'00 PDC SP'!L:L)","v":0},{"$f":"SUMIF('00 PDC SP'!A:A,'Tab 16-17'!A50,'00 PDC SP'!M:M)+SUMIF('00 PDC SP'!A:A,'Tab 16-17'!B50,'00 PDC SP'!M:M)","v":0},{"$f":"F50+G50-H50","v":0},{"$f":"SUMIF('00 PDC SP'!A:A,'Tab 16-17'!B50,'00 PDC SP'!N:N)","v":0}]
[null,null,"ABA522","Crediti v/Regione o P.A. per contributi L.210/92-Aziende Sanitarie ",null,{"$f":"SUMIF('00 PDC SP'!A:A,'Tab 16-17'!A51,'00 PDC SP'!K:K)+SUMIF('00 PDC SP'!A:A,'Tab 16-17'!B51,'00 PDC SP'!K:K)","v":0},{"$f":"SUMIF('00 PDC SP'!A:A,'Tab 16-17'!A51,'00 PDC SP'!L:L)+SUMIF('00 PDC SP'!A:A,'Tab 16-17'!B51,'00 PDC SP'!L:L)","v":0},{"$f":"SUMIF('00 PDC SP'!A:A,'Tab 16-17'!A51,'00 PDC SP'!M:M)+SUMIF('00 PDC SP'!A:A,'Tab 16-17'!B51,'00 PDC SP'!M:M)","v":0},0,{"$f":"SUMIF('00 PDC SP'!A:A,'Tab 16-17'!B51,'00 PDC SP'!N:N)","v":0}]
[null,null,null,"TOTALE CREDITI V/REGIONE O PROVINCIA AUTONOMA",null,{"$f":"F30+F39+F42","v":217389652.13999999},{"$f":"G30+G39+G42","v":1528555250.4300003},{"$f":"H30+H39+H42","v":1545801481.03},{"$f":"I30+I39+I42","v":200143421.53999999},{"$f":"J27+J39+J42","v":0}]
[]
[null,null,null,"Tab. 17 – Movimentazioni dei crediti (valore nominale) – II parte"]
[null,null,"CODICE MOD. SP","CREDITI\n(VALORE NOMINALE)",null,"MOVIMENTI DELL'ESERCIZIO"]
[null,null,null,null,null,"Valore\niniziale","Incrementi","Decrementi","Valore finale","di cui per fatture da emettere"]
[{"$f":"C57&\"CR\"","v":"ABA530CR"},{"$f":"C57&\"FE\"","v":"ABA530FE"},"ABA530"," CREDITI V/COMUNI",null,{"$f":"SUMIF('00 PDC SP'!A:A,'Tab 16-17'!A57,'00 PDC SP'!K:K)+SUMIF('00 PDC SP'!A:A,'Tab 16-17'!B57,'00 PDC SP'!K:K)","v":236754.48},{"$f":"SUMIF('00 PDC SP'!A:A,'Tab 16-17'!A57,'00 PDC SP'!L:L)+SUMIF('00 PDC SP'!A:A,'Tab 16-17'!B57,'00 PDC SP'!L:L)","v":119866.62},{"$f":"SUMIF('00 PDC SP'!A:A,'Tab 16-17'!A57,'00 PDC SP'!M:M)+SUMIF('00 PDC SP'!A:A,'Tab 16-17'!B57,'00 PDC SP'!M:M)","v":142466.16},{"$f":"F57+G57-H57","v":214154.93999999997},{"$f":"SUMIF('00 PDC SP'!A:A,'Tab 16-17'!B57,'00 PDC SP'!N:N)","v":20214.71}]
[null,null,null,"  ……"]
[]
[null,null,"ABA550"," CREDITI V/AZIENDE SANITARIE PUBBLICHE DELLA REGIONE",null,{"$f":"SUM(F61:F63)","v":4640905.0900000008},{"$f":"SUM(G61:G63)","v":555107.37},491509.31999999995,4704503.1400000006,28165.5]
[{"$f":"C61&\"CR\"","v":"ABA560CR"},{"$f":"C61&\"FE\"","v":"ABA560FE"},"ABA560"," Crediti v/Aziende sanitarie pubbliche della Regione - mobilità in compensazione",null,{"$f":"SUMIF('00 PDC SP'!A:A,'Tab 16-17'!A61,'00 PDC SP'!K:K)+SUMIF('00 PDC SP'!A:A,'Tab 16-17'!B61,'00 PDC SP'!K:K)","v":0},{"$f":"SUMIF('00 PDC SP'!A:A,'Tab 16-17'!A61,'00 PDC SP'!L:L)+SUMIF('00 PDC SP'!A:A,'Tab 16-17'!B61,'00 PDC SP'!L:L)","v":0},{"$f":"SUMIF('00 PDC SP'!A:A,'Tab 16-17'!A61,'00 PDC SP'!M:M)+SUMIF('00 PDC SP'!A:A,'Tab 16-17'!B61,'00 PDC SP'!M:M)","v":0},{"$f":"F61+G61-H61","v":0},{"$f":"SUMIF('00 PDC SP'!A:A,'Tab 16-17'!B61,'00 PDC SP'!N:N)","v":0}]
["ABA570CR","ABA570FE","ABA570"," Crediti v/Aziende sanitarie pubbliche della Regione - mobilità non in compensazione",null,{"$f":"SUMIF('00 PDC SP'!A:A,'Tab 16-17'!A62,'00 PDC SP'!K:K)+SUMIF('00 PDC SP'!A:A,'Tab 16-17'!B62,'00 PDC SP'!K:K)","v":0},{"$f":"SUMIF('00 PDC SP'!A:A,'Tab 16-17'!A62,'00 PDC SP'!L:L)+SUMIF('00 PDC SP'!A:A,'Tab 16-17'!B62,'00 PDC SP'!L:L)","v":0},{"$f":"SUMIF('00 PDC SP'!A:A,'Tab 16-17'!A62,'00 PDC SP'!M:M)+SUMIF('00 PDC SP'!A:A,'Tab 16-17'!B62,'00 PDC SP'!M:M)","v":0},0,{"$f":"SUMIF('00 PDC SP'!A:A,'Tab 16-17'!B62,'00 PDC SP'!N:N)","v":0}]
["ABA580CR","ABA580FE","ABA580"," Crediti v/Aziende sanitarie pubbliche della Regione - altre\n prestazioni",null,{"$f":"SUMIF('00 PDC SP'!A:A,'Tab 16-17'!A63,'00 PDC SP'!K:K)+SUMIF('00 PDC SP'!A:A,'Tab 16-17'!B63,'00 PDC SP'!K:K)","v":4640905.0900000008},{"$f":"SUMIF('00 PDC SP'!A:A,'Tab 16-17'!A63,'00 PDC SP'!L:L)+SUMIF('00 PDC SP'!A:A,'Tab 16-17'!B63,'00 PDC SP'!L:L)","v":555107.37},{"$f":"SUMIF('00 PDC SP'!A:A,'Tab 16-17'!A63,'00 PDC SP'!M:M)+SUMIF('00 PDC SP'!A:A,'Tab 16-17'!B63,'00 PDC SP'!M:M)","v":491509.31999999995},4704503.1400000006,{"$f":"SUMIF('00 PDC SP'!A:A,'Tab 16-17'!B63,'00 PDC SP'!N:N)","v":28165.5}]
["ABA590CR","ABA590FE","ABA590"," Acconto quota FSR da distribuire",null,{"$f":"SUMIF('00 PDC SP'!A:A,'Tab 16-17'!A64,'00 PDC SP'!K:K)+SUMIF('00 PDC SP'!A:A,'Tab 16-17'!B64,'00 PDC SP'!K:K)","v":0},{"$f":"SUMIF('00 PDC SP'!A:A,'Tab 16-17'!A64,'00 PDC SP'!L:L)+SUMIF('00 PDC SP'!A:A,'Tab 16-17'!B64,'00 PDC SP'!L:L)","v":0},{"$f":"SUMIF('00 PDC SP'!A:A,'Tab 16-17'!A64,'00 PDC SP'!M:M)+SUMIF('00 PDC SP'!A:A,'Tab 16-17'!B64,'00 PDC SP'!M:M)","v":0},{"$f":"F64+G64-H64","v":0},{"$f":"SUMIF('00 PDC SP'!A:A,'Tab 16-17'!B64,'00 PDC SP'!N:N)","v":0}]
[null,null,"ABA591"," Crediti v/Aziende sanitarie pubbliche della Regione per anticipazione ripiano disavanzo programmato dai piani aziendali di cui alla art.1 , comma 528, L.208/2015\n prestazioni",null,{"$f":"SUMIF('00 PDC SP'!A:A,'Tab 16-17'!A65,'00 PDC SP'!K:K)+SUMIF('00 PDC SP'!A:A,'Tab 16-17'!B65,'00 PDC SP'!K:K)","v":0},{"$f":"SUMIF('00 PDC SP'!A:A,'Tab 16-17'!A65,'00 PDC SP'!L:L)+SUMIF('00 PDC SP'!A:A,'Tab 16-17'!B65,'00 PDC SP'!L:L)","v":0},{"$f":"SUMIF('00 PDC SP'!A:A,'Tab 16-17'!A65,'00 PDC SP'!M:M)+SUMIF('00 PDC SP'!A:A,'Tab 16-17'!B65,'00 PDC SP'!M:M)","v":0},{"$f":"F65+G65-H65","v":0},{"$f":"SUMIF('00 PDC SP'!A:A,'Tab 16-17'!B65,'00 PDC SP'!N:N)","v":0}]
["ABA600CR","ABA600FE","ABA600"," CREDITI V/AZIENDE SANITARIE PUBBLICHE FUORI REGIONE",null,{"$f":"SUMIF('00 PDC SP'!A:A,'Tab 16-17'!A66,'00 PDC SP'!K:K)+SUMIF('00 PDC SP'!A:A,'Tab 16-17'!B66,'00 PDC SP'!K:K)","v":196101.72},{"$f":"SUMIF('00 PDC SP'!A:A,'Tab 16-17'!A66,'00 PDC SP'!L:L)+SUMIF('00 PDC SP'!A:A,'Tab 16-17'!B66,'00 PDC SP'!L:L)","v":127847.01999999999},{"$f":"SUMIF('00 PDC SP'!A:A,'Tab 16-17'!A66,'00 PDC SP'!M:M)+SUMIF('00 PDC SP'!A:A,'Tab 16-17'!B66,'00 PDC SP'!M:M)","v":166520.02000000002},157428.71999999997,{"$f":"SUMIF('00 PDC SP'!A:A,'Tab 16-17'!B66,'00 PDC SP'!N:N)","v":28598.430000000008}]
[null,null,null,"TOTALE CREDITI V/AZIENDE SANITARIE PUBBLICHE",null,{"$f":"F60+F64+F65+F66","v":4837006.8100000005},{"$f":"G60+G64+G65+G66","v":682954.39},658029.34,4861931.8600000003,56763.930000000008]
[]
[null,null,null," CREDITI V/SOCIETA' PARTECIPATE E/O ENTI DIPENDENTI",null,{"$f":"F70+F72+F73","v":5931.31},{"$f":"G70+G72+G73","v":0},{"$f":"H70+H72+H73","v":0},{"$f":"I70+I72+I73","v":5931.31},{"$f":"J70+J72+J73","v":0}]
[{"$f":"C70&\"CR\"","v":"ABA620CR"},{"$f":"C70&\"FE\"","v":"ABA620FE"},"ABA620"," Crediti v/enti regionali:",null,{"$f":"SUMIF('00 PDC SP'!A:A,'Tab 16-17'!A70,'00 PDC SP'!K:K)+SUMIF('00 PDC SP'!A:A,'Tab 16-17'!B70,'00 PDC SP'!K:K)","v":5931.31},{"$f":"SUMIF('00 PDC SP'!A:A,'Tab 16-17'!A70,'00 PDC SP'!L:L)+SUMIF('00 PDC SP'!A:A,'Tab 16-17'!B70,'00 PDC SP'!L:L)","v":0},{"$f":"SUMIF('00 PDC SP'!A:A,'Tab 16-17'!A70,'00 PDC SP'!M:M)+SUMIF('00 PDC SP'!A:A,'Tab 16-17'!B70,'00 PDC SP'!M:M)","v":0},{"$f":"F70+G70-H70","v":5931.31},{"$f":"SUMIF('00 PDC SP'!A:A,'Tab 16-17'!B70,'00 PDC SP'!N:N)","v":0}]
[null,null,null,"Arta",null,5931,0,0,5931]
[{"$f":"C72&\"CR\"","v":"ABA630CR"},{"$f":"C72&\"FE\"","v":"ABA630FE"},"ABA630"," Crediti v/sperimentazioni gestionali:",null,{"$f":"SUMIF('00 PDC SP'!A:A,'Tab 16-17'!A72,'00 PDC SP'!K:K)+SUMIF('00 PDC SP'!A:A,'Tab 16-17'!B72,'00 PDC SP'!K:K)","v":0},{"$f":"SUMIF('00 PDC SP'!A:A,'Tab 16-17'!A72,'00 PDC SP'!L:L)+SUMIF('00 PDC SP'!A:A,'Tab 16-17'!B72,'00 PDC SP'!L:L)","v":0},{"$f":"SUMIF('00 PDC SP'!A:A,'Tab 16-17'!A72,'00 PDC SP'!M:M)+SUMIF('00 PDC SP'!A:A,'Tab 16-17'!B72,'00 PDC SP'!M:M)","v":0},{"$f":"F72+G72-H72","v":0},{"$f":"SUMIF('00 PDC SP'!A:A,'Tab 16-17'!B72,'00 PDC SP'!N:N)","v":0}]
["ABA640CR","ABA640FE","ABA640"," Crediti v/altre partecipate:",null,{"$f":"SUMIF('00 PDC SP'!A:A,'Tab 16-17'!A73,'00 PDC SP'!K:K)+SUMIF('00 PDC SP'!A:A,'Tab 16-17'!B73,'00 PDC SP'!K:K)","v":0},{"$f":"SUMIF('00 PDC SP'!A:A,'Tab 16-17'!A73,'00 PDC SP'!L:L)+SUMIF('00 PDC SP'!A:A,'Tab 16-17'!B73,'00 PDC SP'!L:L)","v":0},{"$f":"SUMIF('00 PDC SP'!A:A,'Tab 16-17'!A73,'00 PDC SP'!M:M)+SUMIF('00 PDC SP'!A:A,'Tab 16-17'!B73,'00 PDC SP'!M:M)","v":0},0,{"$f":"SUMIF('00 PDC SP'!A:A,'Tab 16-17'!B73,'00 PDC SP'!N:N)","v":0}]
[]
[{"$f":"C75&\"CR\"","v":"ABA650CR"},{"$f":"C75&\"FE\"","v":"ABA650FE"},"ABA650"," CREDITI V/ERARIO",null,{"$f":"SUMIF('00 PDC SP'!A:A,'Tab 16-17'!A75,'00 PDC SP'!K:K)+SUMIF('00 PDC SP'!A:A,'Tab 16-17'!B75,'00 PDC SP'!K:K)","v":16904.54},{"$f":"SUMIF('00 PDC SP'!A:A,'Tab 16-17'!A75,'00 PDC SP'!L:L)+SUMIF('00 PDC SP'!A:A,'Tab 16-17'!B75,'00 PDC SP'!L:L)","v":422897.97},{"$f":"SUMIF('00 PDC SP'!A:A,'Tab 16-17'!A75,'00 PDC SP'!M:M)+SUMIF('00 PDC SP'!A:A,'Tab 16-17'!B75,'00 PDC SP'!M:M)","v":424409},{"$f":"F75+G75-H75","v":15393.509999999951},{"$f":"SUMIF('00 PDC SP'!A:A,'Tab 16-17'!B75,'00 PDC SP'!N:N)","v":0}]
[]
[null,null,null," CREDITI V/ALTRI",null,{"$f":"F78+F79+F80+F85+F87","v":6210198.6800000016},{"$f":"G78+G79+G80+G85+G87","v":31643578.949999999},{"$f":"H78+H79+H80+H85+H87","v":29975252.579999998},{"$f":"I78+I79+I80+I85+I87","v":7878525.0500000017},{"$f":"J78+J79+J80+J85+J87","v":272666.17}]
[{"$f":"C78&\"CR\"","v":"ABA670CR"},{"$f":"C78&\"FE\"","v":"ABA670FE"},"ABA670"," Crediti v/clienti privati",null,{"$f":"SUMIF('00 PDC SP'!A:A,'Tab 16-17'!A78,'00 PDC SP'!K:K)+SUMIF('00 PDC SP'!A:A,'Tab 16-17'!B78,'00 PDC SP'!K:K)","v":5127249.2700000014},{"$f":"SUMIF('00 PDC SP'!A:A,'Tab 16-17'!A78,'00 PDC SP'!L:L)+SUMIF('00 PDC SP'!A:A,'Tab 16-17'!B78,'00 PDC SP'!L:L)","v":30477769.649999999},{"$f":"SUMIF('00 PDC SP'!A:A,'Tab 16-17'!A78,'00 PDC SP'!M:M)+SUMIF('00 PDC SP'!A:A,'Tab 16-17'!B78,'00 PDC SP'!M:M)","v":29825654.66},{"$f":"F78+G78-H78","v":5779364.2600000016},{"$f":"SUMIF('00 PDC SP'!A:A,'Tab 16-17'!B78,'00 PDC SP'!N:N)","v":272666.17}]
["ABA680CR","ABA680FE","ABA680"," Crediti v/gestioni liquidatorie",null,{"$f":"SUMIF('00 PDC SP'!A:A,'Tab 16-17'!A79,'00 PDC SP'!K:K)+SUMIF('00 PDC SP'!A:A,'Tab 16-17'!B79,'00 PDC SP'!K:K)","v":0},{"$f":"SUMIF('00 PDC SP'!A:A,'Tab 16-17'!A79,'00 PDC SP'!L:L)+SUMIF('00 PDC SP'!A:A,'Tab 16-17'!B79,'00 PDC SP'!L:L)","v":0},{"$f":"SUMIF('00 PDC SP'!A:A,'Tab 16-17'!A79,'00 PDC SP'!M:M)+SUMIF('00 PDC SP'!A:A,'Tab 16-17'!B79,'00 PDC SP'!M:M)","v":0},{"$f":"F79+G79-H79","v":0},{"$f":"SUMIF('00 PDC SP'!A:A,'Tab 16-17'!B79,'00 PDC SP'!N:N)","v":0}]
["ABA690CR","ABA690FE","ABA690"," Crediti v/altri soggetti pubblici",null,{"$f":"SUMIF('00 PDC SP'!A:A,'Tab 16-17'!A80,'00 PDC SP'!K:K)+SUMIF('00 PDC SP'!A:A,'Tab 16-17'!B80,'00 PDC SP'!K:K)","v":217546.71},{"$f":"SUMIF('00 PDC SP'!A:A,'Tab 16-17'!A80,'00 PDC SP'!L:L)+SUMIF('00 PDC SP'!A:A,'Tab 16-17'!B80,'00 PDC SP'!L:L)","v":155400.41},{"$f":"SUMIF('00 PDC SP'!A:A,'Tab 16-17'!A80,'00 PDC SP'!M:M)+SUMIF('00 PDC SP'!A:A,'Tab 16-17'!B80,'00 PDC SP'!M:M)","v":137662.29},{"$f":"F80+G80-H80","v":235284.83},{"$f":"SUMIF('00 PDC SP'!A:A,'Tab 16-17'!B80,'00 PDC SP'!N:N)","v":0}]
[null,null,null,"Crediti v/altri soggetti pubblici",null,217547,155400.41,137662.82999999999,235284.58000000005]
[null,null,null,"Fatture da emettere v/altri soggetti pubblici",null,0,0,0,0]
[null,null,null,"Note credito da emettere v/altri soggetti pubblici",null,0,0,0,0]
[]
[{"$f":"C85&\"CR\"","v":"ABA700CR"},{"$f":"C85&\"FE\"","v":"ABA700FE"},"ABA700"," Crediti v/altri soggetti pubblici per ricerca",null,{"$f":"SUMIF('00 PDC SP'!A:A,'Tab 16-17'!A85,'00 PDC SP'!K:K)+SUMIF('00 PDC SP'!A:A,'Tab 16-17'!B85,'00 PDC SP'!K:K)","v":0},{"$f":"SUMIF('00 PDC SP'!A:A,'Tab 16-17'!A85,'00 PDC SP'!L:L)+SUMIF('00 PDC SP'!A:A,'Tab 16-17'!B85,'00 PDC SP'!L:L)","v":0},{"$f":"SUMIF('00 PDC SP'!A:A,'Tab 16-17'!A85,'00 PDC SP'!M:M)+SUMIF('00 PDC SP'!A:A,'Tab 16-17'!B85,'00 PDC SP'!M:M)","v":0},{"$f":"F85+G85-H85","v":0},{"$f":"SUMIF('00 PDC SP'!A:A,'Tab 16-17'!B85,'00 PDC SP'!N:N)","v":0}]
[null,null,null,"  ……"]
[{"$f":"C87&\"CR\"","v":"ABA710CR"},{"$f":"C87&\"FE\"","v":"ABA710FE"},"ABA710"," Altri crediti diversi",null,{"$f":"F88","v":865402.7},{"$f":"G88","v":1010408.89},11935.63,{"$f":"F87+G87-H87","v":1863875.96},{"$f":"SUMIF('00 PDC SP'!A:A,'Tab 16-17'!B87,'00 PDC SP'!N:N)","v":0}]
[{"$f":"C88&\"CR\"","v":"ABA711CR"},{"$f":"C88&\"FE\"","v":"ABA711FE"},"ABA711","Altri crediti diversi",{"$f":"SUMIF('00 PDC SP'!#REF!,'Tab 16-17'!#REF!,'00 PDC SP'!J:J)+SUMIF('00 PDC SP'!#REF!,'Tab 16-17'!A88,'00 PDC SP'!J:J)","v":{"$error":"#REF!"}},{"$f":"SUMIF('00 PDC SP'!A:A,'Tab 16-17'!A88,'00 PDC SP'!K:K)+SUMIF('00 PDC SP'!A:A,'Tab 16-17'!B88,'00 PDC SP'!K:K)","v":865402.7},{"$f":"SUMIF('00 PDC SP'!A:A,'Tab 16-17'!A88,'00 PDC SP'!L:L)+SUMIF('00 PDC SP'!A:A,'Tab 16-17'!B88,'00 PDC SP'!L:L)","v":1010408.89},{"$f":"SUMIF('00 PDC SP'!A:A,'Tab 16-17'!A88,'00 PDC SP'!M:M)+SUMIF('00 PDC SP'!A:A,'Tab 16-17'!B88,'00 PDC SP'!M:M)","v":11935.63},{"$f":"F88+G88-H88","v":1863875.96},{"$f":"SUMIF('00 PDC SP'!A:A,'Tab 16-17'!B88,'00 PDC SP'!N:N)","v":0}]
[null,null,null,"Altri crediti diversi",null,865403,1010408.89,11936,1863875.96]
[null,null,null,"Fatture da emettere v/altri crediti diversi",null,0,0,0,0]
[{"$f":"C91&\"CR\"","v":"ABA712CR"},{"$f":"C91&\"FE\"","v":"ABA712FE"},"ABA712","note di credito da emettere ( diverse)",null,{"$f":"SUMIF('00 PDC SP'!A:A,'Tab 16-17'!A91,'00 PDC SP'!K:K)+SUMIF('00 PDC SP'!A:A,'Tab 16-17'!B91,'00 PDC SP'!K:K)","v":0},{"$f":"SUMIF('00 PDC SP'!A:A,'Tab 16-17'!A91,'00 PDC SP'!L:L)+SUMIF('00 PDC SP'!A:A,'Tab 16-17'!B91,'00 PDC SP'!L:L)","v":0},{"$f":"SUMIF('00 PDC SP'!A:A,'Tab 16-17'!A91,'00 PDC SP'!M:M)+SUMIF('00 PDC SP'!A:A,'Tab 16-17'!B91,'00 PDC SP'!M:M)","v":0},{"$f":"F91+G91-H91","v":0},{"$f":"SUMIF('00 PDC SP'!A:A,'Tab 16-17'!B91,'00 PDC SP'!N:N)","v":0}]
["ABA713CR","ABA713FE","ABA713","Altri crediti verso erogatori ( privati accreditarti e convenzionati) di prestazioni sanitarie",null,{"$f":"SUMIF('00 PDC SP'!A:A,'Tab 16-17'!A92,'00 PDC SP'!K:K)+SUMIF('00 PDC SP'!A:A,'Tab 16-17'!B92,'00 PDC SP'!K:K)","v":0},{"$f":"SUMIF('00 PDC SP'!A:A,'Tab 16-17'!A92,'00 PDC SP'!L:L)+SUMIF('00 PDC SP'!A:A,'Tab 16-17'!B92,'00 PDC SP'!L:L)","v":0},{"$f":"SUMIF('00 PDC SP'!A:A,'Tab 16-17'!A92,'00 PDC SP'!M:M)+SUMIF('00 PDC SP'!A:A,'Tab 16-17'!B92,'00 PDC SP'!M:M)","v":0},{"$f":"F92+G92-H92","v":0},{"$f":"SUMIF('00 PDC SP'!A:A,'Tab 16-17'!B92,'00 PDC SP'!N:N)","v":0}]
["ABA714CR","ABA714FE","ABA714","Altri crediti verso erogatori ( privati accreditarti e convenzionati) di prestazioni sanitarie",null,{"$f":"SUMIF('00 PDC SP'!A:A,'Tab 16-17'!A93,'00 PDC SP'!K:K)+SUMIF('00 PDC SP'!A:A,'Tab 16-17'!B93,'00 PDC SP'!K:K)","v":0},{"$f":"SUMIF('00 PDC SP'!A:A,'Tab 16-17'!A93,'00 PDC SP'!L:L)+SUMIF('00 PDC SP'!A:A,'Tab 16-17'!B93,'00 PDC SP'!L:L)","v":0},{"$f":"SUMIF('00 PDC SP'!A:A,'Tab 16-17'!A93,'00 PDC SP'!M:M)+SUMIF('00 PDC SP'!A:A,'Tab 16-17'!B93,'00 PDC SP'!M:M)","v":0},0,{"$f":"SUMIF('00 PDC SP'!A:A,'Tab 16-17'!B93,'00 PDC SP'!N:N)","v":0}]
["ABA715CR","ABA715FE","ABA715","note di credito da emettere ( ( privati accreditarti e convenzionati)",null,{"$f":"SUMIF('00 PDC SP'!A:A,'Tab 16-17'!A94,'00 PDC SP'!K:K)+SUMIF('00 PDC SP'!A:A,'Tab 16-17'!B94,'00 PDC SP'!K:K)","v":0},{"$f":"SUMIF('00 PDC SP'!A:A,'Tab 16-17'!A94,'00 PDC SP'!L:L)+SUMIF('00 PDC SP'!A:A,'Tab 16-17'!B94,'00 PDC SP'!L:L)","v":0},{"$f":"SUMIF('00 PDC SP'!A:A,'Tab 16-17'!A94,'00 PDC SP'!M:M)+SUMIF('00 PDC SP'!A:A,'Tab 16-17'!B94,'00 PDC SP'!M:M)","v":0},{"$f":"F94+G94-H94","v":0},{"$f":"SUMIF('00 PDC SP'!A:A,'Tab 16-17'!B94,'00 PDC SP'!N:N)","v":0}]
[]
[null,null,"La voce \"Crediti verso aziende sanitarie pubbliche della Regione - altre prestazioni\" è così composta:"]
[]
[null,null,null,"Tab. 17bis – Dettaglio \"Crediti verso aziende sanitarie pubbliche della Regione - altre prestazioni\""]
[null,null,"Codice Conto","Descrizione",null,{"$f":"\"Saldo al 31/12/\"&'00 PDC SP'!$F$2","v":"Saldo al 31/12/2019"}]
[null,null,"0102021418","Crediti verso ASL  Avezzano Sulmona  L'Aquila",null,546878.41]
[null,null,"0102021419","Fatture da Emettere V/ASL  Avezzano Sulmona  L'Aquila",null,2141.44]
[null,null,"0102021420","Crediti verso ASL  Lanciano Vasto Chieti",null,287923.44]
[null,null,"0102021421","Fatture da Emettere verso ASL  Lanciano Vasto Chieti",null,21559.360000000001]
[null,null,"0102021424","Crediti verso ASL  di Teramo",null,3841535.79]
[null,null,"0102021425","Fatture da emettere v/ASL Teramo per altre prestazioni",null,4464.7]
[null,null,"TOTALE",null,null,{"$f":"SUM(F100:F105)","v":4704503.1400000006}]
[]
[]
[null,null,"Il conto \"Crediti verso ASL di Teramo\" accoglie anche le registrazioni di documenti antecedenti alla data di adozione del nuovo Piano dei Conti. Infatti, il nuovo Piano dei Conti declina i crediti verso ASL in base a ciascuna azienda debitrice, a differenza del precedente Piano dei Conti, che prevedeva un conto unico. Si è ritenuto opportuno non riclassificare i crediti artificiosamente da un conto all'altro. Ad ogni buon conto si fa presente che la ripartizione del credito dell'Azienda verso le ASL della Regione è evidenziata nella tabella 24. "]
[]
[]
[]
[]
[]
[]
[]
[]
[null,null,"La voce \"Crediti verso altri\" è così composta:"]
[]
[null,null,null,"Tab. 17-ter – Dettaglio \"Crediti verso altri\""]
[null,null,"Codice Conto","Descrizione",null,{"$f":"\"Saldo al 31/12/\"&'00 PDC SP'!$F$2","v":"Saldo al 31/12/2019"}]
[null,null,"0102022101","Crediti v/clienti privati",null,5485253.8700000001]
[null,null,"0102022102","Fatture da emettere v/clienti privati",null,272781.96999999997]
[null,null,"0102022103","Crediti v/utenza per proventi da ticket",null,19821.77]
[null,null,"0102022109","Crediti v/dipendenti",null,1622.45]
[null,null,"0205110534","Note credito da emettere v/clienti privati",null,-115.8]
[null,null,"0102022301","Crediti v/altri soggetti pubblici",null,235284.83]
[null,null,"0102022302","Fatture da emettere v/altri soggetti pubblici",null,0]
[null,null,"0102022501","Altri crediti diversi",null,1863875.96]
[null,null,"TOTALE",null,null,{"$f":"SUM(F122:F129)","v":7878525.0499999998}]

{"sheet":"Dettaglio ABA390 ","index":19,"n_rows":86,"n_cols":8,"rows_kept":86,"cut":false,"hidden":false,"merged":[[1,1,1,7]]}
[]
[null,"Dettaglio  \"Crediti verso Regione per quota FSR\"  (conto 01.02.02.11.03)"]
[null,"DESCRIZIONE ABA390","TIPOLOGIA DI CREDITO","PROVVEDIMENTI REGIONALI","DATA PROVVEDIMENTI","CREDITO","LIQUIDAZIONE","SALDO"]
[null,"SALDO ABA390 AL 31/12/2018",null,null,null,144243512.93000001,null,{"$f":"F4-G4","v":144243512.93000001}]
[null,"FONDO SVALUTAZIONE ABA390 AL 31/12/2018",null,null,null,-3047520.97,null,{"$f":"F5","v":-3047520.97}]
[null,"ATTRIBUZIONE QUOTA INDISTINTA ",null,null,null,548308449.08000004,null,{"$f":"+F6-G6","v":548308449.08000004}]
[null,"ANTICIPAZIONE GENNAIO 2019","ANTICIPAZIONI 2019","DPF012/01","2019-01-11",null,46174763,{"$f":"+F7-G7","v":-46174763}]
[null,"ANTICIPAZIONE FEBBRAIO 2019","ANTICIPAZIONI 2019","DPF012/08","2019-02-11",null,46066701,{"$f":"+F8-G8","v":-46066701}]
[null,"ANTICIPAZIONE MARZO 2019","ANTICIPAZIONI 2019","DPF012/12","2019-03-11",null,46162236,-46162236]
[null,"ANTICIPAZIONE APRILE 2019","ANTICIPAZIONI 2019","DPF012/20","2019-04-10",null,46100218,-46100218]
[null,"ANTICIPAZIONE MAGGIO 2019","ANTICIPAZIONI 2019","DPF012/25","2019-05-09",null,46138783,-46138783]
[null,"ANTICIPAZIONE GIUGNO 2019","ANTICIPAZIONI 2019","DPF012/32","2019-06-07",null,46138783,-46138783]
[null,"ANTICIPAZIONE LUGLIO 2019","ANTICIPAZIONI 2019","DPF012/39","2019-07-09",null,46138783,-46138783]
[null,"ANTICIPAZIONE AGOSTO 2019","ANTICIPAZIONI 2019","DPF012/41","2019-08-06",null,46138783,-46138783]
[null,"ANTICIPAZIONE SETTEMBRE 2019","ANTICIPAZIONI 2019","DPF012/43","2019-09-02",null,46187748,-46187748]
[null,"ANTICIPAZIONE OTTOBRE 2019","ANTICIPAZIONI 2019","DPF012/47","2019-10-07",null,45989040,-45989040]
[null,"ANTICIPAZIONE NOVEMBRE 2019","ANTICIPAZIONI 2019","DPF012/49","2019-11-07",null,42851496,-42851496]
[null,"ANTICIPAZIONE DICEMBRE 2019","ANTICIPAZIONI 2019","DPF012/54","2019-12-06",null,45583703,-45583703]
[null,"TRATTENUTA DPC",null,null,null,null,{"$f":"11254953.32+129957.29","v":11384910.609999999},-11384910.609999999]
[null,"SOPRAVVENIENZE ATTIVE MOBILITÀ INTRA REGIONALE DA PUBBLICO 2018",null,"RA/7358179/DPF012",43819,1348470.59,null,{"$f":"+F20-G20","v":1348470.59}]
[null,"SOPRAVVENIENZE PASSIVA MOBILITÀ INTRA REGIONALE DA PUBBLICO 2018",null,"RA/7358179/DPF012",43819,null,1777259.44,{"$f":"+F21-G21","v":-1777259.44}]
[null,"  MOBILITÀ PASSIVA INTRAREGIONALE DA PUBBLICO",null,null,null,null,12973386.119999999,{"$f":"+F22-G22","v":-12973386.119999999}]
[null,"  MOBILITÀ PASSIVA INTRAREGIONALE DA PRIVATO",null,null,null,0,39081984.270000003,-39081984.270000003]
[null,"  MOBILITÀ ATTIVA INTRAREGIONALE DA PRIVATO",null,null,null,54190942.939999998,0,54190942.939999998]
[null,"  MOBILITÀ PASSIVA INTRAREGIONALE DA PUBBLICO",null,null,null,48285289.380000003,null,48285289.380000003]
[null,"  MOBILITÀ ATTIVA EXTRAREGIONALE ",null,null,null,26599996.27,null,26599996.27]
[null,"  MOBILITÀ PASSIVA EXTRAREGIONALE ",null,null,null,null,38960621.410000004,-38960621.410000004]
[null,"DEFIBRILLAZIONE PRECOCE - ACQUISTO ATTREZZATURE E FORMAZIONE - ANTICIPO 2019","FUNZIONI REGIONALI 2019","DPF017/13\n","2019-04-10",25000,25000,0]
[null,"DEFIBRILLAZIONE PRECOCE  ONERI FORMAZIONE BLSD 1 SEMESTRE 2019","FUNZIONI REGIONALI 2019","DPF017/26\n","2019-08-30",52560,52560,0]
[null,"DEFIBRILLAZIONE PRECOCE  2019 - RETTIFICA DPF017/4 del 28/01/2020","FUNZIONI REGIONALI 2019","DPF017/05\n","2020-01-29",11874,null,11874]
[null,"DEFIBRILLAZIONE PRECOCE  2019 - RETTIFICA DPF017/4 del 28/01/2020","FUNZIONI REGIONALI 2019","DPF017/41\n","2020-01-29",48630,null,48630]
[null,"PROVVIDENZE A FAVORE DEI NEFROPATICI","FUNZIONI REGIONALI 2019","DPF009/27","2019-05-07",360826.65,115763.07,245063.58000000002]
[null,"PIANO REGIONALE DI PREVENZIONE 2019","FUNZIONI REGIONALI 2019","DPF010/10","2019-04-17",1092799.8600000001,1092799.8600000001,0]
[null,"RILASCIO PATENTINI PER FITOFARMACI","FUNZIONI REGIONALI 2019","DPF011/80","2019-07-19",10109.1,10109.1,0]
[null,"PLASMA PRODUZIONE","FUNZIONI REGIONALI 2019","DPF003/140","2019-10-03",1150945.3,1150945.3,0]
[null,"ONERI SERVIZIO DI ELISOCCORSO ","FUNZIONI REGIONALI 2019","DPF017/35","2019-10-21",3672964.94,2472964.94,1200000]
[null,"PIANI ANNUALI DI EMERGENZA","FUNZIONI REGIONALI 2019","DPF011/120 ","2019-10-23",11466.75,11466.75,0]
[null,"TSE ","FUNZIONI REGIONALI 2019","DPF011/124","2019-10-29",44077.120000000003,44077.120000000003,0]
[null,"PIANO REGIONALE DI PREVENZIONE 2014-2018 PROROGA 2019","FUNZIONI REGIONALI 2019","DPF011/115","2019-10-21",250000,250000,0]
[null,"PIANO EMATOLOGICO REGIONALE. L.R. 5/1998","FUNZIONI REGIONALI 2019","DPF003/142 ","2019-10-04",528228,528228,0]
[null,"BANCA DEL SANGUE PLACENTARE","FUNZIONI REGIONALI 2019","DPF003/143","2019-10-04",258000,258000,0]
[null,"CAMPAGNA VACCINALE 2019-2020","FUNZIONI REGIONALI 2019","DPF010/31","2019-10-18",107093.75,107093.75,0]
[null,"ECONOMIE FUNZIONI REGIONALI 2019","FUNZIONI REGIONALI 2019","DPF012/59","2019-12-23",1046739.44,null,1046739.44]
[null,"INTERVENTI IN MATERIA DI LOTTA AL TABAGISMO","FUNZIONI REGIONALI 2019","DPF006/01","2020-02-28",36426.660000000003,null,36426.660000000003]
[null,"PROGETTI OBIETTIVO 2019","SOMME VINCOLATE 2019","RA/358179/DPF012","2019-12-20",4740235.87,null,4740235.87]
[null,"PROGETTI OBIETTIVO 2019 - PIANO REGIONALE DI PREVENZIONE 2019","SOMME VINCOLATE 2019","RA/358179/DPF012","2019-12-20",1664771.79,null,1664771.79]
[null,"PREVENZIONE E ASSIST. DETENUTI INTERNATI TOSSICODIPENDENTI 2019","SOMME VINCOLATE 2019","DPF015/72","2019-12-13",47292,null,47292]
[null,"Finanziamento dello stato per la prevenzione e l'assistenza dei detenuti tossicodipendenti","SOMME VINCOLATE 2019","DPF015/73","2019-12-12",1081066.1499999999,null,1081066.1499999999]
[null,"RIMBORSO ACQUISTO FARMACI INNOVATIVI","SOMME VINCOLATE 2019","RA/21436/DPF012","2020-01-24",2357218.1,null,{"$f":"+F49-G49","v":2357218.1}]
[null,"RIMBORSO ACQUISTO FARMACI INNOVATIVI ONCOLOGICI","SOMME VINCOLATE 2019","RA/21436/DPF012","2020-01-24",3033996.06,null,{"$f":"+F50-G50","v":3033996.06}]
[null,"EROGAZIONE CONGUAGLIO DI CASSA (97%)  ANNO 2018","QUOTE RESIDUE ANNI PRECEDENTI ","DPF012/45","2018-12-28",null,6717048.9400000004,-6717048.9400000004]
[null,"LIQUIDAZIONE CREDITO RESIDUO FSR 2016","RESIDUO FSR 2016","DPF012/26","2019-05-14",null,33490778.07,-33490778.07]
[null,"PROVVIDENZE A FAVORE DEI NEFROPATICI","FUNZIONI REGIONALI 2018","DPF009/23","2018-06-04",null,232595.51,-232595.51]
[null,"BANCA DEL SANGUE PLACENTARE","FUNZIONI REGIONALI 2018","DPF003/157 ","2018-11-22",null,258000,-258000]
[null,"PIANO REGIONALE DI PREVENZIONE 2014-2018","FUNZIONI REGIONALI 2018","DPF011/170","2018-11-22",null,250000,-250000]
[null,"PIANO EMATOLOGICO REGIONALE. L.R. 5/1998","FUNZIONI REGIONALI 2018","DPF003/158 ","2018-11-22",null,242000,-242000]
[null,"PIANO EMATOLOGICO REGIONALE. L.R. 5/1998","FUNZIONI REGIONALI 2018","DPF003/158 ","2018-11-22",null,286228,-286228]
[null,"SPESE RELATIVE AGLI ACCORDI INTEGRATIVI DELLA MEDICINA CONVENZIONATA","FUNZIONI REGIONALI 2018","DPF015/68","2018-12-11",null,1699.91,-1699.91]
[null,"ECONOMIE FUNZIONI REGIONALI 2018","FUNZIONI REGIONALI 2018","DPF012/44","2018-12-28",null,607576.87,-607576.87]
[null,"CORSI DI FORMAZIONE DEFIBRILLAZIONE PRECOCE ","FUNZIONI REGIONALI 2018","DPF017/13","2019-04-10",null,13200,-13200]
[null,"CORSI DI FORMAZIONE DEFIBRILLAZIONE PRECOCE ","FUNZIONI REGIONALI 2019","DPF017/13","2019-04-10",-1772.5,null,-1772.5]
[null,"LOTTA AL TABAGISMO","FUNZIONI REGIONALI 2018","DPF006/1 ","2019-01-21",null,36426.67,-36426.67]
[null,"PIANO REGIONALE DI PREVENZIONE CAMPAGNA DI VACCINAZIONE ANTINFLUENZALE","FUNZIONI REGIONALI 2018","DPF010/13    ","2019-05-06",null,84995.54,-84995.54]
[null,"ONERI DI FORMAZIONE MAXIEMERGENZA, GARA PER TRASPORTI IN ALA FISSA DI CANDIDATI AL TRAPIANTO ASL CAPOFILA PESCARA","FUNZIONI REGIONALI 2018","DPF017/46","2018-11-28",null,2327035.06,-2327035.06]
[null,"ONERI DI FORMAZIONE MAXIEMERGENZA, GARA PER TRASPORTI IN ALA FISSA DI CANDIDATI AL TRAPIANTO ASL CAPOFILA PESCARA","FUNZIONI REGIONALI 2018","DPF017/46","2018-11-28",null,3530,-3530]
[null,"EXTRACOMUNITARI IRREGOLARI  FSN 2017","FSN VINCOLATO 2017","DPF015/15","2019-02-27",149325.14000000001,149325.14000000001,0]
[null,"EXTRACOMUNITARI IRREGOLARI  D.LGS. 286/98 ART.35 C.3 - FSN ACCONTO 2018","FSN VINCOLATO 2018","DPF015/32","2019-06-03",80223.45,80223.45,{"$f":"+F67-G67","v":0}]
[null,"EXTRACOMUNITARI IRREGOLARI ACCONTO 2018","FSN VINCOLATO 2018","DPF015/45","2019-08-30",131294.28,131294.28,{"$f":"+F68-G68","v":0}]
[null,"EXTRACOMUNITARI IRREGOLARI    - SALDO FSN 2018 ","FSN VINCOLATO 2018","DPF015/42","2019-08-22",23358.959999999999,23358.959999999999,{"$f":"+F69-G69","v":0}]
[null,"LOTTA CONTRO AIDS - 25^ CORSO FORMAZIONE PERSONALE MALATTIE INFETTIVE","FSN VINCOLATO ","DPF004/07","2019-07-16",67983.009999999995,67983.009999999995,0]
[null,"PREVENZIONE E ASSIST. DETENUTI TOSSICODIPENDENTI - SALDO 2018","FSN VINCOLATO 2018","DPF015/40","2019-08-20",9458.4,9458.4,0]
[null,"ATTIVITA' SANITARIA PENITENZIARIA SALDO 2018","FSN VINCOLATO 2018","DPF015/44","2019-08-22",228242.33,228242.33,0]
[null,"AZIONE 2 - PROGRAMMA 12 - PIANO REGIONALE DI PREVENZIONE 2014-2018","SOMME VINCOLATE 2019","DPF010/04","2019-02-05",285000,285000,0]
[null,"PREVENZIONE E ASSIST. DETENUTI INTERNATI TOSSICODIPENDENTI - ACCONTO 2018","SOMME VINCOLATE 2018","DPF015/74","2018-12-20",null,37833.599999999999,-37833.599999999999]
[null,"PIANO REGIONALE DI PREVENZIONE 2010-2013 - RA/90173/DG20 04/04/2013","FSN VINCOLATO 2012","DG20/42 ","2013-09-06",null,429991.83,-429991.83]
[null,"PIANO REGIONALE DI PREVENZIONE","FSN VINCOLATO 2017","DPF010/27","2017-12-21",null,1579414.15,-1579414.15]
[null,"OBIETTIVI DI PIANO 2017  ","FSN VINCOLATO 2017","DGR 92","2018-02-20",null,3807099.38,-3807099.38]
[null,"PREVENZIONE E ASSIST. DETENUTI TOSSICODIPENDENTI - SALDO 2017","FSN VINCOLATO 2017","DPF015/63","2018-11-30",null,9458.4,-9458.4]
[null,"INFLUENZA AVIARIA","SOMME VINCOLATE 2018","DPF011/176","2018-12-04",null,13789.5,{"$f":"+F79-G79","v":-13789.5}]
[null,"RIMBORSO ACQUISTO FARMACI INNOVATIVI","SOMME VINCOLATE 2018","DPF003/16","2019-02-13",null,3183837.63,-3183837.63]
[null,"RIMBORSO ACQUISTO FARMACI INNOVATIVI ONCOLOGICI","SOMME VINCOLATE 2018","DPF003/17","2019-02-13",null,3350445.08,-3350445.08]
[null,"ATTIVITA' SANITARIA PENITENZIARIA - ACCONTO 2018","SOMME VINCOLATE 2018","DPF015/19","2019-03-21",null,725026.74,-725026.74]
[null,"PROGETTI OBIETTIVO ANNO 2018","SOMME VINCOLATE 2018","DPF010/32\n","2018-12-06",null,1429974.7,-1429974.7]
[null,"ATTIVITA' SANITARIA PENITENZIARIA 2017","FSN VINCOLATO 2017","DPF015/66","2018-12-05",null,912430.92,{"$f":"+F84-G84","v":-912430.92}]
[null,"SERVIZIO ELISOCCORSO 2019",null,"DPF017/41","2019-11-08",2000000,null,{"$f":"+F85-G85","v":2000000}]
[null,"SALDO ABA390 AL 31/12/2019",null,null,null,{"$f":"SUM(F4:F85)","v":844534574.83000016},{"$f":"SUM(G4:G85)","v":720973508.81000018},{"$f":"SUM(H4:H85)","v":123561066.02000013}]

{"sheet":"Dettaglio ABA430","index":20,"n_rows":34,"n_cols":7,"rows_kept":34,"cut":false,"hidden":false,"merged":[[1,0,1,6]]}
[]
["Dettaglio  \"Crediti verso Regione per finanziamento sanitario aggiuntivo corrente LEA\"  "]
["DESCRIZIONE ABA430","TIPOLOGIA DI CREDITO","PROVVEDIMENTI REGIONALI","DATA PROVV","CREDITO","LIQUIDAZIONE","SALDO"]
["SALDO ABA430 AL 31/12/2018",null,null,null,9378306.5299999993,null,{"$f":"+E4-F4","v":9378306.5299999993}]
["PROTEZIONE SOGGETTI MALATI DI CELIACHIA   L.123/2015  ANNO 2018","SOMME VINCOLATE EXTRAFONDO","DPF009/34","2019-05-16",24051.23,24051.23,{"$f":"E5-F5","v":0}]
["PROTEZIONE SOGGETTI MALATI DI CELIACHIA   ANNO 2017","SOMME VINCOLATE EXTRAFONDO","DPF009/45","2019-07-23",23203.59,23203.59,{"$f":"E6-F6","v":0}]
["PIANO REGIONALE GAP ANNO 2017 DGR 644/2018 - PREVENZIONE, CURA E RIAB. PERSONE AFFETTE DA GIOCO D'AZZARDO PATOLOGICO L.208/15","SOMME VINCOLATE EXTRAFONDO","DPF010/05","2019-02-07",189876.91,189876.91,{"$f":"E7-F7","v":0}]
["PIANO REGIONALE GAP ANNO 2016 DGR 644/2018 - PREVENZIONE, CURA E RIAB. PERSONE AFFETTE DA GIOCO D'AZZARDO PATOLOGICO L.208/15","SOMME VINCOLATE EXTRAFONDO","DPF010/15","2019-05-14",244375.48,244375.48,0]
["SINDROME DEPRESSIVA POST PARTUM","SOMME VINCOLATE EXTRAFONDO","DPF010/03","2019-02-01",22595,18076,4519]
["PREVENZIONE E RIABILITAZIONE VISIVA CIECHI PLURIMINORATI - ANNI 2014-2015-2016","SOMME VINCOLATE EXTRAFONDO","DPF010/22","2019-06-20",4505.45,{"$f":"2457.23+1037.3+1010.92","v":4505.45},0]
["PREVENZIONE E RIABILITAZIONE VISIVA CIECHI PLURIMINORATI - ANNO 2017","SOMME VINCOLATE EXTRAFONDO","DPF010/24","2019-07-17",993.34,993.34,0]
["PREVENZIONE E RIABILITAZIONE VISIVA CIECHI PLURIMINORATI - ANNO 2018","SOMME VINCOLATE EXTRAFONDO","DPF010/32","2019-11-26",3814.01,3814.01,0]
["EXTRACOMUNITARI IRREGOLARI D.LGS. 286/98 SALDO 2017 ","SOMME VINCOLATE EXTRAFONDO","DPF015/41","2019-08-20",46149.01,46149.01,0]
["EXTRACOMUNITARI IRREGOLARI ART. 35 c.6 D.LGS. 286/98 DEBITO PREGRESSO ANTE 2017","SOMME VINCOLATE EXTRAFONDO","DPF015/41","2019-08-20",501998.55,null,501998.55]
["RICOLLOCAMENTO PERSONALE ESACRI  2018","SOMME VINCOLATE EXTRAFONDO","DPF004/08","2019-08-07",329519.03999999998,329519.03999999998,0]
["DET.AIFA 177/2018 RIPIANO SPESA FARMACEUTICA OSPEDALIERA ANNO 2016 ","SOMME VINCOLATE EXTRAFONDO","DPF003/113","2019-08-07",5446928.6600000001,5446928.6600000001,0]
["CONSULTORI FAMILIARI ANNO 2019","SOMME VINCOLATE EXTRAFONDO","DPF015/68","2019-12-04",24314.87,24314.87,0]
["D.LGS.194/2008 FONDO SERVIZIO VETERINARIO","SOMME VINCOLATE EXTRAFONDO","DPF011/40","2019-12-06",7214.2,null,7214.2]
["AGENAS \"VALUTAZIONE GRADO UMANIZZAZIONE STRUTTURE RICOVERO\"","SOMME VINCOLATE EXTRAFONDO","DPF007/05","2019-12-04",1125,1125,0]
["PROGETTO E.V.A.","SOMME VINCOLATE EXTRAFONDO","DGR 45","2019-01-25",81000,null,81000]
["ASSEGNAZIONE NETWORK PER DIAGNOSI PRECOCE DISTURBO SPETTRO AUTISMO","SOMME VINCOLATE EXTRAFONDO","DGR 100","2020-02-24",30206.17,null,30206.17]
["D.LGS.194/2008 MIGLIORAMENTO SISTEMA INFORMATIVO VETERINARIO","SOMME VINCOLATE EXTRAFONDO","DPF011/178","2018-12-13",null,14143.05,-14143.05]
["PROTEZIONE SOGGETTI MALATI DI CELIACHIA   L.123/2015  ANNI 2015 E 2016","SOMME VINCOLATE EXTRAFONDO","DPF009/72","2018-12-05",null,{"$f":"20337.28+5790.69","v":26127.969999999998},-26127.969999999998]
["PAY BACK SPECIALITA' MEDICINALI VARIE DET. AIFA del 29.09.2006","PAYBACK","DPF003/199","2018-12-20",null,837700.76,-837700.76]
["PAYBACK 5%   2018","PAYBACK","DPF003/12","2019-02-11",null,629764.66,-629764.66]
["PAYBACK  1 SEMESTRE 2018  SCONTO 1,83%","PAYBACK","DPF003/11","2019-02-11",null,555865.38,-555865.38]
["PAYBACK  II SEMESTRE 2018  SCONTO 1,83%","PAYBACK","DPF003/130","2019-09-19",513222.68,513222.68,0]
["PAY BACK SPECIALITA' MEDICINALI VARIE","PAYBACK","DPF003/155","2019-11-20",383282.33,null,383282.33]
["PAYBACK  1 SEMESTRE 2019  SCONTO 1,83%","PAYBACK","DPF003/184","2019-12-31",520757.02,null,520757.02]
["PAYBACK 5%   ","PAYBACK","DPF003/186","2019-12-31",646300.09,null,646300.09]
["CONDIZIONI NEGOZIALI SCADENZA EFFETTI ACCORDI STIPULATI EX ART.11 C.1 D.L. 158/2012","PAYBACK","DPF003/161","2019-11-28",91298.05,null,91298.05]
["CONDIZIONI NEGOZIALI SCADENZA EFFETTI ACCORDI STIPULATI EX ART.11 C.1 D.L. 158/2012","PAYBACK","DPF003/185","2019-12-31",47853.51,null,47853.51]
["RINEGOZIAZIONE PREZZO RIMBORSO MEDICINALI A CARICO SSN SPECIALITA' MEDICINALI VARIE","PAYBACK","DPF003/172","2019-12-10",274754.27,null,274754.27]
["SALDO ABA430 AL 31/12/2019",null,null,null,null,null,{"$f":"SUM(G4:G33)","v":9903887.8999999985}]

{"sheet":"Dettaglio ABA480 ","index":21,"n_rows":15,"n_cols":6,"rows_kept":15,"cut":false,"hidden":false,"merged":[[1,0,1,5],[10,0,10,5]]}
[]
["ABA480  Crediti v/Regione o Provincia Autonoma per finanziamenti per investimenti"]
["TIPOLOGIA DI CREDITO","PROVVEDIMENTI REGIONALI","DATA ","CREDITO","LIQUIDAZIONE","SALDO"]
["SALDO ABA480 AL 31/12/2018",null,null,null,null,38255]
["POTENZIAMENTO RETE EMERGENZA URGENZA ACQUISTO AMBULANZE  DCA 96/2015","DPF012/45","2019-09-24",682626.67,682626.67,{"$f":"D5-E5","v":0}]
["SALDO ABA480 al 31/12/2019",null,null,null,null,38255]
[]
[]
[]
[]
["ABA500  Crediti v/Regione per ripiano perdite "]
["TIPOLOGIA DI CREDITO","PROVVEDIMENTI REGIONALI","DATA ","CREDITO","LIQUIDAZIONE","SALDO"]
["SALDO ABA500 AL 31/12/2018",null,null,null,null,27874334]
["Prot. RA/358179/DPF012 del 20/12/2019 Linee guida CE IV trimestre 2019","DPF015/41","2019-08-20",null,353804.19,{"$f":"D14-E14","v":-353804.19}]
["SALDO ABA500 al 31/12/2019",null,null,null,null,{"$f":"SUM(F13:F14)","v":27520529.809999999}]

{"sheet":"Dettaglio ABA500","index":22,"n_rows":6,"n_cols":7,"rows_kept":6,"cut":false,"hidden":false,"merged":[[1,0,1,5]]}
[]
["ABA500  Crediti v/Regione per ripiano perdite ",null,null,null,null,null,"CONTO 01.02.02.12.03"]
["TIPOLOGIA DI CREDITO","PROVVEDIMENTI REGIONALI","DATA ","CREDITO","LIQUIDAZIONE","SALDO"]
["SALDO ABA500 AL 31/12/2018",null,null,null,null,27874334]
["Prot. RA/358179/DPF012 del 20/12/2019 Linee guida CE IV trimestre 2019","DPF015/41","2019-08-20",null,353804.19,{"$f":"D5-E5","v":-353804.19}]
["SALDO ABA500 al 31/12/2019",null,null,null,null,{"$f":"SUM(F4:F5)","v":27520529.809999999}]

{"sheet":"Tab 18-19","index":23,"n_rows":116,"n_cols":8,"rows_kept":116,"cut":false,"hidden":false,"merged":[[55,4,55,6],[56,4,56,6],[57,4,57,6],[58,2,58,6],[50,2,50,7],[51,4,51,6],[52,4,52,6],[53,4,53,6],[54,4,54,6]]}
[null,null,"Tab. 18 – Movimentazioni del fondo svalutazione crediti – I parte"]
[null,"CODICE MOD. SP","FONDO SVALUTAZIONE CREDITI",null,"Fondo svalutazione iniziale","Accantonamenti","Utilizzi","Fondo svalutazione finale"]
[null,null," CREDITI V/STATO - PARTE CORRENTE",null,{"$f":"E4+E11","v":0},{"$f":"F4+F11","v":0},0,0]
[null,null," Crediti v/Stato per spesa corrente e acconti:",null,{"$f":"E5+E6+E7+E8+E9+E10","v":0},{"$f":"F5+F6+F7+F8+F9+F10","v":0},0,0]
[{"$f":"B5&\"FS\"","v":"ABA201FS"},"ABA201","  Crediti v/Stato per spesa corrente - FSN indistinto",null,{"$f":"SUMIF('00 PDC SP'!$A:$A,'Tab 18-19'!$A5,'00 PDC SP'!K:K)","v":0},{"$f":"SUMIF('00 PDC SP'!$A:$A,'Tab 18-19'!$A5,'00 PDC SP'!L:L)","v":0},{"$f":"SUMIF('00 PDC SP'!$A:$A,'Tab 18-19'!$A5,'00 PDC SP'!M:M)","v":0},{"$f":"E5+F5-G5","v":0}]
["ABA220FS","ABA220","  Crediti v/Stato per spesa corrente - FSN vincolato",null,{"$f":"SUMIF('00 PDC SP'!$A:$A,'Tab 18-19'!$A6,'00 PDC SP'!K:K)","v":0},{"$f":"SUMIF('00 PDC SP'!$A:$A,'Tab 18-19'!$A6,'00 PDC SP'!L:L)","v":0},{"$f":"SUMIF('00 PDC SP'!$A:$A,'Tab 18-19'!$A6,'00 PDC SP'!M:M)","v":0},0]
["ABA230FS","ABA230","  Crediti v/Stato per mobilità attiva extraregionale",null,{"$f":"SUMIF('00 PDC SP'!$A:$A,'Tab 18-19'!$A7,'00 PDC SP'!K:K)","v":0},{"$f":"SUMIF('00 PDC SP'!$A:$A,'Tab 18-19'!$A7,'00 PDC SP'!L:L)","v":0},{"$f":"SUMIF('00 PDC SP'!$A:$A,'Tab 18-19'!$A7,'00 PDC SP'!M:M)","v":0},0]
["ABA240FS","ABA240","  Crediti v/Stato per mobilità attiva internazionale",null,{"$f":"SUMIF('00 PDC SP'!$A:$A,'Tab 18-19'!$A8,'00 PDC SP'!K:K)","v":0},{"$f":"SUMIF('00 PDC SP'!$A:$A,'Tab 18-19'!$A8,'00 PDC SP'!L:L)","v":0},{"$f":"SUMIF('00 PDC SP'!$A:$A,'Tab 18-19'!$A8,'00 PDC SP'!M:M)","v":0},0]
["ABA250FS","ABA250","  Crediti v/Stato per acconto quota fabbisogno sanitario regionale standard",null,{"$f":"SUMIF('00 PDC SP'!$A:$A,'Tab 18-19'!$A9,'00 PDC SP'!K:K)","v":0},{"$f":"SUMIF('00 PDC SP'!$A:$A,'Tab 18-19'!$A9,'00 PDC SP'!L:L)","v":0},{"$f":"SUMIF('00 PDC SP'!$A:$A,'Tab 18-19'!$A9,'00 PDC SP'!M:M)","v":0},0]
["ABA260FS","ABA260","  Crediti v/Stato per finanziamento sanitario aggiuntivo corrente",null,{"$f":"SUMIF('00 PDC SP'!$A:$A,'Tab 18-19'!$A10,'00 PDC SP'!K:K)","v":0},{"$f":"SUMIF('00 PDC SP'!$A:$A,'Tab 18-19'!$A10,'00 PDC SP'!L:L)","v":0},{"$f":"SUMIF('00 PDC SP'!$A:$A,'Tab 18-19'!$A10,'00 PDC SP'!M:M)","v":0},0]
[null,null," Crediti v/Stato - altro:",null,{"$f":"E12","v":0},{"$f":"F12","v":0},{"$f":"G12","v":0},{"$f":"H12","v":0}]
[{"$f":"B12&\"FS\"","v":"ABA270FS"},"ABA270","  Crediti v/Stato per spesa corrente - altro",null,{"$f":"SUMIF('00 PDC SP'!$A:$A,'Tab 18-19'!$A12,'00 PDC SP'!K:K)","v":0},{"$f":"SUMIF('00 PDC SP'!$A:$A,'Tab 18-19'!$A12,'00 PDC SP'!L:L)","v":0},{"$f":"SUMIF('00 PDC SP'!$A:$A,'Tab 18-19'!$A12,'00 PDC SP'!M:M)","v":0},{"$f":"E12+F12-G12","v":0}]
[null,"ABA271","  Crediti v/Stato per spesa corrente - per STP ( ex D.lgs 286/98)"]
[null,null," CREDITI V/STATO - INVESTIMENTI",null,{"$f":"E15","v":0},{"$f":"F15","v":0},{"$f":"G15","v":0},{"$f":"H15","v":0}]
[{"$f":"B15&\"FS\"","v":"ABA280FS"},"ABA280"," Crediti v/Stato per finanziamenti per investimenti:",null,{"$f":"SUMIF('00 PDC SP'!$A:$A,'Tab 18-19'!$A15,'00 PDC SP'!K:K)","v":0},{"$f":"SUMIF('00 PDC SP'!$A:$A,'Tab 18-19'!$A15,'00 PDC SP'!L:L)","v":0},{"$f":"SUMIF('00 PDC SP'!$A:$A,'Tab 18-19'!$A15,'00 PDC SP'!M:M)","v":0},{"$f":"E15+F15-G15","v":0}]
[null,null,"  ……"]
[null,null," CREDITI V/STATO - RICERCA",null,{"$f":"E18+E21","v":0},{"$f":"F18+F21","v":0},{"$f":"G18+G21","v":0},{"$f":"H18+H21","v":0}]
[{"$f":"B18&\"FS\"","v":"ABA300FS"},"ABA300"," Crediti v/Stato per ricerca corrente - Ministero della Salute ",null,{"$f":"SUMIF('00 PDC SP'!$A:$A,'Tab 18-19'!$A18,'00 PDC SP'!K:K)","v":0},{"$f":"SUMIF('00 PDC SP'!$A:$A,'Tab 18-19'!$A18,'00 PDC SP'!L:L)","v":0},{"$f":"SUMIF('00 PDC SP'!$A:$A,'Tab 18-19'!$A18,'00 PDC SP'!M:M)","v":0},{"$f":"E18+F18-G18","v":0}]
[{"$f":"B19&\"FS\"","v":"ABA310FS"},"ABA310"," Crediti v/Stato per ricerca finalizzata - Ministero della Salute ",null,{"$f":"SUMIF('00 PDC SP'!$A:$A,'Tab 18-19'!$A19,'00 PDC SP'!K:K)","v":0},{"$f":"SUMIF('00 PDC SP'!$A:$A,'Tab 18-19'!$A19,'00 PDC SP'!L:L)","v":0},{"$f":"SUMIF('00 PDC SP'!$A:$A,'Tab 18-19'!$A19,'00 PDC SP'!M:M)","v":0},0]
[{"$f":"B20&\"FS\"","v":"ABA320FS"},"ABA320"," Crediti v/Stato per ricerca - altre Amministrazioni centrali ",null,{"$f":"SUMIF('00 PDC SP'!$A:$A,'Tab 18-19'!$A20,'00 PDC SP'!K:K)","v":0},{"$f":"SUMIF('00 PDC SP'!$A:$A,'Tab 18-19'!$A20,'00 PDC SP'!L:L)","v":0},{"$f":"SUMIF('00 PDC SP'!$A:$A,'Tab 18-19'!$A20,'00 PDC SP'!M:M)","v":0},0]
[{"$f":"B21&\"FS\"","v":"ABA330FS"},"ABA330"," Crediti v/Stato per ricerca - finanziamenti per investimenti",null,{"$f":"SUMIF('00 PDC SP'!$A:$A,'Tab 18-19'!$A21,'00 PDC SP'!K:K)","v":0},{"$f":"SUMIF('00 PDC SP'!$A:$A,'Tab 18-19'!$A21,'00 PDC SP'!L:L)","v":0},{"$f":"SUMIF('00 PDC SP'!$A:$A,'Tab 18-19'!$A21,'00 PDC SP'!M:M)","v":0},0]
[{"$f":"B22&\"FS\"","v":"ABA340FS"},"ABA340"," CREDITI V/PREFETTURE",null,{"$f":"SUMIF('00 PDC SP'!$A:$A,'Tab 18-19'!$A22,'00 PDC SP'!K:K)","v":0},{"$f":"SUMIF('00 PDC SP'!$A:$A,'Tab 18-19'!$A22,'00 PDC SP'!L:L)","v":0},{"$f":"SUMIF('00 PDC SP'!$A:$A,'Tab 18-19'!$A22,'00 PDC SP'!M:M)","v":0},0]
[null,null,"TOTALE CREDITI V/STATO",null,{"$f":"E22+E17+E14+E3","v":0},{"$f":"F22+F17+F14+F3","v":0},{"$f":"G22+G17+G14+G3","v":0},{"$f":"H22+H17+H14+H3","v":0}]
[]
[null,null," CREDITI V/REGIONE O P.A. PER SPESA CORRENTE",null,{"$f":"E26+E31+E32+E33","v":-3047520.97},{"$f":"F26+F31+F32+F33","v":0},{"$f":"G26+G31+G32+G33","v":0},{"$f":"H26+H31+H32+H33","v":-3047520.97}]
[null,null," Crediti v/Regione o P.A. per finanziamento sanitario ordinario corrente:",null,{"$f":"E27+E28+E29+E30","v":-3047520.97},{"$f":"F27+F28+F29+F30","v":0},0,-3047520.97]
[{"$f":"B27&\"FS\"","v":"ABA390FS"},"ABA390","  Crediti v/Regione o P.A. per quota FSR",null,{"$f":"SUMIF('00 PDC SP'!$A:$A,'Tab 18-19'!$A27,'00 PDC SP'!K:K)","v":-3047520.97},{"$f":"SUMIF('00 PDC SP'!$A:$A,'Tab 18-19'!$A27,'00 PDC SP'!L:L)","v":0},{"$f":"SUMIF('00 PDC SP'!$A:$A,'Tab 18-19'!$A27,'00 PDC SP'!M:M)","v":0},{"$f":"E27+F27-G27","v":-3047520.97}]
["ABA400FS","ABA400","  Crediti v/Regione o P.A. per mobilità attiva intraregionale",null,{"$f":"SUMIF('00 PDC SP'!$A:$A,'Tab 18-19'!$A28,'00 PDC SP'!K:K)","v":0},{"$f":"SUMIF('00 PDC SP'!$A:$A,'Tab 18-19'!$A28,'00 PDC SP'!L:L)","v":0},{"$f":"SUMIF('00 PDC SP'!$A:$A,'Tab 18-19'!$A28,'00 PDC SP'!M:M)","v":0},0]
["ABA410FS","ABA410","  Crediti v/Regione o P.A. per mobilità attiva extraregionale",null,{"$f":"SUMIF('00 PDC SP'!$A:$A,'Tab 18-19'!$A29,'00 PDC SP'!K:K)","v":0},{"$f":"SUMIF('00 PDC SP'!$A:$A,'Tab 18-19'!$A29,'00 PDC SP'!L:L)","v":0},{"$f":"SUMIF('00 PDC SP'!$A:$A,'Tab 18-19'!$A29,'00 PDC SP'!M:M)","v":0},0]
["ABA420FS","ABA420","  Crediti v/Regione o P.A. per acconto quota FSR",null,{"$f":"SUMIF('00 PDC SP'!$A:$A,'Tab 18-19'!$A30,'00 PDC SP'!K:K)","v":0},{"$f":"SUMIF('00 PDC SP'!$A:$A,'Tab 18-19'!$A30,'00 PDC SP'!L:L)","v":0},{"$f":"SUMIF('00 PDC SP'!$A:$A,'Tab 18-19'!$A30,'00 PDC SP'!M:M)","v":0},0]
["ABA430FS","ABA430"," Crediti v/Regione o P.A. per finanziamento sanitario aggiuntivo corrente LEA",null,{"$f":"SUMIF('00 PDC SP'!$A:$A,'Tab 18-19'!$A31,'00 PDC SP'!K:K)","v":0},{"$f":"SUMIF('00 PDC SP'!$A:$A,'Tab 18-19'!$A31,'00 PDC SP'!L:L)","v":0},{"$f":"SUMIF('00 PDC SP'!$A:$A,'Tab 18-19'!$A31,'00 PDC SP'!M:M)","v":0},0]
["ABA440FS","ABA440"," Crediti v/Regione o P.A. per finanziamento sanitario aggiuntivo corrente extra LEA",null,{"$f":"SUMIF('00 PDC SP'!$A:$A,'Tab 18-19'!$A32,'00 PDC SP'!K:K)","v":0},{"$f":"SUMIF('00 PDC SP'!$A:$A,'Tab 18-19'!$A32,'00 PDC SP'!L:L)","v":0},{"$f":"SUMIF('00 PDC SP'!$A:$A,'Tab 18-19'!$A32,'00 PDC SP'!M:M)","v":0},0]
["ABA450FS","ABA450"," Crediti v/Regione o P.A. per spesa corrente - altro",null,{"$f":"SUMIF('00 PDC SP'!$A:$A,'Tab 18-19'!$A33,'00 PDC SP'!K:K)","v":0},{"$f":"SUMIF('00 PDC SP'!$A:$A,'Tab 18-19'!$A33,'00 PDC SP'!L:L)","v":0},{"$f":"SUMIF('00 PDC SP'!$A:$A,'Tab 18-19'!$A33,'00 PDC SP'!M:M)","v":0},0]
[null,"ABA451"," Crediti v/Regione o P.A. per spesa corrente - per STP ( ex D.lgs 286/98)",null,{"$f":"SUMIF('00 PDC SP'!$A:$A,'Tab 18-19'!$A34,'00 PDC SP'!K:K)","v":0},{"$f":"SUMIF('00 PDC SP'!$A:$A,'Tab 18-19'!$A34,'00 PDC SP'!L:L)","v":0},{"$f":"SUMIF('00 PDC SP'!$A:$A,'Tab 18-19'!$A34,'00 PDC SP'!M:M)","v":0},{"$f":"E34+F34-G34","v":0}]
["ABA460FS","ABA460"," CREDITI V/REGIONE O P.A. PER RICERCA:",null,{"$f":"SUMIF('00 PDC SP'!$A:$A,'Tab 18-19'!$A35,'00 PDC SP'!K:K)","v":0},{"$f":"SUMIF('00 PDC SP'!$A:$A,'Tab 18-19'!$A35,'00 PDC SP'!L:L)","v":0},{"$f":"SUMIF('00 PDC SP'!$A:$A,'Tab 18-19'!$A35,'00 PDC SP'!M:M)","v":0},0]
[null,"ABA461"," CREDITI V/REGIONE O P.A. PER MOBILITA' ATTIVA INTERNAZIONALE",null,{"$f":"SUMIF('00 PDC SP'!$A:$A,'Tab 18-19'!$A36,'00 PDC SP'!K:K)","v":0},{"$f":"SUMIF('00 PDC SP'!$A:$A,'Tab 18-19'!$A36,'00 PDC SP'!L:L)","v":0},{"$f":"SUMIF('00 PDC SP'!$A:$A,'Tab 18-19'!$A36,'00 PDC SP'!M:M)","v":0},0]
[null,null,"  ……"]
[null,null," CREDITI V/REGIONE O P.A. PER VERSAMENTI A PATRIMONIO NETTO",null,{"$f":"E39+E40+E41","v":0},{"$f":"F39+F40+F41","v":0},0,0]
[{"$f":"B39&\"FS\"","v":"ABA480FS"},"ABA480","  Crediti v/Regione o P.A. per finanziamenti per investimenti",null,{"$f":"SUMIF('00 PDC SP'!$A:$A,'Tab 18-19'!$A39,'00 PDC SP'!K:K)","v":0},{"$f":"SUMIF('00 PDC SP'!$A:$A,'Tab 18-19'!$A39,'00 PDC SP'!L:L)","v":0},{"$f":"SUMIF('00 PDC SP'!$A:$A,'Tab 18-19'!$A39,'00 PDC SP'!M:M)","v":0},{"$f":"E39+F39-G39","v":0}]
[{"$f":"B40&\"FS\"","v":"ABA490FS"},"ABA490","  Crediti v/Regione o P.A. per incremento fondo dotazione",null,{"$f":"SUMIF('00 PDC SP'!$A:$A,'Tab 18-19'!$A40,'00 PDC SP'!K:K)","v":0},{"$f":"SUMIF('00 PDC SP'!$A:$A,'Tab 18-19'!$A40,'00 PDC SP'!L:L)","v":0},{"$f":"SUMIF('00 PDC SP'!$A:$A,'Tab 18-19'!$A40,'00 PDC SP'!M:M)","v":0},0]
[null,null,"  Crediti v/Regione o P.A. per ripiano perdite:",null,{"$f":"E42+E44+E45","v":0},{"$f":"F42+F44+F45","v":0},{"$f":"G42+G44+G45","v":0},{"$f":"H42+H44+H45","v":0}]
[{"$f":"B42&\"FS\"","v":"ABA500FS"},"ABA500","  Crediti v/Regione o P.A. per ripiano perdite",null,{"$f":"SUMIF('00 PDC SP'!$A:$A,'Tab 18-19'!$A42,'00 PDC SP'!K:K)","v":0},{"$f":"SUMIF('00 PDC SP'!$A:$A,'Tab 18-19'!$A42,'00 PDC SP'!L:L)","v":0},{"$f":"SUMIF('00 PDC SP'!$A:$A,'Tab 18-19'!$A42,'00 PDC SP'!M:M)","v":0},{"$f":"E42+F42-G42","v":0}]
[null,"ABA501","  Crediti v/Regione o P.A. per disavanzo programmato dai piani aziendali di cui all'art.1, comma528, L.208/2015",null,{"$f":"SUMIF('00 PDC SP'!$A:$A,'Tab 18-19'!$A43,'00 PDC SP'!K:K)","v":0},{"$f":"SUMIF('00 PDC SP'!$A:$A,'Tab 18-19'!$A43,'00 PDC SP'!L:L)","v":0},{"$f":"SUMIF('00 PDC SP'!$A:$A,'Tab 18-19'!$A43,'00 PDC SP'!M:M)","v":0},{"$f":"E43+F43-G43","v":0}]
[{"$f":"B44&\"FS\"","v":"ABA510FS"},"ABA510","Crediti v/Regione per copertura debiti al 31/12/2005",null,{"$f":"SUMIF('00 PDC SP'!$A:$A,'Tab 18-19'!$A44,'00 PDC SP'!K:K)","v":0},{"$f":"SUMIF('00 PDC SP'!$A:$A,'Tab 18-19'!$A44,'00 PDC SP'!L:L)","v":0},{"$f":"SUMIF('00 PDC SP'!$A:$A,'Tab 18-19'!$A44,'00 PDC SP'!M:M)","v":0},0]
[{"$f":"B45&\"FS\"","v":"ABA520FS"},"ABA520","Crediti v/Regione o P.A. per ricostituzione risorse da investimenti esercizi precedenti",null,{"$f":"SUMIF('00 PDC SP'!$A:$A,'Tab 18-19'!$A45,'00 PDC SP'!K:K)","v":0},{"$f":"SUMIF('00 PDC SP'!$A:$A,'Tab 18-19'!$A45,'00 PDC SP'!L:L)","v":0},{"$f":"SUMIF('00 PDC SP'!$A:$A,'Tab 18-19'!$A45,'00 PDC SP'!M:M)","v":0},0]
[null,"ABA521","Crediti v/Regione per contributi legge 210/92",null,{"$f":"SUMIF('00 PDC SP'!$A:$A,'Tab 18-19'!$A46,'00 PDC SP'!K:K)","v":0},{"$f":"SUMIF('00 PDC SP'!$A:$A,'Tab 18-19'!$A46,'00 PDC SP'!L:L)","v":0},{"$f":"SUMIF('00 PDC SP'!$A:$A,'Tab 18-19'!$A46,'00 PDC SP'!M:M)","v":0},{"$f":"E46+F46-G46","v":0}]
[null,"ABA522","Crediti v/Regione per contributi legge 210/92 - Aziende Sanitarie",null,{"$f":"SUMIF('00 PDC SP'!$A:$A,'Tab 18-19'!$A47,'00 PDC SP'!K:K)","v":0},{"$f":"SUMIF('00 PDC SP'!$A:$A,'Tab 18-19'!$A47,'00 PDC SP'!L:L)","v":0},{"$f":"SUMIF('00 PDC SP'!$A:$A,'Tab 18-19'!$A47,'00 PDC SP'!M:M)","v":0},0]
[null,null,"TOTALE CREDITI V/REGIONE O PROVINCIA AUTONOMA",null,{"$f":"E38+E35+E25","v":-3047520.97},{"$f":"F38+F35+F25","v":0},{"$f":"G38+G35+G25","v":0},{"$f":"H38+H35+H25","v":-3047520.97}]
[]
[null,null,"Tab. 18 bis – Dettaglio del Fondo svalutazione crediti verso Regione per quota FSR"]
[null,null,"FONDO SVALUTAZIONE CREDITI VERSO REGIONE"]
[null,null,"Note",null,"Descrizione",null,null,"Importo"]
[null,null,"Prot. 20954/6/2423 del 17/10/1997",null,"Interventi a favore della famiglia anno 1997",null,null,20959.34]
[null,null,"DEL G.R.A. n.640 del 31/03/1999",null,"Tutela della fauna minore",null,null,{"$f":"1910.89+2066","v":3976.8900000000003}]
[null,null,"Prot. N 1612 del 14/05/2002 Serv.Interv.Socio-Assistenziali",null,"Interventi a favore della famiglia anno 2001",null,null,5422.8]
[null,null,"Spesa Farmaci erogati per malattie rare",null,"Nota a firma del Responsabile della Farmacia ospedaliera",null,null,1145345.71]
[null,null,"Spesa Farmaci erogati per malattie rare Anni 2002-2004",null,"Nota a firma del Responsabile della Farmacia ospedaliera",null,null,1508304.98]
[null,null,"Nota R.A.n.8804/02",null,"Residuo FSR 2001 ",null,null,363511.25]
[null,null,"TOTALE",null,null,null,null,{"$f":"SUM(H53:H58)","v":3047520.9699999997}]
[]
[null,null,"Tab. 19 – Movimentazioni del fondo svalutazione crediti – II parte"]
[null,"CODICE MOD. SP","FONDO SVALUTAZIONE CREDITI",null,"Fondo svalutazione iniziale","Accantonamenti","Utilizzi","Fondo svalutazione finale"]
[{"$f":"B63&\"FS\"","v":"ABA530FS"},"ABA530"," CREDITI V/COMUNI",null,{"$f":"SUMIF('00 PDC SP'!$A:$A,'Tab 18-19'!$A63,'00 PDC SP'!K:K)","v":0},{"$f":"SUMIF('00 PDC SP'!$A:$A,'Tab 18-19'!$A63,'00 PDC SP'!L:L)","v":0},{"$f":"SUMIF('00 PDC SP'!$A:$A,'Tab 18-19'!$A63,'00 PDC SP'!M:M)","v":0},{"$f":"E63+F63-G63","v":0}]
[null,null,"  ……"]
[null,null,"  ……"]
[]
[null,null," CREDITI V/AZIENDE SANITARIE PUBBLICHE DELLA REGIONE",null,{"$f":"E68+E69+E70","v":-3259926.7},{"$f":"F68+F69+F70","v":0},{"$f":"G68+G69+G70","v":0},{"$f":"H68+H69+H70","v":-3259926.7}]
[{"$f":"B68&\"FS\"","v":"ABA560FS"},"ABA560"," Crediti v/Aziende sanitarie pubbliche della Regione - mobilità\n in compensazione",null,{"$f":"SUMIF('00 PDC SP'!$A:$A,'Tab 18-19'!$A68,'00 PDC SP'!K:K)","v":0},{"$f":"SUMIF('00 PDC SP'!$A:$A,'Tab 18-19'!$A68,'00 PDC SP'!L:L)","v":0},{"$f":"SUMIF('00 PDC SP'!$A:$A,'Tab 18-19'!$A68,'00 PDC SP'!M:M)","v":0},{"$f":"E68+F68-G68","v":0}]
[{"$f":"B69&\"FS\"","v":"ABA570FS"},"ABA570"," Crediti v/Aziende sanitarie pubbliche della Regione - mobilità\n non in compensazione",null,{"$f":"SUMIF('00 PDC SP'!$A:$A,'Tab 18-19'!$A69,'00 PDC SP'!K:K)","v":0},{"$f":"SUMIF('00 PDC SP'!$A:$A,'Tab 18-19'!$A69,'00 PDC SP'!L:L)","v":0},{"$f":"SUMIF('00 PDC SP'!$A:$A,'Tab 18-19'!$A69,'00 PDC SP'!M:M)","v":0},{"$f":"E69+F69-G69","v":0}]
[{"$f":"B70&\"FS\"","v":"ABA580FS"},"ABA580"," Crediti v/Aziende sanitarie pubbliche della Regione - altre\n prestazioni",null,{"$f":"SUMIF('00 PDC SP'!$A:$A,'Tab 18-19'!$A70,'00 PDC SP'!K:K)","v":-3259926.7},{"$f":"SUMIF('00 PDC SP'!$A:$A,'Tab 18-19'!$A70,'00 PDC SP'!L:L)","v":0},{"$f":"SUMIF('00 PDC SP'!$A:$A,'Tab 18-19'!$A70,'00 PDC SP'!M:M)","v":0},-3259926.7]
[{"$f":"B71&\"FS\"","v":"ABA590FS"},"ABA590"," Acconto quota FSR da distribuire",null,{"$f":"SUMIF('00 PDC SP'!$A:$A,'Tab 18-19'!$A71,'00 PDC SP'!K:K)","v":0},{"$f":"SUMIF('00 PDC SP'!$A:$A,'Tab 18-19'!$A71,'00 PDC SP'!L:L)","v":0},{"$f":"SUMIF('00 PDC SP'!$A:$A,'Tab 18-19'!$A71,'00 PDC SP'!M:M)","v":0},0]
[null,"ABA591"," Crediti v/Aziende sanitarie pubbliche della Regione - per anticipazione ripiano disavanzo programmato dai piani aziendali di cui all'art.1 comma 528,L.208/2015\n",null,{"$f":"SUMIF('00 PDC SP'!$A:$A,'Tab 18-19'!$A72,'00 PDC SP'!K:K)","v":0},{"$f":"SUMIF('00 PDC SP'!$A:$A,'Tab 18-19'!$A72,'00 PDC SP'!L:L)","v":0},{"$f":"SUMIF('00 PDC SP'!$A:$A,'Tab 18-19'!$A72,'00 PDC SP'!M:M)","v":0},{"$f":"E72+F72-G72","v":0}]
[{"$f":"B73&\"FS\"","v":"ABA600FS"},"ABA600"," CREDITI V/AZIENDE SANITARIE PUBBLICHE FUORI REGIONE",null,{"$f":"SUMIF('00 PDC SP'!$A:$A,'Tab 18-19'!$A73,'00 PDC SP'!K:K)","v":0},{"$f":"SUMIF('00 PDC SP'!$A:$A,'Tab 18-19'!$A73,'00 PDC SP'!L:L)","v":0},{"$f":"SUMIF('00 PDC SP'!$A:$A,'Tab 18-19'!$A73,'00 PDC SP'!M:M)","v":0},0]
[null,"ABA601"," Crediti v/Aziende sanitarie pubbliche della Regione  per contributi da Aziende Sanitarie Pubbliche della Regione o Prov Aut. ( extra fondo)\n"]
[null,null,"TOTALE CREDITI V/AZIENDE SANITARIE PUBBLICHE",null,{"$f":"E67+E71+E73","v":-3259926.7},{"$f":"F67+F71+F73","v":0},{"$f":"G67+G71+G73","v":0},{"$f":"H67+H71+H73","v":-3259926.7}]
[]
[null,null," CREDITI V/SOCIETA' PARTECIPATE E/O ENTI DIPENDENTI",null,{"$f":"E78+E81+E84","v":0},{"$f":"F78+F81+F84","v":0},{"$f":"G78+G81+G84","v":0},{"$f":"H78+H81+H84","v":0}]
[{"$f":"B78&\"FS\"","v":"ABA620FS"},"ABA620"," Crediti v/enti regionali:",null,{"$f":"SUMIF('00 PDC SP'!$A:$A,'Tab 18-19'!$A78,'00 PDC SP'!K:K)","v":0},{"$f":"SUMIF('00 PDC SP'!$A:$A,'Tab 18-19'!$A78,'00 PDC SP'!L:L)","v":0},{"$f":"SUMIF('00 PDC SP'!$A:$A,'Tab 18-19'!$A78,'00 PDC SP'!M:M)","v":0},{"$f":"E78+F78-G78","v":0}]
[null,null,"  ……"]
[null,null,"  ……"]
[{"$f":"B81&\"FS\"","v":"ABA630FS"},"ABA630"," Crediti v/sperimentazioni gestionali:",null,{"$f":"SUMIF('00 PDC SP'!$A:$A,'Tab 18-19'!$A81,'00 PDC SP'!K:K)","v":0},{"$f":"SUMIF('00 PDC SP'!$A:$A,'Tab 18-19'!$A81,'00 PDC SP'!L:L)","v":0},{"$f":"SUMIF('00 PDC SP'!$A:$A,'Tab 18-19'!$A81,'00 PDC SP'!M:M)","v":0},{"$f":"E81+F81-G81","v":0}]
[null,null,"  ……"]
[null,null,"  ……"]
[{"$f":"B84&\"FS\"","v":"ABA640FS"},"ABA640"," Crediti v/altre partecipate:",null,{"$f":"SUMIF('00 PDC SP'!$A:$A,'Tab 18-19'!$A84,'00 PDC SP'!K:K)","v":0},{"$f":"SUMIF('00 PDC SP'!$A:$A,'Tab 18-19'!$A84,'00 PDC SP'!L:L)","v":0},{"$f":"SUMIF('00 PDC SP'!$A:$A,'Tab 18-19'!$A84,'00 PDC SP'!M:M)","v":0},{"$f":"E84+F84-G84","v":0}]
[null,null,"  ……"]
[null,null,"  ……"]
[]
[{"$f":"B88&\"FS\"","v":"ABA650FS"},"ABA650"," CREDITI V/ERARIO",null,{"$f":"SUMIF('00 PDC SP'!$A:$A,'Tab 18-19'!$A88,'00 PDC SP'!K:K)","v":0},{"$f":"SUMIF('00 PDC SP'!$A:$A,'Tab 18-19'!$A88,'00 PDC SP'!L:L)","v":0},{"$f":"SUMIF('00 PDC SP'!$A:$A,'Tab 18-19'!$A88,'00 PDC SP'!M:M)","v":0},{"$f":"E88+F88-G88","v":0}]
[null,null,"  ……"]
[null,null,"  ……"]
[]
[null,null," CREDITI V/ALTRI",null,{"$f":"E93+E94+E97+E100+E103","v":-3174726.99},{"$f":"F93+F94+F97+F100+F103","v":0},{"$f":"G93+G94+G97+G100+G103","v":0},{"$f":"H93+H94+H97+H100+H103","v":-3174726.99}]
[{"$f":"B93&\"FS\"","v":"ABA670FS"},"ABA670"," Crediti v/clienti privati",null,{"$f":"SUMIF('00 PDC SP'!$A:$A,'Tab 18-19'!$A93,'00 PDC SP'!K:K)","v":-2874726.99},{"$f":"SUMIF('00 PDC SP'!$A:$A,'Tab 18-19'!$A93,'00 PDC SP'!L:L)","v":0},{"$f":"SUMIF('00 PDC SP'!$A:$A,'Tab 18-19'!$A93,'00 PDC SP'!M:M)","v":0},{"$f":"E93+F93-G93","v":-2874726.99}]
[{"$f":"B94&\"FS\"","v":"ABA680FS"},"ABA680"," Crediti v/gestioni liquidatorie",null,{"$f":"SUMIF('00 PDC SP'!$A:$A,'Tab 18-19'!$A94,'00 PDC SP'!K:K)","v":0},{"$f":"SUMIF('00 PDC SP'!$A:$A,'Tab 18-19'!$A94,'00 PDC SP'!L:L)","v":0},{"$f":"SUMIF('00 PDC SP'!$A:$A,'Tab 18-19'!$A94,'00 PDC SP'!M:M)","v":0},0]
[null,null,"  ……"]
[null,null,"  ……"]
[{"$f":"B97&\"FS\"","v":"ABA690FS"},"ABA690"," Crediti v/altri soggetti pubblici",null,{"$f":"SUMIF('00 PDC SP'!$A:$A,'Tab 18-19'!$A97,'00 PDC SP'!K:K)","v":0},{"$f":"SUMIF('00 PDC SP'!$A:$A,'Tab 18-19'!$A97,'00 PDC SP'!L:L)","v":0},{"$f":"SUMIF('00 PDC SP'!$A:$A,'Tab 18-19'!$A97,'00 PDC SP'!M:M)","v":0},{"$f":"E97+F97-G97","v":0}]
[null,null,"  ……"]
[null,null,"  ……"]
[{"$f":"B100&\"FS\"","v":"ABA700FS"},"ABA700"," Crediti v/altri soggetti pubblici per ricerca",null,{"$f":"SUMIF('00 PDC SP'!$A:$A,'Tab 18-19'!$A100,'00 PDC SP'!K:K)","v":0},{"$f":"SUMIF('00 PDC SP'!$A:$A,'Tab 18-19'!$A100,'00 PDC SP'!L:L)","v":0},{"$f":"SUMIF('00 PDC SP'!$A:$A,'Tab 18-19'!$A100,'00 PDC SP'!M:M)","v":0},{"$f":"E100+F100-G100","v":0}]
[null,null,"  ……"]
[null,null,"  ……"]
[{"$f":"B103&\"FS\"","v":"ABA710FS"},"ABA710"," Altri crediti diversi",null,{"$f":"E104","v":-300000},{"$f":"F104","v":0},0,{"$f":"E103+F103-G103","v":-300000}]
[{"$f":"B104&\"FS\"","v":"ABA711FS"},"ABA711","Altri Crediti  diversi ",null,{"$f":"SUMIF('00 PDC SP'!$A:$A,'Tab 18-19'!$A104,'00 PDC SP'!K:K)","v":-300000},{"$f":"SUMIF('00 PDC SP'!$A:$A,'Tab 18-19'!$A104,'00 PDC SP'!L:L)","v":0},{"$f":"SUMIF('00 PDC SP'!$A:$A,'Tab 18-19'!$A104,'00 PDC SP'!M:M)","v":0},-300000]
[null,null,"  ……"]
[null,null,"  ……"]
[null,"ABA712","Note di credito da emettere (diverse)",null,{"$f":"SUMIF('00 PDC SP'!$A:$A,'Tab 18-19'!$A107,'00 PDC SP'!K:K)","v":0},{"$f":"SUMIF('00 PDC SP'!$A:$A,'Tab 18-19'!$A107,'00 PDC SP'!L:L)","v":0},{"$f":"SUMIF('00 PDC SP'!$A:$A,'Tab 18-19'!$A107,'00 PDC SP'!M:M)","v":0},{"$f":"E107+F107-G107","v":0}]
[null,null,"  ……"]
[null,null,"  ……"]
[null,"ABA713","Altri Crediti verso erogatori (privati accreditati e convenzionati) di prestazioni sanitarie",null,{"$f":"SUMIF('00 PDC SP'!$A:$A,'Tab 18-19'!$A110,'00 PDC SP'!K:K)","v":0},{"$f":"SUMIF('00 PDC SP'!$A:$A,'Tab 18-19'!$A110,'00 PDC SP'!L:L)","v":0},{"$f":"SUMIF('00 PDC SP'!$A:$A,'Tab 18-19'!$A110,'00 PDC SP'!M:M)","v":0},{"$f":"E110+F110-G110","v":0}]
[null,"ABA714","Altri Crediti verso erogatori (privati accreditati e convenzionati) di prestazioni sanitarie",null,{"$f":"SUMIF('00 PDC SP'!$A:$A,'Tab 18-19'!$A111,'00 PDC SP'!K:K)","v":0},{"$f":"SUMIF('00 PDC SP'!$A:$A,'Tab 18-19'!$A111,'00 PDC SP'!L:L)","v":0},{"$f":"SUMIF('00 PDC SP'!$A:$A,'Tab 18-19'!$A111,'00 PDC SP'!M:M)","v":0},0]
[null,null,"  ……"]
[null,null,"  ……"]
[null,"ABA715","Note di credito da emettere  (privati accreditati e convenzionati)",null,{"$f":"SUMIF('00 PDC SP'!$A:$A,'Tab 18-19'!$A114,'00 PDC SP'!K:K)","v":0},{"$f":"SUMIF('00 PDC SP'!$A:$A,'Tab 18-19'!$A114,'00 PDC SP'!L:L)","v":0},{"$f":"SUMIF('00 PDC SP'!$A:$A,'Tab 18-19'!$A114,'00 PDC SP'!M:M)","v":0},{"$f":"E114+F114-G114","v":0}]
[null,null,"  ……"]
[null,null,"  ……"]

{"sheet":"Tab. 20-21 ","index":24,"n_rows":130,"n_cols":19,"rows_kept":130,"cut":false,"hidden":false,"merged":[[59,2,60,2],[59,3,60,3],[59,5,59,13],[124,2,124,9],[0,3,0,13],[1,2,2,2],[1,3,2,3],[1,5,1,13],[57,2,57,13]]}
[null,null,null,"Tab. 20 – Valore nominale dei crediti distinti per anno di formazione – I parte"]
[null,null,"CODICE MOD. SP","CREDITI",null,"VALORE NOMINALE DEI CREDITI AL 31/12/2019 PER ANNO DI FORMAZIONE"]
[null,null,null,null,null,{"$f":"\"Anno \"&'00 PDC SP'!$F$2-8 &\" e precedenti\"","v":"Anno 2011 e precedenti"},{"$f":"\"Anno \"&'00 PDC SP'!$F$2-7","v":"Anno 2012"},{"$f":"\"Anno \"&'00 PDC SP'!$F$2-6","v":"Anno 2013"},{"$f":"\"Anno \"&'00 PDC SP'!$F$2-5","v":"Anno 2014"},{"$f":"\"Anno \"&'00 PDC SP'!$F$2-4","v":"Anno 2015"},{"$f":"\"Anno \"&'00 PDC SP'!$F$2-3","v":"Anno 2016"},{"$f":"\"Anno \"&'00 PDC SP'!$F$2-2","v":"Anno 2017"},{"$f":"\"Anno \"&'00 PDC SP'!$F$2-1","v":"Anno 2018"},{"$f":"\"Anno \"&'00 PDC SP'!$F$2","v":"Anno 2019"},null,"Valore SP","Diff","Ctrl"]
[null,null,null," CREDITI V/STATO - PARTE CORRENTE",null,{"$f":"F5+F12","v":0},0,0,0,0,0,0,1801.52,5185.68,null,6987.2000000000116]
[null,null,null," Crediti v/Stato per spesa corrente e acconti:",null,{"$f":"+F7+F8+F9+F10+F11+F6","v":0},0,0,0,0,0,0,1801.52,{"$f":"+N7+N8+N9+N10+N11+N6","v":5185.68},null,{"$f":"+P7+P8+P9+P10+P11+P6","v":6987.2000000000116}]
[{"$f":"C6&\"CR\"","v":"ABA201CR"},{"$f":"C6&\"FE\"","v":"ABA201FE"},"ABA201","Crediti v/ Stato per spesa corrente - FSN indistinto ",null,0,0,0,0,0,0,0,1801.52,5185.68,null,{"$f":"SUMIF('00 PDC SP'!A:A,'Tab. 20-21 '!A6,'00 PDC SP'!N:N)+SUMIF('00 PDC SP'!A:A,'Tab. 20-21 '!B6,'00 PDC SP'!N:N)","v":6987.2000000000116},{"$f":"F6+G6+H6+I6+J6+K6+L6+M6+N6-P6","v":-1.0913936421275139E-11}]
[{"$f":"C7&\"CR\"","v":"ABA220CR"},{"$f":"C7&\"FE\"","v":"ABA220FE"},"ABA220","  Crediti v/Stato per spesa corrente - FSN Vincolato ",null,0,0,0,0,0,0,0,0,0,null,{"$f":"SUMIF('00 PDC SP'!A:A,'Tab. 20-21 '!A7,'00 PDC SP'!N:N)+SUMIF('00 PDC SP'!A:A,'Tab. 20-21 '!B7,'00 PDC SP'!N:N)","v":0},0,{"$f":"IF(Q7=0,\"OK\",\"CTRL\")","v":"OK"}]
["ABA230CR",{"$f":"C8&\"FE\"","v":"ABA230FE"},"ABA230","  Crediti v/Stato per mobilità attiva extraregionale",null,0,0,0,0,0,0,0,0,0,null,{"$f":"SUMIF('00 PDC SP'!A:A,'Tab. 20-21 '!A8,'00 PDC SP'!N:N)+SUMIF('00 PDC SP'!A:A,'Tab. 20-21 '!B8,'00 PDC SP'!N:N)","v":0},0,"OK"]
["ABA240CR",{"$f":"C9&\"FE\"","v":"ABA240FE"},"ABA240","  Crediti v/Stato per mobilità attiva internazionale",null,0,0,0,0,0,0,0,0,0,null,{"$f":"SUMIF('00 PDC SP'!A:A,'Tab. 20-21 '!A9,'00 PDC SP'!N:N)+SUMIF('00 PDC SP'!A:A,'Tab. 20-21 '!B9,'00 PDC SP'!N:N)","v":0},0,"OK"]
["ABA250CR",null,"ABA250","  Crediti v/Stato per acconto quota fabbisogno sanitario regionale standard",null,0,0,0,0,0,0,0,0,0,null,{"$f":"SUMIF('00 PDC SP'!A:A,'Tab. 20-21 '!A10,'00 PDC SP'!N:N)","v":0},0,"OK"]
["ABA260CR",null,"ABA260","  Crediti v/Stato per finanziamento sanitario aggiuntivo corrente",null,0,0,0,0,0,0,0,0,0,null,{"$f":"SUMIF('00 PDC SP'!A:A,'Tab. 20-21 '!A11,'00 PDC SP'!N:N)","v":0},0,{"$f":"IF(Q11=0,\"OK\",\"CTRL\")","v":"OK"}]
[null,null,null," Crediti v/Stato - altro:",null,{"$f":"F13","v":0},{"$f":"G13","v":0},{"$f":"H13","v":0},0,0,0,0,0,0,null,null,0]
[{"$f":"C13&\"CR\"","v":"ABA270CR"},null,"ABA270","  Crediti v/Stato per spesa corrente - altro",null,0,null,0,0,0,0,0,0,0,null,{"$f":"SUMIF('00 PDC SP'!A:A,'Tab. 20-21 '!A13,'00 PDC SP'!N:N)","v":0},0,{"$f":"IF(Q13=0,\"OK\",\"CTRL\")","v":"OK"}]
[null,null,"ABA271","  Crediti v/Stato per spesa corrente STP (ex D.lgs. 286/98)",null,0,null,0,0,0,0,0,0,0]
[null,null,null," CREDITI V/STATO - INVESTIMENTI",null,{"$f":"F16","v":0},{"$f":"G16","v":0},{"$f":"H16","v":0},0,0,0,0,0,0,null,null,0]
[{"$f":"C16&\"CR\"","v":"ABA280CR"},null,"ABA280"," Crediti v/Stato per finanziamenti per investimenti:",null,0,null,0,0,0,0,0,0,0,null,{"$f":"SUMIF('00 PDC SP'!A:A,'Tab. 20-21 '!A16,'00 PDC SP'!N:N)","v":0},0,{"$f":"IF(Q16=0,\"OK\",\"CTRL\")","v":"OK"}]
[null,null,null,"  ……",null,0,null,0,0,0,0,0,0,0,null,null,0]
[null,null,"ABA290"," CREDITI V/STATO - RICERCA",null,{"$f":"F19+F20+F21+F23","v":0},{"$f":"G19+G20+G21+G23","v":0},{"$f":"H19+H20+H21+H23","v":0},0,0,4620,0,0,1122,null,{"$f":"P19+P20+P21","v":5742},0]
[{"$f":"C19&\"CR\"","v":"ABA300CR"},null,"ABA300"," Crediti v/Stato per ricerca corrente - Ministero della Salute ",null,0,null,0,0,0,0,0,0,0,null,{"$f":"SUMIF('00 PDC SP'!A:A,'Tab. 20-21 '!A19,'00 PDC SP'!N:N)","v":0},0,{"$f":"IF(Q19=0,\"OK\",\"CTRL\")","v":"OK"}]
[{"$f":"C20&\"CR\"","v":"ABA310CR"},null,"ABA310"," Crediti v/Stato per ricerca finalizzata - Ministero della Salute ",null,0,null,0,0,0,4620,0,null,1122,null,{"$f":"SUMIF('00 PDC SP'!A:A,'Tab. 20-21 '!A20,'00 PDC SP'!N:N)","v":5742},0,"OK"]
[{"$f":"C21&\"CR\"","v":"ABA320CR"},null,"ABA320"," Crediti v/Stato per ricerca - altre Amministrazioni centrali ",null,0,null,0,0,0,0,0,0,0,null,{"$f":"SUMIF('00 PDC SP'!A:A,'Tab. 20-21 '!A21,'00 PDC SP'!N:N)","v":0},0,"OK"]
[{"$f":"C22&\"CR\"","v":"ABA330CR"},null,"ABA330"," Crediti v/Stato per ricerca - finanziamenti per investimenti",null,0,null,0,0,0,0,0,0,0,null,{"$f":"SUMIF('00 PDC SP'!A:A,'Tab. 20-21 '!A22,'00 PDC SP'!N:N)","v":0},0,"OK"]
[{"$f":"C23&\"CR\"","v":"ABA340CR"},null,"ABA340"," CREDITI V/PREFETTURE",null,0,null,0,0,0,0,0,0,0,null,{"$f":"SUMIF('00 PDC SP'!A:A,'Tab. 20-21 '!A23,'00 PDC SP'!N:N)","v":0},0,"OK"]
[null,null,null,"TOTALE CREDITI V/STATO",null,{"$f":"F18+F4","v":0},null,{"$f":"H18+H4","v":0},0,0,4620,0,1801.52,6307.68,null,{"$f":"P18+P4+P23","v":12729.200000000012}]
[]
[null,null,null," CREDITI V/REGIONE O P.A. PER SPESA CORRENTE",null,{"$f":"F27+F39+F40","v":24465177.990000002},{"$f":"G27+G39+G40","v":2470243.09},2579167,40480591.5,9183583.0099999998,4909511.3899999997,16388104.899999999,26904893.449999999,45203364.090000004,null,{"$f":"P27+P39+P40","v":172584636.73000002},{"$f":"F26+G26+H26+I26+J26+K26+L26+M26+N26-P26","v":-0.31000000238418579}]
[null,null,"ABA360"," Crediti v/Regione o P.A. per finanziamento sanitario ordinario corrente:",null,{"$f":"F28+F32+F33+F34+F35+F36+F37+F38","v":24465177.990000002},{"$f":"G28+G32+G33+G34+G35+G36+G37+G38","v":2470243.09},2579167,40480591.5,9183583.0099999998,4909511.3899999997,16388104.899999999,26904893.449999999,45203364.090000004,null,{"$f":"P28+P32+P33+P34+P35+P36+P37+P38","v":172584636.73000002},{"$f":"F27+G27+H27+I27+J27+K27+L27+M27+N27-P27","v":-0.31000000238418579}]
[{"$f":"C28&\"CR\"","v":"ABA390CR"},{"$f":"C28&\"FE\"","v":"ABA390FE"},"ABA390","  Crediti v/Regione :",null,{"$f":"SUM(F29:F31)","v":3260104},{"$f":"SUM(G29:G31)","v":2470243.09},2518345,{"$f":"SUM(I29:I31)","v":27087261.210000001},1929700.3,3652672,16388104.899999999,26904893.449999999,42397263.090000004,null,{"$f":"SUMIF('00 PDC SP'!A:A,'Tab. 20-21 '!A28,'00 PDC SP'!N:N)+SUMIF('00 PDC SP'!A:A,'Tab. 20-21 '!B28,'00 PDC SP'!N:N)","v":126608586.99000001},4.9999982118606567E-2,{"$f":"IF(Q28=0,\"OK\",\"CTRL\")","v":"CTRL"}]
[null,null,null,"          di cui crediti per FS indistinto",null,{"$f":"542280+31625","v":573905},0,0,0,0,0,14756490.449999999,21880998.449999999,29472683.09,null,{"$f":"SUM(F29:N29)","v":66684076.989999995},0,"OK"]
[null,null,null,"          di cui crediti per FS vincolato",null,0,2465378,2518345,2289114.21,1929700.3,3652672,1631614.45,5023895,12924580,null,{"$f":"SUM(F30:N30)","v":32435298.960000001},null,"OK"]
[null,null,null,"          di cui crediti per extrafondo vincolato",null,2686199,4865.09,0,24798147,0,0,null,null,0,null,{"$f":"SUM(F31:N31)","v":27489211.09},null,"OK"]
[{"$f":"C32&\"CR\"","v":"ABA400CR"},{"$f":"C32&\"FE\"","v":"ABA400FE"},"ABA400","  Crediti v/Regione o P.A. per mobilità attiva intraregionale",null,15592903.99,0,0,0,0,{"$f":"1343946.39-87107","v":1256839.3899999999},0,0,0,null,{"$f":"SUMIF('00 PDC SP'!A:A,'Tab. 20-21 '!A32,'00 PDC SP'!N:N)+SUMIF('00 PDC SP'!A:A,'Tab. 20-21 '!B32,'00 PDC SP'!N:N)","v":16849743.390000008},-1.0000009089708328E-2,"CTRL"]
["ABA410CR","ABA410FE","ABA410","  Crediti v/Regione o P.A. per mobilità attiva extraregionale",null,{"$f":"6298767-392985-357247-136991+200626","v":5612170},0,0,13393330.289999999,null,0,0,0,0,null,{"$f":"SUMIF('00 PDC SP'!A:A,'Tab. 20-21 '!A33,'00 PDC SP'!N:N)+SUMIF('00 PDC SP'!A:A,'Tab. 20-21 '!B33,'00 PDC SP'!N:N)","v":19005500.290000003},0,"OK"]
["ABA420CR","ABA420FE","ABA420","Crediti v/Regione o P.A. per acconto quota FSR",null,0,0,0,0,0,0,0,0,0,null,{"$f":"SUMIF('00 PDC SP'!A:A,'Tab. 20-21 '!A34,'00 PDC SP'!N:N)+SUMIF('00 PDC SP'!A:A,'Tab. 20-21 '!B34,'00 PDC SP'!N:N)","v":0},0,"OK"]
["ABA430CR","ABA430FE","ABA430"," Crediti v/Regione o P.A. per finanziamento sanitario aggiuntivo corrente LEA",null,0,0,60822,0,{"$f":"278111.87+6975770.84","v":7253882.71},0,0,0,2589183,null,{"$f":"SUMIF('00 PDC SP'!A:A,'Tab. 20-21 '!A35,'00 PDC SP'!N:N)+SUMIF('00 PDC SP'!A:A,'Tab. 20-21 '!B35,'00 PDC SP'!N:N)","v":9903887.9000000022},-0.19000000134110451,{"$f":"IF(Q35=0,\"OK\",\"CTRL\")","v":"CTRL"}]
["ABA440CR","ABA440FE","ABA440"," Crediti v/Regione o P.A. per finanziamento sanitario aggiuntivo corrente extra LEA",null,0,0,0,0,0,0,0,0,0,null,{"$f":"SUMIF('00 PDC SP'!A:A,'Tab. 20-21 '!A36,'00 PDC SP'!N:N)+SUMIF('00 PDC SP'!A:A,'Tab. 20-21 '!B36,'00 PDC SP'!N:N)","v":0},0,"OK"]
["ABA450CR","ABA450FE","ABA450"," Crediti v/Regione o P.A. per spesa corrente - altro",null,0,0,0,0,0,0,0,0,0,null,{"$f":"SUMIF('00 PDC SP'!A:A,'Tab. 20-21 '!A37,'00 PDC SP'!N:N)+SUMIF('00 PDC SP'!A:A,'Tab. 20-21 '!B37,'00 PDC SP'!N:N)","v":0},0,"OK"]
[{"$f":"C38&\"CR\"","v":"ABA451CR"},{"$f":"C38&\"FE\"","v":"ABA451FE"},"ABA451"," Crediti v/Regione o P.A. per spesa corrente STP (ex D.lgs. 286/98)",null,0,0,0,0,0,0,0,0,216918,null,{"$f":"SUMIF('00 PDC SP'!A:A,'Tab. 20-21 '!A38,'00 PDC SP'!N:N)+SUMIF('00 PDC SP'!A:A,'Tab. 20-21 '!B38,'00 PDC SP'!N:N)","v":216918.16},{"$f":"F38+G38+H38+I38+J38+K38+L38+M38+N38-P38","v":-0.16000000000349246},{"$f":"IF(Q38=0,\"OK\",\"CTRL\")","v":"CTRL"}]
["ABA460CR","ABA460FE","ABA460"," CREDITI V/REGIONE O P.A. PER RICERCA:",null,0,0,0,0,0,0,0,0,0,null,{"$f":"SUMIF('00 PDC SP'!A:A,'Tab. 20-21 '!A39,'00 PDC SP'!N:N)+SUMIF('00 PDC SP'!A:A,'Tab. 20-21 '!B39,'00 PDC SP'!N:N)","v":0},0,"OK"]
[{"$f":"C40&\"CR\"","v":"ABA461CR"},{"$f":"C40&\"FE\"","v":"ABA461FE"},"ABA461"," CREDITI V/REGIONE O P.A. PER MOBILITA' ATTIVA INTERNAZIONALE",null,0,0,0,0,0,0,0,0,0,null,{"$f":"SUMIF('00 PDC SP'!A:A,'Tab. 20-21 '!A40,'00 PDC SP'!N:N)+SUMIF('00 PDC SP'!A:A,'Tab. 20-21 '!B40,'00 PDC SP'!N:N)","v":0},{"$f":"F40+G40+H40+I40+J40+K40+L40+M40+N40-P40","v":0},"OK"]
[null,null,null," CREDITI V/REGIONE O P.A. PER VERSAMENTI A PATRIMONIO NETTO",null,{"$f":"F42+F43+F44","v":38255},{"$f":"G42+G43+G44","v":0},{"$f":"H42+H43+H44","v":0},0,0,0,14264710,13255819.810000001,0,null,27558784.809999999,0,"OK"]
[{"$f":"C42&\"CR\"","v":"ABA480CR"},{"$f":"C42&\"FE\"","v":"ABA480FE"},"ABA480","  Crediti v/Regione o P.A. per finanziamenti per investimenti",null,38255,0,0,0,0,0,0,null,0,null,{"$f":"SUMIF('00 PDC SP'!A:A,'Tab. 20-21 '!A42,'00 PDC SP'!N:N)+SUMIF('00 PDC SP'!A:A,'Tab. 20-21 '!B42,'00 PDC SP'!N:N)","v":38255},0,{"$f":"IF(Q42=0,\"OK\",\"CTRL\")","v":"OK"}]
[{"$f":"C43&\"CR\"","v":"ABA490CR"},{"$f":"C43&\"FE\"","v":"ABA490FE"},"ABA490","  Crediti v/Regione o P.A. per incremento fondo dotazione",null,0,0,0,0,0,0,0,null,0,null,{"$f":"SUMIF('00 PDC SP'!A:A,'Tab. 20-21 '!A43,'00 PDC SP'!N:N)+SUMIF('00 PDC SP'!A:A,'Tab. 20-21 '!B43,'00 PDC SP'!N:N)","v":0},0,"OK"]
[null,null,null,"  Crediti v/Regione o P.A. per ripiano perdite:",null,{"$f":"F45+F47+F48","v":0},{"$f":"G45+G47+G48","v":0},{"$f":"H45+H47+H48","v":0},0,0,0,14264710,13255819.810000001,0,null,27520529.809999999,0,"OK"]
[{"$f":"C45&\"CR\"","v":"ABA500CR"},{"$f":"C45&\"FE\"","v":"ABA500FE"},"ABA500","  Crediti v/Regione o P.A. per ripiano perdite",null,0,0,0,0,0,0,14264710,13255819.810000001,null,null,{"$f":"SUMIF('00 PDC SP'!A:A,'Tab. 20-21 '!A45,'00 PDC SP'!N:N)+SUMIF('00 PDC SP'!A:A,'Tab. 20-21 '!B45,'00 PDC SP'!N:N)","v":27520529.809999999},0,{"$f":"IF(Q45=0,\"OK\",\"CTRL\")","v":"OK"}]
[{"$f":"C46&\"CR\"","v":"ABA501CR"},{"$f":"C46&\"FE\"","v":"ABA501FE"},"ABA501","  Crediti v/Regione o P.A. per anticipazione ripiano disavanzo programmato dai Piani Aziendali di cui all'aart.1,comma 528, L.208/2015",null,0,0,0,0,0,0,0,0,0,null,{"$f":"SUMIF('00 PDC SP'!A:A,'Tab. 20-21 '!A46,'00 PDC SP'!N:N)+SUMIF('00 PDC SP'!A:A,'Tab. 20-21 '!B46,'00 PDC SP'!N:N)","v":0},{"$f":"F46+G46+H46+I46+J46+K46+L46+M46+N46-P46","v":0},{"$f":"IF(Q46=0,\"OK\",\"CTRL\")","v":"OK"}]
[{"$f":"C47&\"CR\"","v":"ABA510CR"},{"$f":"C47&\"FE\"","v":"ABA510FE"},"ABA510","  Crediti v/Regione per copertura debiti al 31/12/2005",null,0,0,0,0,0,0,0,null,0,null,{"$f":"SUMIF('00 PDC SP'!A:A,'Tab. 20-21 '!A47,'00 PDC SP'!N:N)+SUMIF('00 PDC SP'!A:A,'Tab. 20-21 '!B47,'00 PDC SP'!N:N)","v":0},0,"OK"]
[{"$f":"C48&\"CR\"","v":"ABA520CR"},{"$f":"C48&\"FE\"","v":"ABA520FE"},"ABA520","Crediti v/Regione o P.A. per ricostituzione risorse da investimenti esercizi precedenti",null,0,0,0,0,0,0,0,null,0,null,{"$f":"SUMIF('00 PDC SP'!A:A,'Tab. 20-21 '!A48,'00 PDC SP'!N:N)+SUMIF('00 PDC SP'!A:A,'Tab. 20-21 '!B48,'00 PDC SP'!N:N)","v":0},0,"OK"]
[{"$f":"C49&\"CR\"","v":"ABA521CR"},{"$f":"C49&\"FE\"","v":"ABA521FE"},"ABA521","Crediti v/Regione o P.A. per contributi L210/92",null,0,0,0,0,0,0,0,null,0,null,{"$f":"SUMIF('00 PDC SP'!A:A,'Tab. 20-21 '!A49,'00 PDC SP'!N:N)+SUMIF('00 PDC SP'!A:A,'Tab. 20-21 '!B49,'00 PDC SP'!N:N)","v":0},{"$f":"F49+G49+H49+I49+J49+K49+L49+M49+N49-P49","v":0},{"$f":"IF(Q49=0,\"OK\",\"CTRL\")","v":"OK"}]
["ABA522CR","ABA522FE","ABA522","Crediti v/Regione o P.A. per contributi L210/92 - Aziende Sanitarie",null,0,0,0,0,0,0,0,null,0,null,{"$f":"SUMIF('00 PDC SP'!A:A,'Tab. 20-21 '!A50,'00 PDC SP'!N:N)+SUMIF('00 PDC SP'!A:A,'Tab. 20-21 '!B50,'00 PDC SP'!N:N)","v":0},0,"OK"]
[null,null,null,"TOTALE CREDITI V/REGIONE O PROVINCIA AUTONOMA",null,{"$f":"F41+F26+F49+F50","v":24503432.990000002},{"$f":"G41+G26+G49+G50","v":2470243.09},{"$f":"H41+H26+H49+H50","v":2579167},40480591.5,9183583.0099999998,4909511.3899999997,30652814.899999999,40160713.259999998,{"$f":"N41+N26+N49+N50","v":45203364.090000004},null,{"$f":"P41+P26","v":200143421.54000002},{"$f":"F51+G51+H51+I51+J51+K51+L51+M51+N51-P51","v":-0.31000003218650818}]
[]
[null,null,null,null,null,null,null,null,null,null,null,null,null,null,null,null,"f.do svalutazione",null,"netto"]
[null,null,null,null,null,null,null,null,null,null,null,null,null,null,null,{"$f":"SUM(F27:N27)","v":172584636.42000002},3047520.97,null,{"$f":"P54-Q54","v":169537115.45000002}]
[]
[]
[]
[]
[null,null,null,"Tab. 21 – Valore nominale dei crediti distinti per anno di formazione – II parte"]
[null,null,"CODICE MOD. SP","CREDITI",null,"VALORE NOMINALE DEI CREDITI AL 31/12/2018 PER ANNO DI FORMAZIONEFORMAZIONE\""]
[null,null,null,null,null,{"$f":"\"Anno \"&'00 PDC SP'!$F$2-8 &\" e precedenti\"","v":"Anno 2011 e precedenti"},{"$f":"\"Anno \"&'00 PDC SP'!$F$2-7","v":"Anno 2012"},{"$f":"\"Anno \"&'00 PDC SP'!$F$2-6","v":"Anno 2013"},{"$f":"\"Anno \"&'00 PDC SP'!$F$2-5","v":"Anno 2014"},{"$f":"\"Anno \"&'00 PDC SP'!$F$2-4","v":"Anno 2015"},{"$f":"\"Anno \"&'00 PDC SP'!$F$2-3","v":"Anno 2016"},{"$f":"\"Anno \"&'00 PDC SP'!$F$2-2","v":"Anno 2017"},{"$f":"\"Anno \"&'00 PDC SP'!$F$2-1","v":"Anno 2018"},{"$f":"\"Anno \"&'00 PDC SP'!$F$2","v":"Anno 2019"},null,"Valore SP","Diff","Ctrl"]
[{"$f":"C62&\"CR\"","v":"ABA530CR"},{"$f":"C62&\"FE\"","v":"ABA530FE"},"ABA530"," CREDITI V/COMUNI",null,{"$f":"34018.2+5505.16","v":39523.360000000001},0,0,76.44,27608.04,734.74,35020.6,31305.88,{"$f":"59526.13+145.04+20214.71","v":79885.88},null,{"$f":"SUMIF('00 PDC SP'!A:A,'Tab. 20-21 '!A62,'00 PDC SP'!N:N)+SUMIF('00 PDC SP'!A:A,'Tab. 20-21 '!B62,'00 PDC SP'!N:N)","v":214154.94},{"$f":"F62+G62+H62+I62+J62+K62+L62+M62+N62-P62","v":0},{"$f":"IF(Q62=0,\"OK\",\"CTRL\")","v":"OK"}]
[]
[null,null,null," CREDITI V/AZIENDE SANITARIE PUBBLICHE DELLA REGIONE",null,{"$f":"F65+F66+F67+F68","v":3742270.1799999997},{"$f":"G65+G66+G67+G68","v":16196.31},{"$f":"H65+H66+H67+H68","v":43684.28},277193.18,198220.63000000003,124012.26999999999,74403.02,null,184691.21999999997,null,4704503.1400000006]
[{"$f":"C65&\"CR\"","v":"ABA560CR"},{"$f":"C65&\"FE\"","v":"ABA560FE"},"ABA560"," Crediti v/Aziende sanitarie pubbliche della Regione - mobilità in compensazione",null,0,0,0,0,0,0,0,null,0,null,{"$f":"SUMIF('00 PDC SP'!A:A,'Tab. 20-21 '!A65,'00 PDC SP'!N:N)+SUMIF('00 PDC SP'!A:A,'Tab. 20-21 '!B65,'00 PDC SP'!N:N)","v":0},{"$f":"F65+G65+H65+I65+J65+K65+L65+M65+N65-P65","v":0},{"$f":"IF(Q65=0,\"OK\",\"CTRL\")","v":"OK"}]
[{"$f":"C66&\"CR\"","v":"ABA570CR"},{"$f":"C66&\"FE\"","v":"ABA570FE"},"ABA570"," Crediti v/Aziende sanitarie pubbliche della Regione - mobilità non in compensazione",null,0,0,0,0,0,0,0,null,0,null,{"$f":"SUMIF('00 PDC SP'!A:A,'Tab. 20-21 '!A66,'00 PDC SP'!N:N)+SUMIF('00 PDC SP'!A:A,'Tab. 20-21 '!B66,'00 PDC SP'!N:N)","v":0},0,"OK"]
[{"$f":"C67&\"CR\"","v":"ABA580CR"},{"$f":"C67&\"FE\"","v":"ABA580FE"},"ABA580"," Crediti v/Aziende sanitarie pubbliche della Regione - altre\n prestazioni",null,{"$f":"3644973.15+97297.03","v":3742270.1799999997},16196.31,{"$f":"15607.39+6447.49+21629.4","v":43684.28},{"$f":"261837.16+6470.58+8885.44","v":277193.18},{"$f":"88048.75+99229.21+10942.67","v":198220.63000000003},{"$f":"56086.77+63021.13+4904.37","v":124012.26999999999},{"$f":"19061.78+30535.13+24806.11","v":74403.02},{"$f":"31388.91+9431.69+3011.9","v":43832.5},{"$f":"74847.65+22459.03+44344.22+3908.61+8889.21+2141.44+21559.36+4464.7+2077","v":184691.21999999997},null,{"$f":"SUMIF('00 PDC SP'!A:A,'Tab. 20-21 '!A67,'00 PDC SP'!N:N)+SUMIF('00 PDC SP'!A:A,'Tab. 20-21 '!B67,'00 PDC SP'!N:N)","v":4704503.1400000006},0.44999999832361937,"CTRL"]
[{"$f":"C68&\"CR\"","v":"ABA590CR"},{"$f":"C68&\"FE\"","v":"ABA590FE"},"ABA590"," Acconto quota FSR da distribuire",null,0,0,0,0,0,0,0,null,0,null,{"$f":"SUMIF('00 PDC SP'!A:A,'Tab. 20-21 '!A68,'00 PDC SP'!N:N)+SUMIF('00 PDC SP'!A:A,'Tab. 20-21 '!B68,'00 PDC SP'!N:N)","v":0},0,"OK"]
[null,null,"ABA591"," Crediti v/Aziende sanitarie pubbliche della Regione - per anticipazione ripiano disavanzo programmato dai piani aziendali di cui all'art.1,comma528,L208/2015",null,0,0,0,0,0,0,0,null,0,null,{"$f":"SUMIF('00 PDC SP'!A:A,'Tab. 20-21 '!A69,'00 PDC SP'!N:N)+SUMIF('00 PDC SP'!A:A,'Tab. 20-21 '!B69,'00 PDC SP'!N:N)","v":0},{"$f":"F69+G69+H69+I69+J69+K69+L69+M69+N69-P69","v":0},{"$f":"IF(Q69=0,\"OK\",\"CTRL\")","v":"OK"}]
[{"$f":"C70&\"CR\"","v":"ABA600CR"},{"$f":"C70&\"FE\"","v":"ABA600FE"},"ABA600"," CREDITI V/AZIENDE SANITARIE PUBBLICHE FUORI REGIONE",null,53509.71,81.900000000000006,30.16,0,0,0,{"$f":"16242.57+530.85+4","v":16777.419999999998},21069.97,{"$f":"37361.13+28598.43","v":65959.56},null,{"$f":"SUMIF('00 PDC SP'!A:A,'Tab. 20-21 '!A70,'00 PDC SP'!N:N)+SUMIF('00 PDC SP'!A:A,'Tab. 20-21 '!B70,'00 PDC SP'!N:N)","v":157428.71999999997},0,"OK"]
[null,null,"ABA601"," Crediti v/Aziende sanitarie pubbliche della Regione -per contributi da Aziende sanitarie della Regione o P.O( extra fondo)",null,0,0,0,0,0,0,0,0,0,null,{"$f":"SUMIF('00 PDC SP'!A:A,'Tab. 20-21 '!A71,'00 PDC SP'!N:N)+SUMIF('00 PDC SP'!A:A,'Tab. 20-21 '!B71,'00 PDC SP'!N:N)","v":0},{"$f":"F71+G71+H71+I71+J71+K71+L71+M71+N71-P71","v":0},{"$f":"IF(Q71=0,\"OK\",\"CTRL\")","v":"OK"}]
[null,null,null,"TOTALE CREDITI V/AZIENDE SANITARIE PUBBLICHE",null,{"$f":"SUM(F67:F70)","v":3795779.8899999997},{"$f":"SUM(G67:G70)","v":16278.21},{"$f":"SUM(H67:H70)","v":43714.44},277193.18,198220.63000000003,124012.26999999999,91180.44,64902.47,250650.77999999997,null,{"$f":"SUM(P67:P70)","v":4861931.8600000003}]
[]
[null,null,null," CREDITI V/SOCIETA' PARTECIPATE E/O ENTI DIPENDENTI DELLA REGIONE",null,{"$f":"F75+F77+F79","v":0},0,5931.31,0,0,0,0,null,{"$f":"N75+N77+N79","v":0}]
[{"$f":"C75&\"CR\"","v":"ABA620CR"},{"$f":"C75&\"FE\"","v":"ABA620FE"},"ABA620"," Crediti v/enti regionali:",null,0,0,5931.31,0,0,0,0,null,0,null,{"$f":"SUMIF('00 PDC SP'!A:A,'Tab. 20-21 '!A75,'00 PDC SP'!N:N)+SUMIF('00 PDC SP'!A:A,'Tab. 20-21 '!B75,'00 PDC SP'!N:N)","v":5931.31},{"$f":"F75+G75+H75+I75+J75+K75+L75+M75+N75-P75","v":0},{"$f":"IF(Q75=0,\"OK\",\"CTRL\")","v":"OK"}]
[null,null,null,"Crediti verso ARTA",null,0,0,5931.31,0,0,0,0,null,0]
[{"$f":"C77&\"CR\"","v":"ABA630CR"},{"$f":"C77&\"FE\"","v":"ABA630FE"},"ABA630"," Crediti v/sperimentazioni gestionali:",null,0,0,0,0,0,0,0,null,0,null,{"$f":"SUMIF('00 PDC SP'!A:A,'Tab. 20-21 '!A77,'00 PDC SP'!N:N)+SUMIF('00 PDC SP'!A:A,'Tab. 20-21 '!B77,'00 PDC SP'!N:N)","v":0},{"$f":"F77+G77+H77+I77+J77+K77+L77+M77+N77-P77","v":0},{"$f":"IF(Q77=0,\"OK\",\"CTRL\")","v":"OK"}]
[null,null,null,"  ……"]
[{"$f":"C79&\"CR\"","v":"ABA640CR"},{"$f":"C79&\"FE\"","v":"ABA640FE"},"ABA640"," Crediti v/altre partecipate:",null,0,0,0,0,0,0,0,null,0,null,{"$f":"SUMIF('00 PDC SP'!A:A,'Tab. 20-21 '!A79,'00 PDC SP'!N:N)+SUMIF('00 PDC SP'!A:A,'Tab. 20-21 '!B79,'00 PDC SP'!N:N)","v":0},{"$f":"F79+G79+H79+I79+J79+K79+L79+M79+N79-P79","v":0},{"$f":"IF(Q79=0,\"OK\",\"CTRL\")","v":"OK"}]
[null,null,null,"  ……"]
[]
[{"$f":"C82&\"CR\"","v":"ABA650CR"},{"$f":"C82&\"FE\"","v":"ABA650FE"},"ABA650"," CREDITI V/ERARIO",null,{"$f":"F83+F84+F87+F85+F86","v":0},0,0,0,1295,0,{"$f":"L83+L84+L87+L85+L86","v":0},0,14098.47,null,{"$f":"SUMIF('00 PDC SP'!A:A,'Tab. 20-21 '!A82,'00 PDC SP'!N:N)+SUMIF('00 PDC SP'!A:A,'Tab. 20-21 '!B82,'00 PDC SP'!N:N)","v":15393.509999999998},{"$f":"F82+G82+H82+I82+J82+K82+L82+M82+N82-P82","v":-3.9999999999054126E-2},{"$f":"IF(Q82=0,\"OK\",\"CTRL\")","v":"CTRL"}]
[null,null,null,"Crediti verso IVA",null,0,0,0,0,1295,0,0,0,0,0]
[null,null,null,"Crediti verso IRES",null,0,0,0,0,0,0,0,0,0,0]
[null,null,null,"Altri crediti verso Erario",null,0,0,0,0,0,0,0,0,0,0]
[null,null,null,"Erario c/Iva per acconti versati",null,0,0,0,0,0,0,0,0,13979,13979]
[null,null,null,"Crediti per erario conto ritenute",null,0,0,0,0,0,0,0,0,119.47,119.47]
[]
[null,null,"ABA660"," CREDITI V/ALTRI",null,{"$f":"F90+F97+F99+F105+F106","v":2100492.59},{"$f":"G90+G97+G99+G105+G106","v":53960.01},172899.22,712179.8899999999,315600.67,470540.43,266077.69,493848.54000000004,{"$f":"N90+N97+N99+N105+N106","v":3292925.9800000004},null,{"$f":"P90+P97+P99+P105+P106","v":7878525.0500000026}]
[{"$f":"C90&\"CR\"","v":"ABA670CR"},{"$f":"C90&\"FE\"","v":"ABA670FE"},"ABA670"," Crediti v/clienti privati",null,{"$f":"SUM(F91:F96)","v":1735915.82},53349.53,111032.38,233996.77,307934.12,460305.77,253642.93,364052.83,{"$f":"SUM(N91:N96)","v":2259134.1100000003},null,{"$f":"SUMIF('00 PDC SP'!A:A,'Tab. 20-21 '!A90,'00 PDC SP'!N:N)+SUMIF('00 PDC SP'!A:A,'Tab. 20-21 '!B90,'00 PDC SP'!N:N)","v":5779364.2600000026},{"$f":"F90+G90+H90+I90+J90+K90+L90+M90+N90-P90","v":0},{"$f":"IF(Q90=0,\"OK\",\"CTRL\")","v":"OK"}]
[null,null,null," Crediti v/clienti privati ",null,{"$f":"1784398.46-48482.64","v":1735915.82},53349.53,111032.38,233996.77,307934.12,460305.77,253642.93,364052.83,1965023.72]
[null,null,null,"Crediti v/utenza per proventi da ticket",null,0,0,0,0,0,0,0,0,19821.77]
[null,null,null,"Fatture da emettere v/clienti privati",null,0,0,0,0,0,0,0,0,272781.96999999997]
[null,null,null," Crediti v/ dipendenti",null,0,0,0,0,0,0,0,0,1622.45]
[null,null,null,"Acconti verso altri fornitori",null,0,0,0,0,0,0,0,0,0]
[null,null,null,"Note credito da emettere v/clienti privati",null,0,0,0,0,0,0,0,0,-115.8]
[{"$f":"C97&\"CR\"","v":"ABA680CR"},{"$f":"C97&\"FE\"","v":"ABA680FE"},"ABA680"," Crediti v/gestioni liquidatorie",null,0,0,0,0,0,0,0,null,0,null,{"$f":"SUMIF('00 PDC SP'!A:A,'Tab. 20-21 '!A97,'00 PDC SP'!N:N)+SUMIF('00 PDC SP'!A:A,'Tab. 20-21 '!B97,'00 PDC SP'!N:N)","v":0},{"$f":"F97+G97+H97+I97+J97+K97+L97+M97+N97-P97","v":0},{"$f":"IF(Q97=0,\"OK\",\"CTRL\")","v":"OK"}]
[null,null,null,"  ……"]
[{"$f":"C99&\"CR\"","v":"ABA690CR"},{"$f":"C99&\"FE\"","v":"ABA690FE"},"ABA690"," Crediti v/altri soggetti pubblici",null,{"$f":"F100+F101+F102+F103","v":48575.710000000006},610.48,947.84,157.9,7666.55,10234.66,12434.76,129795.71,{"$f":"N100+N101+N102+N103+N104","v":24861.21},null,{"$f":"SUMIF('00 PDC SP'!A:A,'Tab. 20-21 '!A99,'00 PDC SP'!N:N)+N103","v":235284.83},{"$f":"F99+G99+H99+I99+J99+K99+L99+M99+N99-P99","v":-9.9999999802093953E-3},{"$f":"IF(Q99=0,\"OK\",\"CTRL\")","v":"CTRL"}]
[null,null,null,"Crediti verso Enti Previdenziali per servizi resi",null,0,0,0,0,0,0,0,null,0]
[null,null,null,"Crediti verso Amministrazioni del settore Statale",null,0,0,0,0,0,0,0,null,0]
[null,null,null,"Crediti Verso altri enti Pubblici",null,{"$f":"15523.2+33052.51","v":48575.710000000006},610.48,947.84,157.9,7666.55,10234.66,12434.76,129795.71,{"$f":"17385.21+7476","v":24861.21}]
[null,null,null,"Fatture da emettere v/altri soggetti Pubblici",null,0,0,0,0,0,0,0,null,0]
[null,null,null,"Note credito da emettere v/altri soggetti pubblici",null,0,0,0,0,0,0,0,null,0]
[{"$f":"C105&\"CR\"","v":"ABA700CR"},{"$f":"C105&\"FE\"","v":"ABA700FE"},"ABA700"," Crediti v/altri soggetti pubblici per ricerca",null,0,0,0,0,0,0,0,null,0,null,{"$f":"SUMIF('00 PDC SP'!A:A,'Tab. 20-21 '!A105,'00 PDC SP'!N:N)","v":0},{"$f":"F105+G105+H105+I105+J105+K105+L105+M105+N105-P105","v":0},{"$f":"IF(Q105=0,\"OK\",\"CTRL\")","v":"OK"}]
[{"$f":"C106&\"CR\"","v":"ABA710CR"},{"$f":"C106&\"FE\"","v":"ABA710FE"},"ABA710"," Altri crediti diversi",null,{"$f":"F112+F113+F114","v":316001.06},{"$f":"G112+G113+G114","v":0},{"$f":"H112+H113+H114","v":60919},478025.22,0,0,0,0,{"$f":"N112+N113+N114","v":1008930.66},null,{"$f":"P112+P113+P114+P107","v":1863875.96},-2.0000000018626451E-2,"CTRL"]
[{"$f":"C107&\"CR\"","v":"ABA711CR"},{"$f":"C107&\"FE\"","v":"ABA711FE"},"ABA711"," Altri crediti diversi",null,{"$f":"F113+F114+F115","v":316001.06},0,60919,478025.22,0,0,0,0,1008930.66,null,{"$f":"SUMIF('00 PDC SP'!A:A,'Tab. 20-21 '!A107,'00 PDC SP'!N:N)","v":1863875.96}]
[{"$f":"C108&\"CR\"","v":"ABA712CR"},{"$f":"C108&\"FE\"","v":"ABA712FE"},"ABA712","Note di Credito da emettere ( diversi)",null,{"$f":"F114+F115+F116","v":0},0,0,0,0,0,0,0,0,null,{"$f":"SUMIF('00 PDC SP'!A:A,'Tab. 20-21 '!A108,'00 PDC SP'!N:N)","v":0}]
[null,null,"ABA713"," Altri crediti verso Erogatori ( privati accreditati e convenzionati) di prestazioni sanitarie",null,{"$f":"F115+F116+F117","v":0},0,0,0,0,0,0,0,0]
[null,null,"ABA714"," Altri crediti verso Erogatori ( privati accreditati e convenzionati) di prestazioni sanitarie",null,{"$f":"F116+F117+F118","v":0},0,0,0,0,0,0,0,0]
[null,null,"ABA715","Note di Credito da emettere (privati accreditati e convenzionati)"]
[null,null,null,"Crediti verso Enti Previdenziali per contributi",null,0,0,0,0,0,0,0,null,0]
[null,null,null,"Altri crediti diversi",null,{"$f":"314592.06+1409","v":316001.06},0,60919,478025.22,0,0,0,0,{"$f":"928852.3+80078.36","v":1008930.66}]
[null,null,null,"Fatture da emettere v/Altri crediti diversi",null,0,0,0,0,0,0,0,null,0]
[]
[]
[]
[]
[]
[]
[]
[]
[]
[]
[null,null,"Nella tabella sottostante si dà rappresentazione della variazione dei CREDITI   con separata evidenza delle differenze, rispetto allo Stato Patrimoniale 2018  dei crediti di formazione anno 2019."]
[]
[null,null,"Voce di SP","descrizione",null,"saldo al 31/12/2018","incassi effettuati al 31/12/2019","svalutazione crediti ","crediti di formazione 2019 aperti al 31/12/2019","saldo al 31/12/2019"]
[null,null,"ABA670","Crediti verso privati al lordo del fondo svalutazione crediti",null,{"$f":"4897+230","v":5127},{"$f":"F128-J128+I128","v":1607},null,2259,5779]
[null,null,"ABA670","Fondo svalutazione crediti",null,-2875,0,null,0,{"$f":"F129-G129+H129+I129","v":-2875}]
[null,null,"ABA670","VALORE NETTO",null,{"$f":"SUM(F128:F129)","v":2252},{"$f":"SUM(G128:G129)","v":1607},0,2259,2904,null,null,null,null,null,null,"CANCELLATA RIGA BILANCIO 2015"]

{"sheet":"Tab 22-23-24","index":25,"n_rows":99,"n_cols":10,"rows_kept":99,"cut":false,"hidden":false,"merged":[[1,1,1,5],[94,1,94,5],[2,0,3,0],[2,1,3,1],[2,3,2,5],[50,1,50,3],[51,0,52,0],[51,1,52,1],[51,3,51,5],[91,1,91,5]]}
[]
[null,"Tab. 22 – Valore netto dei crediti per anno di scadenza – I parte"]
["CODICE MOD. SP","CREDITI",null,{"$f":"\"VALORE NETTO DEI CREDITI AL 31/12/\" &'00 PDC SP'!$F$2& \" PER SCADENZA\"","v":"VALORE NETTO DEI CREDITI AL 31/12/2019 PER SCADENZA"}]
[null,null,null,"Entro\n12 mesi","Tra 1 e 5 anni","Oltre\n5 anni",null,"Valore SP","Diff","Ctrl"]
[null," CREDITI V/STATO - PARTE CORRENTE",null,{"$f":"D6+D13+D16","v":6987.2000000000007},{"$f":"E6+E13+E16","v":0},0,null,6987.2000000000116]
[null," Crediti v/Stato per spesa corrente e acconti:",null,{"$f":"SUM(D7:D12)","v":6987.2000000000007},{"$f":"SUM(E7:E12)","v":0},0,null,6987.2000000000116]
["ABA201","  Crediti v/Stato per spesa corrente - FSN Indistinto",null,{"$f":"2301.52+4685.68","v":6987.2000000000007},0,0,null,{"$f":"SUMIF('00 SP'!A:A,'Tab 22-23-24'!A7,'00 SP'!L:L)","v":6987.2000000000116},{"$f":"(D7+E7+F7)-H7","v":-1.0913936421275139E-11},{"$f":"IF(I7=0,\"OK\",\"CTRL\")","v":"CTRL"}]
["ABA220","  Crediti v/Stato per spesa corrente - FSN Vincolato",null,0,0,0,null,{"$f":"SUMIF('00 SP'!A:A,'Tab 22-23-24'!A8,'00 SP'!L:L)","v":0},0,"OK"]
["ABA230","  Crediti v/Stato per mobilità attiva extraregionale",null,0,0,0,null,{"$f":"SUMIF('00 SP'!A:A,'Tab 22-23-24'!A9,'00 SP'!L:L)","v":0},0,"OK"]
["ABA240","  Crediti v/Stato per mobilità attiva internazionale",null,0,0,0,null,{"$f":"SUMIF('00 SP'!A:A,'Tab 22-23-24'!A10,'00 SP'!L:L)","v":0},0,"OK"]
["ABA250","  Crediti v/Stato per acconto quota fabbisogno sanitario regionale standard",null,0,0,0,null,{"$f":"SUMIF('00 SP'!A:A,'Tab 22-23-24'!A11,'00 SP'!L:L)","v":0},0,"OK"]
["ABA260","  Crediti v/Stato per finanziamento sanitario aggiuntivo corrente",null,0,0,0,null,{"$f":"SUMIF('00 SP'!A:A,'Tab 22-23-24'!A12,'00 SP'!L:L)","v":0},0,"OK"]
[null," Crediti v/Stato - altro:",null,{"$f":"D14","v":0},{"$f":"E14","v":0},0,null,0]
["ABA270","  Crediti v/Stato per spesa corrente - altro",null,0,0,0,null,{"$f":"SUMIF('00 SP'!A:A,'Tab 22-23-24'!A14,'00 SP'!L:L)","v":0},{"$f":"(D14+E14+F14)-H14","v":0},{"$f":"IF(I14=0,\"OK\",\"CTRL\")","v":"OK"}]
["ABA271","  Crediti v/Stato per spesa corrente STP (ex D.lgs. 286/98)"]
[null," CREDITI V/STATO - INVESTIMENTI",null,{"$f":"D17","v":0},{"$f":"E17","v":0},0,null,0]
["ABA280"," Crediti v/Stato per finanziamenti per investimenti:",null,0,0,0,null,{"$f":"SUMIF('00 SP'!A:A,'Tab 22-23-24'!A17,'00 SP'!L:L)","v":0},{"$f":"(D17+E17+F17)-H17","v":0},{"$f":"IF(I17=0,\"OK\",\"CTRL\")","v":"OK"}]
[null," CREDITI V/STATO - RICERCA",null,{"$f":"D19+D20+D21+D22","v":5742},{"$f":"E19+E20+E21+E22","v":0},0,null,5742]
["ABA300"," Crediti v/Stato per ricerca corrente - Ministero della Salute ",null,0,0,0,null,{"$f":"SUMIF('00 SP'!A:A,'Tab 22-23-24'!A19,'00 SP'!L:L)","v":0},{"$f":"(D19+E19+F19)-H19","v":0},{"$f":"IF(I19=0,\"OK\",\"CTRL\")","v":"OK"}]
["ABA310"," Crediti v/Stato per ricerca finalizzata - Ministero della Salute ",null,{"$f":"4620+1122","v":5742},0,0,null,{"$f":"SUMIF('00 SP'!A:A,'Tab 22-23-24'!A20,'00 SP'!L:L)","v":5742},0,"OK"]
["ABA320"," Crediti v/Stato per ricerca - altre Amministrazioni centrali ",null,0,0,0,null,{"$f":"SUMIF('00 SP'!A:A,'Tab 22-23-24'!A21,'00 SP'!L:L)","v":0},0,"OK"]
["ABA330"," Crediti v/Stato per ricerca - finanziamenti per investimenti",null,0,0,0,null,{"$f":"SUMIF('00 SP'!A:A,'Tab 22-23-24'!A22,'00 SP'!L:L)","v":0},0,"OK"]
["ABA340"," CREDITI V/PREFETTURE",null,0,0,0,null,{"$f":"SUMIF('00 SP'!A:A,'Tab 22-23-24'!A23,'00 SP'!L:L)","v":0},0,"OK"]
[null,"TOTALE CREDITI V/STATO",null,{"$f":"D5+D18+D23","v":12729.2},{"$f":"E5+E18+E23","v":0},{"$f":"F5+F18+F23","v":0},null,{"$f":"H5+H18+H23","v":12729.200000000012}]
[]
[null," CREDITI V/REGIONE O P.A. PER SPESA CORRENTE",null,{"$f":"D27+D37","v":169537115.75999999},{"$f":"E27+E36","v":0},{"$f":"F27+F36","v":0},null,{"$f":"H27+H36","v":169537115.76000002}]
[null," Crediti v/Regione o P.A. per finanziamento sanitario ordinario corrente:",null,{"$f":"SUM(D28:D37)","v":169537115.75999999},{"$f":"SUM(E28:E34)","v":0},0,null,{"$f":"SUM(H28:H37)","v":169537115.76000002}]
["ABA390","  Crediti v/Regione o P.A. per quota FSR",null,123561066.02,0,0,null,{"$f":"SUMIF('00 SP'!A:A,'Tab 22-23-24'!A28,'00 SP'!L:L)","v":123561066.02000001},{"$f":"(D28+E28+F28)-H28","v":0},{"$f":"IF(I28=0,\"OK\",\"CTRL\")","v":"OK"}]
["ABA400","  Crediti v/Regione o P.A. per mobilità attiva intraregionale",null,{"$f":"16849743.39","v":16849743.390000001},0,0,null,{"$f":"SUMIF('00 SP'!A:A,'Tab 22-23-24'!A29,'00 SP'!L:L)","v":16849743.390000008},0,"OK"]
["ABA410","  Crediti v/Regione o P.A. per mobilità attiva extraregionale",null,19005500.289999999,0,0,null,{"$f":"SUMIF('00 SP'!A:A,'Tab 22-23-24'!A30,'00 SP'!L:L)","v":19005500.290000003},0,"OK"]
["ABA420","  Crediti v/Regione o P.A. per acconto quota FSR",null,0,0,0,null,{"$f":"SUMIF('00 SP'!A:A,'Tab 22-23-24'!A31,'00 SP'!L:L)","v":0},0,"OK"]
["ABA430"," Crediti v/Regione o P.A. per finanziamento sanitario aggiuntivo corrente LEA",null,9903887.9000000004,0,0,null,{"$f":"SUMIF('00 SP'!A:A,'Tab 22-23-24'!A32,'00 SP'!L:L)","v":9903887.9000000022},0,"OK"]
["ABA440"," Crediti v/Regione o P.A. per finanziamento sanitario aggiuntivo corrente extra LEA",null,0,0,0,null,{"$f":"SUMIF('00 SP'!A:A,'Tab 22-23-24'!A33,'00 SP'!L:L)","v":0},0,"OK"]
["ABA450"," Crediti v/Regione o P.A. per spesa corrente - altro",null,0,0,0,null,{"$f":"SUMIF('00 SP'!A:A,'Tab 22-23-24'!A34,'00 SP'!L:L)","v":0},0,"OK"]
["ABA451"," Crediti v/Regione o P.A. per spesa corrente STP (ex D.lgs. 286/98)",null,216918.16,0,0,null,{"$f":"SUMIF('00 SP'!A:A,'Tab 22-23-24'!A35,'00 SP'!L:L)","v":216918.16}]
["ABA460"," CREDITI V/REGIONE O P.A. PER RICERCA:",null,0,0,0,null,{"$f":"SUMIF('00 SP'!A:A,'Tab 22-23-24'!A36,'00 SP'!L:L)","v":0},0,"OK"]
["ABA461"," CREDITI V/REGIONE O P.A. PER MOBILITA' ATTIVA INTERNAZIONALE"]
[null,"  ……"]
[null," CREDITI V/REGIONE O P.A. PER VERSAMENTI A PATRIMONIO NETTO",null,{"$f":"D40+D41+D42","v":27558784.809999999},{"$f":"E40+E41","v":0},0,null,{"$f":"H40+H41+H42","v":27558784.809999999}]
["ABA480","  Crediti v/Regione o P.A. per finanziamenti per investimenti",null,38255,0,0,null,{"$f":"SUMIF('00 SP'!A:A,'Tab 22-23-24'!A40,'00 SP'!L:L)","v":38255},{"$f":"(D40+E40+F40)-H40","v":0},{"$f":"IF(I40=0,\"OK\",\"CTRL\")","v":"OK"}]
["ABA490","  Crediti v/Regione o P.A. per incremento fondo dotazione",null,0,0,0,null,{"$f":"SUMIF('00 SP'!A:A,'Tab 22-23-24'!A41,'00 SP'!L:L)","v":0},0,"OK"]
[null,"  Crediti v/Regione o P.A. per ripiano perdite:",null,{"$f":"D43+D45+D46","v":27520529.809999999},{"$f":"E43+E45+E46","v":0},0,null,27520529.809999999]
["ABA500","  Crediti v/Regione o P.A. per ripiano perdite",null,27520529.809999999,0,0,null,{"$f":"SUMIF('00 SP'!A:A,'Tab 22-23-24'!A43,'00 SP'!L:L)","v":27520529.809999999},{"$f":"(D43+E43+F43)-H43","v":0},{"$f":"IF(I43=0,\"OK\",\"CTRL\")","v":"OK"}]
["ABA501"," Crediti v/Regione o P.A. per anticipazione disavanzo programmati dai Piani Aziengali di cui all'art.1 comma 528,L208/2015"]
["ABA510","  Crediti v/Regione per copertura debiti al 31/12/2005",null,0,0,0,null,{"$f":"SUMIF('00 SP'!A:A,'Tab 22-23-24'!A45,'00 SP'!L:L)","v":0},0,"OK"]
["ABA520","Crediti v/Regione o P.A. per ricostituzione risorse da investimenti esercizi precedenti",null,0,0,0,null,{"$f":"SUMIF('00 SP'!A:A,'Tab 22-23-24'!A46,'00 SP'!L:L)","v":0},0,"OK"]
["ABA521","Crediti v/Regione o P.A. per contributi L210/92",null,0,0,0,null,{"$f":"SUMIF('00 SP'!A:A,'Tab 22-23-24'!A47,'00 SP'!L:L)","v":0},{"$f":"(D47+E47+F47)-H47","v":0},{"$f":"IF(I47=0,\"OK\",\"CTRL\")","v":"OK"}]
["ABA522","Crediti v/Regione o P.A. per contributi L210/92 - Aziende Sanitarie",null,0,0,0,null,{"$f":"SUMIF('00 SP'!A:A,'Tab 22-23-24'!A48,'00 SP'!L:L)","v":0},0,"OK"]
[null,"TOTALE CREDITI V/REGIONE O PROVINCIA AUTONOMA",null,{"$f":"D26+D39","v":197095900.56999999},{"$f":"E26+E39+E42","v":0},{"$f":"F26+F39+F42","v":0},null,{"$f":"H26+H39","v":197095900.57000002}]
[]
[null,"Tab. 23 – Valore netto dei crediti per anno di scadenza – II parte"]
["CODICE MOD. SP","CREDITI",null,{"$f":"\"VALORE NETTO DEI CREDITI AL 31/12/\" &'00 PDC SP'!$F$2& \" PER SCADENZA\"","v":"VALORE NETTO DEI CREDITI AL 31/12/2019 PER SCADENZA"}]
[null,null,null,"Entro\n12 mesi","Tra 1 e 5 anni","Oltre\n5 anni",null,"Valore SP","Diff","Ctrl"]
["ABA530"," CREDITI V/COMUNI",null,214154.94,0,0,null,{"$f":"SUMIF('00 SP'!A:A,'Tab 22-23-24'!A54,'00 SP'!L:L)","v":214154.94},{"$f":"(D54+E54+F54)-H54","v":0},{"$f":"IF(I54=0,\"OK\",\"CTRL\")","v":"OK"}]
[null,"  ……"]
[]
[null," CREDITI V/AZIENDE SANITARIE PUBBLICHE DELLA REGIONE",null,{"$f":"D58+D59+D60+D61","v":1444576.44},{"$f":"E58+E59+E60+E61","v":0},0,null,1444576.4400000004]
["ABA560"," Crediti v/Aziende sanitarie pubbliche della Regione - mobilità in compensazione",null,0,0,0,null,{"$f":"SUMIF('00 SP'!A:A,'Tab 22-23-24'!A58,'00 SP'!L:L)","v":0},{"$f":"(D58+E58+F58)-H58","v":0},{"$f":"IF(I58=0,\"OK\",\"CTRL\")","v":"OK"}]
["ABA570"," Crediti v/Aziende sanitarie pubbliche della Regione - mobilità non in compensazione",null,0,0,0,null,{"$f":"SUMIF('00 SP'!A:A,'Tab 22-23-24'!A59,'00 SP'!L:L)","v":0},0,"OK"]
["ABA580"," Crediti v/Aziende sanitarie pubbliche della Regione - altre\n prestazioni",null,1444576.44,0,0,null,{"$f":"SUMIF('00 SP'!A:A,'Tab 22-23-24'!A60,'00 SP'!L:L)","v":1444576.4400000004},0,"OK"]
["ABA590"," Acconto quota FSR da distribuire",null,0,0,0,null,{"$f":"SUMIF('00 SP'!A:A,'Tab 22-23-24'!A61,'00 SP'!L:L)","v":0},0,"OK"]
["ABA591"," Crediti v/Aziende sanitarie pubbliche della Regione - per anticipazione ripiano disavanzo programmato dai piani aziendali di cui all'art.1,comma528,L208/2015",null,0,0,0,null,{"$f":"SUMIF('00 SP'!A:A,'Tab 22-23-24'!A62,'00 SP'!L:L)","v":0},0,"OK"]
["ABA600"," CREDITI V/AZIENDE SANITARIE PUBBLICHE FUORI REGIONE",null,157428.72,0,0,null,{"$f":"SUMIF('00 SP'!A:A,'Tab 22-23-24'!A63,'00 SP'!L:L)","v":157428.71999999997},0,"OK"]
["ABA601","Crediti Verso Aziende Sanitarie della regione per contributi da aziende sanitarie pubbliche della Regione o P.O ( extra fondo)",null,0,0,0,null,{"$f":"SUMIF('00 SP'!A:A,'Tab 22-23-24'!A64,'00 SP'!L:L)","v":0},0,"OK"]
[null,"TOTALE CREDITI V/AZIENDE SANITARIE PUBBLICHE",null,{"$f":"D57+D63","v":1602005.16},{"$f":"E57+E63","v":0},0,null,1602005.1600000004]
[]
[null," CREDITI V/SOCIETA' PARTECIPATE E/O ENTI DIPENDENTI",null,{"$f":"D68+D70+D72","v":5931.31},{"$f":"E68+E70+E72","v":0},0,null,5931.31]
["ABA620"," Crediti v/enti regionali:",null,5931.31,0,0,null,{"$f":"SUMIF('00 SP'!A:A,'Tab 22-23-24'!A68,'00 SP'!L:L)","v":5931.31},{"$f":"(D68+E68+F68)-H68","v":0},{"$f":"IF(I68=0,\"OK\",\"CTRL\")","v":"OK"}]
[null,"  ……"]
["ABA630"," Crediti v/sperimentazioni gestionali:",null,0,0,0,null,{"$f":"SUMIF('00 SP'!A:A,'Tab 22-23-24'!A70,'00 SP'!L:L)","v":0},{"$f":"(D70+E70+F70)-H70","v":0},{"$f":"IF(I70=0,\"OK\",\"CTRL\")","v":"OK"}]
[null,"  ……"]
["ABA640"," Crediti v/altre partecipate:",null,0,0,0,null,{"$f":"SUMIF('00 SP'!A:A,'Tab 22-23-24'!A72,'00 SP'!L:L)","v":0},{"$f":"(D72+E72+F72)-H72","v":0},{"$f":"IF(I72=0,\"OK\",\"CTRL\")","v":"OK"}]
[]
["ABA650"," CREDITI V/ERARIO",null,15393.51,0,0,null,{"$f":"SUMIF('00 SP'!A:A,'Tab 22-23-24'!A74,'00 SP'!L:L)","v":15393.509999999998},{"$f":"(D74+E74+F74)-H74","v":0},{"$f":"IF(I74=0,\"OK\",\"CTRL\")","v":"OK"}]
[]
[null," CREDITI V/ALTRI",null,{"$f":"D77+D78+D80+D82+D84","v":4703798.0600000005},{"$f":"E77+E78+E80+E82+E84","v":0},{"$f":"F77+F78+F80+F82+F84","v":0},null,{"$f":"H77+H78+H80+H82+H84","v":4703798.0600000024}]
["ABA670"," Crediti v/clienti privati",null,2904637.27,0,0,null,{"$f":"SUMIF('00 SP'!A:A,'Tab 22-23-24'!A77,'00 SP'!L:L)","v":2904637.2700000023},{"$f":"(D77+E77+F77)-H77","v":0},{"$f":"IF(I77=0,\"OK\",\"CTRL\")","v":"OK"}]
["ABA680"," Crediti v/gestioni liquidatorie",null,0,0,0,null,{"$f":"SUMIF('00 SP'!A:A,'Tab 22-23-24'!A78,'00 SP'!L:L)","v":0},{"$f":"(D78+E78+F78)-H78","v":0},{"$f":"IF(I78=0,\"OK\",\"CTRL\")","v":"OK"}]
[null,"  ……"]
["ABA690"," Crediti v/altri soggetti pubblici",null,235284.83,0,0,null,{"$f":"SUMIF('00 SP'!A:A,'Tab 22-23-24'!A80,'00 SP'!L:L)","v":235284.83},{"$f":"(D80+E80+F80)-H80","v":0},{"$f":"IF(I80=0,\"OK\",\"CTRL\")","v":"OK"}]
[null,"  ……"]
["ABA700"," Crediti v/altri soggetti pubblici per ricerca",null,0,0,0,null,{"$f":"SUMIF('00 SP'!A:A,'Tab 22-23-24'!A82,'00 SP'!L:L)","v":0},{"$f":"(D82+E82+F82)-H82","v":0},{"$f":"IF(I82=0,\"OK\",\"CTRL\")","v":"OK"}]
[null,"  ……"]
["ABA710"," Altri crediti diversi",null,{"$f":"D85","v":1563875.96},0,0,null,{"$f":"SUMIF('00 SP'!A:A,'Tab 22-23-24'!A84,'00 SP'!L:L)","v":1563875.96},{"$f":"(D84+E84+F84)-H84","v":0},{"$f":"IF(I84=0,\"OK\",\"CTRL\")","v":"OK"}]
["ABA711"," Altri crediti diversi",null,1563875.96,0,0,null,{"$f":"SUMIF('00 SP'!A:A,'Tab 22-23-24'!A85,'00 SP'!L:L)","v":1563875.96},{"$f":"(D85+E85+F85)-H85","v":0}]
["ABA712","Note di Credito da emettere ( diversi)",null,0,0,0,null,{"$f":"SUMIF('00 SP'!A:A,'Tab 22-23-24'!A86,'00 SP'!L:L)","v":0},0]
["ABA713"," Altri crediti verso Erogatori ( privati accreditati e convenzionati) di prestazioni sanitarie",null,0,0,0,null,{"$f":"SUMIF('00 SP'!A:A,'Tab 22-23-24'!A87,'00 SP'!L:L)","v":0},0]
["ABA714"," Altri crediti verso Erogatori ( privati accreditati e convenzionati) di prestazioni sanitarie",null,0,0,0,null,{"$f":"SUMIF('00 SP'!A:A,'Tab 22-23-24'!A88,'00 SP'!L:L)","v":0},0]
["ABA715","Note di Credito da emettere (privati accreditati e convenzionati)",null,0,0,0,null,{"$f":"SUMIF('00 SP'!A:A,'Tab 22-23-24'!A89,'00 SP'!L:L)","v":0},0]
[]
[]
[null,"Nell'esercizio 2019 come di consueto, si è proceduto all'analisi dei crediti verso privati ancora aperti  al 31/12/2019. In particolare sono stati  presi in esame i crediti risalenti al 2017 e precedenti, come da Reolamento approvato con Delibera del Direttore Generale n. 590 del 23.06.2016,  al fine di verificarne la sussistenza . .In particolare si è constatato che tra i crediti v / clienti privati permangono situazioni creditore verso società sottoposte a procedure fallimentari quali Villa Pini nei confronti della quale vantiamo un credito di €/000 608 e la CO.RI.MA s.r.l il cui credito insoluto ammonta ad €/000 364. Ciò nonostante si ritiene che , a tutto il 31/12/2019, il  fondo svalutazione credi v/ clienti privati , di € /000 2.875 sia sufficientemente capiente anche in relazione ai crediti 2019  e precedenti  già riscossi alla data di adozione del presente atto  per  circa €/000 1.335"]
[]
[]
[null,"Tab. 24 – Dettaglio crediti intraregionali per mobilità (in compensazione e non) e per altre prestazioni"]
[null,"DETTAGLIO CREDITI INTRAREGIONALI\nPER SINGOLA AZIENDA",null,"Mobilità in compens.","Mobilità non in compens.","Altre prestazioni"]
[null,"Asl 201- Avezzano Sulmona L'Aquila",null,null,null,2204733.91]
[null,"Asl 202- Lanciano Vasto Chieti",null,null,null,2355453.5299999998]
[null,"Asl 204-Teramo",null,null,null,144315.70000000001]

{"sheet":"Partite infragruppo ","index":26,"n_rows":190,"n_cols":10,"rows_kept":190,"cut":false,"hidden":false,"merged":[[12,5,13,5],[12,6,13,9],[14,6,14,9],[15,6,15,9],[16,0,16,1],[16,6,16,9],[0,0,0,9],[5,0,5,6],[6,0,6,6],[7,0,7,6],[11,0,11,9],[12,0,13,0],[12,1,13,1],[12,2,13,2],[12,3,13,3],[12,4,13,4],[29,5,30,5],[29,6,30,9],[31,6,31,9],[32,6,32,9],[33,0,33,1],[33,6,33,9],[21,0,21,6],[22,0,22,6],[23,0,23,6],[24,0,25,3],[28,0,28,9],[29,0,30,0],[29,1,30,1],[29,2,30,2],[29,3,30,3],[29,4,30,4],[44,0,44,9],[45,0,45,9],[46,0,46,9],[48,0,48,9],[57,0,57,7],[62,0,62,6],[37,0,37,9],[38,0,38,9],[39,0,39,9],[40,0,40,9],[41,0,41,9],[43,0,43,9],[63,0,63,6],[64,0,64,6],[73,0,73,9],[74,0,75,0],[74,1,75,1],[74,2,75,2],[74,3,75,3],[74,4,75,4],[74,5,75,5],[74,6,75,9],[82,6,82,9],[86,0,86,1],[86,6,86,9],[91,0,91,6],[92,0,92,6],[93,0,93,6],[76,6,76,9],[77,6,77,9],[78,6,78,9],[79,6,79,9],[80,6,80,9],[81,6,81,9],[102,6,102,9],[103,0,103,1],[103,6,103,9],[106,0,106,9],[107,0,107,9],[108,0,108,9],[97,0,97,9],[98,0,99,0],[98,1,99,1],[98,2,99,2],[98,3,99,3],[98,4,99,4],[98,5,99,5],[98,6,99,9],[130,0,130,9],[132,0,132,9],[135,0,135,6],[136,0,136,6],[137,0,137,6],[141,0,141,9],[109,0,109,9],[110,0,110,9],[111,0,111,9],[113,0,113,9],[114,0,114,9],[115,0,115,9],[142,6,143,9],[144,6,144,9],[145,0,145,1],[145,6,145,9],[150,0,150,6],[151,0,151,6],[142,0,143,0],[142,1,143,1],[142,2,143,2],[142,3,143,3],[142,4,143,4],[142,5,143,5],[190,2,190,4],[179,0,179,5],[185,2,185,4],[186,2,186,4],[187,2,187,4],[188,2,188,4],[189,2,189,4],[152,0,152,6],[160,0,160,9],[161,0,161,9],[162,0,162,9],[163,0,163,9],[175,0,175,9]]}
["CREDITI E DEBITI VS ASL AVEZZANO-SULMONA-L'AQUILA"]
[]
["Di seguito si evidenzia il disallineamento tra i crediti della ASL di Pescara vs la ASL Avezzano-Sulmona-L'Aquila ed i loro debiti nei nostri confronti: "]
[]
[null,null,null,null,null,null,null,"Valore nominale","Fondo svalutazione crediti","Valore netto"]
["Crediti ASL Pescara verso ASL Avezzano-Sulmona L'Aquila ",null,null,null,null,null,null,2204734,-1381339.1,{"$f":"H6+I6","v":823394.89999999991}]
["Debiti ASL Avezzano-Sulmona-L'Aquila verso ASL Pescara *",null,null,null,null,null,null,856661.65,0,{"$f":"H7+I7","v":856661.65}]
["Disallineamento",null,null,null,null,null,null,{"$f":"H6-H7","v":1348072.35},{"$f":"SUM(I6:I7)","v":-1381339.1},{"$f":"J6-J7","v":-33266.750000000116}]
[]
["*","Dato comunicato dalla ASL 301 con e-mail del 13/05/2020."]
[]
["Crediti v/ASL 301 per altre prestazioni - Importo disallineamento infragruppo"]
["Riferimento documento","Anno di competenza","Importo residuo al 31/12/2019","Credito prescritto","Documento disponibile/riproducibile (SI/NO)","Importo fondo rischi","Motivazione disallineamento"]
[]
["2-2002-724",1999,1348072.26,"NO","Da verificare",-1348072.26,"Partita non presente nell'E/C della ASL debitrice"]
["2-2002-725",1999,null,null,null,-33266.839999999997,"Fondo rischi accantonato da ASL Pescara relativamente alla fattura 2-2002-725 di € 33.267, presente anche nell'E/C della ASL 301. "]
["Totale disallineamento",null,{"$f":"SUM(C15:C16)","v":1348072.26},null,null,{"$f":"SUM(F15:F16)","v":-1381339.1},{"$f":"C17+F17","v":-33266.840000000084}]
[]
["Di seguito si evidenzia il disallineamento tra i debiti della ASL di Pescara vs la ASL Avezzano-Sulmona-L'Aquila ed i loro crediti nei nostri confronti: "]
[]
[null,null,null,null,null,null,null,"Valore nominale","Fondo svalutazione crediti","Valore netto"]
["Debiti ASL Pescara verso ASL Avezzano-Sulmona L'Aquila ",null,null,null,null,null,null,522732,0,{"$f":"H22-I22","v":522732}]
["Crediti ASL Avezzano-Sulmona-L'Aquila verso ASL Pescara *",null,null,null,null,null,null,522720,0,{"$f":"H23-I23","v":522720}]
["Disallineamento",null,null,null,null,null,null,{"$f":"H22-H23","v":12},{"$f":"SUM(I22:I23)","v":0},{"$f":"J22-J23","v":12}]
["Motivazione disallineamento",null,null,null,null,null,null,"BOLLI"]
[]
[]
[]
["Debiti v/ASL 302 per altre prestazioni - Importo disallineamento infragruppo"]
["Riferimento documento","Anno di competenza","Importo residuo al 31/12/2019","Debito  prescritto","Documento disponibile/riproducibile (SI/NO)","Importo fondo rischi","Motivazione disallineamento"]
[]
[]
["Bolli",null,12]
["Totale disallineamento",null,{"$f":"SUM(C32:C33)","v":12},null,null,{"$f":"SUM(F32)","v":0},{"$f":"C34-F34","v":12}]
[]
[]
[]
["In occasione della chiusura del bilancio, è stata effettuata l'attività di riconciliazione dei saldi creditori e debitori infragruppo. "]
["All'esito di tale attività, si è provveduto, laddove possibile, secondo le indicazioni fornite dalla Regione nelle Linee Guida alla redazione del Bilancio di eserizio 2019, ad eliminare i disallinementi tra i saldi."]
["Al 31/12/2019 permane un disallinemanto tra il credito della ASL di Pescara vs la ASL di Avezzano Sulmona-L'Aquila ed il loro debito nei nostri confronti. Le partite che formano il disallineamento ancora presente al 31/12/2019 sono: "]
["- la fattura registrazione n. 2-2002-724 di €/000 1.348, risalente all'esercizio 1999, emessa nei confronti della ex ASL di Avezzano-Sulmona, per la quale è stato ripetutamente sollecitato il pagamento alla ASL di Avezzano-Sulmona-L'Aquila. Tale fattura non è presente nella contabilità della ASL debitrice e a fronte del rischio di inesigibilità della stessa, la ASL di Pescara ha accantonato un fondo rischi di pari importo; "]
["- fondo rischi di €/000 33, accantonato a fronte della fattura 2-2002-725, anch'essa risalente all'esercizio 1999. Tale fattura, a differenza della precedente, è presente nella contabilità della ASL debitrice, ma ad oggi, nonostante numerosi solleciti effettuati nel corso degli anni, non è ancora stata pagata. A fronte del rischio di inesigibilità della stessa, la ASL di Pescara ha accantonato un fondo rischi di pari importo. "]
[]
["In merito alle azioni che la ASL di Pescara intende intraprendere nel corso del 2020 per eliminare detto disallineamento, si fa presente quanto segue. "]
["In relazione al documento n. 2-2002-724, non presente nella contabilità della ASL debitrice,  la ASL di Pescara intende portare a compimento la verifica della disponibilità/riproducibilità del documento, attraverso un'attenta ricognizione da parte degli uffici competenti che hanno emesso la fattura, e procedere nuovamente all'invio del documento alla ASL debitrice, affinchè quest'ultima provveda a registrare la fattura nella sua contabilità e ad effettuare il pagamento a nostro favore."]
["Per quanto riguarda il documento n. 2-2002-725, esso è presente nella contabilità della ASL debitrice, ma ad oggi non è ancora stato pagato. L'azienda intende sollecitare nuovamente il pagamento"]
[" alla ASL di Avezzano Sulmona L'Aquila."]
[]
["In riferimento all'attività di riconciliazione tra il debito della ASL di Pescara vs la ASL di Avezzano Sulmona-L'Aquila ed il loro credito nei nostri confronti, al 31/12/2019  c'è un disallinemento di € 12"]
["dovuto ai Bolli."]
[]
[]
[]
[]
[]
[]
[]
["CREDITI E DEBITI VS ASL LANCIANO-VASTO-CHIETI"]
[]
["Di seguito si evidenzia il disallineamento tra i crediti della ASL di Pescara vs la ASL Lanciano-Vasto-Chieti  ed i loro debiti nei nostri confronti:  "]
[]
[null,null,null,null,null,null,null,"Valore nominale","Fondo svalutazione crediti","Valore netto"]
["Crediti ASL Pescara verso ASL Lanciano-Vasto-Chieti",null,null,null,null,null,null,2355454,-1878587.6,{"$f":"H63+I63","v":476866.39999999991}]
["Debiti ASL Lanciano-Vasto-Chieti verso ASL Pescara *",null,null,null,null,null,null,1116298,0,{"$f":"H64+I64","v":1116298}]
["Disallineamento",null,null,null,null,null,null,{"$f":"H63-H64","v":1239156},-1878587.6,{"$f":"J63-J64","v":-639431.60000000009}]
[]
["*","Dato comunicato dalla ASL 302 con e-mail del 04/05/2020."]
[]
[]
[]
[]
[]
[]
["Crediti v/ASL 302 per altre prestazioni - Importo disallineamento infragruppo"]
["Riferimento documento","Anno di competenza","Importo residuo al 31/12/2019","Credito prescritto","Documento disponibile/riproducibile (SI/NO)","Importo fondo rischi","Motivazione disallineamento"]
[]
["2-2002-722",1999,null,null,null,-661638.73,"Fondo rischi accantonato da ASL Pescara relativamente alla fattura 2-2002-722 di € 661.638,73, presente anche nell'E/C della ASL 302. "]
["2-2002-723",1999,1216948.8700000001,"NO","Da verificare",-1216948.8700000001,"Partita non presente nell'E/C della ASL debitrice"]
["FT-2015-4615",2015,-171.77,null,null,null,"Iva, dalla ASL di Pescara stornata dall'importo del credito a chiusura del debito v/Erario (meccanismo dello Split Payment). "]
["FT-2019-2205",2019,906.82,null,null,null,"Fattura da ricevere"]
["FT-2019-2214",2019,131.26,null,null,null,"Fattura da ricevere"]
["FT-2019-2217",2019,519.04,null,null,null,"Fattura da ricevere"]
["Bolli",2019,4,null,null,null,"Disallineamento dovuto ai bolli sulle fatture da emettere al 31/12/2019"]
["fatt.da emettere",2019,21559.360000000001]
["Nota credito da ricevere ",2019,-741.61]
[]
["Totale disallineamento",null,{"$f":"SUM(C77:C85)","v":1239155.9700000002},null,null,{"$f":"SUM(F77:F84)","v":-1878587.6},{"$f":"C87+F87","v":-639431.62999999989}]
[]
["Di seguito si evidenzia il disallineamento tra i debiti della ASL di Pescara vs la ASL Lanciano-Vasto-Chieti ed i loro crediti nei nostri confronti: "]
[]
[null,null,null,null,null,null,null,"Valore nominale","Fondo svalutazione crediti","Valore netto"]
["Debiti ASL Pescara verso ASL Lanciano-Vasto-Chieti",null,null,null,null,null,null,241137.31,0,{"$f":"H92-I92","v":241137.31}]
["Crediti ASL Lanciano-Vasto-Chieti verso ASL Pescara *",null,null,null,null,null,null,241913.18,0,{"$f":"H93-I93","v":241913.18}]
["Disallineamento",null,null,null,null,null,null,{"$f":"H92-H93","v":-775.86999999999534},{"$f":"SUM(I92:I93)","v":0},{"$f":"J92-J93","v":-775.86999999999534}]
[]
["*","Dato comunicato dalla ASL 302 con e-mail del 04/05/2020."]
[]
["Debiti v/ASL 302 per altre prestazioni - Importo disallineamento infragruppo"]
["Riferimento documento","Anno di competenza","Importo residuo al 31/12/2019","Debito  prescritto","Documento disponibile/riproducibile (SI/NO)","Importo fondo rischi","Motivazione disallineamento"]
[]
["Fattura da ricevere v.ASL CH",2019,23166]
["Note credito da ricevere v. ASL CH",2019,-23908.5]
["Rimborso spese di registrazione sentenza (Determina n. 25/AGL del 30/01/2017 della ASL di Lanciano Vasto Chieti) ",2016,-33.369999999999997,"NO",null,null,"La partita sarà registrata nella contabilità della ASL di Pescara nell'esercizio 2020"]
["Totale disallineamento",null,{"$f":"SUM(C101:C103)","v":-775.87},null,null,{"$f":"SUM(F103)","v":0},{"$f":"C104-F104","v":-775.87}]
[]
[]
["In occasione della chiusura del bilancio, è stata effettuata l'attività di riconciliazione dei saldi creditori e debitori infragruppo. "]
["All'esito di tale attività, si è provveduto, laddove possibile, secondo le indicazioni fornite dalla Regione nelle Linee Guida alla redazione del Bilancio di eserizio 2019, ad eliminare i disallinementi tra i saldi."]
["Al 31/12/2019 permane un disallineamento tra il credito della ASL di Pescara vs la ASL di Lanciano-Vasto-Chieti ed il loro debito nei nostri confronti. Le principali partite che formano il disallineamento ancora presente al 31/12/2019 sono: "]
["- la fattura con registrazione n. 2-2002-723 di €/000 1.217, risalente all'esercizio 1999, emessa nei confronti della ex ASL di Chieti, per la quale è stato ripetutamente sollecitato il pagamento. Tale fattura, inizialmente presente nella contabilità della ASL debitrice, attualmente non compare più tra i debiti della ASL di Chieti. A fronte del rischio di inesigibilità della fattura, la ASL di Pescara ha accantonato un fondo rischi di pari importo; "]
["- fondo rischi accantonato a fronte della fattura 2-2002-722, anch'essa risalente all'esercizio 1999. Tale fattura, a differenza della precedente, è presente nella contabilità della ASL debitrice, ma ad oggi, nonostante numerosi solleciti effettuati nel corso degli anni, non è ancora stata pagata. A fronte del rischio di inesigibilità della stessa, la ASL di Pescara ha accantonato un fondo rischi di pari importo. "]
["- Iva su ns fatture, per un importo complessivo di €/unità 2.653, che secondo il meccanismo dello Split Payment è stata stornata dall'importo del credito a chiusura del debito v/erario per iva. Lo storno dell'Iva viene invece effettuato dalla ASL debitrice al momento del pagamento della fattura. Pertanto, il disallinemento in questione si annullerà al momento del pagamento della fattura da parte della ASL di Lanciano-Vasto-Chieti."]
["Fatture 2205, 2214 e 2217 da ricevere, fatture da emettere per un totale di € 21.559,36"]
["In merito alle azioni che la ASL di Pescara intende intraprendere nel corso del 2020 per eliminare detto disallineamento, si fa presente quanto segue. "]
["In relazione al documento n. 2-2002-723, non più presente nella contabilità della ASL debitrice,  la ASL di Pescara intende completare la raccolta della documentazione comprovante il credito nei confronti della ASL di Lanciano-Vasto Chieti, portando a compimento la ricognizione, da parte degli uffici competenti che hanno emesso la fattura, e procedere all'invio della suddetta documentazione alla ASL debitrice, affinchè quest'ultima provveda a registrare nuovamente la fattura nella sua contabilità e ad effettuare il pagamento a nostro favore."]
["Per quanto riguarda il documento n. 2-2002-722, esso è presente nella contabilità della ASL debitrice, ma ad oggi non è ancora stato pagato. L'azienda intende sollecitare  nuovamente il pagamento"]
[" da parte della ASL di Lanciano-Vasto-Chieti."]
[]
["In riferimento all'attività di riconciliazione svolta tra il debito della ASL di Pescara vs la ASL di Lanciano Vasto Chieti ed il loro credito nei nostri confronti, al 31/12/2019 c'è un disallinemento di importo "]
["pari ad €/unità -33, che si riferisce al rimborso dovuto dalla ASL di Pescara delle spese di registrazione di una sentenza. La ASL di Lanciano-Vasto-Chieti ha rilevato il credito verso la ASL di Pescara "]
["nel 2016, ma la ASL di Pescara non ha ancora registrato tale partita nella sua contabilità, in quanto non è ancora stato adottato il relativo provvedimento di liquidazione da parte dell'Ufficio Legale aziendale.    "]
["Essa sarà registrata nella contabilità della ASL di Pescara nell'esercizio 2020."]
["Inoltre sono presenti note credito da ricevere per € 23.166 e fatture da ricevere per € 23.908,50"]
[]
[]
[]
[]
[]
[]
[]
["CREDITI E DEBITI VS ASL TERAMO"]
[]
["Di seguito si evidenzia il disallineamento tra i crediti della ASL di Pescara vs la ASL di Teramo ed i loro debiti nei nostri confronti:  "]
[]
[null,null,null,null,null,null,null,"Valore nominale","Fondo svalutazione crediti","Valore netto"]
["Crediti ASL Pescara verso ASL Teramo ",null,null,null,null,null,null,144315.70000000001,0,{"$f":"H136+I136","v":144315.70000000001}]
["Debiti ASL Teramo verso ASL Pescara *",null,null,null,null,null,null,142222.70000000001,0,{"$f":"H137+I137","v":142222.70000000001}]
["Disallineamento",null,null,null,null,null,null,{"$f":"H136-H137","v":2093},{"$f":"SUM(I136:I137)","v":0},{"$f":"J136-J137","v":2093}]
[]
["*","Dato comunicato dalla ASL 304 con e-mail del 29/04/2020."]
[]
["Crediti v/ASL 304 per altre prestazioni - Importo disallineamento infragruppo"]
["Riferimento documento","Anno di competenza","Importo residuo al 31/12/2018","Credito prescritto","Documento disponibile/riproducibile (SI/NO)","Importo fondo rischi","Motivazione disallineamento"]
[]
["FT-2017-3932",2017,2093,"NO","SI",0,"La ASL di Teramo ha rilevato una Nota di credito da ricevere a storno della fattura indicata. Tale partita non è presente nella contabilità della ASL di Pescara in quanto la struttura competente  (DSB di Città Sant'Angelo), alla data di redazione del Bilancio di esercizio al 31/12/2018, non ha emesso la nota di credito, essendo la pratica ancora in corso di definizione.   "]
["Totale disallineamento",null,{"$f":"SUM(C145:C145)","v":2093},null,null,{"$f":"SUM(F145:F145)","v":0},{"$f":"C146+F146","v":2093}]
[]
["Di seguito si evidenzia il disallineamento tra i debiti della ASL di Pescara vs la ASL di Teramo ed i loro crediti nei nostri confronti: "]
[]
[null,null,null,null,null,null,null,"Valore nominale","Fondo svalutazione crediti","Valore netto"]
["Debiti ASL Pescara verso ASL Teramo ",null,null,null,null,null,null,2019364.9,0,{"$f":"H151-I151","v":2019364.9}]
["Crediti ASL Teramo verso ASL Pescara *",null,null,null,null,null,null,2019314.22,0,{"$f":"H152-I152","v":2019314.22}]
["Disallineamento",null,null,null,null,null,null,{"$f":"H151-H152","v":50.679999999934807},{"$f":"SUM(I151:I152)","v":0},{"$f":"J151-J152","v":50.679999999934807}]
[]
["*","Dato comunicato dalla ASL 304 con e-mail del 29/04/2020"]
[]
["La differenza è dovuta ad arrotondamenti."]
[]
[]
[]
["In occasione della chiusura del bilancio, è stata effettuata l'attività di riconciliazione dei saldi creditori e debitori infragruppo. "]
["All'esito di tale attività, si è provveduto, laddove possibile, secondo le indicazioni fornite dalla Regione nelle Linee Guida alla redazione del Bilancio di eserizio 2019, ad eliminare i disallinementi tra i saldi."]
["Al 31/12/2019 esiste una differenza tra il credito della ASL di Pescara vs la ASL di Teramo ed il debito di quest'ultima verso la ASL di Pescara di € 2.093. Tale differenza è data dalla Nota di credito da ricevere"]
["rilevata dalla ASL di Teramo a storno della Fattura n. FT-2017-3932. La ASL di Pescara non ha rilevato nella sua contabilità una nota di credito da emettere, in quanto la pratica è ancora in corso di definizione.   "]
[]
["In riferimento all'attività di riconciliazione tra il debito della ASL di Pescara vs la ASL di Teramo ed il loro credito nei nostri confronti, al 31/12/2019 c'è un disallinemento di importo non  significativo"]
[" (€/unità 0,50) dovuto ad arrotondamenti."]
[]
[]
[]
[]
[]
[]
[]
[]
["POSTE STRAORDINARIE INFRAGRUPPO"]
[]
[]
[]
[]
[]
[]
[]
["Si riportano di seguito i saldi delle poste straordinarie infragruppo, movimentate nel 2019, suddivise per AA.SS.LL.:"]
[]
["Voce di CE","Voce di conto","Descrizione",null,null,"ASL Avezzano-Sulmona-L'Aquila","ASL Lanciano-Vasto-Chieti","ASL Teramo","TOTALE"]
["EA0060","0601020202","Altre sopravvenienze attive v/Aziende sanitarie pubbliche della Regione ",null,null,20721.5,20833.57,8749.08,{"$f":"SUM(F187:H187)","v":50304.15}]
["EA0160","0601020301","Insussistenze attive v/Aziende sanitarie pubbliche della Regione",null,null,0,0,0,{"$f":"SUM(F188:H188)","v":0}]
["EA0340","1001020302","Altre sopravvenienze passive v/Aziende sanitarie pubbliche della Regione ",null,null,158808.75,27443.94,54812.76,{"$f":"SUM(F189:H189)","v":241065.45}]
["EA0470",1001020401,"Insussistenze passive v/Aziende sanitarie pubbliche della Regione",null,null,0,0,0,{"$f":"SUM(F190:H190)","v":0}]

{"sheet":"Tab 25","index":27,"n_rows":32,"n_cols":16,"rows_kept":32,"cut":false,"hidden":false,"merged":[[22,3,22,5],[21,3,21,5],[31,5,31,11],[25,1,25,3],[27,0,27,3],[28,0,28,2],[29,0,29,2],[30,0,30,2],[31,0,31,2],[28,3,28,4],[28,5,28,11],[29,5,29,11],[30,5,30,11],[19,3,19,5],[20,3,20,5],[11,3,11,5],[12,3,12,5],[17,3,17,5],[18,3,18,5],[0,1,0,11],[15,3,15,5],[16,3,16,5],[14,3,14,5],[1,3,1,5],[2,3,2,5],[3,3,3,5],[4,3,4,5],[5,3,5,5],[6,3,6,5],[7,3,7,5],[8,3,8,5],[9,3,9,5],[13,3,13,5],[10,3,10,5]]}
[null,"Tab. 25 – Dettagli crediti per incrementi di patrimonio netto"]
["CODICE MOD. SP","DETTAGLIO CREDITI PER INCREMENTI DI PATRIMONIO NETTO DELIBERATI",null,"Delibera n°/anno",null,null,"Importo delibera","Riscosso negli esercizi precedenti (-)","Consistenza iniziale","Importo nuove deliberazioni","Riscossioni/compensazioni\n(-)","Consistenza finale",null,"Valore SP","Diff","Ctrl"]
["ABA280","  Crediti v/Stato per finanziamenti per investimenti",null,null,null,null,null,null,0,null,null,0,null,{"$f":"SUMIF('00 SP'!A:A,'Tab 25'!A3,'00 SP'!L:L)","v":0},{"$f":"L3-N3","v":0},{"$f":"IF(O3=0,\"OK\",\"CTRL\")","v":"OK"}]
[null,"     Inserire dettaglio"]
["ABA480"," Crediti v/Regione o Provincia Autonoma per finanziamenti per investimenti",null,null,null,null,{"$f":"G6+G7","v":38255},{"$f":"+H7+H6","v":0},38255,{"$f":"+J7+J6","v":0},0,38255,null,{"$f":"SUMIF('00 SP'!A:A,'Tab 25'!A5,'00 SP'!L:L)","v":38255},{"$f":"L5-N5","v":0},{"$f":"IF(O5=0,\"OK\",\"CTRL\")","v":"OK"}]
[null,"Potenz. Attrez. San. Servizio Prevenzione e Ig. Amb.",null,"Consiglio Regionale n.128/43 del 23/12/89",null,null,27719,0,{"$f":"G6","v":27719},0,0,{"$f":"I6+J6-K6","v":27719}]
[null,"Acq telefoni cell. Servizio guardia medica ",null,"Del. Consiliare 68/10 del 27/04/1993",null,null,10536,0,10536,0,0,{"$f":"I7+J7-K7","v":10536}]
["ABA490"," Crediti v/Regione o Provincia Autonoma per incremento fondo dotazione",null,null,null,null,0,null,0,null,null,{"$f":"I8+J8-K8","v":0},null,{"$f":"SUMIF('00 SP'!A:A,'Tab 25'!A8,'00 SP'!L:L)","v":0},{"$f":"L8-N8","v":0},{"$f":"IF(O8=0,\"OK\",\"CTRL\")","v":"OK"}]
[null,"     Inserire dettaglio",null,null,null,null,null,null,null,null,null,0]
["ABA500"," Crediti v/Regione o Provincia Autonoma per ripiano perdite esercizio 2017",null,"DPF012/14  DEL 13/04/2018 e nota n.RA0122860/PDF12 del 19/ 04/2019 ",null,null,27874334,null,{"$f":"SUM(I11:I12)","v":27874334},null,353804.19,{"$f":"L11+L12","v":27520529.810000002},null,{"$f":"SUMIF('00 SP'!A:A,'Tab 25'!A10,'00 SP'!L:L)","v":27520529.809999999},{"$f":"L10-N10","v":0},{"$f":"IF(O10=0,\"OK\",\"CTRL\")","v":"OK"}]
[null,"Ripiano perdita 2016",null,"DPF012/14  DEL 13/04/2018 ",null,null,14264710,null,14264710,null,null,14264710,null,{"$f":"SUMIF('00 SP'!A:A,'Tab 25'!A11,'00 SP'!L:L)","v":0}]
[null,"Ripiano perdita 2017",null,"DPF012/37DEL 3/07/2019",null,null,{"$f":"13609624","v":13609624},null,{"$f":"13609624","v":13609624},null,353804.19,13255819.810000001,null,{"$f":"SUMIF('00 SP'!A:A,'Tab 25'!A12,'00 SP'!L:L)","v":0}]
[]
["ABA501","Crediti v/Regione o Provincia Autonoma per anticipazione ripiano disavanzo programmato dai Piani aziendali di cui all'art. 1, comma 528, L. 208/2015",null,null,null,null,null,null,null,null,null,0,null,{"$f":"SUMIF('00 SP'!A:A,'Tab 25'!A14,'00 SP'!L:L)","v":0},{"$f":"L14-N14","v":0},{"$f":"IF(O14=0,\"OK\",\"CTRL\")","v":"OK"}]
[null,null,null,null,null,null,null,null,null,null,null,null,null,{"$f":"SUMIF('00 SP'!A:A,'Tab 25'!A15,'00 SP'!L:L)","v":0}]
["ABA510"," Crediti v/Regione per copertura debiti al 31/12/2005",null,null,null,null,0,null,0,null,null,0,null,{"$f":"SUMIF('00 SP'!A:A,'Tab 25'!A16,'00 SP'!L:L)","v":0},{"$f":"L16-N16","v":0},"OK"]
[null,"     Inserire dettaglio",null,null,null,null,null,null,null,null,null,null,null,{"$f":"SUMIF('00 SP'!A:A,'Tab 25'!A17,'00 SP'!L:L)","v":0}]
["ABA520","  Crediti v/Regione o Provincia Autonoma per ricostituzione risorse da investimenti esercizi precedenti",null,null,null,null,null,null,null,null,null,null,null,{"$f":"SUMIF('00 SP'!A:A,'Tab 25'!A18,'00 SP'!L:L)","v":0},0,"OK"]
[null,"     Inserire dettaglio",null,null,null,null,null,null,null,null,null,null,null,{"$f":"SUMIF('00 SP'!A:A,'Tab 25'!A19,'00 SP'!L:L)","v":0}]
["ABA521"," Crediti v/Regione o Provincia Autonoma per contributi L. 210/92",null,null,null,null,null,null,null,null,null,null,null,{"$f":"SUMIF('00 SP'!A:A,'Tab 25'!A20,'00 SP'!L:L)","v":0},0,"OK"]
[null,"     Inserire dettaglio",null,null,null,null,null,null,null,null,null,null,null,{"$f":"SUMIF('00 SP'!A:A,'Tab 25'!A21,'00 SP'!L:L)","v":0}]
["ABA522","Crediti v/Regione o Provincia Autonoma per contributi L. 210/92 – aziende sanitarie",null,null,null,null,null,null,null,null,null,null,null,{"$f":"SUMIF('00 SP'!A:A,'Tab 25'!A22,'00 SP'!L:L)","v":0},0,"OK"]
[null,"     Inserire dettaglio"]
[]
["CRED01 - Svalutazione crediti iscritti nell'attivo circolante."]
["CRED01 - NO","non sono state effettuate svalutazione di crediti inseriti nell'attivo circolante"]
[]
["Altre informazioni relative ai crediti."]
["Informazione",null,null,"Caso presente in azienda?",null,"Se sì, illustrare"]
["CRED02 - Gravami. Sui crediti dell'azienda vi sono gravami quali pignoramenti, ecc.?",null,null,null,"NO"]
["CRED03 - Cartolarizzazioni. L'azienda ha in atto operazioni di cartolarizzazione dei crediti?",null,null,null,"NO"]
["CRED04 - Altro. Esistono altre informazioni che si ritiene necessario fornire per soddisfare la regola generale secondo cui \"Se le informazioni richieste da specifiche disposizioni di legge non sono sufficienti a dare una rappresentazione veritiera e corretta, si devono fornire le informazioni complementari necessarie allo scopo\" (art. 2423 cc)?",null,null,null,"NO"]

{"sheet":"Tab 26-27-28","index":28,"n_rows":39,"n_cols":19,"rows_kept":39,"cut":false,"hidden":false,"merged":[[36,7,36,14],[37,7,37,14],[38,7,38,14],[38,2,38,3],[38,4,38,5],[36,2,36,3],[36,4,36,5],[37,2,37,3],[37,4,37,5],[21,9,21,13],[21,14,22,14],[35,2,35,3],[35,4,35,5],[21,2,22,2],[21,3,22,3],[21,5,22,5],[21,6,21,8],[23,2,28,2],[32,2,32,8],[34,2,34,3],[34,4,34,6],[34,7,34,14],[35,7,35,14],[3,14,4,14],[5,2,7,2],[0,2,0,8],[3,2,4,2],[3,3,4,3],[3,5,4,5],[3,6,3,8],[3,9,3,13]]}
[null,null,"8.     Attività finanziarie che non costituiscono immobilizzazioni"]
[]
[null,null,null,"Tab. 26 – Movimentazioni delle attività finanziarie che non costituiscono immobilizzazioni"]
[null,null,"CODICE MOD. SP","ATTIVITA' FINANZIARIE CHE NON COSTITUISCONO IMMOBILIZZAZIONI",null,"Costo\nstorico","ESERCIZI PRECEDENTI",null,null,"MOVIMENTI DELL'ESERCIZIO",null,null,null,null,"Valore\nnetto"]
[null,null,null,null,null,null,"Rivalut.","Svalut.","Valore\niniziale","Giroconti e Riclassificaz. (+/-)","Rivalut. (+)","Svalut. (-)","Acquisiz. ","Cessioni (valore netto)",null,null,"Valore SP","Diff","Ctrl"]
["ABA730CN","ABA730","ABA730"," Partecipazioni in imprese controllate",null,{"$f":"SUMIF('00 PDC SP'!$A:$A,'Tab 26-27-28'!$A6,'00 PDC SP'!H:H)","v":0},{"$f":"SUMIF('00 PDC SP'!$A:$A,'Tab 26-27-28'!$A6,'00 PDC SP'!I:I)","v":0},{"$f":"SUMIF('00 PDC SP'!$A:$A,'Tab 26-27-28'!$A6,'00 PDC SP'!J:J)","v":0},{"$f":"F6+G6-H6","v":0},0,0,0,{"$f":"SUMIF('00 PDC SP'!$A:$A,'Tab 26-27-28'!$A6,'00 PDC SP'!L:L)-(J6+K6+L6)","v":0},{"$f":"SUMIF('00 PDC SP'!$A:$A,'Tab 26-27-28'!$A6,'00 PDC SP'!M:M)","v":0},{"$f":"I6+J6+K6-L6+M6-N6","v":0},null,{"$f":"SUMIF('00 SP'!A:A,'Tab 26-27-28'!B6,'00 SP'!L:L)","v":0},{"$f":"(O6+O7+O8)-Q6","v":0},{"$f":"IF(R6=0,\"OK\",\"CTRL\")","v":"OK"}]
["ABA730CL",null,null," Partecipazioni in imprese collegate",null,{"$f":"SUMIF('00 PDC SP'!$A:$A,'Tab 26-27-28'!$A7,'00 PDC SP'!H:H)","v":0},{"$f":"SUMIF('00 PDC SP'!$A:$A,'Tab 26-27-28'!$A7,'00 PDC SP'!I:I)","v":0},{"$f":"SUMIF('00 PDC SP'!$A:$A,'Tab 26-27-28'!$A7,'00 PDC SP'!J:J)","v":0},{"$f":"F7+G7-H7","v":0},0,0,0,{"$f":"SUMIF('00 PDC SP'!$A:$A,'Tab 26-27-28'!$A7,'00 PDC SP'!L:L)-(J7+K7+L7)","v":0},{"$f":"SUMIF('00 PDC SP'!$A:$A,'Tab 26-27-28'!$A7,'00 PDC SP'!M:M)-L7","v":0},{"$f":"I7+J7+K7-L7+M7-N7","v":0}]
["ABA730AI",null,null," Partecipazioni in altre imprese",null,{"$f":"SUMIF('00 PDC SP'!$A:$A,'Tab 26-27-28'!$A8,'00 PDC SP'!H:H)","v":0},{"$f":"SUMIF('00 PDC SP'!$A:$A,'Tab 26-27-28'!$A8,'00 PDC SP'!I:I)","v":0},{"$f":"SUMIF('00 PDC SP'!$A:$A,'Tab 26-27-28'!$A8,'00 PDC SP'!J:J)","v":0},{"$f":"F8+G8-H8","v":0},0,0,0,{"$f":"SUMIF('00 PDC SP'!$A:$A,'Tab 26-27-28'!$A8,'00 PDC SP'!L:L)-(J8+K8+L8)","v":0},{"$f":"SUMIF('00 PDC SP'!$A:$A,'Tab 26-27-28'!$A8,'00 PDC SP'!M:M)-L8","v":0},{"$f":"I8+J8+K8-L8+M8-N8","v":0}]
["ABA740","ABA740","ABA740"," Altri titoli che non costituiscono immobilizzazioni",null,{"$f":"SUMIF('00 PDC SP'!$A:$A,'Tab 26-27-28'!$A9,'00 PDC SP'!H:H)","v":0},{"$f":"SUMIF('00 PDC SP'!$A:$A,'Tab 26-27-28'!$A9,'00 PDC SP'!I:I)","v":0},{"$f":"SUMIF('00 PDC SP'!$A:$A,'Tab 26-27-28'!$A9,'00 PDC SP'!J:J)","v":0},0,0,0,0,{"$f":"SUMIF('00 PDC SP'!$A:$A,'Tab 26-27-28'!$A9,'00 PDC SP'!L:L)-(J9+K9+L9)","v":0},{"$f":"SUMIF('00 PDC SP'!$A:$A,'Tab 26-27-28'!$A9,'00 PDC SP'!M:M)-L9","v":0},{"$f":"I9+J9+K9-L9+M9-N9","v":0},null,{"$f":"SUMIF('00 SP'!A:A,'Tab 26-27-28'!B9,'00 SP'!L:L)","v":0},{"$f":"(O9+O10+O11)-Q9","v":0},{"$f":"IF(R9=0,\"OK\",\"CTRL\")","v":"OK"}]
[null,null,null,"TOTALE ATTIVITA' FINANZIARIE CHE NON COSTITUISCONO IMMOBILIZZAZIONI",null,{"$f":"SUM(F6:F9)","v":0},0,0,0,0,0,0,0,0,0]
[]
[null,null,null,"Tab. 27 – Elenco e informativa delle partecipazioni che non costituiscono immobilizzazioni"]
[null,null,null,"ELENCO PARTECIPAZIONI CHE NON COSTITUISCONO IMMOBILIZZAZIONI",null,"Sede","Forma\ngiuridica","Capitale","% capitale pubblico","Patrimonio netto incluso riserve","Totale\nAttivo","Risultato di esercizio","% di possesso","Valore attribuito a bilancio"]
[null,null,null," Partecipazioni in imprese controllate:"]
[null,null,null,"   …"]
[null,null,null," Partecipazioni in imprese collegate:"]
[null,null,null,"   …"]
[null,null,null," Partecipazioni in altre imprese:"]
[null,null,null,"   …"]
[]
[null,null,null,"Tab. 28 – Dettagli e movimentazioni delle attività finanziarie che non costituiscono immobilizzazioni"]
[null,null,"CODICE MOD. SP","DETTAGLIO ATTIVITA' FINANZIARIE CHE NON COSTITUISCONO IMMOBILIZZAZIONI",null,"Costo\nstorico","ESERCIZI PRECEDENTI",null,null,"MOVIMENTI DELL'ESERCIZIO",null,null,null,null,"Valore\nfinale"]
[null,null,null,null,null,null,"Rivalut.","Svalut.","Valore iniziale","Giroconti e Riclassific.","Rivalut.","Svalut.","Acquisiz.","Cessioni (valore netto)"]
[null,null,"ABA730"," Partecipazioni in imprese controllate:"]
[null,null,null,"   …"]
[null,null,null," Partecipazioni in imprese collegate:"]
[null,null,null,"   …"]
[null,null,null," Partecipazioni in altre imprese:"]
[null,null,null,"   …"]
[null,null,"ABA740","Altri titoli (diversi dalle partecipazioni)"]
[null,null,null,"   …"]
[]
[null,null,"Altre informazioni relative alle attività finanziarie che non costituiscono immobilizzazioni."]
[]
[null,null,"Informazione",null,"Caso presente in azienda?",null,null,"Se sì, illustrare"]
[null,null,"AF01 - Gravami. Sulle attività finanziarie che non costituiscono immobilizzazioni vi sono gravami quali pegni, pignoramenti, ecc.?"]
[null,null,"AF02 - Contenzioso con iscrizione in bilancio. Sulle attività finanziarie che non costituiscono immobilizzazioni iscritte in bilancio sono in corso contenziosi con altre aziende sanitarie, con altri enti pubblici o con enti privati?"]
[null,null,"AF03 - Contenzioso senza iscrizione in bilancio. Esistono attività finanziarie che non costituiscono immobilizzazioni non iscritte nello stato patrimoniale perché non riconosciute come proprietà dell'azienda in seguito a contenziosi in corso con altre aziende sanitarie, con altri enti pubblici o con soggetti privati?"]
[null,null,"AF04 - Altro. Esistono altre informazioni che si ritiene necessario fornire per soddisfare la regola generale secondo cui \"Se le informazioni richieste da specifiche disposizioni di legge non sono sufficienti a dare una rappresentazione veritiera e corretta, si devono fornire le informazioni complementari necessarie allo scopo\" (art. 2423 cc)?"]

{"sheet":"Tab 29-30-31","index":29,"n_rows":50,"n_cols":15,"rows_kept":50,"cut":false,"hidden":false,"merged":[[22,1,22,6],[48,0,48,4],[48,5,48,6],[49,0,49,4],[13,1,13,7],[15,0,15,3],[16,0,16,4],[16,5,16,6],[17,0,17,4],[18,0,18,4],[48,7,48,10],[49,7,49,10],[25,1,25,6],[42,1,42,6],[0,0,0,6],[16,7,16,10],[17,7,17,10],[18,7,18,10],[21,0,21,4],[4,0,5,0],[4,1,5,1],[4,3,5,3],[4,4,4,5],[4,6,5,6],[3,1,3,6]]}
["9.     Disponibilità liquide"]
[]
[]
[null,"Tab. 29 – Movimentazioni delle disponibilità liquide"]
["CODICE MOD. SP","DISPONIBILITA' LIQUIDE",null,"Valore\niniziale","MOVIMENTI DELL'ESERCIZIO",null,"Valore\nfinale"]
[null,null,null,null,"Incrementi","Decrementi",null,null,null,null,null,null,"Valore SP","Diff","Ctrl"]
["ABA760","  Cassa",null,{"$f":"SUMIF('00 SP'!$A:$A,'Tab 29-30-31'!$A7,'00 SP'!I:I)","v":20000},{"$f":"SUMIF('00 SP'!$A:$A,'Tab 29-30-31'!$A7,'00 SP'!J:J)","v":49747.05},{"$f":"SUMIF('00 SP'!$A:$A,'Tab 29-30-31'!$A7,'00 SP'!K:K)","v":49747.05},{"$f":"D7+E7-F7","v":20000},null,null,null,null,null,{"$f":"SUMIF('00 SP'!A:A,'Tab 29-30-31'!A7,'00 SP'!L:L)","v":20000},{"$f":"G7-M7","v":0},{"$f":"IF(N7=0,\"OK\",\"CTRL\")","v":"OK"}]
["ABA770","  Istituto Tesoriere",null,{"$f":"SUMIF('00 SP'!$A:$A,'Tab 29-30-31'!$A8,'00 SP'!I:I)","v":46196074.32},{"$f":"SUMIF('00 SP'!$A:$A,'Tab 29-30-31'!$A8,'00 SP'!J:J)","v":690539043.51999998},{"$f":"SUMIF('00 SP'!$A:$A,'Tab 29-30-31'!$A8,'00 SP'!K:K)","v":662428963.20000005},{"$f":"D8+E8-F8","v":74306154.639999986},null,null,null,null,null,{"$f":"SUMIF('00 SP'!A:A,'Tab 29-30-31'!A8,'00 SP'!L:L)","v":74306154.639999986},{"$f":"G8-M8","v":0},{"$f":"IF(N8=0,\"OK\",\"CTRL\")","v":"OK"}]
["ABA780","  Tesoreria Unica",null,{"$f":"SUMIF('00 SP'!$A:$A,'Tab 29-30-31'!$A9,'00 SP'!I:I)","v":0},{"$f":"SUMIF('00 SP'!$A:$A,'Tab 29-30-31'!$A9,'00 SP'!J:J)","v":0},{"$f":"SUMIF('00 SP'!$A:$A,'Tab 29-30-31'!$A9,'00 SP'!K:K)","v":0},0,null,null,null,null,null,{"$f":"SUMIF('00 SP'!A:A,'Tab 29-30-31'!A9,'00 SP'!L:L)","v":0},{"$f":"G9-M9","v":0},{"$f":"IF(N9=0,\"OK\",\"CTRL\")","v":"OK"}]
["ABA790","  Conto corrente postale",null,{"$f":"SUMIF('00 SP'!$A:$A,'Tab 29-30-31'!$A10,'00 SP'!I:I)","v":1292034.4099999999},{"$f":"SUMIF('00 SP'!$A:$A,'Tab 29-30-31'!$A10,'00 SP'!J:J)","v":1221581.3999999999},{"$f":"SUMIF('00 SP'!$A:$A,'Tab 29-30-31'!$A10,'00 SP'!K:K)","v":1514988.6},998627.2099999995,null,null,null,null,null,{"$f":"SUMIF('00 SP'!A:A,'Tab 29-30-31'!A10,'00 SP'!L:L)","v":998627.2099999995},{"$f":"G10-M10","v":0},{"$f":"IF(N10=0,\"OK\",\"CTRL\")","v":"OK"}]
[]
[]
["DL01 - Fondi vincolati."]
["DL01 - no"]
[]
["Altre informazioni relative alle disponibilità liquide"]
["Informazione",null,null,null,null,"Caso presente in azienda?",null,"Se sì, illustrare"]
["DL02 - Gravami. Sulle disponibilità liquide  dell'azienda vi sono gravami quali pignoramenti, ecc.?",null,null,null,null,null,"NO"]
["DL03 - Altro. Esistono altre informazioni che si ritiene necessario fornire per soddisfare la regola generale secondo cui \"Se le informazioni richieste da specifiche disposizioni di legge non sono sufficienti a dare una rappresentazione veritiera e corretta, si devono fornire le informazioni complementari necessarie allo scopo\" (art. 2423 cc)?",null,null,null,null,null,"no"]
[null,null,null,null,null,null,null,". "]
[]
["10.     Ratei e risconti attivi"]
[null,"Tab. 30 – Ratei attivi – Dettaglio a livello di ricavo (codice CE)"]
["CODICE MOD. CE","RATEI ATTIVI",null,"Importo","di cui\noltre 12 mesi"]
[null,"DETTAGLIO A LIVELLO DI CODICE DI RICAVO CE"]
[null,"Ratei attivi – Dettaglio suggerito dalla Regione"]
["CODICE MOD. CE","RATEI ATTIVI",null,"Importo","di cui\noltre 12 mesi"]
[null,"DETTAGLIO A LIVELLO DI CODICE DI RICAVO CE"]
["ACA010","Ratei attivi"]
["ACA020","Ratei attivi v/Aziende sanitarie pubbliche della Regione"]
["ACA000","TOTALE RATEI ATTIVI",null,{"$f":"D29+D30","v":0},{"$f":"E29+E30","v":0}]
[]
[null,"Tab. 31 – Risconti attivi – Dettaglio a livello di costo (codice CE)"]
["CODICE MOD. CE","RISCONTI ATTIVI",null,"Importo","di cui\noltre 12 mesi"]
[null,"DETTAGLIO A LIVELLO DI CODICE DI COSTO CE",null,{"$f":"D36+D37+D41","v":8698}]
["BA1690","B.2.B.1.11.A)  Premi di assicurazione - R.C. Professionale ",null,0]
["BA1700","B.2.B.1.11.B)  Premi di assicurazione - Altri premi assicurativi",null,0]
[null,"per rischi su immobili",null,0]
[null,"RC automezzi",null,0]
[null,"altri premi di assicurazione",null,0]
["BA2000","B.4.A) Fitti passivi",null,8698]
[]
[null,"Risconti  attivi – Dettaglio suggerito dalla Regione"]
["CODICE MOD. CE","RISCONTI ATTIVI",null,"Importo","di cui\noltre 12 mesi"]
[null,"DETTAGLIO A LIVELLO DI CODICE DI COSTO CE"]
["ACA040","Risconti attivi",null,8698]
["ACA050","Risconti attivi v/Aziende sanitarie pubbliche della Regione"]
["ACA030","TOTALE RISCONTI ATTIVI",null,{"$f":"D46+D47","v":8698},0]
["Informazione",null,null,null,null,"Caso presente in azienda?",null,"Se sì, illustrare"]
["RR01 - Altro. Esistono altre informazioni che si ritiene necessario fornire per soddisfare la regola generale secondo cui \"Se le informazioni richieste da specifiche disposizioni di legge non sono sufficienti a dare una rappresentazione veritiera e corretta, si devono fornire le informazioni complementari necessarie allo scopo\" (art. 2423 cc)?",null,null,null,null,null,"NO"]

{"sheet":"Tab 32","index":30,"n_rows":37,"n_cols":17,"rows_kept":37,"cut":false,"hidden":false,"merged":[[4,10,4,12],[1,0,1,4],[4,0,5,0],[4,1,5,1],[4,3,5,3],[4,4,4,8],[3,1,3,12]]}
[]
["11. Patrimonio netto"]
[]
[null,"Tab. 32 – Consistenza, movimentazioni e utilizzazioni delle poste di patrimonio netto"]
["CODICE MOD. SP","PATRIMONIO NETTO",null,"Consistenza iniziale","MOVIMENTI DELL'ESERCIZIO",null,null,null,null,null,"RIEPILOGO DELLE UTILIZZAZIONI EFFETTUATE NEI TRE PRECEDENTI ESERCIZI"]
[null,null,null,null,"Giroconti e Riclassifiche","Assegnazioni nel corso dell'esercizio","Utilizzi per sterilizzazioni nel corso dell'esercizio","Altre variazioni\n(+/-)","Risultato di esercizio\n(+/-)","Consistenza finale","Copertura perdite","Sterilizzazioni","Altre\nmotivazioni",null,"Valore SP","Diff","Ctrl"]
["PAA000"," FONDO DI DOTAZIONE",null,{"$f":"SUMIF('00 SP'!$A:$A,'Tab 32'!$A7,'00 SP'!I:I)","v":0},0,{"$f":"SUMIF('00 SP'!$A:$A,'Tab 32'!$A7,'00 SP'!J:J)","v":0},0,{"$f":"SUMIF('00 SP'!$A:$A,'Tab 32'!$A7,'00 SP'!$K:$K)-G7+E7","v":0},{"$f":"E7+F7-(G7+H7)","v":0},{"$f":"D7+I7","v":0},0,0,0,null,{"$f":"SUMIF('00 SP'!A:A,'Tab 32'!A7,'00 SP'!L:L)","v":0},{"$f":"J7-O7","v":0},{"$f":"IF(P7=0,\"OK\",\"CTRL\")","v":"OK"}]
["PAA010"," FINANZIAMENTI PER INVESTIMENTI:",null,{"$f":"D9+D10+D14+D15+D16","v":115212542.61},{"$f":"E9+E10+E14+E15+E16","v":0},{"$f":"F9+F10+F14+F15+F16","v":3379701.2799999993},{"$f":"G9+G10+G14+G15+G16","v":10643972.219999999},0.29999999981373549,-7264271.2400000002,107948271.37,{"$f":"K9+K10+K14+K15+K16","v":0},{"$f":"L9+L10+L14+L15+L16","v":10643972.219999999},{"$f":"M9+M10+M14+M15+M16","v":0},null,{"$f":"SUMIF('00 SP'!A:A,'Tab 32'!A8,'00 SP'!L:L)","v":107948271.37},{"$f":"J8-O8","v":0},{"$f":"IF(P8=0,\"OK\",\"CTRL\")","v":"OK"}]
["PAA020","   Finanziamenti per beni di prima dotazione",null,{"$f":"SUMIF('00 SP'!$A:$A,'Tab 32'!$A9,'00 SP'!I:I)","v":60131413.810000002},0,{"$f":"SUMIF('00 SP'!$A:$A,'Tab 32'!$A9,'00 SP'!J:J)-E9","v":0},3577467.65,{"$f":"SUMIF('00 SP'!$A:$A,'Tab 32'!$A9,'00 SP'!$K:$K)-G9+E9","v":0.28000000026077032},{"$f":"E9+F9-(G9+H9)","v":-3577467.93},{"$f":"D9+I9","v":56553945.880000003},0,{"$f":"G9","v":3577467.65},0,null,{"$f":"SUMIF('00 SP'!A:A,'Tab 32'!A9,'00 SP'!L:L)","v":56553945.880000003},0,"OK"]
["PAA030","   Finanziamenti da Stato per investimenti",null,{"$f":"SUM(D11:D13)","v":0},0,{"$f":"SUMIF('00 SP'!$A:$A,'Tab 32'!$A10,'00 SP'!J:J)","v":0},0,0,0,0,0,0,0,null,{"$f":"SUMIF('00 SP'!A:A,'Tab 32'!A10,'00 SP'!L:L)","v":0},0,"OK"]
["PAA040","       Finanziamenti da Stato per investimenti - ex art. 20 legge 67/88",null,{"$f":"SUMIF('00 SP'!$A:$A,'Tab 32'!$A11,'00 SP'!I:I)","v":0},0,{"$f":"SUMIF('00 SP'!$A:$A,'Tab 32'!$A11,'00 SP'!J:J)","v":0},0,{"$f":"SUMIF('00 SP'!$A:$A,'Tab 32'!$A11,'00 SP'!$K:$K)-G11+E11","v":0},{"$f":"E11+F11-(G11+H11)","v":0},0,0,0,0,null,{"$f":"SUMIF('00 SP'!A:A,'Tab 32'!A11,'00 SP'!L:L)","v":0},0,"OK"]
["PAA050","       Finanziamenti da Stato per investimenti - ricerca",null,{"$f":"SUMIF('00 SP'!$A:$A,'Tab 32'!$A12,'00 SP'!I:I)","v":0},0,{"$f":"SUMIF('00 SP'!$A:$A,'Tab 32'!$A12,'00 SP'!J:J)","v":0},0,{"$f":"SUMIF('00 SP'!$A:$A,'Tab 32'!$A12,'00 SP'!$K:$K)-G12+E12","v":0},{"$f":"E12+F12-(G12+H12)","v":0},0,0,0,0,null,{"$f":"SUMIF('00 SP'!A:A,'Tab 32'!A12,'00 SP'!L:L)","v":0},0,"OK"]
["PAA060","       Finanziamenti da Stato per investimenti - altro",null,{"$f":"SUMIF('00 SP'!$A:$A,'Tab 32'!$A13,'00 SP'!I:I)","v":0},0,{"$f":"SUMIF('00 SP'!$A:$A,'Tab 32'!$A13,'00 SP'!J:J)","v":0},0,{"$f":"SUMIF('00 SP'!$A:$A,'Tab 32'!$A13,'00 SP'!$K:$K)-G13+E13","v":0},0,0,0,0,0,null,{"$f":"SUMIF('00 SP'!A:A,'Tab 32'!A13,'00 SP'!L:L)","v":0},0,"OK"]
["PAA070","   Finanziamenti da Regione per investimenti",null,{"$f":"SUMIF('00 SP'!$A:$A,'Tab 32'!$A14,'00 SP'!I:I)","v":38021266.420000002},0,{"$f":"SUMIF('00 SP'!$A:$A,'Tab 32'!$A14,'00 SP'!J:J)-13499505","v":1.9999999552965164E-2},{"$f":"438759.49+1548104.66","v":1986864.15},{"$f":"SUMIF('00 SP'!$A:$A,'Tab 32'!$A14,'00 SP'!$K:$K)-G14+E14-13499505","v":1.9999999552965164E-2},{"$f":"E14+F14-(G14+H14)","v":-1986864.15},{"$f":"D14+I14","v":36034402.270000003},0,{"$f":"G14","v":1986864.15},0,null,{"$f":"SUMIF('00 SP'!A:A,'Tab 32'!A14,'00 SP'!L:L)","v":36034402.269999996},0,"OK"]
["PAA080","   Finanziamenti da altri soggetti pubblici per investimenti",null,{"$f":"SUMIF('00 SP'!$A:$A,'Tab 32'!$A15,'00 SP'!I:I)","v":0},0,{"$f":"SUMIF('00 SP'!$A:$A,'Tab 32'!$A15,'00 SP'!J:J)","v":0},0,{"$f":"SUMIF('00 SP'!$A:$A,'Tab 32'!$A15,'00 SP'!$K:$K)-G15+E15","v":0},0,0,0,0,0,null,{"$f":"SUMIF('00 SP'!A:A,'Tab 32'!A15,'00 SP'!L:L)","v":0},0,"OK"]
["PAA090","   Finanziamenti per investimenti da rettifica contributi in conto esercizio",null,{"$f":"SUMIF('00 SP'!$A:$A,'Tab 32'!$A16,'00 SP'!I:I)","v":17059862.379999999},0,{"$f":"SUMIF('00 SP'!$A:$A,'Tab 32'!$A16,'00 SP'!J:J)","v":3379701.26},5079640.42,{"$f":"SUMIF('00 SP'!$A:$A,'Tab 32'!$A16,'00 SP'!$K:$K)-G16+E16","v":0},-1699939.1600000001,15359923.219999999,0,{"$f":"G16","v":5079640.42},0,null,{"$f":"SUMIF('00 SP'!A:A,'Tab 32'!A16,'00 SP'!L:L)","v":15359923.220000001},0,"OK"]
["PAA100"," RISERVE DA DONAZIONI E LASCITI VINCOLATI AD INVESTIMENTI",null,{"$f":"SUMIF('00 SP'!$A:$A,'Tab 32'!$A17,'00 SP'!I:I)","v":260474.1},0,{"$f":"SUMIF('00 SP'!$A:$A,'Tab 32'!$A17,'00 SP'!J:J)","v":308827.12},86964.13,{"$f":"SUMIF('00 SP'!$A:$A,'Tab 32'!$A17,'00 SP'!$K:$K)-G17+E17","v":0},221862.99,{"$f":"D17+I17","v":482337.08999999997},0,{"$f":"G17","v":86964.13},0,null,{"$f":"SUMIF('00 SP'!A:A,'Tab 32'!A17,'00 SP'!L:L)","v":482337.08999999997},0,"OK"]
["PAA110"," ALTRE RISERVE:",null,{"$f":"SUM(D19:D23)","v":2730000},0,0,0,0,0,2730000,0,0,0,null,{"$f":"SUMIF('00 SP'!A:A,'Tab 32'!A18,'00 SP'!L:L)","v":2730000},0,"OK"]
["PAA120","   Riserve da rivalutazioni",null,{"$f":"SUMIF('00 SP'!$A:$A,'Tab 32'!$A19,'00 SP'!I:I)","v":0},0,{"$f":"SUMIF('00 SP'!$A:$A,'Tab 32'!$A19,'00 SP'!J:J)","v":0},0,{"$f":"SUMIF('00 SP'!$A:$A,'Tab 32'!$A19,'00 SP'!$K:$K)-G19+E19","v":0},{"$f":"E19+F19-(G19+H19)","v":0},0,0,0,0,null,{"$f":"SUMIF('00 SP'!A:A,'Tab 32'!A19,'00 SP'!L:L)","v":0},0,"OK"]
["PAA130","   Riserve da plusvalenze da reinvestire",null,{"$f":"SUMIF('00 SP'!$A:$A,'Tab 32'!$A20,'00 SP'!I:I)","v":0},0,{"$f":"SUMIF('00 SP'!$A:$A,'Tab 32'!$A20,'00 SP'!J:J)","v":0},0,{"$f":"SUMIF('00 SP'!$A:$A,'Tab 32'!$A20,'00 SP'!$K:$K)-G20+E20","v":0},0,0,0,0,0,null,{"$f":"SUMIF('00 SP'!A:A,'Tab 32'!A20,'00 SP'!L:L)","v":0},0,"OK"]
["PAA140","   Contributi da reinvestire",null,{"$f":"SUMIF('00 SP'!$A:$A,'Tab 32'!$A21,'00 SP'!I:I)","v":0},0,{"$f":"SUMIF('00 SP'!$A:$A,'Tab 32'!$A21,'00 SP'!J:J)","v":0},0,{"$f":"SUMIF('00 SP'!$A:$A,'Tab 32'!$A21,'00 SP'!$K:$K)-G21+E21","v":0},0,0,0,0,0,null,{"$f":"SUMIF('00 SP'!A:A,'Tab 32'!A21,'00 SP'!L:L)","v":0},0,"OK"]
["PAA150","   Riserve da utili di esercizio destinati ad investimenti",null,{"$f":"SUMIF('00 SP'!$A:$A,'Tab 32'!$A22,'00 SP'!I:I)","v":0},0,{"$f":"SUMIF('00 SP'!$A:$A,'Tab 32'!$A22,'00 SP'!J:J)","v":0},0,{"$f":"SUMIF('00 SP'!$A:$A,'Tab 32'!$A22,'00 SP'!$K:$K)-G22+E22","v":0},0,0,0,0,0,null,{"$f":"SUMIF('00 SP'!A:A,'Tab 32'!A22,'00 SP'!L:L)","v":0},0,"OK"]
["PAA160","   Riserve diverse",null,{"$f":"SUMIF('00 SP'!$A:$A,'Tab 32'!$A23,'00 SP'!I:I)","v":2730000},0,{"$f":"SUMIF('00 SP'!$A:$A,'Tab 32'!$A23,'00 SP'!J:J)","v":0},0,{"$f":"SUMIF('00 SP'!$A:$A,'Tab 32'!$A23,'00 SP'!$K:$K)-G23+E23","v":0},0,2730000,0,0,0,null,{"$f":"SUMIF('00 SP'!A:A,'Tab 32'!A23,'00 SP'!L:L)","v":2730000},0,"OK"]
["PAA170"," CONTRIBUTI PER RIPIANO PERDITE:",null,{"$f":"D25+D26+D27","v":27874334},0,0,0,0,{"$f":"E24+F24-(G24+H24)","v":0},{"$f":"D24+I24","v":27874334},0,0,0,null,{"$f":"SUMIF('00 SP'!A:A,'Tab 32'!A24,'00 SP'!L:L)","v":27874334},0,"OK"]
["PAA180","   Contributi per copertura debiti al 31/12/2005",null,{"$f":"SUMIF('00 SP'!$A:$A,'Tab 32'!$A25,'00 SP'!I:I)","v":0},0,{"$f":"SUMIF('00 SP'!$A:$A,'Tab 32'!$A25,'00 SP'!J:J)","v":0},0,{"$f":"SUMIF('00 SP'!$A:$A,'Tab 32'!$A25,'00 SP'!$K:$K)-G25+E25","v":0},0,0,0,0,0,null,{"$f":"SUMIF('00 SP'!A:A,'Tab 32'!A25,'00 SP'!L:L)","v":0},0,"OK"]
["PAA190","   Contributi per ricostituzione risorse da investimenti esercizi precedenti",null,{"$f":"SUMIF('00 SP'!$A:$A,'Tab 32'!$A26,'00 SP'!I:I)","v":0},0,{"$f":"SUMIF('00 SP'!$A:$A,'Tab 32'!$A26,'00 SP'!J:J)","v":0},0,{"$f":"SUMIF('00 SP'!$A:$A,'Tab 32'!$A26,'00 SP'!$K:$K)-G26+E26","v":0},0,0,0,0,0,null,{"$f":"SUMIF('00 SP'!A:A,'Tab 32'!A26,'00 SP'!L:L)","v":0},0,"OK"]
["PAA200","   Altro",null,{"$f":"SUMIF('00 SP'!$A:$A,'Tab 32'!$A27,'00 SP'!I:I)","v":27874334},null,{"$f":"SUMIF('00 SP'!$A:$A,'Tab 32'!$A27,'00 SP'!J:J)","v":0},0,{"$f":"SUMIF('00 SP'!$A:$A,'Tab 32'!$A27,'00 SP'!$K:$K)-G27+E27","v":0},0,27874334,0,0,0,null,{"$f":"SUMIF('00 SP'!A:A,'Tab 32'!A27,'00 SP'!L:L)","v":27874334},0,"OK"]
["PAA210"," UTILI (PERDITE) PORTATI A NUOVO",null,{"$f":"SUMIF('00 SP'!$A:$A,'Tab 32'!$A28,'00 SP'!I:I)","v":-27874333.82},0,{"$f":"SUMIF('00 SP'!$A:$A,'Tab 32'!$A28,'00 SP'!J:J)","v":1677.34},0,{"$f":"SUMIF('00 SP'!$A:$A,'Tab 32'!$A28,'00 SP'!$K:$K)-G28+E28","v":0},1677.34,{"$f":"D28+I28","v":-27872656.48},0,0,0,null,{"$f":"SUMIF('00 SP'!A:A,'Tab 32'!A28,'00 SP'!L:L)","v":-27872656.48},0,"OK"]
["PAA220"," UTILE (PERDITA) D'ESERCIZIO",null,{"$f":"SUMIF('00 SP'!$A:$A,'Tab 32'!$A29,'00 SP'!I:I)","v":1677.34},0,{"$f":"SUMIF('00 SP'!$A:$A,'Tab 32'!$A29,'00 SP'!J:J)","v":0},0,{"$f":"SUMIF('00 SP'!$A:$A,'Tab 32'!$A29,'00 SP'!$K:$K)-G29+E29","v":10238530.34},{"$f":"E29+F29-(G29+H29)","v":-10238530.34},{"$f":"D29+I29","v":-10236853},0,0,0,null,{"$f":"SUMIF('00 SP'!A:A,'Tab 32'!A29,'00 SP'!L:L)","v":-10236853},0,"OK"]
[null,"TOTALE PATRIMONIO NETTO",null,{"$f":"D7+D8+D17+D18+D24+D28+D29","v":118204694.22999999},0,{"$f":"F7+F8+F17+F18+F24+F28+F29","v":3690205.7399999993},{"$f":"G7+G8+G17+G18+G24+G28+G29","v":10730936.35},10238530.640000001,-17279261.25,{"$f":"J7+J8+J17+J18+J24+J28+J29","v":100925432.98},0,10730936.35,0]
[]
[]
[null,"riconciliazione con le tabelle 1 , 5 con tab 32"]
[]
["tab 1","sterilizzazione beni immateriali",null,155437.65]
["tab 5","sterilizzazione beni materiali",null,10575498.65]
["tab 32","totale sterilizzazione patrimonio netto",null,{"$f":"SUM(D35:D36)","v":10730936.300000001}]

{"sheet":"TAB 32 BIS Acquisti con fdi PO","index":31,"n_rows":24,"n_cols":7,"rows_kept":24,"cut":false,"hidden":false,"merged":[[21,0,21,3],[22,0,22,3],[23,0,23,3],[18,0,18,3],[19,0,19,3],[12,0,12,3],[13,0,13,3],[7,0,7,3],[1,0,1,4],[20,0,20,3],[14,0,14,3],[15,0,15,3],[16,0,16,3],[17,0,17,3],[8,0,8,3],[9,0,9,3],[10,0,10,3],[11,0,11,3],[3,0,3,6]]}
[]
["Tab. 32 bis - DETTAGLIO RISORSE , DA PO,  DESTINATE AD INVESTIMENTI"]
[]
["Di seguito si riporta il dettaglio della composizione delle risorse, da P.O,  incrementative sul patrimonio netto per la destinazione ad investimenti di P.O. v.c. 020304011313 in corso di realizzazione "]
[]
["DESCRIZIONE",null,null,null,"IMPORTO",null,"STATO DI AVANZAMENTO DEL FINANZIAMENTO"]
[]
["lavori DSB Montesilvano DG 1328/2018  Aut.Spesa n. 351/2018",null,null,null,190710.74,null,"Approvazione Progetto Esecutivo (Del. N. 42/2020) Il Comune di Montesilvano ha in corso procedura di gara"]
["lavori DSBPescara Sud  DG 1328/2018  Aut.Spesa n. 344/2018",null,null,null,2056402.97,null,"Lavori in corso di esecuzione"]
["lavori DSB Cepagatti  DG 1328/2018  Aut.Spesa n. 353/2018",null,null,null,600000,null,"Sono in corso le attività per la redazione progetto esecutivo"]
[" lavori DSB Area Vestina DG 1328/2018  Aut.Spesa n. 354/2018",null,null,null,396000,null,"CERS di Area vestina (ex DSB di Penne)"]
[" lavori DSB Scafa DG 1328/2018  Aut.Spesa n. 355/2018",null,null,null,800000,null,"Approvato con deliberazione N. 1559/2019 lo Studio di fattibilità Tecnico-  Economico e sono in corso le attività per la redazione progetto esecutivo"]
["lavori  P.O. Popoli Gravi Cerebropatie  DG 1328/2018  Aut.Spesa n. 356/2018",null,null,null,930000,null,"Progetto esecutivo da aggiornare"]
["lavori  Hospice  DG 1328/2018  Aut.Spesa n. 357/2018",null,null,null,400000,null,"Sono in corso le attività per l'inizio dei lavori"]
["lavori CELL FACTORY DG 1328/2018  Aut.Spesa n. 358/2018",null,null,null,621897,null,"Fondi necessari per l'adeguamento della Cell Factory - Sala Crio Banca  / Approvato con deliberazione N. _187/2019 lo Studio di fattibilità Tecnico-  Economico e sono in corso le attività per la redazione progetto esecutivo"]
["lavori PO PENNE  DG 1328/2018  Aut.Spesa n. 359/2018",null,null,null,151654.45000000001,null,"Economie lavori messi in sicurezza Palazizna Amministrativa P.O. di Penne, da rifinalizzare sulla stessa Palazzina"]
["DAY HOSPITAL ONCOLOGICO DG1328/2018 Aut. Spesa  n. 368/2018",null,null,null,200000,null,"Approvato con deliberazione N. 137/2020 lo Studio di fattibilità Tecnico-  Economico e sono in corso le attività per l'individuazione del professionisti da incaricare per la redazioen Progetto definitivo / Esecutivo"]
["lavori DAY HOSPITAL ONCOLOGICO DG1328/2018 Aut. Spesa  n. 368/2018",null,null,null,500000,null,"Approvato con deliberazione N. 141/2020 lo Studio di fattibilità Tecnico-  Economico e sono in corso le attività per l'individuazione del professionisti da incaricare per la redazioen Progetto definitivo / Esecutivo"]
["lavori completamento ristrutturazione ex IVAP- Ospedale Covid",null,null,null,1500001,null,"lavori in corso di esecuzione"]
["interventi di manutenzione straordinaria DD.SS.BB  territorio  DG 851/ 2019 Aut.Spesa n. 382/2019",null,null,null,300000,null,"Impianti di Condizionamento Distretti, sono in corso le attività relative allo Studio di fattibilità Tecnico Economico."]
["Lavori adeguamento igenico sanitario spogliatoi  DG 851/2019  Aut.Spesa n. 381/2019",null,null,null,138000,null,"Lavori già eseguiti e liquidati"]
["attrezz arredi e software DD..SS.BB e Pronto Soccorso-Piano triennale investimenti 2020-2022 del 1431 del 2 dic 2019",null,null,null,2390000,null,"in corso di acquisto"]
[" imprevisti e sostituzioni fuori uso -Piano triennale investimenti 2020-2022 del 1431 del 2 dic 2019",null,null,null,500000,null,"in corso di acquisto"]
["totale",null,null,null,{"$f":"SUM(E8:E23)","v":11674666.16}]

{"sheet":"Tab 33","index":32,"n_rows":34,"n_cols":15,"rows_kept":34,"cut":false,"hidden":false,"merged":[[4,8,4,14],[2,1,2,6],[4,0,5,0],[4,1,5,1],[4,3,4,6],[4,7,5,7]]}
[]
[]
[null,"Tab. 33 – Dettaglio finanziamenti per investimenti (ultimi 3 esercizi)"]
[]
["CODICE MOD. SP","DETTAGLIO FINANZIAMENTI PER INVESTIMENTI RICEVUTI\nNEGLI ULTIMI TRE ESERCIZI",null,"INFORMAZIONI",null,null,null,"Consistenza all'inizio dell'esercizio 2019","MOVIMENTI DELL'ESERCIZIO"]
[null,null,null,"Vincolato o indistinto","Esercizio di  assegnazione","Estremi del provvedimento","Destinazione (tipologia di beni acquisiti)",null,"Giroconti e Riclassifiche","Assegnazioni nel corso dell'esercizio","Utilizzo a fronte di sterilizzazioni nel corso dell'esercizio","Altre variazioni\n(+/-)","Consistenza al 31 12 2019\nfinale","di cui\nriscossi","di cui\ninvestiti"]
["PAA020","  Per beni di prima dotazione:",null,null,null,null,null,{"$f":"H17+H26","v":55081128.460000001},null,null,-3577468,null,{"$f":"H7+I7+J7+K7+L7","v":51503660.460000001},{"$f":"M7","v":51503660.460000001},{"$f":"N7","v":51503660.460000001}]
[null,"    ... assegnati in data antecedente al 1/1/x-2"]
[null,"    ... assegnati in data antecedente al 1/1/x-2"]
[null,"    ... assegnati a partire dall'1/1/2010 (dettagliare)"]
[]
["PAA030","  Da Stato:"]
[null,"    ... assegnati in data antecedente al 1/1/2009"]
[null,"    ... assegnati a partire dall'1/1/2009 (dettagliare)"]
[]
["PAA070","  Da Regione:"]
[null,"    ... assegnati in data antecedente al 1/1/2009",null,null,null,null,null,{"$f":"H20+H21","v":38021266.420000002},0,{"$f":"J21","v":0},{"$f":"K20+K21","v":-1986864.15},null,{"$f":"H17+I17+J17+K17+L17","v":36034402.270000003},{"$f":"M17","v":36034402.270000003},{"$f":"N17","v":36034402.270000003}]
[null,"    ... assegnati a partire dall'1/1/2009(dettagliare)"]
[]
[null,"art 20 L.67/80",null,null,null,null,null,14796531.710000001,null,null,-1548104.66,null,{"$f":"H20+J20+K20","v":13248427.050000001}]
[null," c/capitale e P.O.",null,null,null,null,null,23224734.710000001,null,null,-438759.49,null,{"$f":"H21+J21+K21","v":22785975.220000003}]
[null,"dettaglio:",null,null,null,null,null,null,null,null,null,null,{"$f":"H22+I22","v":0}]
["PAA080","  Da altri soggetti pubblici:"]
[null,"    ... assegnati in data antecedente al 1/1/x-2"]
[null,"    ... assegnati a partire dall'1/1/x-2 (dettagliare)",null,null,null,null,null,null,null,{"$f":"J23-J24","v":0}]
["PAA090","  Per investimenti da rettifica contributi in conto esercizio:",null,null,null,null,null,{"$f":"SUM(H27:H34)","v":17059862.039999999},{"$f":"SUM(I27:I34)","v":0},{"$f":"SUM(J27:J34)","v":3379701.26},{"$f":"SUM(K27:K34)","v":-5079640.43},{"$f":"SUM(L27:L34)","v":0},{"$f":"H26+I26+J26+K26+L26","v":15359922.869999997},{"$f":"M26","v":15359922.869999997},{"$f":"N26","v":15359922.869999997}]
[null,"    ... assegnati in data antecedente al 1/1/2013",null,null,null,null,null,384390,null,null,-109969.55,null,{"$f":"H27+I27+J27+K27+L27","v":274420.45}]
[null,"    ... assegnati a partire dall'1/1/2013",null,null,null,null,null,385647.51,null,null,-101409.24,0,{"$f":"H28+I28+J28+K28+L28","v":284238.27}]
[null,"    ... assegnati a partire dall'1/1/2014",null,null,null,null,null,1466502.51,null,null,-702933.39,null,763569.12]
[null,"    ... assegnati a partire dall'1/1/2015",null,null,null,null,null,1637873.51,null,null,-880674.04,null,757199.47]
[null,"    ... assegnati a partire dall'1/1/2016",null,null,null,null,null,4122667.51,null,null,-1433173.28,null,2689494.2299999995]
[null,"    ... assegnati a partire dall'1/1/2017",null,null,null,null,null,4807824,null,null,-1274746,null,3533078]
[null,"    ... assegnati a partire dall'1/1/2018",null,null,null,null,null,4254957,null,null,-477095.88,null,3777861.12]
[null,"    ... assegnati a partire dall'1/1/2019",null,null,null,null,null,0,null,3379701.26,-99639.05,0,3280062.21]

{"sheet":"Tab 34-35 ","index":33,"n_rows":61,"n_cols":7,"rows_kept":61,"cut":false,"hidden":false,"merged":[[19,0,19,6],[20,0,20,6],[34,2,34,3],[22,0,22,6],[10,1,11,1],[10,3,10,5],[10,6,11,6],[17,0,17,7],[18,0,18,7],[21,0,21,7],[23,0,23,7],[1,1,1,6],[2,1,3,1],[2,3,2,5],[2,6,3,6],[9,1,9,6],[42,1,42,6],[27,0,28,6],[30,2,30,3],[31,2,31,3],[32,2,32,3],[33,2,33,3],[35,2,35,3],[36,2,36,3],[37,2,37,3],[38,0,38,1],[38,2,38,3]]}
[]
[null,"Tab. 34 – Dettaglio riserve da plusvalenze da reinvestire "]
[null,"DETTAGLIO RISERVE DA PLUSVALENZE DA REINVESTIRE",null,"ESERCIZI PRECEDENTI",null,null,"Valore finale"]
[null,null,null,"Valore\nal 31/12/2017e precedenti","Valore\nal 31/12/2018","Valore\nal 31/12/2019\n(Valore iniziale)"]
[null,"Valore iniziale"]
[null,"Incrementi"]
[null,"Utilizzi"]
[null,"Valore finale"]
[]
[null,"Tab. 35 – Dettaglio contributi da reinvestire "]
[null,"DETTAGLIO CONTRIBUTI DA REINVESTIRE",null,"ESERCIZI PRECEDENTI",null,null,"Valore finale"]
[null,null,null,"Valore\nal 31/12/2017e precedenti","Valore\nal 31/12/2018","Valore\nal 31/12/2019\n(Valore iniziale)"]
[null,"Valore iniziale"]
[null,"Incrementi"]
[null,"Utilizzi"]
[null,"Valore finale"]
[]
["Le cause di variazione del patrimonio netto sono di seguito elencate: "]
[" -  La colonna \"Assegnazioni nel corso dell'esercizio\" accoglie le seguenti movimentazioni:    "]
["a)  l'importo €/000 3.379  rapresenta l'importo complessivo dei diversi finanziamenti utilizzati nel corso dell'esercizio per l'acquisto di beni strumentali e lavori di straordinaria manutenzione sugli immobili in corso di realizzazione ed è relativo all'utilizzo di risorse proprie ( FSR ) i cui dettagli sono riportati nella tabella dedicata"]
[" b)  l'importo di €/000 309 rappresenta l' incremento di patrimonio netto a seguito dell'utilizzo di risorse derivati  da donazioni intervenute nel corso dell'esercizio 2019    il cui dettaglio è riportato nella tabella dedicata; "]
[" -  La colonna \"Utilizzi per sterilizzazioni nel corso dell'esercizio\" accoglie le sterilizzazione di quote di ammortamento di competenza dell'esercizio 2019. L'importo complessivo di dette sterilizzazioni  è pari ad € /000 10.731 come si può desumere anche dalle Tabelle 2 e 5, in base alle quali detto importo risulta così determinato: €/000  155+ 10.575  in applicazione dell'intesa del 6/08/2013  concernente la casistica applicativa del Titolo II del D.lgs 118/2011, Documento n.1 \" la sterilizzazione degli ammortamenti\"."]
[" -  La colonna \"Altre Variazioni\" accoglie le rettifica  della voce PAA210 \" utile  portata a nuovo \" relativo al risultato d'esercizio 2018 di €/000 1e la perdita d'esercizio   2019 di € /000 10.925"]
["  -   La colonna \"Risultato d'esercizio +/-\" accoglie la  movimentazione delle voci che compongono il Patrimonio Netto  nell'esercizio 2019"]
[]
[]
[]
["L'utilizzo della voce \"Riserve da donazioni lasciti vinvolati e investimenti\" è rappresentato dalla sterilizzazione degli ammortamenti 2019 dei cespiti donati. Il dettaglio delle sterilizzazioni è il seguente:"]
[]
[]
["Voce di conto","Descrizione","Importo sterilizzazione"]
["0101010602","Licenze d'uso software",0]
["0101020404","Macchinari generici",2636]
["0101020502","Attrezzature generiche",43627]
["0101020601","Mobili e arredi",13740]
["01010207","ambulanze ed altri mezzi di Trasporto ",23299]
["0101020903","Computer e macchinari elettronici",672]
["0101020904","Altri beni materiali",2990]
["TOTALE STERILIZZAZIONI 2019 CESPITI DONATI",null,{"$f":"SUM(C32:C38)","v":86964}]
[]
["PN01 - Donazioni e lasciti vincolati ad investimenti"]
[]
["PN01 - SI","Nell'esercizio 2019 sono state rilevate le seguenti  donazioni e lasciti vincolati ad investimenti:"]
[]
["n. inventario","Descrizione",null,"Estremi Provvedimento","Importo","Tipologia Bene","Voce di PN"]
["89910/89911","n.2 Bilancia",null,"2019/506",110,"Attrezzature generiche","0101020502"]
[89915,"Letto elettrico",null,"2018/1346",1543.3,"Attrezzature generiche","0101020502"]
["90408/90425","Brachiterapia ",null,"2017/702",250000,"Attrezzature generiche","0101020502"]
["90426/90428","Otoscopi/bilancia",null,"2019/874",1952,"Attrezzature generiche","0101020502"]
[90429,"Elettrobisturi",null,"2019/1398",3491.74,"Attrezzature generiche","0101020502"]
["90432/90435","Ecotom.ed accessori",null,"2019/1350",29500,"Attrezzature generiche","0101020502"]
[90436,"Localizz.vasi venosi",null,"2019/1302",9760,"Attrezzature generiche","0101020502"]
["89914/89924","Poltrona-Carrozzelle",null,"2018/1346",4038.39,"Attrezzature generiche","0101020601"]
["89935/89944","Sedie",null,"2019/713",1313.4,"Mobili Arredi","0101020601"]
[89945,"Poltrona",null,"2019/721",907.99,"Mobili Arredi","0101020601"]
["89946/89947","Poltrone",null,"2019/714",1039.1199999999999,"Mobili Arredi","0101020601"]
["89961/89968","Cucina comp.sedie…",null,"2019/657",2680,"Mobili Arredi","0101020601"]
[90307,"Armadio",null,"2019/817",933.4,"Mobili Arredi","0101020601"]
["90430/90431","Separè  modulari",null,"2019/1379",4994.47,"Mobili Arredi","0101020601"]
["89925/89934","Televisori",null,"2019/409",2145,"Altri beni","0101020601"]
[null,"TOTALE GENERALE",null,null,{"$f":"SUM(E46:E60)","v":314408.81}]

{"sheet":"Tab 35 bis - ter","index":34,"n_rows":26,"n_cols":7,"rows_kept":26,"cut":false,"hidden":false,"merged":[[25,0,25,3],[2,0,2,5],[3,1,3,3],[4,1,4,3],[6,1,6,3],[11,0,11,5],[14,1,14,4],[5,1,5,3],[24,0,24,3],[24,4,24,5],[0,0,0,6],[1,0,1,6],[10,0,10,6],[10,7,10,8],[20,1,20,6],[13,1,13,4],[12,1,12,4]]}
["Nella tabella sottostante si riporta il dettaglio della voce contributi per ripiano perdite con l'indicazione dei provvedimenti regionali."]
[" Tab. 35 bis - Dettaglio voce \"Contributi per ripiano perdite\""]
["CONTRIBUTI RIPIANO PERDITE al 31/12/2019    v.d.c.  '0201050301"]
["Anno","Riferimento atto regionale",null,null,"Descrizione","Importo Ripiano Perdite"]
[2017,"DPF012/14 del 13 aprile 2018",null,null,"copertura perdite 2016",14264710]
[2018,"DPF012/37 del  03 luglio 2019",null,null,"copertura perdite 2017",13609624]
[null,null,null,null,"TOTALE RIPIANI PERDITE",{"$f":"SUM(F5:F6)","v":27874334}]
[]
["Nella tabella sottostante  si riporta il dettaglio delle perdite portate a nuovo ."]
[]
[" Tab. 35 ter - Dettaglio voce \" Perdite portate a nuovo distinti per anno di formazione\""]
["CONTRIBUTI RIPIANO PERDITE al 31/12/2019      v.d.c.  '0201060102"]
["Anno","Descrizione",null,null,null,"Importo Ripiano Perdite"]
[2017,"perdite d'esercizio 2016",null,null,null,14264710]
[2018,"perdite d'esercizio 2017",null,null,null,13609624]
[null,"TOTALE PERDITE  D'ESERCIZIO PORTATI A NUOVO",null,null,null,{"$f":"SUM(F14:F15)","v":27874334}]
[]
[]
["PN02 - Fondo di dotazione"]
[]
["PN01 - NO","Il Fondo di dotazione non ha subito variazioni nel corso del 2019."]
[]
["Altre informazioni relative al patrimonio netto"]
[]
["Informazione",null,null,null,"Caso presente in azienda?",null,"Se sì, illustrare"]
["PN03 - Altro. Esistono altre informazioni che si ritiene necessario fornire per soddisfare la regola generale secondo cui \"Se le informazioni richieste da specifiche disposizioni di legge non sono sufficienti a dare una rappresentazione veritiera e corretta, si devono fornire le informazioni complementari necessarie allo scopo\" (art. 2423 cc)?",null,null,null,"NO"]

{"sheet":"Tab 36 ","index":35,"n_rows":57,"n_cols":12,"rows_kept":57,"cut":false,"hidden":false,"merged":[[0,0,0,5],[2,1,2,7],[3,0,4,0],[3,1,4,1],[3,2,4,2],[3,3,4,3],[3,4,4,4],[3,5,4,5],[3,6,4,6],[3,7,4,7]]}
["12.     Fondi per rischi e oneri"]
[]
[null,"Tab. 36 – Consistenza e movimentazioni dei fondi rischi e oneri"]
["CODICE MOD. SP","FONDO RISCHI E ONERI","Consistenza iniziale","Acc.to\ndell'esercizio","Altri incrementi /decrementi","Riclassifiche\ndell'esercizio","Utilizzi","Valore\nfinale"]
[null,null,null,null,null,null,null,null,null,"Valore SP","Diff","Ctrl"]
["PBA000","FONDI PER IMPOSTE, ANCHE DIFFERITE",{"$f":"SUMIF('00 SP'!$A:$A,'Tab 36 '!$A6,'00 SP'!I:I)","v":0},{"$f":"SUMIF('00 SP'!$A:$A,'Tab 36 '!$A6,'00 SP'!J:J)-(E6+F6)","v":0},0,0,{"$f":"SUMIF('00 SP'!$A:$A,'Tab 36 '!$A6,'00 SP'!K:K)","v":0},{"$f":"C6+D6+E6+F6-G6","v":0},null,{"$f":"SUMIF('00 SP'!A:A,'Tab 36 '!A6,'00 SP'!L:L)","v":0},{"$f":"H6-J6","v":0},{"$f":"IF(K6=0,\"OK\",\"CTRL\")","v":"OK"}]
["PBA010","FONDI PER RISCHI:",{"$f":"SUM(C8:C14)","v":39825341.520000003},{"$f":"SUM(D8:D14)","v":13911512.709999999},{"$f":"SUM(E8:E14)","v":0},{"$f":"SUM(F8:F14)","v":0},{"$f":"SUM(G8:G14)","v":8163683.7999999998},{"$f":"C7+D7+E7+F7-G7","v":45573170.430000007},null,{"$f":"SUMIF('00 SP'!A:A,'Tab 36 '!A7,'00 SP'!L:L)*-1","v":45573170.43},{"$f":"H7-J7","v":0},{"$f":"IF(K7=0,\"OK\",\"CTRL\")","v":"OK"}]
["PBA020","  Fondo rischi per cause civili e oneri processuali",{"$f":"SUMIF('00 SP'!$A:$A,'Tab 36 '!$A8,'00 SP'!I:I)*-1","v":11043948.220000001},{"$f":"(SUMIF('00 SP'!$A:$A,'Tab 36 '!$A8,'00 SP'!J:J)-(E8+F8))*-1","v":6378882.71},0,0,{"$f":"SUMIF('00 SP'!$A:$A,'Tab 36 '!$A8,'00 SP'!K:K)*-1","v":2138381.25},{"$f":"C8+D8+E8+F8-G8","v":15284449.68},null,{"$f":"SUMIF('00 SP'!A:A,'Tab 36 '!A8,'00 SP'!L:L)*-1","v":15284449.68},0,"OK"]
["PBA030","  Fondo rischi per contenzioso personale dipendente",{"$f":"SUMIF('00 SP'!$A:$A,'Tab 36 '!$A9,'00 SP'!I:I)*-1","v":995762.33},{"$f":"(SUMIF('00 SP'!$A:$A,'Tab 36 '!$A9,'00 SP'!J:J)-(E9+F9))*-1","v":811978.17},0,0,{"$f":"SUMIF('00 SP'!$A:$A,'Tab 36 '!$A9,'00 SP'!K:K)*-1","v":252340.5},1555400,null,{"$f":"SUMIF('00 SP'!A:A,'Tab 36 '!A9,'00 SP'!L:L)*-1","v":1555400},0,"OK"]
["PBA040","  Fondo rischi connessi all'acquisto di prestazioni sanitarie da privato",{"$f":"SUMIF('00 SP'!$A:$A,'Tab 36 '!$A10,'00 SP'!I:I)*-1","v":22285630.870000001},{"$f":"(SUMIF('00 SP'!$A:$A,'Tab 36 '!$A10,'00 SP'!J:J)-(E10+F10))*-1","v":1823614},0,0,{"$f":"SUMIF('00 SP'!$A:$A,'Tab 36 '!$A10,'00 SP'!K:K)*-1","v":275924.12},23833320.75,null,{"$f":"SUMIF('00 SP'!A:A,'Tab 36 '!A10,'00 SP'!L:L)*-1","v":23833320.75},0,"OK"]
["PBA050","  Fondo rischi per copertura diretta dei rischi (autoassicurazione)",{"$f":"SUMIF('00 SP'!$A:$A,'Tab 36 '!$A11,'00 SP'!I:I)*-1","v":5500000.0999999996},{"$f":"(SUMIF('00 SP'!$A:$A,'Tab 36 '!$A11,'00 SP'!J:J)-(E11+F11))*-1+2962.17","v":0},0,-2962.17,{"$f":"SUMIF('00 SP'!$A:$A,'Tab 36 '!$A11,'00 SP'!K:K)*-1-2962.17","v":5497037.9299999997},0,null,{"$f":"SUMIF('00 SP'!A:A,'Tab 36 '!A11,'00 SP'!L:L)*-1","v":0},0,"OK"]
["PBA051","  Fondo rischi per franchigia assicurativa",{"$f":"SUMIF('00 SP'!$A:$A,'Tab 36 '!$A12,'00 SP'!I:I)","v":0},{"$f":"(SUMIF('00 SP'!$A:$A,'Tab 36 '!$A12,'00 SP'!J:J)-(E12+F12)*-1)*-1","v":4897037.83},0,2962.17,{"$f":"SUMIF('00 SP'!$A:$A,'Tab 36 '!$A12,'00 SP'!K:K)","v":0},{"$f":"C12+D12+E12+F12-G12","v":4900000},null,{"$f":"SUMIF('00 SP'!A:A,'Tab 36 '!A12,'00 SP'!L:L)*-1","v":4900000},{"$f":"H12-J12","v":0},{"$f":"IF(K12=0,\"OK\",\"CTRL\")","v":"OK"}]
["PBA052","  Fondo rischi per interessi di mora",{"$f":"SUMIF('00 SP'!$A:$A,'Tab 36 '!$A13,'00 SP'!I:I)","v":0},{"$f":"SUMIF('00 SP'!$A:$A,'Tab 36 '!$A13,'00 SP'!J:J)-(E13+F13)","v":0},0,0,{"$f":"SUMIF('00 SP'!$A:$A,'Tab 36 '!$A13,'00 SP'!K:K)","v":0},0,null,{"$f":"SUMIF('00 SP'!A:A,'Tab 36 '!A13,'00 SP'!L:L)*-1","v":0},0,"OK"]
["PBA060","  Altri fondi rischi",{"$f":"SUMIF('00 SP'!$A:$A,'Tab 36 '!$A14,'00 SP'!I:I)","v":0},{"$f":"SUMIF('00 SP'!$A:$A,'Tab 36 '!$A14,'00 SP'!J:J)-(E14+F14)","v":0},0,0,{"$f":"SUMIF('00 SP'!$A:$A,'Tab 36 '!$A14,'00 SP'!K:K)","v":0},0,null,{"$f":"SUMIF('00 SP'!A:A,'Tab 36 '!A14,'00 SP'!L:L)*-1","v":0},0,"OK"]
["PBA070","FONDI DA DISTRIBUIRE:",{"$f":"SUM(C16:C22)","v":0},{"$f":"SUM(D16:D22)","v":0},0,0,0,0,null,{"$f":"SUMIF('00 SP'!A:A,'Tab 36 '!A15,'00 SP'!L:L)*-1","v":0},0,"OK"]
["PBA080","  FSR indistinto da distribuire",{"$f":"SUMIF('00 SP'!$A:$A,'Tab 36 '!$A16,'00 SP'!I:I)","v":0},{"$f":"SUMIF('00 SP'!$A:$A,'Tab 36 '!$A16,'00 SP'!J:J)-(E16+F16)","v":0},0,0,{"$f":"SUMIF('00 SP'!$A:$A,'Tab 36 '!$A16,'00 SP'!K:K)","v":0},{"$f":"C16+D16+E16+F16-G16","v":0},null,{"$f":"SUMIF('00 SP'!A:A,'Tab 36 '!A16,'00 SP'!L:L)*-1","v":0},0,"OK"]
["PBA090","  FSR vincolato da distribuire",{"$f":"SUMIF('00 SP'!$A:$A,'Tab 36 '!$A17,'00 SP'!I:I)","v":0},{"$f":"SUMIF('00 SP'!$A:$A,'Tab 36 '!$A17,'00 SP'!J:J)-(E17+F17)","v":0},0,0,{"$f":"SUMIF('00 SP'!$A:$A,'Tab 36 '!$A17,'00 SP'!K:K)","v":0},0,null,{"$f":"SUMIF('00 SP'!A:A,'Tab 36 '!A17,'00 SP'!L:L)*-1","v":0},0,"OK"]
["PBA100","  Fondo per ripiano disavanzi pregressi",{"$f":"SUMIF('00 SP'!$A:$A,'Tab 36 '!$A18,'00 SP'!I:I)","v":0},{"$f":"SUMIF('00 SP'!$A:$A,'Tab 36 '!$A18,'00 SP'!J:J)-(E18+F18)","v":0},0,0,{"$f":"SUMIF('00 SP'!$A:$A,'Tab 36 '!$A18,'00 SP'!K:K)","v":0},0,null,{"$f":"SUMIF('00 SP'!A:A,'Tab 36 '!A18,'00 SP'!L:L)*-1","v":0},0,"OK"]
["PBA110","  Fondo finanziamento sanitario aggiuntivo corrente LEA",{"$f":"SUMIF('00 SP'!$A:$A,'Tab 36 '!$A19,'00 SP'!I:I)","v":0},{"$f":"SUMIF('00 SP'!$A:$A,'Tab 36 '!$A19,'00 SP'!J:J)-(E19+F19)","v":0},0,0,{"$f":"SUMIF('00 SP'!$A:$A,'Tab 36 '!$A19,'00 SP'!K:K)","v":0},0,null,{"$f":"SUMIF('00 SP'!A:A,'Tab 36 '!A19,'00 SP'!L:L)*-1","v":0},0,"OK"]
["PBA120","  Fondo finanziamento sanitario aggiuntivo corrente extra LEA",{"$f":"SUMIF('00 SP'!$A:$A,'Tab 36 '!$A20,'00 SP'!I:I)","v":0},{"$f":"SUMIF('00 SP'!$A:$A,'Tab 36 '!$A20,'00 SP'!J:J)-(E20+F20)","v":0},null,0,{"$f":"SUMIF('00 SP'!$A:$A,'Tab 36 '!$A20,'00 SP'!K:K)","v":0},0,null,{"$f":"SUMIF('00 SP'!A:A,'Tab 36 '!A20,'00 SP'!L:L)*-1","v":0},0,"OK"]
["PBA130","  Fondo finanziamento per ricerca",{"$f":"SUMIF('00 SP'!$A:$A,'Tab 36 '!$A21,'00 SP'!I:I)","v":0},{"$f":"SUMIF('00 SP'!$A:$A,'Tab 36 '!$A21,'00 SP'!J:J)-(E21+F21)","v":0},0,0,{"$f":"SUMIF('00 SP'!$A:$A,'Tab 36 '!$A21,'00 SP'!K:K)","v":0},0,null,{"$f":"SUMIF('00 SP'!A:A,'Tab 36 '!A21,'00 SP'!L:L)*-1","v":0},0,"OK"]
["PBA140","  Fondo finanziamento sanitario aggiuntivo corrente ( extra fondo) - risorse aggiuntive da bilancio regionale a titolo di copertura extra LEA ",{"$f":"SUMIF('00 SP'!$A:$A,'Tab 36 '!$A22,'00 SP'!I:I)","v":0},{"$f":"SUMIF('00 SP'!$A:$A,'Tab 36 '!$A22,'00 SP'!J:J)-(E22+F22)","v":0},0,0,{"$f":"SUMIF('00 SP'!$A:$A,'Tab 36 '!$A22,'00 SP'!K:K)","v":0},0,null,{"$f":"SUMIF('00 SP'!A:A,'Tab 36 '!A22,'00 SP'!L:L)*-1","v":0},0,"OK"]
["PBA141","  Fondo finanziamento per investimenti"]
["PBA150","QUOTE INUTILIZZATE CONTRIBUTI:",{"$f":"C26+C40+C41+C42","v":32939384.430000003},{"$f":"D26+D40+D41+D42","v":5204388.66},{"$f":"E26+E40+E41+E42","v":0},{"$f":"F26+F40+F41+F42","v":682627.66999999806},{"$f":"G26+G40+G41+G42","v":17177345.940000001},{"$f":"C24+D24+E24+F24-G24","v":21649054.820000004},null,{"$f":"SUMIF('00 SP'!A:A,'Tab 36 '!A24,'00 SP'!L:L)*-1","v":21649054.68},0.14000000432133675,"CTRL"]
["PBA151","Quote inutilizzate da regione eprovincia autonoma per quota .F.S. indistinto finalizzato ",0,0,0,0,0,{"$f":"C25+D25+E25+F25-G25","v":0},null,{"$f":"SUMIF('00 SP'!A:A,'Tab 36 '!A25,'00 SP'!L:L)","v":0},{"$f":"H25-J25","v":0},{"$f":"IF(K25=0,\"OK\",\"CTRL\")","v":"OK"}]
["PBA160","  Quote inutilizzate contributi da Regione o Prov. Aut. per quota F.S. vincolato",{"$f":"SUMIF('00 SP'!$A:$A,'Tab 36 '!$A26,'00 SP'!I:I)*-1","v":32747822.670000002},{"$f":"SUMIF('00 SP'!$A:$A,'Tab 36 '!$A26,'00 SP'!J:J)*-1-4770000-13499505.02","v":5204388.66},{"$f":"SUM(E27:E39)","v":0},{"$f":"SUM(F27:F39)","v":682627.66999999806},{"$f":"G27+G28+G29+G30+G31+G32+G33+G34+G35+G36+G37+G38","v":16985784.18},{"$f":"C26+D26+E26+F26-G26","v":21649054.82},null,{"$f":"SUMIF('00 SP'!A:A,'Tab 36 '!A26,'00 SP'!L:L)*-1","v":21649054.68},{"$f":"H26-J26","v":0.14000000059604645},{"$f":"IF(K26=0,\"OK\",\"CTRL\")","v":"CTRL"}]
[null,"Fondo Obiettivi di Piano 2009",574165.72,0,0,-547654.44999999995,26511.27,{"$f":"C27+D27+E27+F27-G27","v":0}]
[null,"Fondo Obiettivi di Piano 2010",160868.07,0,0,-130000,30868.07,0]
[null,"Fondo Obiettivi di Piano 2011",578228.6,0,0,-345000,233228.6,0]
[null,"Fondo Obiettivi di Piano 2012",2546484.9900000002,0,0,-1821251.74,725233.25,0]
[null,"Fondo Obiettivi di Piano 2013",2842926.68,0,0,-846356,1996570.68,0]
[null,"Fondo Obiettivi di Piano 2014",4839754.55,0,0,-4092094.21,747660.34,0]
[null,"Fondo Obiettivi di Piano 2015",3201402.34,0,0,-1600000,1601402.34,0]
[null,"Fondo Obiettivi di Piano 2016",3769134.54,0,0,-2724308.76,1044825.78,0]
[null,"Fondo Obiettivi di Piano 2017",7018127.5499999998,0,0,-5480212.1900000004,1537915.36,0]
[null,"Fondo Obiettivi di Piano 2018",7216729.6299999999,0,0,0,7216729.6299999999,0]
[null,"Fondo Obiettivi di Piano 2019",0,5204388.66,0,0,null,{"$f":"C37+D37+E37+F37-G37","v":5204388.66}]
[null,"Fondo Obiettivi di Piano riclassificati nota prot. n 0103077/20 del 31/07/2020 e DG 136/20",null,null,0,13499505.02,1824838.86,{"$f":"C38+D38+E38+F38-G38","v":11674666.16}]
[null,"Fondo Progetto De Senectute (Ob. Piano 2016-2017)",0,null,0,4770000,null,4770000]
["PBA170","  Quote inutilizzate contributi vincolati da soggetti pubblici (extra fondo) ",{"$f":"SUMIF('00 SP'!$A:$A,'Tab 36 '!$A40,'00 SP'!I:I)*-1","v":191561.76},0,0,0,191561.76,{"$f":"C40+D40+E40+F40-G40","v":0},null,{"$f":"SUMIF('00 SP'!A:A,'Tab 36 '!A40,'00 SP'!L:L)","v":0},{"$f":"H40-J40","v":0},{"$f":"IF(K40=0,\"OK\",\"CTRL\")","v":"OK"}]
["PBA180","  Quote inutilizzate contributi per ricerca",{"$f":"SUMIF('00 SP'!$A:$A,'Tab 36 '!$A41,'00 SP'!I:I)","v":0},{"$f":"SUMIF('00 SP'!$A:$A,'Tab 36 '!$A41,'00 SP'!J:J)-(E41+F41)","v":0},0,0,{"$f":"SUMIF('00 SP'!$A:$A,'Tab 36 '!$A41,'00 SP'!K:K)","v":0},{"$f":"C41+D41+E41+F41-G41","v":0},null,{"$f":"SUMIF('00 SP'!A:A,'Tab 36 '!A41,'00 SP'!L:L)","v":0},{"$f":"H41-J41","v":0},{"$f":"IF(K41=0,\"OK\",\"CTRL\")","v":"OK"}]
["PBA190","  Quote inutilizzate contributi vincolati da privati",{"$f":"SUMIF('00 SP'!$A:$A,'Tab 36 '!$A42,'00 SP'!I:I)","v":0},{"$f":"SUMIF('00 SP'!$A:$A,'Tab 36 '!$A42,'00 SP'!J:J)-(E42+F42)","v":0},0,0,{"$f":"SUMIF('00 SP'!$A:$A,'Tab 36 '!$A42,'00 SP'!K:K)","v":0},0,null,{"$f":"SUMIF('00 SP'!A:A,'Tab 36 '!A42,'00 SP'!L:L)","v":0},0,"OK"]
["PBA200","ALTRI FONDI PER ONERI E SPESE:",{"$f":"SUM(C44:C49)","v":10069531.460000001},3072479.55,0,0,686937,12455074.010000002,null,{"$f":"SUMIF('00 SP'!A:A,'Tab 36 '!A43,'00 SP'!L:L)*-1","v":12455074.010000002},0,"OK"]
["PBA210","  Fondi integrativi pensione",{"$f":"SUMIF('00 SP'!$A:$A,'Tab 36 '!$A44,'00 SP'!I:I)*-1","v":0},0,0,0,0,{"$f":"C44+D44+E44+F44-G44","v":0},null,{"$f":"SUMIF('00 SP'!A:A,'Tab 36 '!A44,'00 SP'!L:L)*-1","v":0},0,"OK"]
["PBA230","  Fondo rinnovi contrattuali personale dipendente",{"$f":"SUMIF('00 SP'!$A:$A,'Tab 36 '!$A45,'00 SP'!I:I)*-1","v":3753838.15},{"$f":"(SUMIF('00 SP'!$A:$A,'Tab 36 '!$A45,'00 SP'!J:J)-(E45+F45))*-1","v":820311.55},0,0,{"$f":"(SUMIF('00 SP'!$A:$A,'Tab 36 '!$A45,'00 SP'!K:K))*-1","v":686937},3887212.7,null,{"$f":"SUMIF('00 SP'!A:A,'Tab 36 '!A45,'00 SP'!L:L)*-1","v":3887212.7},0,"OK"]
["PBA240","  Fondo rinnovi convenzioni MMG - PLS - MCA",{"$f":"SUMIF('00 SP'!$A:$A,'Tab 36 '!$A46,'00 SP'!I:I)*-1","v":3714695.31},{"$f":"(SUMIF('00 SP'!$A:$A,'Tab 36 '!$A46,'00 SP'!J:J)-(E46+F46))*-1","v":1990220},0,0,{"$f":"SUMIF('00 SP'!$A:$A,'Tab 36 '!$A46,'00 SP'!K:K)","v":0},{"$f":"C46+D46+E46+F46-G46","v":5704915.3100000005},null,{"$f":"SUMIF('00 SP'!A:A,'Tab 36 '!A46,'00 SP'!L:L)*-1","v":5704915.3100000005},0,"OK"]
["PBA250","  Fondo rinnovi convenzioni Medici SUMAI",{"$f":"SUMIF('00 SP'!$A:$A,'Tab 36 '!$A47,'00 SP'!I:I)*-1","v":200998},{"$f":"(SUMIF('00 SP'!$A:$A,'Tab 36 '!$A47,'00 SP'!J:J)-(E47+F47))*-1","v":261948},0,0,{"$f":"SUMIF('00 SP'!$A:$A,'Tab 36 '!$A47,'00 SP'!K:K)","v":0},462946,null,{"$f":"SUMIF('00 SP'!A:A,'Tab 36 '!A47,'00 SP'!L:L)*-1","v":462946},0,"OK"]
["PBA260","  Altri fondi per oneri e spese",{"$f":"SUMIF('00 SP'!$A:$A,'Tab 36 '!$A48,'00 SP'!I:I)*-1","v":2400000},{"$f":"(SUMIF('00 SP'!$A:$A,'Tab 36 '!$A48,'00 SP'!J:J)-(E48+F48))*-1","v":0},0,0,{"$f":"SUMIF('00 SP'!$A:$A,'Tab 36 '!$A48,'00 SP'!K:K)","v":0},{"$f":"C48+D48+E48+F48-G48","v":2400000},null,{"$f":"SUMIF('00 SP'!A:A,'Tab 36 '!A48,'00 SP'!L:L)*-1","v":2400000},{"$f":"H48-J48","v":0},"OK"]
["PBA270","  Altri fondi incentivi funzioni tecniche art.113 d.lgs 50/2016",{"$f":"SUMIF('00 SP'!$A:$A,'Tab 36 '!$A49,'00 SP'!I:I)*-1","v":0},{"$f":"(SUMIF('00 SP'!$A:$A,'Tab 36 '!$A49,'00 SP'!J:J)-(E49+F49))*-1","v":0},0,0,{"$f":"SUMIF('00 SP'!$A:$A,'Tab 36 '!$A49,'00 SP'!K:K)","v":0},{"$f":"C49+D49+E49+F49-G49","v":0},null,{"$f":"SUMIF('00 SP'!A:A,'Tab 36 '!A49,'00 SP'!L:L)*-1","v":0},{"$f":"H49-J49","v":0},"OK"]
[null,"TOTALE FONDI RISCHI E ONERI",{"$f":"C6+C7+C24+C43","v":82834257.409999996},22188380.919999998,0,682627.66999999806,26027966.740000002,79677299.26000002]
[]
[null,"Riconciliazione tabelle 36 - 72 "]
[]
["TAB 36","TOTALE ACCANTONAMENTI A FONDI RISCHI E ONERI",null,{"$f":"D50","v":22188380.919999998}]
["BA2760","ACCANTONAMENTO AL FONDO PER PREMIO DI OPEROSITA' SUMAI ",null,277852,"SI RINVIA A TAB.41"]
["BA2890","ACCANTONAMENTO AL FONDO SVALUTAZIONE CREDITI"]
["TAB 72","TOTALE  ACCANTONAMENTI 2019",null,{"$f":"SUM(D54:D56)","v":22466232.919999998}]

{"sheet":"Tab 37-38-39-40","index":36,"n_rows":213,"n_cols":15,"rows_kept":213,"cut":false,"hidden":false,"merged":[[204,3,205,9],[206,3,206,9],[208,3,208,9],[210,3,210,9],[212,0,212,1],[187,3,187,9],[189,3,190,9],[192,3,193,9],[195,3,196,9],[198,3,199,9],[201,3,202,9],[159,0,171,0],[159,1,164,1],[159,2,164,2],[165,1,170,1],[165,2,170,2],[186,3,186,9],[155,3,156,8],[155,13,158,13],[157,1,158,1],[157,2,158,2],[157,3,158,3],[157,4,157,7],[140,0,152,0],[140,1,145,1],[140,2,145,2],[146,1,151,1],[146,2,151,2],[155,0,158,0],[155,1,156,2],[127,13,132,13],[135,0,135,5],[136,0,139,0],[136,1,137,2],[136,3,137,8],[136,13,139,13],[138,1,139,1],[138,2,139,2],[138,3,139,3],[138,4,138,7],[113,4,113,7],[115,0,133,0],[115,1,120,1],[115,2,120,2],[115,13,120,13],[121,1,126,1],[121,2,126,2],[121,13,126,13],[127,1,132,1],[127,2,132,2],[97,1,105,1],[97,2,105,2],[97,13,103,13],[111,0,114,0],[111,1,112,2],[111,3,112,8],[111,13,114,13],[113,1,114,1],[113,2,114,2],[113,3,114,3],[79,1,88,1],[79,2,88,2],[79,13,88,13],[89,1,96,1],[89,2,96,2],[89,13,96,13],[62,1,69,1],[62,2,69,2],[62,13,69,13],[70,1,78,1],[70,2,78,2],[70,13,78,13],[46,1,53,1],[46,2,53,2],[46,13,53,13],[54,1,61,1],[54,2,61,2],[54,13,61,13],[31,1,38,1],[31,2,38,2],[31,13,38,13],[39,1,45,1],[39,2,45,2],[39,13,45,13],[13,13,18,13],[19,1,25,1],[19,2,25,2],[19,13,25,13],[26,1,30,1],[26,2,30,2],[26,13,30,13],[6,0,108,0],[6,1,11,1],[6,2,11,2],[6,3,9,3],[6,13,10,13],[13,1,18,1],[13,2,18,2],[2,0,5,0],[2,1,3,2],[2,3,3,12],[2,13,5,13],[4,1,5,1],[4,2,5,2],[4,3,5,3],[4,4,4,7]]}
["Tab. 37 – Dettaglio movimentazioni quota inutilizzata contributi da Regione o P.A. per quota F.S.R. vincolato"]
[]
["DETTAGLIO QUOTE INUTILIZZATE CONTRIBUTI","ASSEGNAZIONE INIZIALE CONTRIBUTO",null,"UTILIZZI / COSTI",null,null,null,null,null,null,null,null,null,"FONDO AL 31/12/2019"]
[]
[null,"Esercizio","Importo\ncontributo","Tipologia","Importo"]
[null,null,null,null,"Esercizio\n2011  e precedenti","Esercizio\n2012","Esercizio\n2013","Esercizio \n2014","Esercizio \n2015","Esercizio \n2016","Esercizio \n2017","Esercizio \n2018","Esercizio \n2019"]
[" Quote inutilizzate contributi da Regione o Prov. Aut.\nper quota FSR vincolato",2019,13499505.02,"Fondo Obiettivi di Piano riclassificati nota prot. n 0103077/20 del 31/07/2020 e DG 136/20",null,null,null,null,null,null,null,null,null,{"$f":"C7-M11","v":11674666.02}]
[]
[]
[]
[null,null,null,"Attrezzature",null,null,null,null,null,null,null,null,1824839]
[null,null,null,"Totale  ",null,null,null,null,null,null,null,null,{"$f":"SUM(M7:M11)","v":1824839}]
[null,2019,4770000,"Progetto De Senectute",null,null,null,null,null,null,null,null,null,{"$f":"C13-M13","v":4770000}]
[null,2019,5204388.66,"B.1) Acquisti di beni",null,null,null,null,null,null,null,null,null,{"$f":"C14-L19-M19","v":5204388.66}]
[null,null,null,"B.2) Acquisti di servizi sanitari"]
[null,null,null,"B.3) Acquisti di servizi non sanitari"]
[null,null,null,"B.6) Costi del personale"]
[null,null,null,"Miglioramento erogazione  LEA "]
[null,null,null,"Totale  ",null,null,null,null,null,null,{"$f":"SUM(K14:K18)","v":0},{"$f":"SUM(L14:L18)","v":0},{"$f":"SUM(M14:M18)","v":0}]
[null,2018,7216729.6299999999,"B.1) Acquisti di beni",null,null,null,null,null,null,null,null,null,{"$f":"C20-L26-M26","v":0}]
[null,null,null,"B.2) Acquisti di servizi sanitari",null,null,null,null,null,null,null,null,662259.69999999995]
[null,null,null,"B.3) Acquisti di servizi non sanitari"]
[null,null,null,"B.6) Costi del personale",null,null,null,null,null,null,null,null,8640]
[null,null,null,"Costi per erogazione LEA",null,null,null,null,null,null,null,null,1243289.93]
[null,null,null,"Miglioramento erogazione  LEA ",null,null,null,null,null,null,null,null,5302540]
[null,null,null,"Totale  ",{"$f":"SUM(E20:E25)","v":0},{"$f":"SUM(F20:F25)","v":0},{"$f":"SUM(G20:G25)","v":0},0,0,0,{"$f":"SUM(K20:K25)","v":0},{"$f":"SUM(L20:L25)","v":0},{"$f":"SUM(M20:M25)","v":7216729.6299999999}]
[null,2017,220805,"B.1) Acquisti di beni",null,null,null,null,null,null,null,null,null,{"$f":"C27-K31-L31-M31","v":0}]
[null,null,null,"B.2) Acquisti di servizi sanitari",null,null,null,null,null,null,null,220805]
[null,null,null,"B.3) Acquisti di servizi non sanitari"]
[null,null,null,"B.6) Costi del personale"]
[null,null,null,"Totale  ",{"$f":"SUM(E27:E30)","v":0},0,0,0,0,0,0,220805,0]
[null,2017,7018127.5499999998,"B.1) Acquisti di beni",null,null,null,null,null,null,null,null,{"$f":"360.63+72696.87","v":73057.5},{"$f":"C32-K39-L39-M39","v":0}]
[null,null,null,"B.2) Acquisti di servizi sanitari",null,null,null,null,null,null,null,null,{"$f":"36929.53+133271+75000","v":245200.53}]
[null,null,null,"B.3) Acquisti di servizi non sanitari",null,null,null,null,null,null,null,null,70393]
[null,null,null,"B.6) Costi del personale",null,null,null,null,null,null,null,null,{"$f":"255114.67+110159.66","v":365274.33}]
[null,null,null,"Miglioramento erogazione  LEA ",null,null,null,null,null,null,null,null,783990]
[null,null,null,"Riclassifica Investimenti",null,null,null,null,null,null,null,null,{"$f":"500000+500000+138000+840419.25+301792.94","v":2280212.19}]
[null,null,null,"Riclassifica Progetto De Senectute",null,null,null,null,null,null,null,null,3200000]
[null,null,null,"Totale  ",{"$f":"SUM(E32:E38)","v":0},0,0,0,0,0,0,0,7018127.5499999998]
[null,2016,4021566.65,"B.1) Acquisti di beni",null,null,null,null,null,null,null,null,null,{"$f":"C40-E46-F46-G46-H46-I46-J46-K46-L46-M46","v":0}]
[null,null,null,"B.2) Acquisti di servizi sanitari",null,null,null,null,null,null,null,204181.7,{"$f":"229209.79+133271-32492.32","v":329988.47000000003}]
[null,null,null,"B.3) Acquisti di servizi non sanitari",null,null,null,null,null,null,null,null,167835]
[null,null,null,"B.6) Costi del personale",null,null,null,null,null,null,null,48250.41,{"$f":"115374.48+431627.83","v":547002.31000000006}]
[null,null,null,"Riclassifica Investimenti",null,null,null,null,null,null,null,null,{"$f":"613226.53+541082.23","v":1154308.76}]
[null,null,null,"Riclassifica Progetto De Senectute",null,null,null,null,null,null,null,null,1570000]
[null,null,null,"Totale  ",{"$f":"SUM(E40:E44)","v":0},0,0,0,0,0,0,{"$f":"SUM(L40:L44)","v":252432.11000000002},{"$f":"SUM(M40:M45)","v":3769134.54}]
[null,2015,3816133,"B.1) Acquisti di beni",null,null,null,null,null,null,null,null,null,{"$f":"C47-E54-F54-G54-H54-I54-J54-K54-L54-M54","v":0}]
[null,null,null,"B.2) Acquisti di servizi sanitari",null,null,null,null,null,216602.75,33397.25,null,{"$f":"300000+32492.32","v":332492.32}]
[null,null,null,"B.3) Acquisti di servizi non sanitari"]
[null,null,null,"B.6) Costi del personale",null,null,null,null,null,null,27679.5,88638.65,{"$f":"334256.49+80896.16","v":415152.65}]
[null,null,null,"Costi per erogazione LEA",null,null,null,null,null,null,null,null,853757.29]
[null,null,null,"Riduzione assegnazione finanziamento DGR 178 del 22/03/2016 ",null,null,null,null,null,248412.59]
[null,null,null,"Riclassifica Investimenti",null,null,null,null,null,null,null,null,{"$f":"700000+400000+200000+300000","v":1600000}]
[null,null,null,"Totale  ",{"$f":"SUM(E47:E52)","v":0},0,0,0,0,465015.33999999997,61076.75,88638.65,{"$f":"SUM(M47:M53)","v":3201402.26}]
[null,2014,9057264,"B.1) Acquisti di beni",null,null,null,null,null,null,null,null,16104,{"$f":"C55-E62-F62-G62-H62-I62-J62-K62-L62-M62","v":0}]
[null,null,null,"B.2) Acquisti di servizi sanitari",null,null,null,null,null,null,null,{"$f":"72422.49+198961.99+130817.31","v":402201.79},{"$f":"197664.86+89517.98+8052","v":295234.83999999997}]
[null,null,null,"B.3) Acquisti di servizi non sanitari",null,null,null,null,null,null,210000,null,34702.36]
[null,null,null,"B.6) Costi del personale",null,null,null,null,null,25320,726395,661551.46,{"$f":"389554.36+12064.74","v":401619.1}]
[null,null,null,"Attrezzature",null,null,null,null,null,null,null,765454.54]
[null,null,null,"Riduzione assegnazione finanziamento DPF009/7 del 20/11/2015",null,null,null,null,1276743]
[null,null,null,"Riclassifica Investimenti",null,null,null,null,null,null,null,149843.70000000001,{"$f":"1560000+500000+330000+1356402.97+345691.24","v":4092094.21}]
[null,null,null,"Totale  ",0,{"$f":"SUM(F55:F60)","v":0},0,0,1276743,25320,936395,{"$f":"SUM(L55:L61)","v":1979051.49},{"$f":"SUM(M55:M61)","v":4839754.51}]
[null,2013,8441774.7100000009,"B.1) Acquisti di beni",null,null,null,null,null,null,null,null,null,{"$f":"C63-E70-F70-G70-H70-I70-J70-K70-L70-M70","v":0}]
[null,null,null,"B.2) Acquisti di servizi sanitari",null,null,null,31051,319043,126177.68,500000,{"$f":"183249.07+1630441.75","v":1813690.82},{"$f":"198292.31+9547.99","v":207840.3}]
[null,null,null,"B.3) Acquisti di servizi non sanitari"]
[null,null,null,"B.6) Costi del personale",null,null,47292,null,89702,299379.38,186128.79,{"$f":"1232517.14+183042.65","v":1415559.7899999998},{"$f":"794662.6+495034.06","v":1289696.6599999999}]
[null,null,null,"Costi per erogazione LEA",null,null,null,null,null,null,null,null,499033.72]
[null,null,null,"Attrezzature",null,null,null,null,null,67240,40260,663323.56999999995]
[null,null,null,"Riclassifica Investimenti",null,null,null,null,null,null,null,null,{"$f":"578453+71103+196800","v":846356}]
[null,null,null,"Totale  ",{"$f":"SUM(E63:E68)","v":0},0,47292,31051,408745,492797.06,726388.79,3892574.1799999997,{"$f":"SUM(M63:M69)","v":2842926.6799999997}]
[null,2012,9651234,"B.1) Acquisti di beni",null,null,null,null,9168,null,552135,null,null,{"$f":"C71-E79-F79-G79-H79-I79-J79-K79-L79-M79","v":0}]
[null,null,null,"B.2) Acquisti di servizi sanitari",null,390333,174958,843513,440815,596829.68000000005,1386942.78,26357.599999999999,20000]
[null,null,null,"B.3) Acquisti di servizi non sanitari",null,null,null,5545,null,5000,0,null,37123]
[null,null,null,"B.6) Costi del personale",null,null,null,{"$f":"798196","v":798196},{"$f":"163153","v":163153},207304.78,837280.83,52515.87]
[null,null,null,"Attrezzature",null,null,null,null,null,55000,64893.13]
[null,null,null,"Costi per erogazione LEA",null,null,null,null,null,null,null,null,668110.32999999996]
[null,null,null,"giroconto anno 2009 per errata  imputazione ",null,null,null,null,null,null,188355]
[null,null,null,"Riclassifica Investimenti",null,null,null,null,null,null,null,306453.26,{"$f":"190710.74+600000+800000+83644+146897","v":1821251.74}]
[null,null,null,"Totale  ",{"$f":"SUM(E71:E75)","v":0},390333,174958,1647254,613136,864134.46000000008,{"$f":"SUM(K71:K77)","v":3029606.7399999998},{"$f":"SUM(L71:L78)","v":385326.73},{"$f":"SUM(M71:M78)","v":2546485.0699999998}]
[null,2011,8438245,"B.1) Acquisti di beni",null,null,71017,88062,null,null,null,null,null,{"$f":"C80-E89-F89-G89-H89-I89-J89-K89-L89-M89","v":0}]
[null,null,null,"B.2) Acquisti di servizi sanitari",443730,331770,{"$f":"968181","v":968181},117987,null,62945.2,null,53802.92,85000]
[null,null,null,"B.3) Acquisti di servizi non sanitari",null,{"$f":"60000+2795.68","v":62795.68},null,53000]
[null,null,null,"B.6) Costi del personale",55810,519843,676530,{"$f":"227749","v":227749},191190,216466.67,195749.09,10659.51,13445.75]
[null,null,null,"Attrezzature",null,null,28884,null,{"$f":"14544-900","v":13644}]
[null,null,null,"Costi per erogazione LEA",null,null,null,null,null,null,null,null,134783.18]
[null,null,null,"Riduzione assegnazione finanziamento DPF009/2 del 16/09/2015",null,null,null,null,35000]
[null,null,null,"DCA  40/2016 del 23/04/2016",null,null,null,null,3435200]
[null,null,null,"Riclassifica Investimenti",null,null,null,null,null,null,null,null,{"$f":"345000","v":345000}]
[null,null,null,"Totale  ",{"$f":"SUM(E80:E84)","v":499540},{"$f":"SUM(F80:F84)","v":914408.67999999993},{"$f":"SUM(G80:G84)","v":1744612},{"$f":"SUM(H80:H84)","v":486798},{"$f":"SUM(I80:I87)","v":3675034},{"$f":"SUM(J80:J87)","v":279411.87},{"$f":"SUM(K80:K87)","v":195749.09},{"$f":"SUM(L80:L87)","v":64462.43},{"$f":"SUM(M80:M88)","v":578228.92999999993}]
[null,2010,8676763,"B.1) Acquisti di beni",null,255519.96,101182,26533,null,null,7052,null,null,{"$f":"C90-E97-F97-G97-H97-I97-J97-K97-L97-M97","v":0}]
[null,null,null,"B.2) Acquisti di servizi sanitari",{"$f":"1064008+441876+12510","v":1518394},{"$f":"283143+216948+2971+144589.07","v":647651.07000000007},111238,41738,236959]
[null,null,null,"B.3) Acquisti di servizi non sanitari",null,124831.13,102651,46924,28782,116.92,null,null,30867.66]
[null,null,null,"B.6) Costi del personale",384800,{"$f":"424870+108917.38","v":533787.38},262120,529455,70254,176406.11,33361.07,48259.18]
[null,null,null,"Attrezzature",null,30268,45674,null,null,null,null,65426]
[null,null,null,"DCA  40/2016 del 23/04/2016",null,null,null,null,3069413,null,17099.52]
[null,null,null,"Riclassifica Investimenti",null,null,null,null,null,null,null,null,{"$f":"130000","v":130000}]
[null,null,null,"Totale  ",{"$f":"SUM(E90:E95)","v":1903194},1592057.54,622865,644650,3405408,176523.03,57512.59,113685.18,{"$f":"SUM(M90:M96)","v":160867.66}]
[null,2009,7623471,"B.1) Acquisti di beni",390090,64944,null,2928,null,null,null,null,null,{"$f":"C98-E106-F106-G106-H106-I106-J106-K106-L106-M106","v":0}]
[null,null,null,"B.2) Acquisti di servizi sanitari",2144240,304540,39333,145591,74270,188355]
[null,null,null,"B.3) Acquisti di servizi non sanitari",174975,65211,null,null,null,null,null,14195.33,26511.65]
[null,null,null,"B.6) Costi del personale",1151491,326236,70362,244978,58290,247020]
[null,null,null,"Attrezzature",34304,17037]
[null,null,null,"DCA  40/2016 del 23/04/2016",null,null,null,null,1290924]
[null,null,null,"giroconto anno 2012 per errata  imputazione ",null,null,null,null,null,null,-188355]
[null,null,null,"Riclassifica Investimenti",null,null,null,null,null,null,null,188345.57,{"$f":"396000+151654.45","v":547654.44999999995}]
[null,null,null,"Totale  ",{"$f":"SUM(E98:E103)","v":3895100},777968,109695,393497,1423484,435375,{"$f":"SUM(K98:K104)","v":-188355},{"$f":"SUM(L98:L105)","v":202540.9},{"$f":"SUM(M98:M105)","v":574166.1}]
[null,"Totale",null,"Riclassifica investimenti",null,null,null,null,null,null,null,null,{"$f":"M105+M96+M88+M78+M69+M61+M53+M44+M37","v":12816877.35}]
[null,"Totale",null,"Riclassifica Progetto De Senectute",null,null,null,null,null,null,null,null,{"$f":"M45+M38","v":4770000}]
[null,"TOTALE ",{"$f":"C98+C90+C80+C71+C63+C55+C47+C40","v":59726451.359999999},"TOTALE ",{"$f":"E79+E89+E97+E106","v":6297834},{"$f":"F79+F89+F97+F106","v":3674767.2199999997},{"$f":"G79+G89+G97+G106+G70","v":2699422},{"$f":"H79+H89+H97+H106+H70","v":3203250},{"$f":"I79+I89+I97+I106+I70+I62","v":10802550},{"$f":"J79+J89+J97+J106+J70+J62+J54","v":2738576.76},{"$f":"K79+K89+K97+K106+K70+K62+K54+K46+K39","v":4818373.959999999},{"$f":"L79+L89+L97+L106+L70+L62+L54+L46+L39+L31+L26","v":7199516.6700000009},{"$f":"M79+M89+M97+M106+M70+M62+M54+M46+M39+M31+M26+M19+M12","v":34572661.93},{"$f":"SUM(N7:N106)","v":21649054.68},"quadrare con tabella 36"]
[]
["Tab. 38 – Dettaglio movimentazioni quota inutilizzata contributi vincolati da soggetti pubblici (extrafondo)"]
["DETTAGLIO QUOTE INUTILIZZATE CONTRIBUTI","ASSEGNAZIONE INIZIALE CONTRIBUTO",null,"UTILIZZI / COSTI",null,null,null,null,null,null,null,null,null,"FONDO AL 31/12/2019"]
[]
[null,"Esercizio","Importo\ncontributo","Tipologia","Importo"]
[null,null,null,null,"Esercizio\n2011 e precedenti","Esercizio\n2012","Esercizio\n2013","Esercizio \n2014","Esercizio \n2015","Esercizio \n2016","Esercizio \n2017","Esercizio \n2018","Esercizio \n2019"]
[" Quote inutilizzate contributi vincolati da soggetti pubblici\n(extra fondo)",2018,53105.86,"B.1) Acquisti di beni",null,null,null,null,null,null,null,null,15494,{"$f":"C116-K121-L121-M121","v":0}]
[null,null,null,"B.2) Acquisti di servizi sanitari"]
[null,null,null,"B.3) Acquisti di servizi non sanitari",null,null,null,null,null,null,null,null,33014.28]
[null,null,null,"B.6) Costi del personale",null,null,null,null,null,null,null,null,4597.58]
[null,null,null,"Altri costi (dettagliare)"]
[null,null,null,"Totale  ",null,null,null,null,null,null,{"$f":"SUM(K116:K120)","v":0},{"$f":"SUM(L116:L120)","v":0},{"$f":"SUM(M116:M120)","v":53105.86}]
[null,2017,50302.400000000001,"B.1) Acquisti di beni",null,null,null,null,null,null,null,null,null,{"$f":"C122-K127-L127-M127","v":0}]
[null,null,null,"B.2) Acquisti di servizi sanitari"]
[null,null,null,"B.3) Acquisti di servizi non sanitari",null,null,null,null,null,null,null,null,29221.279999999999]
[null,null,null,"B.6) Costi del personale",null,null,null,null,null,null,null,null,{"$f":"19650.76+1430.36","v":21081.119999999999}]
[null,null,null,"Altri costi (dettagliare)"]
[null,null,null,"Totale  ",null,null,null,null,null,null,{"$f":"SUM(K122:K126)","v":0},{"$f":"SUM(L122:L126)","v":0},{"$f":"SUM(M122:M126)","v":50302.399999999994}]
[null,2016,{"$f":"92452.46+88153.5","v":180605.96000000002},"B.1) Acquisti di beni",null,null,null,null,null,null,11215,null,null,{"$f":"C128-K133-L133-M133","v":0}]
[null,null,null,"B.2) Acquisti di servizi sanitari",null,null,null,null,null,null,0]
[null,null,null,"B.3) Acquisti di servizi non sanitari",null,null,null,null,null,null,7500,null,87082.96]
[null,null,null,"B.6) Costi del personale",null,null,null,null,null,null,73737,null,1071]
[null,null,null,"Altri costi (dettagliare)",null,null,null,null,null,null,0]
[null,null,null,"Totale  ",{"$f":"SUM(E128:E132)","v":0},0,0,0,0,0,{"$f":"SUM(K128:K132)","v":92452},{"$f":"SUM(L128:L132)","v":0},{"$f":"SUM(M128:M132)","v":88153.96}]
[null,"TOTALE ",null,"TOTALE ",null,null,"=",{"$f":"H127+H133","v":0},0,0,{"$f":"K127+K133+K121","v":92452},{"$f":"L121+L127+L133","v":0},{"$f":"M121+M127+M133","v":191562.22},{"$f":"SUM(N116:N133)","v":0},"quadrare con tabella 36"]
[]
["Tab. 39 – Dettaglio movimentazioni quota inutilizzata contributi per ricerca"]
["DETTAGLIO QUOTE INUTILIZZATE CONTRIBUTI","ASSEGNAZIONE INIZIALE CONTRIBUTO",null,"UTILIZZI / COSTI",null,null,null,null,null,null,null,null,null,"FONDO AL 31/12/2019"]
[]
[null,"Esercizio","Importo\ncontributo","Tipologia","Importo"]
[null,null,null,null,"Esercizio\n2011 e precedenti","Esercizio\n2012","Esercizio\n2013","Esercizio\n2014","Esercizio \n2015","Esercizio \n2016","Esercizio \n2017","Esercizio \n2018","Esercizio \n2019"]
[" Quote inutilizzate contributi \nper ricerca","<indicare esercizio\ndi assegnazione>",null,"B.1) Acquisti di beni"]
[null,null,null,"B.2) Acquisti di servizi sanitari"]
[null,null,null,"B.3) Acquisti di servizi non sanitari"]
[null,null,null,"B.6) Costi del personale"]
[null,null,null,"Altri costi (dettagliare)"]
[null,null,null,"Totale  "]
[null,"<indicare esercizio\ndi assegnazione>",null,"B.1) Acquisti di beni"]
[null,null,null,"B.2) Acquisti di servizi sanitari"]
[null,null,null,"B.3) Acquisti di servizi non sanitari"]
[null,null,null,"B.6) Costi del personale"]
[null,null,null,"Altri costi (dettagliare)"]
[null,null,null,"Totale  "]
[null,"TOTALE ",null,"TOTALE ",null,null,null,null,null,null,null,null,null,null,"quadrare con tabella 36"]
[]
["Tab. 40 – Dettaglio movimentazioni quota inutilizzata contributi vincolati da privati"]
["DETTAGLIO QUOTE INUTILIZZATE CONTRIBUTI","ASSEGNAZIONE INIZIALE CONTRIBUTO",null,"UTILIZZI / COSTI",null,null,null,null,null,null,null,null,null,"FONDO AL 31/12/2019"]
[]
[null,"Esercizio","Importo\ncontributo","Tipologia","Importo"]
[null,null,null,null,"Esercizio\n2011 e precedenti","Esercizio\n2012","Esercizio\n2013","Esercizio\n2014","Esercizio\n2015","Esercizio \n2016","Esercizio \n2017","Esercizio \n2018","Esercizio \n2019"]
[" Quote inutilizzate contributi vincolati \nda privati","<indicare esercizio\ndi assegnazione>",null,"B.1) Acquisti di beni"]
[null,null,null,"B.2) Acquisti di servizi sanitari"]
[null,null,null,"B.3) Acquisti di servizi non sanitari"]
[null,null,null,"B.6) Costi del personale"]
[null,null,null,"Altri costi (dettagliare)"]
[null,null,null,"Totale  "]
[null,"<indicare esercizio\ndi assegnazione>",null,"B.1) Acquisti di beni"]
[null,null,null,"B.2) Acquisti di servizi sanitari"]
[null,null,null,"B.3) Acquisti di servizi non sanitari"]
[null,null,null,"B.6) Costi del personale"]
[null,null,null,"Altri costi (dettagliare)"]
[null,null,null,"Totale  "]
[null,"TOTALE ",null,"TOTALE ",null,null,null,null,null,null,null,null,null,null,"quadrare con tabella 36"]
[]
[]
[]
[]
[]
[]
[]
[]
[]
[]
[]
[]
["RICONCILIAZIONE TRA TABELLE 37 E 38 E VOCE A3 DEL CONTO ECONOMICO:"]
[]
["Utilizzi 2019 da TABELLA 37 ",null,{"$f":"M109","v":34572661.93},"Utilizzo fondi per quote inutilizzate di contributi esercizi precedenti da Regione per quota FSR vincolato TAB 37  "]
["Utilizzi 2019 da TABELLA  38",null,{"$f":"M134","v":191562.22},"Utilizzo fondi per quote inutilizzate di contributi esercizi precedenti da regione per quota FSR vincolato TAB  38"]
[]
[null,null,9458,"Contributo per prevenzione ed assistenza ai detenuti tossicodipendenti -saldo anno 2018,  liquidato con DPF015/40 del 20/08/2019  e registrato direttamente come ricavo a Conto Economico"]
[]
[]
[null,null,228242,"Contributo Sanità Penitenziaria saldo anno 2018, liquidato con DPF015/44 del 22/08/2019  e registrato direttamente come ricavo a Conto Economico"]
[]
[]
[null,null,{"$f":"149325+80223+23359","v":252907},"Contributi per extracomunitari irregolari D.Lgs. 286/98 anni 2017-2018, liquidati con DPF015/15 del 27/02/19 (€ 149.325), DPF015/32 del 03/06/19 (€ 80.223) e DPF015/42 del 22/08/19 (€ 23.359), registrati direttamente come ricavo a Conto Economico"]
[]
[]
[null,null,67983,"Contributo Lotta contro AIDS 25^ corso formazione personale malattie infettive, liquidato con DPF004/07 del 16/07/2019 e registrato direttamente come ricavo a Conto Economico"]
[]
[]
[null,null,4519,"Contributo Sindrome depressiva post partum, liquidato con DPF010/03 del 01/02/2019 per € 22.595,00 e registrato direttamente come ricavo a Conto Economico per € 4.519,00 come da indicazioni nota prot. RA/358179/DPF012 del 20/12/2019 (allegato V)."]
[]
[]
[null,null,46149,"Contributo per extracomunitari irregolari D.Lgs. 286/98 saldo anno 2017, liquidato con DPF015/41 del 20/08/2019 per € 399.953,20 , registrato come ricavo a Conto Economico per € 46.149,01,  "]
[]
[null,null,null," come da indicazioni nota prot. RA/358179/DPF012 del 20/12/2019 (allegato V)."]
[]
[null,null,-4770000,"Riclassifica per Progetto De Senectute "]
[]
[null,null,-12816877,"Riclassifica progetti per investimenti  (nota prot. n 0103077/20 del 31/07/2020 e DG 136/20)"]
[]
["TOTALE GENERALE",null,{"$f":"SUM(C187:C211)","v":17786605.149999999},"Voce A3 del Conto Economico"]

{"sheet":"Criteri Fondi Rischi","index":37,"n_rows":11,"n_cols":5,"rows_kept":11,"cut":false,"hidden":false,"merged":[[0,0,0,7],[4,4,4,7],[6,4,6,7],[4,1,4,3],[5,1,5,3],[2,4,2,7],[2,1,2,3],[3,1,3,3],[3,4,3,7],[5,4,5,7],[6,1,6,3],[7,1,7,3],[10,1,10,3],[10,4,10,7],[8,1,8,3],[8,4,8,7],[7,4,7,7],[9,1,9,3],[9,4,9,7]]}
["Nella seguente tabella sono illustrati i criteri utilizzati per la determinazione dell'entità dei fondi, nonché gli estremi dei verbali del Collegio Sindacale."]
[]
["Fondo","Criteri di determinazione",null,null,"Estremi del verbale del Collegio Sindacale"]
["PBA020"," Il fondo rischi su cause legali in corso è la risultanza delle somme stanziate a fronte della stima effettuata dall’Ufficio Affari Legali per passività potenziali connesse al contenzioso giudiziario in corso al 31/12/2019, nota prot. . n. 0067185/20 del 19/05/2020"]
["PBA030","Il fondo rischi contenzioso personale dipendente è  la risultanza delle somme stanziate a fronte della stima effettuata dall’Ufficio Affari Legali per passività potenziali connesse al contenzioso giudiziario in corso al 31/12/2019,  nota prot. . n. 0067185/20 del 19/05/2020"]
["PBA040","Nella voce “Fondi rischi connessi all'acquisto di prestazioni sanitarie da privato” sono stati iscritti gli importi delle note credito da ricevere su prestazioni fatturate fino al 31/12/2019  per extrabudget e per decurtazioni a seguito degli esiti delle verifiche ispettive  effettuate dai N.O.C  non ancora pervenute. Nel 2019 il fondo rischi è stato ridotto €/000 276  a seguito del ricevimento di nota di credito da parte della Casa di cura Villa Serena per extra budget 2018 di €/000 272. Mentre l'incremento  di €/000 1.823 rappresenta l'accantonamento 2019  per compensare passività potenziale a fronte del rischio  per il mancato ricevimento delle richieste note credito  da parte del servizio competente con nota n.  0071635/2020 del 28/05/2020 , ed iscritte nel bilancio 2019  a titolo di  per extra budget  2019 su prestazioni ospedaliere, Psico-geriatiche in RS.A, ambulatoriali, riabilitazione ex.art.26, in R.S.A,"]
["PBA051","Il fondo rischi perfranchigia assicurativa si riferisce alle  passività potenziali derivanti dalla liquidazione di sinistri  non previste nel contratto di polizza di rct/o . Trattasi di somme che restano a carico dell’Azienda in virtù dell’applicazione dei meccanismi di franchigie inseriti nelle polizze e calcolati in base all’ammontare di tutti gli indennizzi complessivamente liquidati nel medesimo periodo assicurativo. Va precisato che l’Uoc Affari Generali e Legali con nota prot n. 0067185/20 del 19/05/2020 e successiva nota prot. 0101722/20 del 28/07/2020 ha stimato la consistenza del fondo di €/000 4.900 ",null,null,"\n\n"]
["PBA160","La voce \"Quote inutilizzate di contributi da Regione o Provincia Autonoma per Quota di FSR vincolato, accoglie le somme erogate a tale titolo nel  2019 non ancora utilizzate, come meglio dettagliate nella tabella 37. "]
["PBA170","La voce \"Quote inutilizzate di contributi  vincolati da soggetti pubblici (extra Fondo), accoglie le somme erogate a tale titolo dal 2018 al 2019  non ancora utilizzate, come meglio dettagliate nella tabella 38. "]
["PBA240","La voce \"fondi rinnovi contrattuali\" accoglie l'accantonamento effettuato per far fronte agli onere derivanti dai futuri rinnovi contrattuali a valere sull esercizio 2019 come indicato dalla Regione nell linee guida al Bilancio d'Esercizio 2019  trasmesse con nota n. RA0150124/20/DPF012  del 21/05/2020"]
["PBA240"," Il \"Fondo rinnovi convenzioni MMG-PLS-MCA” accoglie le somme non ancora erogate dall’Azienda   a titolo di rinnovi contrattuali  a valere sul 2019 , secondo i criteri dettati nelle linee guida regionali per la redazione dei Bilanci al 31/12/2019 delle ASL Abruzzesi  trasmesse con nota n. RA0150124/20/DPF012  del 21/05/2020"]

{"sheet":"dirigenza medica e non medica","index":38,"n_rows":20,"n_cols":9,"rows_kept":20,"cut":false,"hidden":false,"merged":[[15,0,15,1],[16,0,16,1],[17,0,17,1],[18,0,18,1],[19,0,19,1],[1,0,1,7],[8,0,8,1],[3,0,3,5],[2,0,2,5],[14,0,14,1],[14,2,14,3],[14,4,14,6],[9,0,9,1],[10,0,10,1]]}
[]
["In relazione al Fondo rinnovi contrattuali personale dipendente , si fornisce di seguito il prospetto di dettaglio in base ai dati forniti dalla Regione con nota RA/A0150124/20/DPF012  del 21/05/2020"]
[]
["ACCANTONAMENTO  CONSUNTIVO 2019"]
["DIRIGENZA MEDICA E DIRIGENZA NON MEDICA"]
["BA2860 - Accantonamento rinnovi contrattuali: dirigenza Medica"]
["BA2870 - Accantonamento rinnovi contrattuali: dirigenza non Medica"]
["Rinnovi contrattuali 2019-2021 (1,3% - 0,47% per IVC) = 0,83%",null,null,null,null,null,"€/000","in €"]
["DESCRIZIONE",null,"Costo CE Consuntivo 2015","\nAcc.to 3,48% su Costo Consuntivo 2015","Costo CE Consuntivo 2018","Costo Consuntivo 2018 + Quota integrativa acc.to (3,48% SU Costo Consuntivo 2015)","Accantonamento Consuntivo 2019\n","Accantonamento Consuntivo \n2019 \n"]
["Costo del personale dirigente medico",null,69523,{"$f":"C10*3.48%","v":2419.4004},67351.870720000006,{"$f":"E10+D10","v":69771.271120000005},{"$f":"+F10*0.83%","v":579.10155029600003},{"$f":"G10*1000","v":579101.55029599997}]
["Costo del personale dirigente non medico ruolo sanitario",null,5146,179.08079999999998,5219.6400000000003,{"$f":"E11+D11","v":5398.7208000000001},44.809382640000003,44809.382640000003]
[]
["DIRIGENZA NON MEDICA PTA"]
["BA2870 - Accantonamento rinnovi contrattuali: dirigenza non Medica PTA"]
[null,null,"Rinnovi contrattuali 2016-2018 i cui effetti ricadono nell'esercizio 2019",null,"Rinnovi contrattuali 2019-2021 (1,3% - 0,47% per IVC) = 0,83%",null,null,"IN €/000","IN €"]
["DESCRIZIONE",null,"Costo CE Consuntivo 2015","Acc.to 3,48% su Costo Consuntivo 2015","Costo CE Consuntivo 2018","Costo CE Consuntivo 2018 + Acc.to 3,48%","Ulteriore accantonamento da effettuare BA2870","Acc. BA2870\nda iscrivere a\nConsuntivo 2019","Totale da Accantonare a Consuntivo 2019\n"]
["Personale dirigente ruolo professionale",null,418,15,437.28133000000003,{"$f":"D17+E17","v":452.28133000000003},{"$f":"F17*0.83/100","v":3.7539350389999999},{"$f":"D17+G17","v":18.753935038999998},{"$f":"H17*1000","v":18753.935038999996}]
["Personale dirigente ruolo tecnico",null,493,16.96,345.7029,{"$f":"D18+E18","v":362.66289999999998},{"$f":"F18*0.83/100","v":3.0101020699999999},{"$f":"D18+G18","v":19.970102069999999},{"$f":"H18*1000","v":19970.102070000001}]
["Personale dirigente ruolo amministrativo",null,812,28,938.06022999999993,966.06022999999993,8.0182999089999996,36.018299909,36018.299909000001]
["totale",null,{"$f":"SUM(C17:C19)","v":1723},{"$f":"SUM(D17:D19)","v":59.96},1721.0444600000001,1781.0044600000001,14.782337018,{"$f":"SUM(H17:H19)","v":74.742337018000001},74742.337018000006]

{"sheet":"Comparto","index":39,"n_rows":11,"n_cols":6,"rows_kept":11,"cut":false,"hidden":false,"merged":[[1,0,1,5],[10,0,10,1],[4,0,4,3],[5,0,5,1],[6,0,6,1],[7,0,7,1],[8,0,8,1],[9,0,9,1]]}
[]
["In relazione al Fondo rinnovi contrattuali personale dipendente , si fornisce di seguito il prospetto di dettaglio in base ai dati forniti dalla Regione con nota RA/A0150124/20/DPF012  del 21/05/2020"]
["COMPARTO"]
["BA2880 - Accantonamento rinnovi contrattuali: Comparto"]
["Rinnovi contrattuali 2019-2021 (1,3% - 0,47% per IVC e - 0,7% per Elemento Perequativo) = 0,13 %",null,null,null,"IN €","IN €"]
["DESCRIZIONE",null,"Costo CE Consuntivo 2018","Totale da Accantonare a Consuntivo 2019 in BA2880","Acc. BA2870\nda iscrivere a\nConsuntivo 2019","VC "]
["Personale comparto ruolo sanitario",null,67249.128249999994,{"$f":"C7*0.13/100","v":87.423866724999982},{"$f":"D7*1000","v":87423.866724999985},"0715040601"]
["Personale comparto ruolo professionale",null,1.5797300000000001,{"$f":"C8*0.13/100","v":2.0536490000000003E-3},{"$f":"D8*1000","v":2.0536490000000001},"0715040602"]
["Personale comparto ruolo tecnico",null,17173.139910000002,22.325081883000003,22325.081883000003,"0715040603"]
["Personale comparto ruolo amministrativo",null,9159.2463499999994,{"$f":"C10*0.13/100","v":11.907020254999999},11907.020254999999,"0715040604"]
["totale",null,{"$f":"SUM(C7:C10)","v":93583.094239999991},{"$f":"SUM(D7:D10)","v":121.65802251199997},121658.02251199997]

{"sheet":"Convenzionati","index":40,"n_rows":24,"n_cols":23,"rows_kept":24,"cut":false,"hidden":false,"merged":[[6,0,6,1],[17,0,17,1]]}
["PERSONALE CONVENZIONATO"]
["BA2840 - Accantonamento rinnovi Convenzioni MMG/PLS/MCA"]
[]
["Rinnovi contrattuali 2016-2018 i cui effetti ricadono nell'esercizio 2019",null,null,null,null,null,null,null,null,null,null,"Rinnovi contrattuali 2019-2021 (1,3% per l'esercizio 2019)"]
["€/000",null,null,null,null,null,null,null,null,null,null,"€/000"]
["Cod Az","Descrizione Azienda","% Acc.to","BA0420 - B.2.A.1.1) - da convenzione\nCosto CE Consuntivo 2015","CE Consuntivo 2010","0,75% * CE Consuntivo 2010","Acc.to 3,48% Costo Consuntivo 2015","Acc. BA2840\nda iscrivere a Consuntivo 2019",null,null,null,"Costo Consuntivo 2018","Costo CE Consuntivo 2018 + Acc.to 3,48% del Costo Consuntivo 2015","Dato atteso Accantonamento annuo","Dato atteso Accantonamento al IV Trimestre 2019 (al lordo di IVC corrisposta)","IVC corrisposta al IV Trim 2019 (dall'1/4 al 31/12)","Ulteriore accantonamento da effettuare BA2840",null,null,null,"Totale da Accantonare a Consuntivo 2019 in BA2840",null,"Totale da Accantonare al Consuntivo 2019 in BA2840\nin €"]
["Valori in €/000",null,"A","B","C","D=C*0,75%","E=A*(B+D)+D","F=(E)",null,null,null,"G","H=E+G","I=H*1,3%","L=(H)","M","N=L-M",null,null,null,"O=F+N",null,"P=O*1000"]
["201","AQ",3.4799999999999998E-2,36645,34863,{"$f":"+E8*0.75%","v":261.47249999999997},{"$f":"C8*(D8+F8)+F8","v":1545.8177430000001},{"$f":"(G8)","v":1545.8177430000001},null,null,null,36918.585010000003,{"$f":"G8+L8","v":38464.402753000002},{"$f":"M8*1.3%","v":500.03723578900008},{"$f":"(N8)","v":500.03723578900008},null,{"$f":"O8-P8","v":500.03723578900008},null,null,null,{"$f":"H8+Q8","v":2045.8549787890001},null,{"$f":"U8*1000","v":2045854.9787890001}]
["202","CH",3.4799999999999998E-2,46824,45391,{"$f":"+E9*0.75%","v":340.4325},{"$f":"C9*(D9+F9)+F9","v":1981.7547509999999},1981.7547509999999,null,null,null,45818.968070000003,{"$f":"G9+L9","v":47800.722821000003},{"$f":"M9*1.3%","v":621.40939667300006},{"$f":"(N9)","v":621.40939667300006},null,{"$f":"O9-P9","v":621.40939667300006},null,null,null,{"$f":"H9+Q9","v":2603.1641476730001},null,{"$f":"U9*1000","v":2603164.1476730001}]
["203","PE",3.4799999999999998E-2,35443,35268,{"$f":"+E10*0.75%","v":264.51},{"$f":"C10*(D10+F10)+F10","v":1507.1313479999999},1507.1313479999999,null,null,null,35653.505320000004,{"$f":"G10+L10","v":37160.636668000006},{"$f":"M10*1.3%","v":483.08827668400011},{"$f":"(N10)","v":483.08827668400011},null,483.08827668400011,null,null,null,1990.2196246839999,null,1990219.6246839999]
["204","TE",3.4799999999999998E-2,35941,35395,{"$f":"+E11*0.75%","v":265.46249999999998},{"$f":"C11*(D11+F11)+F11","v":1525.4473950000001},1525.4473950000001,null,null,null,37173.83,{"$f":"G11+L11","v":38699.277395000005},{"$f":"M11*1.3%","v":503.09060613500009},{"$f":"(N11)","v":503.09060613500009},null,503.09060613500009,null,null,null,2028.5380011350003,null,2028538.0011350003]
["000","GSA",3.4799999999999998E-2,0,null,{"$f":"+E12*0.75%","v":0},{"$f":"C12*(D12+F12)+F12","v":0},0,null,null,null,null,0,0,{"$f":"(N12/4)*3","v":0},null,0,null,null,null,0]
[999,"CONS.",3.4799999999999998E-2,{"$f":"SUM(D8:D12)","v":154853},{"$f":"SUM(E8:E12)","v":150917},1131.8775000000001,{"$f":"SUM(G8:G12)","v":6560.151237},6560.151237,null,null,null,155564.8884,{"$f":"SUM(M8:M12)","v":162125.03963700001},{"$f":"SUM(N8:N12)","v":2107.6255152810004},{"$f":"SUM(O8:O12)","v":2107.6255152810004},{"$f":"SUM(P8:P12)","v":0},{"$f":"SUM(Q8:Q12)","v":2107.6255152810004},null,null,null,8667.7767522810009,null,8667776.7522810008]
[]
["BA2850 - Accantonamento rinnovi convenzioni Medici Sumai"]
["€/000",null,null,null,null,null,null,null,null,null,null,"€/000"]
["Cod Az","Descrizione Azienda","% Acc.to","BA0570 - B.2.A.3.4) - da privato - Medici SUMAI\nCosto CE Consuntivo 2015","CE Consuntivo 2010","0,75% * CE Consuntivo 2010","Acc.to 3,48% Costo Consuntivo 2015","Acc. BA2850\nda iscrivere a Consuntivo 2019",null,null,null,"Costo Consuntivo 2018","Costo CE Consuntivo 2018 + Acc.to 3,48% del Costo Consuntivo 2015","Dato atteso Accantonamento annuo","Dato atteso Accantonamento al IV Trimestre 2019 (al lordo di IVC corrisposta)","IVC corrisposta al IV Trim 2019 (dall'1/4 al 31/12)","Ulteriore accantonamento da effettuare BA2850",null,null,null,"Totale da Accantonare a Consuntivo 2019 in BA2850",null,"Totale da Accantonare al Consuntivo 2019 in BA2850\nin €"]
["Valori in €/000",null,"A","B","C","D=C*0,75%","E=A*(B+D)+D","F=(E)",null,null,null,"G","H=E+G","I=H*1,3%","L=(H)","M","N=L-M",null,null,null,"O=F+N",null,"P=O*1000"]
["201","AQ",3.4799999999999998E-2,5332,2690,{"$f":"+E19*0.75%","v":20.175000000000001},{"$f":"C19*(D19+F19)+F19","v":206.43069},{"$f":"(G19)","v":206.43069},null,null,null,5286.5296699999999,5492.96036,71.408484680000001,{"$f":"(N19)","v":71.408484680000001},null,{"$f":"O19-P19","v":71.408484680000001},null,null,null,{"$f":"H19+Q19","v":277.83917467999999},null,{"$f":"U19*1000","v":277839.17468}]
["202","CH",3.4799999999999998E-2,5063,4630,{"$f":"+E20*0.75%","v":34.725000000000001},{"$f":"C20*(D20+F20)+F20","v":212.12583000000001},212.12583000000001,null,null,null,5077.48236,5289.6081899999999,68.76490647,{"$f":"(N20)","v":68.76490647},null,{"$f":"O20-P20","v":68.76490647},null,null,null,{"$f":"H20+Q20","v":280.89073646999998},null,{"$f":"U20*1000","v":280890.73647}]
["203","PE",3.4799999999999998E-2,4911,3879,{"$f":"+E21*0.75%","v":29.092499999999998},{"$f":"C21*(D21+F21)+F21","v":201.00771899999998},201.00771899999998,null,null,null,4486.7442099999998,4687.751929,60.940775077000005,{"$f":"(N21)","v":60.940775077000005},null,60.940775077000005,null,null,null,261.94849407699996,null,261948.49407699995]
["204","TE",3.4799999999999998E-2,3480,2765,{"$f":"+E22*0.75%","v":20.737500000000001},{"$f":"C22*(D22+F22)+F22","v":142.563165},142.563165,null,null,null,4140.0529999999999,4282.6161649999995,55.674010144999997,{"$f":"(N22)","v":55.674010144999997},null,55.674010144999997,null,null,null,198.23717514499998,null,198237.17514499999]
["000","GSA",3.4799999999999998E-2,null,null,{"$f":"+E23*0.75%","v":0},{"$f":"C23*(D23+F23)+F23","v":0},0,null,null,null,null,0,0,{"$f":"(N23)","v":0},null,0,null,null,null,0]
[999,"CONS.",3.4799999999999998E-2,{"$f":"SUM(D19:D23)","v":18786},{"$f":"SUM(E19:E23)","v":13964},{"$f":"SUM(F19:F23)","v":104.73},{"$f":"SUM(G19:G23)","v":762.12740399999996},762.12740399999996,null,null,null,18990.809239999999,19752.936644000001,256.78817637200007,{"$f":"SUM(O19:O23)","v":256.78817637200001},{"$f":"SUM(P19:P23)","v":0},{"$f":"SUM(Q19:Q23)","v":256.78817637200001},null,null,null,1018.915580372,null,1018915.580372]

{"sheet":"Altre Info","index":41,"n_rows":10,"n_cols":5,"rows_kept":10,"cut":false,"hidden":false,"merged":[[6,0,6,1],[5,2,5,3],[5,0,5,1],[8,4,8,7],[9,4,9,7],[5,4,5,7],[6,4,6,7],[7,4,7,7],[8,0,8,1],[9,0,9,1],[7,0,7,1]]}
[]
[]
["Altre informazioni relative a fondi rischi e oneri"]
[]
[]
["Informazione",null,"Caso presente in azienda?",null,"Se sì, illustrare"]
["FR01. Con riferimento ai rischi per i quali è stato costituito un fondo, esiste la possibilità di subire perdite addizionali rispetto agli ammontari stanziati?",null,null,"NO"]
["FR02. Esistono rischi probabili, a fronte dei quali non è stato costituito un apposito fondo per l'impossibilità di formulare stime attendibili?",null,null,"NO"]
["FR03. Esistono rischi (né generici, né remoti) a fronte dei quali non è stato costituito un apposito fondo perché solo possibili, anzichè probabili? Da tali rischi potrebbero scaturire perdite significative?",null,null,"NO"]
["FR04 - Altro. Esistono altre informazioni che si ritiene necessario fornire per soddisfare la regola generale secondo cui \"Se le informazioni richieste da specifiche disposizioni di legge non sono sufficienti a dare una rappresentazione veritiera e corretta, si devono fornire le informazioni complementari necessarie allo scopo\" (art. 2423 cc)?",null,null,"NO"]

{"sheet":"Tab 41","index":42,"n_rows":17,"n_cols":13,"rows_kept":17,"cut":false,"hidden":false,"merged":[[11,1,11,8],[16,0,16,3],[0,0,0,7],[2,1,2,8],[3,0,4,0],[3,1,4,1],[3,3,4,3],[3,4,4,4],[3,5,4,5],[3,6,4,6],[15,0,15,3],[15,4,15,5],[16,6,16,8],[15,6,15,8],[12,1,12,8]]}
["13.     Trattamento di fine rapporto"]
[]
[null,"Tab. 41 – Consistenza e movimentazioni del Trattamento di Fine Rapporto "]
["CODICE MOD. SP","TRATTAMENTO DI FINE RAPPORTO",null,"Consistenza iniziale","Accantonamento","Utilizzi\ndell'esercizio","Valore finale"]
[null,null,null,null,null,null,null,null,null,null,"Valore SP","Diff","Ctrl"]
["PCA000","  Fondo per premi operosità medici SUMAI",null,{"$f":"SUMIF('00 SP'!$A:$A,'Tab 41'!$A6,'00 SP'!I:I)","v":-2267812.11},{"$f":"SUMIF('00 SP'!$A:$A,'Tab 41'!$A6,'00 SP'!J:J)","v":-277851.92},{"$f":"SUMIF('00 SP'!$A:$A,'Tab 41'!$A6,'00 SP'!K:K)","v":-441070.23},{"$f":"D6+E6-F6","v":-2104593.7999999998},null,null,null,{"$f":"SUMIF('00 SP'!A:A,'Tab 41'!A6,'00 SP'!L:L)","v":-2104593.7999999998},{"$f":"G6-K6","v":0},{"$f":"IF(L6=0,\"OK\",\"CTRL\")","v":"OK"}]
["PCA010","  Fondo per trattamento di fine rapporto dipendente",null,{"$f":"SUMIF('00 SP'!$A:$A,'Tab 41'!$A7,'00 SP'!I:I)","v":0},{"$f":"SUMIF('00 SP'!$A:$A,'Tab 41'!$A7,'00 SP'!J:J)","v":0},{"$f":"SUMIF('00 SP'!$A:$A,'Tab 41'!$A7,'00 SP'!K:K)","v":0},{"$f":"D7+E7-F7","v":0},null,null,null,{"$f":"SUMIF('00 SP'!A:A,'Tab 41'!A7,'00 SP'!L:L)","v":0},{"$f":"G7-K7","v":0},{"$f":"IF(L7=0,\"OK\",\"CTRL\")","v":"OK"}]
["PCA020","  Fondo per trattamento di quiescenza e simili",null,{"$f":"SUMIF('00 SP'!$A:$A,'Tab 41'!$A8,'00 SP'!I:I)","v":0},{"$f":"SUMIF('00 SP'!$A:$A,'Tab 41'!$A8,'00 SP'!J:J)","v":0},{"$f":"SUMIF('00 SP'!$A:$A,'Tab 41'!$A8,'00 SP'!K:K)","v":0},{"$f":"D8+E8-F8","v":0}]
[null,"  TOTALE TRATTAMENTO DI FINE RAPPORTO",null,{"$f":"SUM(D6:D7)","v":-2267812.11},{"$f":"SUM(E6:E7)","v":-277851.92},{"$f":"SUM(F6:F7)","v":-441070.23},{"$f":"SUM(G6:G7)","v":-2104593.7999999998}]
[]
[]
["Fondo","Criteri di determinazione"]
["PCA100","Il fondo per premi operosità SUMAI , come meglio esplicitato dal servizio competente  è stato colcolato sulla media delle retribuzioni corrisposte nell'anno 2019 a n.70 Medici Specialisti SUMAI Convenzionati Interni , 5 medici addetti alla Medicina dei Servizi Territoriali , 11  Medici Veterinari Convenzionati Interni e 5 psicologi .Il Fondo SUMAI 2019 è stato utilizzato per €/000 441"]
[]
["Altre informazioni relative a trattamento di fine rapporto"]
["Informazione",null,null,null,"Caso presente in azienda?",null,"Se sì, illustrare"]
["TR01 - Altro. Esistono altre informazioni che si ritiene necessario fornire per soddisfare la regola generale secondo cui \"Se le informazioni richieste da specifiche disposizioni di legge non sono sufficienti a dare una rappresentazione veritiera e corretta, si devono fornire le informazioni complementari necessarie allo scopo\" (art. 2423 cc)?",null,null,null,null,"NO"]

{"sheet":"Tab 42","index":43,"n_rows":83,"n_cols":14,"rows_kept":83,"cut":false,"hidden":false,"merged":[[2,2,2,9],[3,1,4,1],[3,2,4,2],[3,4,4,4],[3,5,3,6],[3,7,4,7],[3,8,4,8],[3,9,4,9]]}
[null,"14.     Debiti"]
[]
[null,null,"Tab. 42 – Consistenza e movimentazioni dei debiti "]
[null,"CODICE MOD. SP","DEBITI",null,"Valore\niniziale","MOVIMENTI DELL'ESERCIZIO",null,"Valore finale","di cui per fatture / N.C da ricevere","di cui per acquisti di beni iscritti tra le immobilizz."]
[null,null,null,null,null,"Incrementi","Decrementi",null,null,null,null,"Valore SP","Diff","Ctrl"]
[{"$f":"B6&\"FR\"","v":"PDA000FR"},"PDA000"," MUTUI PASSIVI",null,{"$f":"SUMIF('00 SP'!$A:$A,'Tab 42'!$B6,'00 SP'!I:I)","v":0},{"$f":"SUMIF('00 SP'!$A:$A,'Tab 42'!$B6,'00 SP'!J:J)","v":0},{"$f":"SUMIF('00 SP'!$A:$A,'Tab 42'!$B6,'00 SP'!K:K)","v":0},{"$f":"E6+F6-G6","v":0},{"$f":"SUMIF('00 PDC SP'!A:A,'Tab 42'!A6,'00 PDC SP'!N:N)","v":0},0,null,{"$f":"SUMIF('00 SP'!A:A,'Tab 42'!B6,'00 SP'!L:L)","v":0},{"$f":"H6-L6","v":0},{"$f":"IF(M6=0,\"OK\",\"CTRL\")","v":"OK"}]
[]
[null,null," DEBITI V/STATO",null,{"$f":"SUM(E9:E13)","v":0},{"$f":"SUM(F9:F13)","v":0},0,0,0,0]
[{"$f":"B9&\"FR\"","v":"PDA020FR"},"PDA020"," Debiti v/Stato per mobilità passiva extraregionale",null,{"$f":"SUMIF('00 SP'!$A:$A,'Tab 42'!$B9,'00 SP'!I:I)","v":0},{"$f":"SUMIF('00 SP'!$A:$A,'Tab 42'!$B9,'00 SP'!J:J)","v":0},{"$f":"SUMIF('00 SP'!$A:$A,'Tab 42'!$B9,'00 SP'!K:K)","v":0},{"$f":"E9+F9-G9","v":0},{"$f":"SUMIF('00 PDC SP'!A:A,'Tab 42'!A9,'00 PDC SP'!N:N)","v":0},0,null,{"$f":"SUMIF('00 SP'!A:A,'Tab 42'!B9,'00 SP'!L:L)","v":0},{"$f":"H9-L9","v":0},{"$f":"IF(M9=0,\"OK\",\"CTRL\")","v":"OK"}]
["PDA030FR","PDA030"," Debiti v/Stato per mobilità passiva internazionale",null,{"$f":"SUMIF('00 SP'!$A:$A,'Tab 42'!$B10,'00 SP'!I:I)","v":0},{"$f":"SUMIF('00 SP'!$A:$A,'Tab 42'!$B10,'00 SP'!J:J)","v":0},{"$f":"SUMIF('00 SP'!$A:$A,'Tab 42'!$B10,'00 SP'!K:K)","v":0},{"$f":"E10+F10-G10","v":0},{"$f":"SUMIF('00 PDC SP'!A:A,'Tab 42'!A10,'00 PDC SP'!N:N)","v":0},0,null,{"$f":"SUMIF('00 SP'!A:A,'Tab 42'!B10,'00 SP'!L:L)","v":0},0,"OK"]
["PDA040FR","PDA040"," Acconto quota FSR v/Stato",null,{"$f":"SUMIF('00 SP'!$A:$A,'Tab 42'!$B11,'00 SP'!I:I)","v":0},{"$f":"SUMIF('00 SP'!$A:$A,'Tab 42'!$B11,'00 SP'!J:J)","v":0},{"$f":"SUMIF('00 SP'!$A:$A,'Tab 42'!$B11,'00 SP'!K:K)","v":0},0,{"$f":"SUMIF('00 PDC SP'!A:A,'Tab 42'!A11,'00 PDC SP'!N:N)","v":0},0,null,{"$f":"SUMIF('00 SP'!A:A,'Tab 42'!B11,'00 SP'!L:L)","v":0},0,"OK"]
["PDA050FR","PDA050"," Debiti v/Stato per restituzione finanziamenti - per ricerca:",null,{"$f":"SUMIF('00 SP'!$A:$A,'Tab 42'!$B12,'00 SP'!I:I)","v":0},{"$f":"SUMIF('00 SP'!$A:$A,'Tab 42'!$B12,'00 SP'!J:J)","v":0},{"$f":"SUMIF('00 SP'!$A:$A,'Tab 42'!$B12,'00 SP'!K:K)","v":0},0,{"$f":"SUMIF('00 PDC SP'!A:A,'Tab 42'!A12,'00 PDC SP'!N:N)","v":0},0,null,{"$f":"SUMIF('00 SP'!A:A,'Tab 42'!B12,'00 SP'!L:L)","v":0},0,"OK"]
["PDA060FR","PDA060"," Altri debiti v/Stato",null,{"$f":"SUMIF('00 SP'!$A:$A,'Tab 42'!$B13,'00 SP'!I:I)","v":0},{"$f":"SUMIF('00 SP'!$A:$A,'Tab 42'!$B13,'00 SP'!J:J)","v":0},{"$f":"SUMIF('00 SP'!$A:$A,'Tab 42'!$B13,'00 SP'!K:K)","v":0},0,{"$f":"SUMIF('00 PDC SP'!A:A,'Tab 42'!A13,'00 PDC SP'!N:N)","v":0},0,null,{"$f":"SUMIF('00 SP'!A:A,'Tab 42'!B13,'00 SP'!L:L)","v":0},0,"OK"]
[]
[null,null," DEBITI V/REGIONE O PROVINCIA AUTONOMA",null,{"$f":"SUM(E16:E24)","v":30296203.669999998},{"$f":"SUM(F16:F24)","v":694202269.86000001},688605970.91999996,35892502.609999999,0,0]
[{"$f":"B16&\"FR\"","v":"PDA080FR"},"PDA080"," Debiti v/Regione o Provincia Autonoma per finanziamenti - GSA",null,{"$f":"SUMIF('00 SP'!$A:$A,'Tab 42'!$B16,'00 SP'!I:I)","v":0},{"$f":"SUMIF('00 SP'!$A:$A,'Tab 42'!$B16,'00 SP'!J:J)","v":0},{"$f":"SUMIF('00 SP'!$A:$A,'Tab 42'!$B16,'00 SP'!K:K)","v":0},{"$f":"E16+F16-G16","v":0},{"$f":"SUMIF('00 PDC SP'!A:A,'Tab 42'!A16,'00 PDC SP'!N:N)","v":0},0,null,{"$f":"SUMIF('00 SP'!A:A,'Tab 42'!B16,'00 SP'!L:L)","v":0},{"$f":"H16-L16","v":0},{"$f":"IF(M16=0,\"OK\",\"CTRL\")","v":"OK"}]
[null,"PDA081"," Debiti v/Regione o Provincia Autonoma per finanziamenti",null,{"$f":"SUMIF('00 SP'!$A:$A,'Tab 42'!$B17,'00 SP'!I:I)","v":0},{"$f":"SUMIF('00 SP'!$A:$A,'Tab 42'!$B17,'00 SP'!J:J)","v":0},{"$f":"SUMIF('00 SP'!$A:$A,'Tab 42'!$B17,'00 SP'!K:K)","v":0},{"$f":"E17+F17-G17","v":0},{"$f":"SUMIF('00 PDC SP'!A:A,'Tab 42'!A17,'00 PDC SP'!N:N)","v":0},0]
["PDA090FR","PDA090"," Debiti v/Regione o Provincia Autonoma per mobilità passiva intraregionale",null,{"$f":"SUMIF('00 SP'!$A:$A,'Tab 42'!$B18,'00 SP'!I:I)*-1","v":20765655.579999998},{"$f":"SUMIF('00 SP'!$A:$A,'Tab 42'!$B18,'00 SP'!J:J)*-1","v":52055370.390000001},{"$f":"SUMIF('00 SP'!$A:$A,'Tab 42'!$B18,'00 SP'!K:K)*-1","v":52055370.390000001},20765655.579999998,{"$f":"SUMIF('00 PDC SP'!A:A,'Tab 42'!A18,'00 PDC SP'!N:N)","v":0},0,null,{"$f":"SUMIF('00 SP'!A:A,'Tab 42'!B18,'00 SP'!L:L)*-1","v":20765655.579999998},0,"OK"]
["PDA100FR","PDA100"," Debiti v/Regione o Provincia Autonoma per mobilità passiva extraregionale",null,{"$f":"SUMIF('00 SP'!$A:$A,'Tab 42'!$B19,'00 SP'!I:I)*-1","v":9530548.0899999999},{"$f":"SUMIF('00 SP'!$A:$A,'Tab 42'!$B19,'00 SP'!J:J)*-1","v":36714312.75},{"$f":"SUMIF('00 SP'!$A:$A,'Tab 42'!$B19,'00 SP'!K:K)*-1","v":36714312.75},9530548.0900000036,{"$f":"SUMIF('00 PDC SP'!A:A,'Tab 42'!A19,'00 PDC SP'!N:N)","v":0},0,null,{"$f":"SUMIF('00 SP'!A:A,'Tab 42'!B19,'00 SP'!L:L)*-1","v":9530548.0900000036},0,"OK"]
[null,"PDA101"," Debiti v/Regione o Provincia Autonoma per mobilità passiva internazionale",null,{"$f":"SUMIF('00 SP'!$A:$A,'Tab 42'!$B20,'00 SP'!I:I)*-1","v":0},{"$f":"SUMIF('00 SP'!$A:$A,'Tab 42'!$B20,'00 SP'!J:J)*-1","v":2330052.7799999998},{"$f":"SUMIF('00 SP'!$A:$A,'Tab 42'!$B20,'00 SP'!K:K)*-1","v":2330052.7799999998},{"$f":"E20+F20-G20","v":0},{"$f":"SUMIF('00 PDC SP'!A:A,'Tab 42'!A20,'00 PDC SP'!N:N)","v":0},0,null,{"$f":"SUMIF('00 SP'!A:A,'Tab 42'!B20,'00 SP'!L:L)*-1","v":0},{"$f":"H20-L20","v":0},{"$f":"IF(M20=0,\"OK\",\"CTRL\")","v":"OK"}]
["PDA110FR","PDA110"," Acconto quota FSR da Regione o Provincia Autonoma",null,{"$f":"SUMIF('00 SP'!$A:$A,'Tab 42'!$B21,'00 SP'!I:I)*-1","v":0},{"$f":"SUMIF('00 SP'!$A:$A,'Tab 42'!$B21,'00 SP'!J:J)*-1","v":597506235},{"$f":"SUMIF('00 SP'!$A:$A,'Tab 42'!$B21,'00 SP'!K:K)*-1","v":597506235},0,{"$f":"SUMIF('00 PDC SP'!A:A,'Tab 42'!A21,'00 PDC SP'!N:N)","v":0},0,null,{"$f":"SUMIF('00 SP'!A:A,'Tab 42'!B21,'00 SP'!L:L)*-1","v":0},0,"OK"]
[null,"PDA111"," Acconto  da Regione o Provincia Autonoma per anticipazione ripiano disavanzo programmatico dai piani aziendali di cui all'art1, comma 528, L.208 /2015",null,{"$f":"SUMIF('00 SP'!$A:$A,'Tab 42'!$B22,'00 SP'!I:I)","v":0},{"$f":"SUMIF('00 SP'!$A:$A,'Tab 42'!$B22,'00 SP'!J:J)","v":0},{"$f":"SUMIF('00 SP'!$A:$A,'Tab 42'!$B22,'00 SP'!K:K)","v":0},{"$f":"E22+F22-G22","v":0},{"$f":"SUMIF('00 PDC SP'!A:A,'Tab 42'!A22,'00 PDC SP'!N:N)","v":0},0,null,{"$f":"SUMIF('00 SP'!A:A,'Tab 42'!B22,'00 SP'!L:L)","v":0},{"$f":"H22-L22","v":0},{"$f":"IF(M22=0,\"OK\",\"CTRL\")","v":"OK"}]
[null,"PDA112"," Acconto  da Regione o Provincia Autonoma per contributi legge 210/92",null,{"$f":"SUMIF('00 SP'!$A:$A,'Tab 42'!$B23,'00 SP'!I:I)","v":0},{"$f":"SUMIF('00 SP'!$A:$A,'Tab 42'!$B23,'00 SP'!J:J)","v":0},{"$f":"SUMIF('00 SP'!$A:$A,'Tab 42'!$B23,'00 SP'!K:K)","v":0},0,{"$f":"SUMIF('00 PDC SP'!A:A,'Tab 42'!A23,'00 PDC SP'!N:N)","v":0},0,null,{"$f":"SUMIF('00 SP'!A:A,'Tab 42'!B23,'00 SP'!L:L)","v":0},0,"OK"]
["PDA120FR","PDA120"," Altri debiti v/Regione o Provincia Autonoma GSA",null,{"$f":"SUMIF('00 SP'!$A:$A,'Tab 42'!$B24,'00 SP'!I:I)*-1","v":0},{"$f":"SUMIF('00 SP'!$A:$A,'Tab 42'!$B24,'00 SP'!J:J)*-1","v":5596298.9400000004},{"$f":"SUMIF('00 SP'!$A:$A,'Tab 42'!$B24,'00 SP'!K:K)","v":0},5596298.9400000004,{"$f":"SUMIF('00 PDC SP'!A:A,'Tab 42'!A24,'00 PDC SP'!N:N)","v":0},0,null,{"$f":"SUMIF('00 SP'!A:A,'Tab 42'!B24,'00 SP'!L:L)*-1","v":5596298.9400000004},0,"OK"]
[null,"PDA121"," Altri debiti v/Regione o Provincia Autonoma",null,{"$f":"SUMIF('00 SP'!$A:$A,'Tab 42'!$B25,'00 SP'!I:I)","v":0},{"$f":"SUMIF('00 SP'!$A:$A,'Tab 42'!$B25,'00 SP'!J:J)","v":0},{"$f":"SUMIF('00 SP'!$A:$A,'Tab 42'!$B25,'00 SP'!K:K)","v":0},{"$f":"E25+F25-G25","v":0},{"$f":"SUMIF('00 PDC SP'!A:A,'Tab 42'!A25,'00 PDC SP'!N:N)","v":0},0,null,{"$f":"SUMIF('00 SP'!A:A,'Tab 42'!B25,'00 SP'!L:L)","v":0},{"$f":"H25-L25","v":0},{"$f":"IF(M25=0,\"OK\",\"CTRL\")","v":"OK"}]
[]
[{"$f":"B27&\"FR\"","v":"PDA130FR"},"PDA130"," DEBITI V/COMUNI:",null,{"$f":"SUMIF('00 SP'!$A:$A,'Tab 42'!$B27,'00 SP'!I:I)*-1","v":150000},{"$f":"SUMIF('00 SP'!$A:$A,'Tab 42'!$B27,'00 SP'!J:J)","v":0},{"$f":"SUMIF('00 SP'!$A:$A,'Tab 42'!$B27,'00 SP'!K:K)","v":0},{"$f":"E27+F27-G27","v":150000},{"$f":"SUMIF('00 PDC SP'!A:A,'Tab 42'!A27,'00 PDC SP'!N:N)","v":0},0,null,{"$f":"SUMIF('00 SP'!A:A,'Tab 42'!B27,'00 SP'!L:L)*-1","v":150000},{"$f":"H27-L27","v":0},"OK"]
[]
[null,null," DEBITI V/AZIENDE SANITARIE PUBBLICHE DELLA REGIONE",null,{"$f":"SUM(E30:E35)","v":2665618.9500000002},{"$f":"SUM(F30:F35)","v":923656.48999999987},806134.89999999991,2783140.54,299614.38,0]
[{"$f":"B30&\"FR\"","v":"PDA160FR"},"PDA160"," Debiti v/Aziende sanitarie pubbliche della Regione - per quota FSR",null,{"$f":"SUMIF('00 SP'!$A:$A,'Tab 42'!$B30,'00 SP'!I:I)","v":0},{"$f":"SUMIF('00 SP'!$A:$A,'Tab 42'!$B30,'00 SP'!J:J)","v":0},{"$f":"SUMIF('00 SP'!$A:$A,'Tab 42'!$B30,'00 SP'!K:K)","v":0},{"$f":"E30+F30-G30","v":0},{"$f":"SUMIF('00 PDC SP'!A:A,'Tab 42'!A30,'00 PDC SP'!N:N)","v":0},0,null,{"$f":"SUMIF('00 SP'!A:A,'Tab 42'!B30,'00 SP'!L:L)","v":0},{"$f":"H30-L30","v":0},{"$f":"IF(M30=0,\"OK\",\"CTRL\")","v":"OK"}]
["PDA170FR","PDA170"," Debiti v/Aziende sanitarie pubbliche della Regione - finanziamento sanitario aggiuntivo corrente LEA",null,{"$f":"SUMIF('00 SP'!$A:$A,'Tab 42'!$B31,'00 SP'!I:I)","v":0},{"$f":"SUMIF('00 SP'!$A:$A,'Tab 42'!$B31,'00 SP'!J:J)","v":0},{"$f":"SUMIF('00 SP'!$A:$A,'Tab 42'!$B31,'00 SP'!K:K)","v":0},0,{"$f":"SUMIF('00 PDC SP'!A:A,'Tab 42'!A31,'00 PDC SP'!N:N)","v":0},0,null,{"$f":"SUMIF('00 SP'!A:A,'Tab 42'!B31,'00 SP'!L:L)","v":0},0,"OK"]
["PDA180FR","PDA180"," Debiti v/Aziende sanitarie pubbliche della Regione - finanziamento sanitario aggiuntivo corrente extra LEA",null,{"$f":"SUMIF('00 SP'!$A:$A,'Tab 42'!$B32,'00 SP'!I:I)","v":0},{"$f":"SUMIF('00 SP'!$A:$A,'Tab 42'!$B32,'00 SP'!J:J)","v":0},{"$f":"SUMIF('00 SP'!$A:$A,'Tab 42'!$B32,'00 SP'!K:K)","v":0},0,{"$f":"SUMIF('00 PDC SP'!A:A,'Tab 42'!A32,'00 PDC SP'!N:N)","v":0},0,null,{"$f":"SUMIF('00 SP'!A:A,'Tab 42'!B32,'00 SP'!L:L)","v":0},0,"OK"]
["PDA190FR","PDA190"," Debiti v/Aziende sanitarie pubbliche della Regione - mobilità\n in compensazione",null,{"$f":"SUMIF('00 SP'!$A:$A,'Tab 42'!$B33,'00 SP'!I:I)","v":0},{"$f":"SUMIF('00 SP'!$A:$A,'Tab 42'!$B33,'00 SP'!J:J)","v":0},{"$f":"SUMIF('00 SP'!$A:$A,'Tab 42'!$B33,'00 SP'!K:K)","v":0},0,{"$f":"SUMIF('00 PDC SP'!A:A,'Tab 42'!A33,'00 PDC SP'!N:N)","v":0},0,null,{"$f":"SUMIF('00 SP'!A:A,'Tab 42'!B33,'00 SP'!L:L)","v":0},0,"OK"]
["PDA200FR","PDA200"," Debiti v/Aziende sanitarie pubbliche della Regione - mobilità\n non in compensazione",null,{"$f":"SUMIF('00 SP'!$A:$A,'Tab 42'!$B34,'00 SP'!I:I)","v":0},{"$f":"SUMIF('00 SP'!$A:$A,'Tab 42'!$B34,'00 SP'!J:J)","v":0},{"$f":"SUMIF('00 SP'!$A:$A,'Tab 42'!$B34,'00 SP'!K:K)","v":0},0,{"$f":"SUMIF('00 PDC SP'!A:A,'Tab 42'!A34,'00 PDC SP'!N:N)","v":0},0,null,{"$f":"SUMIF('00 SP'!A:A,'Tab 42'!B34,'00 SP'!L:L)","v":0},0,"OK"]
["PDA210FR","PDA210"," Debiti v/Aziende sanitarie pubbliche della Regione - altre\n prestazioni",null,{"$f":"SUMIF('00 SP'!$A:$A,'Tab 42'!$B35,'00 SP'!I:I)*-1","v":2665618.9500000002},{"$f":"SUMIF('00 SP'!$A:$A,'Tab 42'!$B35,'00 SP'!J:J)*-1","v":923656.48999999987},{"$f":"SUMIF('00 SP'!$A:$A,'Tab 42'!$B35,'00 SP'!K:K)*-1","v":806134.89999999991},2783140.54,{"$f":"SUMIF('00 PDC SP'!A:A,'Tab 42'!A35,'00 PDC SP'!N:N)*-1","v":299614.38},0,null,{"$f":"SUMIF('00 SP'!A:A,'Tab 42'!B35,'00 SP'!L:L)*-1","v":2783140.5399999996},0,"OK"]
[null,"PDA211"," Debiti v/Aziende sanitarie pubbliche della Regione - altre\n prestazioni per STP",null,{"$f":"SUMIF('00 SP'!$A:$A,'Tab 42'!$B36,'00 SP'!I:I)","v":0},{"$f":"SUMIF('00 SP'!$A:$A,'Tab 42'!$B36,'00 SP'!J:J)","v":0},{"$f":"SUMIF('00 SP'!$A:$A,'Tab 42'!$B36,'00 SP'!K:K)","v":0},{"$f":"E36+F36-G36","v":0},{"$f":"SUMIF('00 PDC SP'!A:A,'Tab 42'!A36,'00 PDC SP'!N:N)","v":0},0,null,{"$f":"SUMIF('00 SP'!A:A,'Tab 42'!B36,'00 SP'!L:L)","v":0},{"$f":"H36-L36","v":0},{"$f":"IF(M36=0,\"OK\",\"CTRL\")","v":"OK"}]
[null,"PDA212","Debiti v/Aziende sanitarie pubbliche della Regione per contributi da aziende sanitarie pubbliche della regione o province autonome ( extra- fondo)",null,{"$f":"SUMIF('00 SP'!$A:$A,'Tab 42'!$B37,'00 SP'!I:I)","v":0},{"$f":"SUMIF('00 SP'!$A:$A,'Tab 42'!$B37,'00 SP'!J:J)","v":0},{"$f":"SUMIF('00 SP'!$A:$A,'Tab 42'!$B37,'00 SP'!K:K)","v":0},0,{"$f":"SUMIF('00 PDC SP'!A:A,'Tab 42'!A37,'00 PDC SP'!N:N)","v":0},0,null,{"$f":"SUMIF('00 SP'!A:A,'Tab 42'!B37,'00 SP'!L:L)","v":0},0,"OK"]
[null,"PDA213","Debiti v/Aziende sanitarie pubbliche della Regione per contributi L.210/92",null,{"$f":"SUMIF('00 SP'!$A:$A,'Tab 42'!$B38,'00 SP'!I:I)","v":0},{"$f":"SUMIF('00 SP'!$A:$A,'Tab 42'!$B38,'00 SP'!J:J)","v":0},{"$f":"SUMIF('00 SP'!$A:$A,'Tab 42'!$B38,'00 SP'!K:K)","v":0},0,{"$f":"SUMIF('00 PDC SP'!A:A,'Tab 42'!A38,'00 PDC SP'!N:N)","v":0},0,null,{"$f":"SUMIF('00 SP'!A:A,'Tab 42'!B38,'00 SP'!L:L)","v":0},0,"OK"]
["PDA220FR","PDA220"," Debiti v/Aziende Sanitarie pubbliche fuori Regione",null,{"$f":"SUMIF('00 SP'!$A:$A,'Tab 42'!$B39,'00 SP'!I:I)*-1","v":199115.59},{"$f":"SUMIF('00 SP'!$A:$A,'Tab 42'!$B39,'00 SP'!J:J)*-1","v":326953.17},{"$f":"SUMIF('00 SP'!$A:$A,'Tab 42'!$B39,'00 SP'!K:K)*-1","v":310558.63},{"$f":"E39+F39-G39","v":215510.13},{"$f":"SUMIF('00 PDC SP'!A:A,'Tab 42'!A39,'00 PDC SP'!N:N)*-1","v":66314.850000000006},0,null,{"$f":"SUMIF('00 SP'!A:A,'Tab 42'!B39,'00 SP'!L:L)*-1","v":215510.12999999995},0,"OK"]
["PDA230FR","PDA230"," Debiti v/Aziende sanitarie pubbliche della Regione per versamenti\n c/patrimonio netto",null,{"$f":"SUMIF('00 SP'!$A:$A,'Tab 42'!$B40,'00 SP'!I:I)","v":0},{"$f":"SUMIF('00 SP'!$A:$A,'Tab 42'!$B40,'00 SP'!J:J)","v":0},{"$f":"SUMIF('00 SP'!$A:$A,'Tab 42'!$B40,'00 SP'!K:K)","v":0},{"$f":"E40+F40-G40","v":0},{"$f":"SUMIF('00 PDC SP'!A:A,'Tab 42'!A40,'00 PDC SP'!N:N)","v":0},0,null,{"$f":"SUMIF('00 SP'!A:A,'Tab 42'!B40,'00 SP'!L:L)","v":0},0,"OK"]
[null,"PDA231"," Debiti v/Aziende sanitarie pubbliche della Regione per versamenti c/patrimonio netto -  finanziamenti per investimenti ",null,{"$f":"SUMIF('00 SP'!$A:$A,'Tab 42'!$B41,'00 SP'!I:I)","v":0},{"$f":"SUMIF('00 SP'!$A:$A,'Tab 42'!$B41,'00 SP'!J:J)","v":0},{"$f":"SUMIF('00 SP'!$A:$A,'Tab 42'!$B41,'00 SP'!K:K)","v":0},{"$f":"E41+F41-G41","v":0},{"$f":"SUMIF('00 PDC SP'!A:A,'Tab 42'!A41,'00 PDC SP'!N:N)","v":0},0,null,{"$f":"SUMIF('00 SP'!A:A,'Tab 42'!B41,'00 SP'!L:L)","v":0},{"$f":"H41-L41","v":0},{"$f":"IF(M41=0,\"OK\",\"CTRL\")","v":"OK"}]
[null,"PDA232"," Debiti v/Aziende sanitarie pubbliche della Regione per versamenti c/patrimonio netto - incremento fondo dotazione",null,{"$f":"SUMIF('00 SP'!$A:$A,'Tab 42'!$B42,'00 SP'!I:I)","v":0},{"$f":"SUMIF('00 SP'!$A:$A,'Tab 42'!$B42,'00 SP'!J:J)","v":0},{"$f":"SUMIF('00 SP'!$A:$A,'Tab 42'!$B42,'00 SP'!K:K)","v":0},{"$f":"E42+F42-G42","v":0},{"$f":"SUMIF('00 PDC SP'!A:A,'Tab 42'!A42,'00 PDC SP'!N:N)","v":0},0,null,{"$f":"SUMIF('00 SP'!A:A,'Tab 42'!B42,'00 SP'!L:L)","v":0},{"$f":"H42-L42","v":0},{"$f":"IF(M42=0,\"OK\",\"CTRL\")","v":"OK"}]
[null,"PDA233"," Debiti v/Aziende sanitarie pubbliche della Regione per versamenti c/patrimonio netto - riripiano perdite",null,{"$f":"SUMIF('00 SP'!$A:$A,'Tab 42'!$B43,'00 SP'!I:I)","v":0},{"$f":"SUMIF('00 SP'!$A:$A,'Tab 42'!$B43,'00 SP'!J:J)","v":0},{"$f":"SUMIF('00 SP'!$A:$A,'Tab 42'!$B43,'00 SP'!K:K)","v":0},0,{"$f":"SUMIF('00 PDC SP'!A:A,'Tab 42'!A43,'00 PDC SP'!N:N)","v":0},0,null,{"$f":"SUMIF('00 SP'!A:A,'Tab 42'!B43,'00 SP'!L:L)","v":0},0,"OK"]
[null,"PDA234"," Debiti v/Aziende sanitarie pubbliche della Regione per anticipazione ripiano disavanzo programmato dai piani aziendali di cui all'art.1, comma 528, L.2018/2015",null,{"$f":"SUMIF('00 SP'!$A:$A,'Tab 42'!$B44,'00 SP'!I:I)","v":0},{"$f":"SUMIF('00 SP'!$A:$A,'Tab 42'!$B44,'00 SP'!J:J)","v":0},{"$f":"SUMIF('00 SP'!$A:$A,'Tab 42'!$B44,'00 SP'!K:K)","v":0},0,{"$f":"SUMIF('00 PDC SP'!A:A,'Tab 42'!A44,'00 PDC SP'!N:N)","v":0},0,null,{"$f":"SUMIF('00 SP'!A:A,'Tab 42'!B44,'00 SP'!L:L)","v":0},0,"OK"]
[null,"PDA235"," Debiti v/Aziende sanitarie pubbliche della Regione per versamenti c/patrimonio netto - altro",null,{"$f":"SUMIF('00 SP'!$A:$A,'Tab 42'!$B45,'00 SP'!I:I)","v":0},{"$f":"SUMIF('00 SP'!$A:$A,'Tab 42'!$B45,'00 SP'!J:J)","v":0},{"$f":"SUMIF('00 SP'!$A:$A,'Tab 42'!$B45,'00 SP'!K:K)","v":0},0,{"$f":"SUMIF('00 PDC SP'!A:A,'Tab 42'!A45,'00 PDC SP'!N:N)","v":0},0,null,{"$f":"SUMIF('00 SP'!A:A,'Tab 42'!B45,'00 SP'!L:L)","v":0},0,"OK"]
[null,null," TOTALE DEBITI V/AZIENDE SANITARIE PUBBLICHE",null,{"$f":"E29+E39+E40","v":2864734.54},{"$f":"F29+F39+F40","v":1250609.6599999999},1116693.5299999998,2998650.67,365929.23,0]
[]
[null,null," DEBITI V/SOCIETA' PARTECIPATE E/O ENTI DIPENDENTI",null,{"$f":"SUM(E49:E51)","v":0},{"$f":"SUM(F49:F51)","v":0},0,0,0,0]
[{"$f":"B49&\"FR\"","v":"PDA250FR"},"PDA250"," Debiti v/enti regionali:",null,{"$f":"SUMIF('00 SP'!$A:$A,'Tab 42'!$B49,'00 SP'!I:I)","v":0},{"$f":"SUMIF('00 SP'!$A:$A,'Tab 42'!$B49,'00 SP'!J:J)","v":0},{"$f":"SUMIF('00 SP'!$A:$A,'Tab 42'!$B49,'00 SP'!K:K)","v":0},{"$f":"E49+F49-G49","v":0},{"$f":"SUMIF('00 PDC SP'!A:A,'Tab 42'!A49,'00 PDC SP'!N:N)","v":0},0,null,{"$f":"SUMIF('00 SP'!A:A,'Tab 42'!B49,'00 SP'!L:L)","v":0},{"$f":"H49-L49","v":0},{"$f":"IF(M49=0,\"OK\",\"CTRL\")","v":"OK"}]
["PDA260FR","PDA260"," Debiti v/sperimentazioni gestionali:",null,{"$f":"SUMIF('00 SP'!$A:$A,'Tab 42'!$B50,'00 SP'!I:I)","v":0},{"$f":"SUMIF('00 SP'!$A:$A,'Tab 42'!$B50,'00 SP'!J:J)","v":0},{"$f":"SUMIF('00 SP'!$A:$A,'Tab 42'!$B50,'00 SP'!K:K)","v":0},0,{"$f":"SUMIF('00 PDC SP'!A:A,'Tab 42'!A50,'00 PDC SP'!N:N)","v":0},0,null,{"$f":"SUMIF('00 SP'!A:A,'Tab 42'!B50,'00 SP'!L:L)","v":0},0,"OK"]
["PDA270FR","PDA270"," Debiti v/altre partecipate:",null,{"$f":"SUMIF('00 SP'!$A:$A,'Tab 42'!$B51,'00 SP'!I:I)","v":0},{"$f":"SUMIF('00 SP'!$A:$A,'Tab 42'!$B51,'00 SP'!J:J)","v":0},{"$f":"SUMIF('00 SP'!$A:$A,'Tab 42'!$B51,'00 SP'!K:K)","v":0},0,{"$f":"SUMIF('00 PDC SP'!A:A,'Tab 42'!A51,'00 PDC SP'!N:N)","v":0},0,null,{"$f":"SUMIF('00 SP'!A:A,'Tab 42'!B51,'00 SP'!L:L)","v":0},0,"OK"]
[]
[{"$f":"B53&\"FR\"","v":"PDA280FR"},"PDA280"," DEBITI V/FORNITORI:",null,{"$f":"E54+E57","v":127487255.86000001},564142170.86000013,562932374.95000005,{"$f":"H54+H57","v":128697051.7700001},{"$f":"SUM(I54:I57)","v":0},1284440.29]
["PDA290FR","PDA290","Debiti verso erogatori (privati accreditati e convenzionati) di prestazioni sanitarie",null,{"$f":"SUMIF('00 SP'!$A:$A,'Tab 42'!$B54,'00 SP'!I:I)*-1","v":79336984.24000001},{"$f":"SUMIF('00 SP'!$A:$A,'Tab 42'!$B54,'00 SP'!J:J)*-1","v":204351599.66},{"$f":"SUMIF('00 SP'!$A:$A,'Tab 42'!$B54,'00 SP'!K:K)*-1","v":204792610.84000003},{"$f":"E54+F54-G54","v":78895973.059999943},{"$f":"SUMIF('00 PDC SP'!A:A,'Tab 42'!A54,'00 PDC SP'!N:N)","v":0},0,null,{"$f":"SUMIF('00 SP'!A:A,'Tab 42'!B54,'00 SP'!L:L)*-1","v":78895973.059999973},{"$f":"H54-L54","v":0},{"$f":"IF(M54=0,\"OK\",\"CTRL\")","v":"OK"}]
[null,"PDA291","Debiti verso erogatori (privati accreditati e convenzionati) di prestazioni sanitarie",null,{"$f":"SUMIF('00 SP'!$A:$A,'Tab 42'!$B55,'00 SP'!I:I)*-1","v":105233125.2},{"$f":"SUMIF('00 SP'!$A:$A,'Tab 42'!$B55,'00 SP'!J:J)*-1","v":206289070.38999999},{"$f":"SUMIF('00 SP'!$A:$A,'Tab 42'!$B55,'00 SP'!K:K)*-1","v":207630675.54000002},{"$f":"E55+F55-G55","v":103891520.04999995},{"$f":"SUMIF('00 PDC SP'!A:A,'Tab 42'!A55,'00 PDC SP'!N:N)","v":0},0,null,{"$f":"SUMIF('00 SP'!A:A,'Tab 42'!B55,'00 SP'!L:L)*-1","v":103891520.04999998},{"$f":"H55-L55","v":0},{"$f":"IF(M55=0,\"OK\",\"CTRL\")","v":"OK"}]
[null,"PDA292","Note di credito da ricevere privati accreditati e convenzionati",null,{"$f":"SUMIF('00 SP'!$A:$A,'Tab 42'!$B56,'00 SP'!I:I)*-1","v":-25896140.960000001},{"$f":"SUMIF('00 SP'!$A:$A,'Tab 42'!$B56,'00 SP'!J:J)*-1","v":-1937470.73},{"$f":"SUMIF('00 SP'!$A:$A,'Tab 42'!$B56,'00 SP'!K:K)*-1","v":-2838064.6999999997},-24995546.990000002,{"$f":"SUMIF('00 PDC SP'!A:A,'Tab 42'!A56,'00 PDC SP'!N:N)","v":0},0,null,{"$f":"SUMIF('00 SP'!A:A,'Tab 42'!B56,'00 SP'!L:L)*-1","v":-24995546.990000002},0,"OK"]
["PDA300FR","PDA300","Debiti verso altri fornitori",null,{"$f":"SUMIF('00 SP'!$A:$A,'Tab 42'!$B57,'00 SP'!I:I)*-1","v":48150271.619999997},{"$f":"SUMIF('00 SP'!$A:$A,'Tab 42'!$B57,'00 SP'!J:J)*-1","v":359790571.20000011},{"$f":"SUMIF('00 SP'!$A:$A,'Tab 42'!$B57,'00 SP'!K:K)*-1","v":358139764.10999995},49801078.710000157,{"$f":"SUMIF('00 PDC SP'!A:A,'Tab 42'!A57,'00 PDC SP'!N:N)","v":0},1284440.29,null,{"$f":"SUMIF('00 SP'!A:A,'Tab 42'!B57,'00 SP'!L:L)*-1","v":49801078.710000038},1.1920928955078125E-7,"CTRL"]
[null,"PDA301","Debiti verso altri fornitori",null,{"$f":"SUMIF('00 SP'!$A:$A,'Tab 42'!$B58,'00 SP'!I:I)*-1","v":49432682.259999998},{"$f":"SUMIF('00 SP'!$A:$A,'Tab 42'!$B58,'00 SP'!J:J)*-1","v":360529050.54000008},{"$f":"SUMIF('00 SP'!$A:$A,'Tab 42'!$B58,'00 SP'!K:K)*-1","v":359422174.74999994},{"$f":"E58+F58-G58","v":50539558.050000131},{"$f":"SUMIF('00 PDC SP'!A:A,'Tab 42'!A58,'00 PDC SP'!N:N)","v":0},1284440.29,null,{"$f":"SUMIF('00 SP'!A:A,'Tab 42'!B58,'00 SP'!L:L)*-1","v":50539558.050000042},{"$f":"H58-L58","v":8.9406967163085938E-8},{"$f":"IF(M58=0,\"OK\",\"CTRL\")","v":"CTRL"}]
[null,"PDA302","Note di credito da ricevere altri fornitori altri fornitori",null,{"$f":"SUMIF('00 SP'!$A:$A,'Tab 42'!$B59,'00 SP'!I:I)*-1","v":-1282410.6399999999},{"$f":"SUMIF('00 SP'!$A:$A,'Tab 42'!$B59,'00 SP'!J:J)*-1","v":-738479.34},{"$f":"SUMIF('00 SP'!$A:$A,'Tab 42'!$B59,'00 SP'!K:K)*-1","v":-1282410.6399999999},-738479.34000000008,{"$f":"SUMIF('00 PDC SP'!A:A,'Tab 42'!A59,'00 PDC SP'!N:N)","v":0},null,null,{"$f":"SUMIF('00 SP'!A:A,'Tab 42'!B59,'00 SP'!L:L)*-1","v":-738479.34000000008},0,"OK"]
[]
[{"$f":"B61&\"FR\"","v":"PDA310FR"},"PDA310"," DEBITI V/ISTITUTO TESORIERE",null,{"$f":"SUMIF('00 SP'!$A:$A,'Tab 42'!$B61,'00 SP'!I:I)","v":0},{"$f":"SUMIF('00 SP'!$A:$A,'Tab 42'!$B61,'00 SP'!J:J)","v":0},{"$f":"SUMIF('00 SP'!$A:$A,'Tab 42'!$B61,'00 SP'!K:K)","v":0},{"$f":"E61+F61-G61","v":0},{"$f":"SUMIF('00 PDC SP'!A:A,'Tab 42'!A61,'00 PDC SP'!N:N)","v":0},0,null,{"$f":"SUMIF('00 SP'!A:A,'Tab 42'!B61,'00 SP'!L:L)","v":0},{"$f":"H61-L61","v":0},{"$f":"IF(M61=0,\"OK\",\"CTRL\")","v":"OK"}]
[]
[{"$f":"B63&\"FR\"","v":"PDA320FR"},"PDA320"," DEBITI TRIBUTARI: di cui ",null,{"$f":"SUMIF('00 SP'!$A:$A,'Tab 42'!$B63,'00 SP'!I:I)*-1","v":4136001.9},{"$f":"SUMIF('00 SP'!$A:$A,'Tab 42'!$B63,'00 SP'!J:J)*-1","v":82084331.469999999},{"$f":"SUMIF('00 SP'!$A:$A,'Tab 42'!$B63,'00 SP'!K:K)*-1","v":74410482.609999999},{"$f":"E63+F63-G63","v":11809850.760000005},{"$f":"SUMIF('00 PDC SP'!A:A,'Tab 42'!A63,'00 PDC SP'!N:N)","v":0},0,null,{"$f":"SUMIF('00 SP'!A:A,'Tab 42'!B63,'00 SP'!L:L)*-1","v":11809850.760000004},0,{"$f":"IF(M63=0,\"OK\",\"CTRL\")","v":"OK"}]
[null,"0205090102","Erario c/Ritenute su Lavoro Autonomo",null,466216.04,5743923.54,5302657.1100000003,907482.46999999974]
[null,"0205090103","Erario c/Ritenute su Lavoro Dipendente",null,794116.56,33068904.489999998,28161545.109999999,5701475.9399999976]
[null,"0205090104","Erario c/ IVA",null,{"$f":"(8412.86+6418.27+62.76)","v":14893.890000000001},469210.08,405107.47,78996.500000000058]
[null,"0205090105","Erario / conto Irap",null,221215.56,12358546.83,10565136.439999999,2014625.9500000011]
[null,"0205090107","Debiti IVA SPLIT PAYMENT",null,2639559.8199999998,29572329.050000001,29104619,{"$f":"E68+F68-G68","v":3107269.870000001}]
[]
[{"$f":"B70&\"FR\"","v":"PDA330FR"},"PDA330"," DEBITI V/ISTITUTI PREVIDENZIALI, ASSISTENZIALI E SICUREZZA SOCIALE:",null,{"$f":"SUMIF('00 SP'!$A:$A,'Tab 42'!$B70,'00 SP'!I:I)*-1","v":1520455.04},{"$f":"SUMIF('00 SP'!$A:$A,'Tab 42'!$B70,'00 SP'!J:J)*-1","v":60322035.579999998},{"$f":"SUMIF('00 SP'!$A:$A,'Tab 42'!$B70,'00 SP'!K:K)*-1","v":52822795.079999998},{"$f":"E70+F70-G70","v":9019695.5399999991},{"$f":"SUMIF('00 PDC SP'!A:A,'Tab 42'!A70,'00 PDC SP'!N:N)","v":0},0,null,{"$f":"SUMIF('00 SP'!A:A,'Tab 42'!B70,'00 SP'!L:L)*-1","v":9019695.5400000028},{"$f":"H70-L70","v":0},{"$f":"IF(M70=0,\"OK\",\"CTRL\")","v":"OK"}]
[]
[{"$f":"B72&\"FR\"","v":"PDA340FR"},"PDA340"," DEBITI V/ALTRI:",null,{"$f":"SUM(E73:E76)","v":16674727.08},{"$f":"SUM(F73:F76)","v":108166669.94},103305061.70999999,21536335.31000001,458906.17,0,null,{"$f":"SUMIF('00 SP'!A:A,'Tab 42'!B72,'00 SP'!L:L)*-1","v":21536335.309999999},{"$f":"H72-L72","v":0},{"$f":"IF(M72=0,\"OK\",\"CTRL\")","v":"OK"}]
["PDA350FR","PDA350"," Debiti v/altri finanziatori",null,{"$f":"SUMIF('00 SP'!$A:$A,'Tab 42'!$B73,'00 SP'!I:I)","v":0},{"$f":"SUMIF('00 SP'!$A:$A,'Tab 42'!$B73,'00 SP'!J:J)","v":0},{"$f":"SUMIF('00 SP'!$A:$A,'Tab 42'!$B73,'00 SP'!K:K)","v":0},{"$f":"E73+F73-G73","v":0},{"$f":"SUMIF('00 PDC SP'!A:A,'Tab 42'!A73,'00 PDC SP'!N:N)","v":0},0,null,{"$f":"SUMIF('00 SP'!A:A,'Tab 42'!B73,'00 SP'!L:L)","v":0},0,"OK"]
["PDA360FR","PDA360"," Debiti v/dipendenti",null,{"$f":"SUMIF('00 SP'!$A:$A,'Tab 42'!$B74,'00 SP'!I:I)*-1","v":15511132.59},{"$f":"SUMIF('00 SP'!$A:$A,'Tab 42'!$B74,'00 SP'!J:J)*-1","v":99619014.390000001},{"$f":"SUMIF('00 SP'!$A:$A,'Tab 42'!$B74,'00 SP'!K:K)*-1","v":95304606.739999995},19825540.24000001,{"$f":"SUMIF('00 PDC SP'!A:A,'Tab 42'!A74,'00 PDC SP'!N:N)","v":0},0,null,{"$f":"SUMIF('00 SP'!A:A,'Tab 42'!B74,'00 SP'!L:L)*-1","v":19825540.239999998},0,"OK"]
["PDA370FR","PDA370"," Debiti v/gestioni liquidatorie",null,{"$f":"SUMIF('00 SP'!$A:$A,'Tab 42'!$B75,'00 SP'!I:I)","v":0},{"$f":"SUMIF('00 SP'!$A:$A,'Tab 42'!$B75,'00 SP'!J:J)","v":0},{"$f":"SUMIF('00 SP'!$A:$A,'Tab 42'!$B75,'00 SP'!K:K)","v":0},0,{"$f":"SUMIF('00 PDC SP'!A:A,'Tab 42'!A75,'00 PDC SP'!N:N)","v":0},0,null,{"$f":"SUMIF('00 SP'!A:A,'Tab 42'!B75,'00 SP'!L:L)","v":0},0,"OK"]
["PDA380FR","PDA380"," Altri debiti diversi:",null,{"$f":"SUMIF('00 SP'!$A:$A,'Tab 42'!$B76,'00 SP'!I:I)*-1","v":1163594.49},{"$f":"SUMIF('00 SP'!$A:$A,'Tab 42'!$B76,'00 SP'!J:J)*-1","v":8547655.5499999989},{"$f":"SUMIF('00 SP'!$A:$A,'Tab 42'!$B76,'00 SP'!K:K)*-1","v":8000454.9700000007},{"$f":"E76+F76-G76","v":1710795.0699999984},{"$f":"SUMIF('00 PDC SP'!A:A,'Tab 42'!A76,'00 PDC SP'!N:N)*-1","v":458906.17},0,null,{"$f":"SUMIF('00 SP'!A:A,'Tab 42'!B76,'00 SP'!L:L)*-1","v":1710795.0699999989},0,"OK"]
[null,"0205110402","Debiti verso organi direttivi ed istituzionali",null,403.8,179229.48,179229.48,{"$f":"E77+F77-G77","v":403.79999999998836}]
[null,"0205110403","Debiti verso assistiti",null,242859.56,2312994.21,2361992.7799999998,{"$f":"E78+F78-G78","v":193860.99000000022}]
[null,"0205110404","Altri debiti diversi",null,468223.48000000004,5019021.2699999996,4624004.6500000004,{"$f":"E79+F79-G79","v":863240.09999999963}]
[null,"0205110407","Debiti verso altro personale esterno",null,37429.72,299622.90999999997,159059.34,177993.29]
[null,"0205110408","Debiti verso altro personale universitario",null,0,16390.72,0,16390.72]
[null,"0205110409","Fatture da ricevere altri debiti diversi",null,416963,465663.78,416963,465663.78]
[null,"0102022641","note credito da ricevere",null,-2286.0100000000002,-6757.61,-2286.0100000000002,{"$f":"E83+F83-G83","v":-6757.6099999999988}]

{"sheet":"Tab 43","index":44,"n_rows":125,"n_cols":20,"rows_kept":125,"cut":false,"hidden":false,"merged":[[121,3,121,4],[121,5,121,6],[122,3,122,4],[122,5,122,6],[124,0,128,10],[119,0,119,10],[117,0,117,10],[44,0,45,0],[44,1,45,1],[44,2,44,10],[7,1,7,2],[10,1,10,2],[11,0,11,2],[22,1,22,2],[13,0,20,3],[8,1,8,2],[9,1,9,2],[2,1,2,2],[3,1,3,2],[4,1,4,2],[5,1,5,2],[6,1,6,2],[43,1,43,10],[23,1,23,2],[24,1,24,2],[25,1,25,2],[27,1,27,2],[26,1,26,2],[36,1,36,2],[37,0,37,2],[33,1,33,2],[28,1,28,2],[29,1,29,2],[30,1,30,2],[31,1,31,2],[35,1,35,2],[32,1,32,2],[34,1,34,2]]}
["Di seguito si riporta il dettaglio della composizione della voce \"Debiti verso aziende sanitarie pubbliche della Regione - altre prestazioni\":"]
[]
["Codice Conto","Descrizione",null,"Saldo al 31/12/2019"]
["0205050607","Debiti verso ASL di Teramo per altre prestazioni",null,2117900.9]
["0205050608","Fatture da ricevere verso ASL di Teramo per altre prestazioni",null,60702.32]
["0205050601","Debiti verso ASL di Avezzano Sulmona L'Aquila per altre prestazioni",null,277080.21000000002]
["0205050602","Fatture da ricevere  ASL di Avezzano Sulmona L'Aquila per altre prestazioni",null,239701.34]
["0205050603","Debiti verso ASL di Lanciano Vasto Chieti per altre prestazioni",null,88545.05]
["0205050604","Fatture da ricevere verso ASL di Lanciano Vasto Chieti per altre prestazioni",null,23166]
["0102022625","Note Credito  da ricevere verso ASL di Teramo per altre prestazioni",null,-46.78]
["0102022623","Note credito da ricevere v/ASL Lanciano Vasto Chieti per altre prestazioni",null,-23908.5]
["TOTALE",null,null,{"$f":"SUM(D4:D11)","v":2783140.5399999996}]
[]
["Il conto \"Debiti verso ASL di Teramo\" accoglie anche le registrazioni di documenti antecedenti alla data di adozione del nuovo Piano dei Conti. Infatti, il nuovo Piano dei Conti declina i debiti verso ASL in base a ciascuna azienda creditrice, a differenza del precedente Piano dei Conti, che prevedeva un conto unico. Si è ritenuto opportuno non riclassificare i debiti artificiosamente da un conto all'altro. Ad ogni buon conto, si fa presente che la ripartizione del debito dell'Azienda verso le ASL della Regione è evidenziata nella tabella 46. "]
[]
[]
[]
[]
[]
[]
[]
[]
["Codice Conto","Descrizione",null,"Saldo al 31/12/2019"]
["0205110203","Debiti verso personale retribuzioni esercizi precedenti",null,1553079.47]
["0205110204","Debiti verso il personale dipendente per fondi aziendali esercizi precedenti",null,15390896.949999999]
["0205110206","Altri Debiti verso il personale dipendente per ferie maturate e non godute",null,167976.79]
["0205110207","Altri debiti verso il personale dipendente ",null,2713587.03]
["0205110302","Debiti verso Organi Direttivi e Istituzionali",null,403.8]
["0205110403","Debiti verso assistiti",null,193860.99]
["020511040401","Altri debiti diversi",null,753213.47]
["020511040404","Depositi cauzionali",null,2073.6999999999998]
["020511040405","Fondo Perseo",null,107952.93]
["0205110406","Debiti verso  personale tirocinanti e borsisti",null,0]
["0205110407","Debiti verso altro personale esterno",null,177993.29]
["0205110408","Debiti verso altro personale Universitario",null,16390.62]
["0205110409","Fatture da ricevere altri debiti diversi",null,465663.782999622]
["0102022641","note credito da ricevere",null,-6757.61]
["TOTALE",null,null,{"$f":"SUM(D24:D37)","v":21536335.21299962}]
[]
[]
[]
[]
[]
[null,"Tab. 43 – Dettaglio dei debiti per anno di formazione"]
["CODICE MOD. SP","DEBITI",{"$f":"\"VALORE DEI DEBITI AL 31/12/\" &'00 PDC SP'!$F$2& \" PER ANNO DI FORMAZIONE\"","v":"VALORE DEI DEBITI AL 31/12/2019 PER ANNO DI FORMAZIONE"}]
[null,null,{"$f":"\"Anno \"&'00 PDC SP'!$F$2-8 &\" e precedenti\"","v":"Anno 2011 e precedenti"},{"$f":"\"Anno \"&'00 PDC SP'!$F$2-7","v":"Anno 2012"},{"$f":"\"Anno \"&'00 PDC SP'!$F$2-6","v":"Anno 2013"},{"$f":"\"Anno \"&'00 PDC SP'!$F$2-5","v":"Anno 2014"},{"$f":"\"Anno \"&'00 PDC SP'!$F$2-4","v":"Anno 2015"},{"$f":"\"Anno \"&'00 PDC SP'!$F$2-3","v":"Anno 2016"},{"$f":"\"Anno \"&'00 PDC SP'!$F$2-2","v":"Anno 2017"},{"$f":"\"Anno \"&'00 PDC SP'!$F$2-1","v":"Anno 2018"},{"$f":"\"Anno \"&'00 PDC SP'!$F$2","v":"Anno 2019"},null,"Importo SP","Diff","Ctrl"]
["PDA000"," MUTUI PASSIVI",0,0,0,0,0,0,0,0,0,null,{"$f":"SUMIF('00 SP'!A:A,'Tab 43'!A47,'00 SP'!L:L)","v":0},{"$f":"(C47+E47+F47+G47+H47+I47+J47+K47+D47)-M47","v":0},{"$f":"IF(N47=0,\"OK\",\"CTRL\")","v":"OK"}]
[]
[null," DEBITI V/STATO",{"$f":"C50+C51+C52+C53+C54","v":0},{"$f":"D50+D51+D52+D53+D54","v":0},{"$f":"E50+E51+E52+E53+E54","v":0},0,0,0,0,0,0,null,0]
["PDA020"," Debiti v/Stato per mobilità passiva extraregionale",0,null,null,0,0,0,0,0,0,null,{"$f":"SUMIF('00 SP'!A:A,'Tab 43'!A50,'00 SP'!L:L)","v":0},{"$f":"(C50+E50+F50+G50+H50+I50+J50+K50+D50)-M50","v":0},{"$f":"IF(N50=0,\"OK\",\"CTRL\")","v":"OK"}]
["PDA030"," Debiti v/Stato per mobilità passiva internazionale",0,null,null,0,0,0,0,0,0,null,{"$f":"SUMIF('00 SP'!A:A,'Tab 43'!A51,'00 SP'!L:L)","v":0},0,"OK"]
["PDA040"," Acconto quota FSR v/Stato",0,null,null,0,0,0,0,0,0,null,{"$f":"SUMIF('00 SP'!A:A,'Tab 43'!A52,'00 SP'!L:L)","v":0},0,"OK"]
["PDA050"," Debiti v/Stato per restituzione finanziamenti - per ricerca:",0,null,null,0,0,0,0,0,0,null,{"$f":"SUMIF('00 SP'!A:A,'Tab 43'!A53,'00 SP'!L:L)","v":0},0,"OK"]
["PDA060"," Altri debiti v/Stato",0,null,null,0,0,0,0,0,0,null,{"$f":"SUMIF('00 SP'!A:A,'Tab 43'!A54,'00 SP'!L:L)","v":0},0,"OK"]
[]
[null," DEBITI V/REGIONE O PROVINCIA AUTONOMA",{"$f":"SUM(C57:C65)","v":2109444},{"$f":"SUM(D57:D65)","v":0},{"$f":"SUM(E57:E65)","v":231},1320750,6100123.0899999999,9550118,10744438.85,471098.73,5596298.9400000004,null,-35892502.609999999]
["PDA080"," Debiti v/Regione o Provincia Autonoma per finanziamenti",0,0,null,0,0,0,0,0,0,null,{"$f":"SUMIF('00 SP'!A:A,'Tab 43'!A57,'00 SP'!L:L)","v":0},{"$f":"(C57+E57+F57+G57+H57+I57+J57+K57+D57)+M57","v":0},{"$f":"IF(N57=0,\"OK\",\"CTRL\")","v":"OK"}]
["PDA081"," Debiti v/Regione o Provincia Autonoma per finanziamenti",null,null,null,null,null,null,null,null,null,null,null,{"$f":"(C58+E58+F58+G58+H58+I58+J58+K58+D58)+M58","v":0}]
["PDA090"," Debiti v/Regione o Provincia Autonoma per mobilità passiva intraregionale",0,0,0,0,0,{"$f":"7443441+2437079-330402","v":9550118},{"$f":"13115797.28-1976641-394717.43","v":10744438.85},{"$f":"471787.73-689","v":471098.73},0,null,{"$f":"SUMIF('00 SP'!A:A,'Tab 43'!A59,'00 SP'!L:L)","v":-20765655.579999998},0,"OK"]
["PDA100"," Debiti v/Regione o Provincia Autonoma per mobilità passiva extraregionale",2109444,0,231,1320750,6100123.0899999999,0,0,0,0,null,{"$f":"SUMIF('00 SP'!A:A,'Tab 43'!A60,'00 SP'!L:L)","v":-9530548.0900000036},0,"OK"]
["PDA101"," Debiti v/Regione o Provincia Autonoma per mobilità passiva internazionale",null,null,null,null,null,null,null,null,null,null,null,0]
["PDA110"," Acconto quota FSR da Regione o Provincia Autonoma",0,0,0,0,0,0,0,0,0,null,{"$f":"SUMIF('00 SP'!A:A,'Tab 43'!A62,'00 SP'!L:L)","v":0},0,"OK"]
["PDA111","Acconto  da Regione o Provincia Autonoma per anticipazione ripiano disavanzo programmatico dai piani aziendali di cui all'art1, comma 528, L.208 /2015",0,0,0,0,0,0,0,0,0,null,null,0]
["PDA112"," Acconto  da Regione o Provincia Autonoma per contributi legge 210/92",0,0,0,0,0,0,0,0,0,null,null,0]
["PDA120"," Altri debiti v/Regione o Provincia Autonoma GSA",0,0,null,0,0,0,0,0,5596298.9400000004,null,{"$f":"SUMIF('00 SP'!A:A,'Tab 43'!A65,'00 SP'!L:L)","v":-5596298.9400000004},0,"OK"]
["PDA121"," Altri debiti v/Regione o Provincia Autonoma"]
[]
["PDA130"," DEBITI V/COMUNI:",0,0,null,0,0,0,0,150000,0,null,{"$f":"SUMIF('00 SP'!A:A,'Tab 43'!A68,'00 SP'!L:L)","v":-150000},{"$f":"(C68+E68+F68+G68+H68+I68+J68+K68+D68)+M68","v":0},"OK"]
[null,"…"]
[]
[null," DEBITI V/AZIENDE SANITARIE PUBBLICHE DELLA REGIONE",{"$f":"SUM(C72:C77)","v":0},{"$f":"SUM(D72:D77)","v":0},240343,207454.14,688170,188894.81,688465.37,290317.23,479495.99,null,-2783140.5399999996]
["PDA160"," Debiti v/Aziende sanitarie pubbliche della Regione - per quota FSR",0,0,0,0,0,0,0,0,0,null,{"$f":"SUMIF('00 SP'!A:A,'Tab 43'!A72,'00 SP'!L:L)","v":0},{"$f":"(C72+E72+F72+G72+H72+I72+J72+K72+D72)+M72","v":0},{"$f":"IF(N72=0,\"OK\",\"CTRL\")","v":"OK"}]
["PDA170"," Debiti v/Aziende sanitarie pubbliche della Regione - finanziamento sanitario aggiuntivo corrente LEA",0,0,0,0,0,0,0,0,0,null,{"$f":"SUMIF('00 SP'!A:A,'Tab 43'!A73,'00 SP'!L:L)","v":0},0,"OK"]
["PDA180"," Debiti v/Aziende sanitarie pubbliche della Regione - finanziamento sanitario aggiuntivo corrente extra LEA",0,0,0,0,0,0,0,0,0,null,{"$f":"SUMIF('00 SP'!A:A,'Tab 43'!A74,'00 SP'!L:L)","v":0},0,"OK"]
["PDA190"," Debiti v/Aziende sanitarie pubbliche della Regione - mobilità in compensazione",0,0,0,0,0,0,0,0,0,null,{"$f":"SUMIF('00 SP'!A:A,'Tab 43'!A75,'00 SP'!L:L)","v":0},0,"OK"]
["PDA200"," Debiti v/Aziende sanitarie pubbliche della Regione - mobilità non in compensazione",0,0,0,0,0,0,0,0,0,null,{"$f":"SUMIF('00 SP'!A:A,'Tab 43'!A76,'00 SP'!L:L)","v":0},0,"OK"]
["PDA210"," Debiti v/Aziende sanitarie pubbliche della Regione - altre prestazioni",0,0,240343,207454.14,688170,188894.81,{"$f":"688465.37","v":688465.37},290317.23,{"$f":"497495.99-18000","v":479495.99},null,{"$f":"SUMIF('00 SP'!A:A,'Tab 43'!A77,'00 SP'!L:L)","v":-2783140.5399999996},0,"OK"]
["PDA220"," Debiti v/Aziende Sanitarie pubbliche fuori Regione",0,0,2391,7167,8776,2206.5,4691.1499999999996,7744.31,182534.17,null,{"$f":"SUMIF('00 SP'!A:A,'Tab 43'!A78,'00 SP'!L:L)","v":-215510.12999999995},0,"OK"]
["PDA230"," Debiti v/Aziende sanitarie pubbliche della Regione per versamenti c/patrimonio netto",0,null,0,0,0,0,0,0,0,null,{"$f":"SUMIF('00 SP'!A:A,'Tab 43'!A79,'00 SP'!L:L)","v":0},0,"OK"]
["PDA231"," Debiti v/Aziende sanitarie pubbliche della Regione per versamenti c/patrimonio netto -  finanziamenti per investimenti ",0,null,0,0,0,0,0,0,0,null,{"$f":"SUMIF('00 SP'!A:A,'Tab 43'!A80,'00 SP'!L:L)","v":0},0,{"$f":"IF(N80=0,\"OK\",\"CTRL\")","v":"OK"}]
["PDA232"," Debiti v/Aziende sanitarie pubbliche della Regione per versamenti c/patrimonio netto - incremento fondo dotazione",0,null,0,0,0,0,0,0,0,null,{"$f":"SUMIF('00 SP'!A:A,'Tab 43'!A81,'00 SP'!L:L)","v":0},0,{"$f":"IF(N81=0,\"OK\",\"CTRL\")","v":"OK"}]
["PDA233"," Debiti v/Aziende sanitarie pubbliche della Regione per versamenti c/patrimonio netto - riripiano perdite",0,null,0,0,0,0,0,0,0,null,{"$f":"SUMIF('00 SP'!A:A,'Tab 43'!A82,'00 SP'!L:L)","v":0},0,"OK"]
["PDA234"," Debiti v/Aziende sanitarie pubbliche della Regione per anticipazione ripiano disavanzo programmato dai piani aziendali di cui all'art.1, comma 528, L.2018/2015",0,null,0,0,0,0,0,0,0,null,{"$f":"SUMIF('00 SP'!A:A,'Tab 43'!A83,'00 SP'!L:L)","v":0},0,"OK"]
["PDA235"," Debiti v/Aziende sanitarie pubbliche della Regione per versamenti c/patrimonio netto - altro",0,null,0,0,0,0,0,0,0,null,{"$f":"SUMIF('00 SP'!A:A,'Tab 43'!A84,'00 SP'!L:L)","v":0},0,"OK"]
[null," TOTALE DEBITI V/AZIENDE SANITARIE PUBBLICHE",{"$f":"C71+C78+C79","v":0},0,242734,214621.14,696946,191101.31,693156.52,298061.53999999998,662030.16,null,{"$f":"M71+M78+M79","v":-2998650.6699999995},0,"OK"]
[null," DEBITI V/SOCIETA' PARTECIPATE E/O ENTI DIPENDENTI",{"$f":"SUM(C87:C89)","v":0},null,0,{"$f":"SUM(F87:F89)","v":0},0,0,0,0,0,null,0,0]
["PDA250"," Debiti v/enti regionali:",0,null,0,0,0,0,0,0,0,null,{"$f":"SUMIF('00 SP'!A:A,'Tab 43'!A87,'00 SP'!L:L)","v":0},0,{"$f":"IF(N87=0,\"OK\",\"CTRL\")","v":"OK"}]
["PDA260"," Debiti v/sperimentazioni gestionali:",0,null,0,0,0,0,0,0,0,null,{"$f":"SUMIF('00 SP'!A:A,'Tab 43'!A88,'00 SP'!L:L)","v":0},0,"OK"]
["PDA270"," Debiti v/altre partecipate:",0,null,0,0,0,0,0,0,0,null,{"$f":"SUMIF('00 SP'!A:A,'Tab 43'!A89,'00 SP'!L:L)","v":0},0,"OK",null,"ok"]
[]
["PDA280"," DEBITI V/FORNITORI:",{"$f":"C92+C95","v":31128681.789999999},{"$f":"D92+D95","v":303740.13999999966},2052123.8899999997,800305.07000000018,1558991.6900000002,1704631.56,2172218.5699999998,7968724.9000000004,81007634.159999996,null,{"$f":"M92+M95","v":-128697051.77000001}]
["PDA290","Debiti verso erogatori (privati accreditati e convenzionati) di prestazioni sanitarie",{"$f":"C93+C94","v":31128681.789999999},{"$f":"D93+D94","v":303740.13999999966},1928875.0099999998,413366.70000000019,1017838.1600000001,1441758.49,1472021.71,5070066,36119625.059999995,null,{"$f":"SUMIF('00 SP'!A:A,'Tab 43'!A92,'00 SP'!L:L)","v":-78895973.059999973},{"$f":"(C92+E92+F92+G92+H92+I92+J92+K92+D92)+M92","v":0},{"$f":"IF(N92=0,\"OK\",\"CTRL\")","v":"OK"}]
["PDA291","Debiti verso erogatori (privati accreditati e convenzionati) di prestazioni sanitarie",38503426,4706669.71,7033975.0099999998,3033715.39,4572791.83,1441758.49,1472021.71,5070066,38057095.909999996,null,{"$f":"SUMIF('00 SP'!A:A,'Tab 43'!A93,'00 SP'!L:L)","v":-103891520.04999998},0,{"$f":"IF(N93=0,\"OK\",\"CTRL\")","v":"OK"}]
["PDA292","Note di credito da ricevere privati accreditati e convenzionati",{"$f":"-6326374.7-1048369.51","v":-7374744.21},-4402929.57,-5105100,-2620348.69,-3554953.67,0,0,0,{"$f":"-113857.3-1823613.55","v":-1937470.85},null,{"$f":"SUMIF('00 SP'!A:A,'Tab 43'!A94,'00 SP'!L:L)","v":24995546.990000002},0,"OK"]
["PDA300","Debiti verso altri fornitori",{"$f":"C97+C96","v":0},{"$f":"D97+D96","v":0},123248.88,386938.37,541153.53,262873.07,700196.86,2898658.9,44888009.099999994,null,{"$f":"SUMIF('00 SP'!A:A,'Tab 43'!A95,'00 SP'!L:L)","v":-49801078.710000038},0,"OK",null,"ok"]
["PDA301","Debiti verso altri fornitori",0,0,123248.88,386938.37,541153.53,262873.07,700196.86,2898658.9,{"$f":"55452627.66-9826139.22","v":45626488.439999998},null,{"$f":"SUMIF('00 SP'!A:A,'Tab 43'!A96,'00 SP'!L:L)","v":-50539558.050000042},0,{"$f":"IF(N96=0,\"OK\",\"CTRL\")","v":"OK"}]
["PDA302","Note di credito da ricevere altri fornitori altri fornitori",0,0,0,0,0,0,0,0,-738479.34,null,{"$f":"SUMIF('00 SP'!A:A,'Tab 43'!A97,'00 SP'!L:L)","v":738479.34000000008},0,"OK"]
[]
["PDA310"," DEBITI V/ISTITUTO TESORIERE",0,0,0,0,0,0,0,0,0,null,{"$f":"SUMIF('00 SP'!A:A,'Tab 43'!A99,'00 SP'!L:L)","v":0},{"$f":"(C99+E99+F99+G99+H99+I99+J99+K99+D99)-M99","v":0},"OK"]
[]
["PDA320"," DEBITI TRIBUTARI:",0,0,0,0,0,0,0,0,11809850.76,null,{"$f":"SUMIF('00 SP'!A:A,'Tab 43'!A101,'00 SP'!L:L)","v":-11809850.760000004},{"$f":"(C101+E101+F101+G101+H101+I101+J101+K101+D101)+M101","v":0},"OK",null,"ok"]
[]
["PDA330"," DEBITI V/ISTITUTI PREVIDENZIALI, ASSISTENZIALI E SICUREZZA SOCIALE:",0,0,0,0,0,0,0,0,9019695.5399999991,null,{"$f":"SUMIF('00 SP'!A:A,'Tab 43'!A103,'00 SP'!L:L)","v":-9019695.5400000028},{"$f":"(C103+E103+F103+G103+H103+I103+J103+K103+D103)+M103","v":0},"OK",null,"ok"]
[]
["PDA340"," DEBITI V/ALTRI:",{"$f":"C107+C109","v":0},0,0,0,0,0,2592527.33,4578242.9099999992,{"$f":"K107+K109+K108","v":14365565.07},null,{"$f":"M107+M109+M108","v":-21536335.309999999},{"$f":"(C105+E105+F105+G105+H105+I105+J105+K105+D105)+M105","v":0}]
["PDA350"," Debiti v/altri finanziatori",0,0,0,0,0,0,0,0,0,null,{"$f":"SUMIF('00 SP'!A:A,'Tab 43'!A106,'00 SP'!L:L)","v":0},{"$f":"(C106+E106+F106+G106+H106+I106+J106+K106+D106)-M106","v":0},{"$f":"IF(N106=0,\"OK\",\"CTRL\")","v":"OK"}]
["PDA360"," Debiti v/dipendenti",0,0,0,0,0,0,{"$f":"2452737.67+139789.66","v":2592527.33},{"$f":"11262718.11-7619287.9-274168.63-22303.13+1231284.46","v":4578242.9099999992},{"$f":"9676865+1124702+1853203","v":12654770},null,{"$f":"SUMIF('00 SP'!A:A,'Tab 43'!A107,'00 SP'!L:L)","v":-19825540.239999998},{"$f":"(C107+E107+F107+G107+H107+I107+J107+K107+D107)+M107","v":0},"OK"]
["PDA370"," Debiti v/gestioni liquidatorie",0,0,0,0,0,0,0,0,0,null,{"$f":"SUMIF('00 SP'!A:A,'Tab 43'!A108,'00 SP'!L:L)","v":0},0,"OK"]
["PDA380"," Altri debiti diversi:",{"$f":"SUM(C110:C116)","v":0},0,0,{"$f":"SUM(F110:F116)","v":0},0,0,0,0,1710795.0699999998,null,{"$f":"SUMIF('00 SP'!A:A,'Tab 43'!A109,'00 SP'!L:L)","v":-1710795.0699999989},{"$f":"(C109+E109+F109+G109+H109+I109+J109+K109+D109)+M109","v":0},"OK",null,null,null,null,41238057]
[null,"Debiti verso organi direttivi ed istituzionali",0,0,0,0,0,0,0,0,404,null,{"$f":"SUMIF('00 SP'!A:A,'Tab 43'!A110,'00 SP'!L:L)","v":0},null,null,null,null,null,null,-10673822]
[null,"Debiti verso assistiti",0,0,0,0,0,0,0,0,193861,null,{"$f":"SUMIF('00 SP'!A:A,'Tab 43'!A111,'00 SP'!L:L)","v":0},null,null,null,null,null,null,-59323]
[null,"Altri debiti diversi",0,0,0,0,0,0,0,0,{"$f":"753213.47+2073.7+107952.93","v":863240.09999999986},null,{"$f":"SUMIF('00 SP'!A:A,'Tab 43'!A112,'00 SP'!L:L)","v":0},null,null,null,null,null,null,37332]
[null,"Debiti verso altro personale esterno",0,0,0,0,0,0,0,0,177993,null,{"$f":"SUMIF('00 SP'!A:A,'Tab 43'!A113,'00 SP'!L:L)","v":0},null,null,null,null,null,null,{"$f":"SUM(T109:T112)","v":30542244}]
[null,"Debiti verso altro personale universitario",0,0,0,0,0,0,0,0,16390.72]
[null,"Fatture da ricevere altri debiti diversi",0,0,0,0,0,0,0,0,465663.78,null,{"$f":"SUMIF('00 SP'!A:A,'Tab 43'!A115,'00 SP'!L:L)","v":0}]
[null,"note credito da ricevere",0,0,0,0,0,0,0,0,-6757.53,null,{"$f":"SUMIF('00 SP'!A:A,'Tab 43'!A116,'00 SP'!L:L)","v":0},null,null,"OK"]
[]
["La Voce di SP  \"Debiti verso erogatori (privati accreditati e convenzionati) di prestazioni sanitarie\" comprende, per € 4.635.823, debiti riferiti all'aggregazione \" debiti verso altri fornitori\" (Tabella 43). Tale circostanza è ascrivibile alla diversa classificazione delle voci di debito tra il piano dei conti vigente alla data del 31/12/2012 e quello in uso alla data di elaborazione del bilancio di esercizio al 31/12/2019. Inoltre i debiti ancora aperti al 31/12/2010 di €/000 31.129 , sono riferiti in gran parte  a fatture in contenzioso con la Curatela Fallimentare Gruppo Villa Pini. l'ammontare di tale debito è di circa €/000 27.296 "]
[]
["Nella tabella sottostante si da evidenza della variazione dei debiti  con separata evidenza ai debiti di formazione 2019 e alla diminuzione dei debiti di competenza dell'anno 2019 e precedenti."]
[]
["Voce di SP","descrizione","saldo al 31/12/2018","pagamenti effettuati al 31/12/2019",null,"debiti di formazione 2018 aperti al 31/12/2019",null,"saldo al 31/12/2019"]
["PDA280","Debiti verso  fornitori",127487,{"$f":"C123-H123+F123","v":79797},null,81007,null,128697]
[]
["Con riferimento ai debiti, periodicamente l’Ufficio SEF effettua un’attività di monitoraggio degli stessi, inviando agli Uffici liquidatori un dettaglio delle partite aperte e non ancora pagate, affinchè i servizi competenti provvedano alla liquidazione, in presenza delle condizioni necessarie, ovvero a comunicare eventuali partite debitorie insussistenti. La tabella sopra riportata indica come alla data del 31/12/2018 l’aggregato “Debiti verso fornitori” presentava un saldo pari a €/000 127.487 ;  durante l’esercizio successivo, sono stati effettuati pagamenti riferiti a tale massa debitoria per un importo complessivo di €/000 79.797 . Tale valore deve essere integrato con l’importo dei debiti di formazione anno 2019 rimasti aperti alla data del 31/12/2019  pari a €/000 81.007 che porta il valore finale dell’aggregato  “Debito verso fornitori” alla data del 31/12/2019 a €/000 128.697"]

{"sheet":"Tab 44","index":45,"n_rows":68,"n_cols":9,"rows_kept":68,"cut":false,"hidden":false,"merged":[[1,0,2,0],[1,1,2,1],[1,2,1,4]]}
[null,"Tab. 44 – Dettaglio dei debiti per scadenza"]
["CODICE MOD. SP","DEBITI",{"$f":"\"DEBITI  AL 31/12/\"&'00 PDC SP'!$F$2&\" PER SCADENZA\"","v":"DEBITI  AL 31/12/2019 PER SCADENZA"}]
[null,null,"Entro\n12 mesi","Tra 1 e 5 anni","Oltre\n5 anni",null,"Importo SP","Diff","Ctrl"]
["PDA000"," MUTUI PASSIVI",0,0,0,null,{"$f":"SUMIF('00 SP'!A:A,'Tab 44'!A4,'00 SP'!L:L)","v":0},{"$f":"(C4+D4+E4)-G4","v":0},{"$f":"IF(H4=0,\"OK\",\"CTRL\")","v":"OK"}]
[]
[null," DEBITI V/STATO",{"$f":"SUM(C7:C11)","v":0},{"$f":"SUM(D7:D11)","v":0},0,null,0]
["PDA020"," Debiti v/Stato per mobilità passiva extraregionale",0,0,0,null,{"$f":"SUMIF('00 SP'!A:A,'Tab 44'!A7,'00 SP'!L:L)","v":0},{"$f":"(C7+D7+E7)-G7","v":0},{"$f":"IF(H7=0,\"OK\",\"CTRL\")","v":"OK"}]
["PDA030"," Debiti v/Stato per mobilità passiva internazionale",0,0,0,null,{"$f":"SUMIF('00 SP'!A:A,'Tab 44'!A8,'00 SP'!L:L)","v":0},0,"OK"]
["PDA040"," Acconto quota FSR v/Stato",0,0,0,null,{"$f":"SUMIF('00 SP'!A:A,'Tab 44'!A9,'00 SP'!L:L)","v":0},0,"OK"]
["PDA050"," Debiti v/Stato per restituzione finanziamenti - per ricerca:",0,0,0,null,{"$f":"SUMIF('00 SP'!A:A,'Tab 44'!A10,'00 SP'!L:L)","v":0},0,"OK"]
["PDA060"," Altri debiti v/Stato",0,0,0,null,{"$f":"SUMIF('00 SP'!A:A,'Tab 44'!A11,'00 SP'!L:L)","v":0},0,"OK"]
[]
[null," DEBITI V/REGIONE O PROVINCIA AUTONOMA",{"$f":"SUM(C14:C21)","v":35892502.609999999},{"$f":"SUM(D14:D21)","v":0},{"$f":"SUM(E14:E21)","v":0},null,{"$f":"SUM(G14:G21)","v":35892502.609999999}]
["PDA080"," Debiti v/Regione o Provincia Autonoma per finanziamenti - GSA",0,0,0,null,{"$f":"SUMIF('00 SP'!A:A,'Tab 44'!A14,'00 SP'!L:L)","v":0},{"$f":"(C14+D14+E14)-G14","v":0},{"$f":"IF(H14=0,\"OK\",\"CTRL\")","v":"OK"}]
["PDA081"," Debiti v/Regione o Provincia Autonoma per finanziamenti",null,null,null,null,null,0]
["PDA090"," Debiti v/Regione o Provincia Autonoma per mobilità passiva intraregionale",20765655.579999998,0,0,null,{"$f":"SUMIF('00 SP'!A:A,'Tab 44'!A16,'00 SP'!L:L)*-1","v":20765655.579999998},0,"OK"]
["PDA100"," Debiti v/Regione o Provincia Autonoma per mobilità passiva extraregionale",9530548.0899999999,0,0,null,{"$f":"SUMIF('00 SP'!A:A,'Tab 44'!A17,'00 SP'!L:L)*-1","v":9530548.0900000036},0,"OK"]
["PDA110"," Acconto quota FSR da Regione o Provincia Autonoma",0,0,0,null,{"$f":"SUMIF('00 SP'!A:A,'Tab 44'!A18,'00 SP'!L:L)","v":0},0,"OK"]
["PDA111"," Acconto  da Regione o Provincia Autonoma per anticipazione ripiano disavanzo programmatico dai piani aziendali di cui all'art1, comma 528, L.208 /2015",null,null,null,null,null,0]
["PDA112"," Acconto  da Regione o Provincia Autonoma per contributi legge 210/92",null,null,null,null,null,0]
["PDA120"," Altri debiti v/Regione o Provincia Autonoma GSA",5596298.9400000004,0,0,null,{"$f":"SUMIF('00 SP'!A:A,'Tab 44'!A21,'00 SP'!L:L)*-1","v":5596298.9400000004},0,"OK"]
["PDA121"," Altri debiti v/Regione o Provincia Autonoma",0,0,0,null,{"$f":"SUMIF('00 SP'!A:A,'Tab 44'!A22,'00 SP'!L:L)","v":0},{"$f":"(C22+D22+E22)-G22","v":0}]
[null,null,null,0,0]
["PDA130"," DEBITI V/COMUNI:",150000,0,0,null,{"$f":"SUMIF('00 SP'!A:A,'Tab 44'!A24,'00 SP'!L:L)*-1","v":150000},{"$f":"(C24+D24+E24)-G24","v":0},"OK"]
[]
[null," DEBITI V/AZIENDE SANITARIE PUBBLICHE DELLA REGIONE",{"$f":"SUM(C27:C32)","v":2783140.54},{"$f":"SUM(D27:D32)","v":0},0,null,{"$f":"SUM(G27:G32)","v":2783140.5399999996}]
["PDA160"," Debiti v/Aziende sanitarie pubbliche della Regione - per quota FSR",0,0,0,null,{"$f":"SUMIF('00 SP'!A:A,'Tab 44'!A27,'00 SP'!L:L)","v":0},{"$f":"(C27+D27+E27)-G27","v":0},{"$f":"IF(H27=0,\"OK\",\"CTRL\")","v":"OK"}]
["PDA170"," Debiti v/Aziende sanitarie pubbliche della Regione - finanziamento sanitario aggiuntivo corrente LEA",0,0,0,null,{"$f":"SUMIF('00 SP'!A:A,'Tab 44'!A28,'00 SP'!L:L)","v":0},0,"OK"]
["PDA180"," Debiti v/Aziende sanitarie pubbliche della Regione - finanziamento sanitario aggiuntivo corrente extra LEA",0,0,0,null,{"$f":"SUMIF('00 SP'!A:A,'Tab 44'!A29,'00 SP'!L:L)","v":0},0,"OK"]
["PDA190"," Debiti v/Aziende sanitarie pubbliche della Regione - mobilità in compensazione",0,0,0,null,{"$f":"SUMIF('00 SP'!A:A,'Tab 44'!A30,'00 SP'!L:L)","v":0},0,"OK"]
["PDA200"," Debiti v/Aziende sanitarie pubbliche della Regione - mobilità non in compensazione",0,0,0,null,{"$f":"SUMIF('00 SP'!A:A,'Tab 44'!A31,'00 SP'!L:L)","v":0},0,"OK"]
["PDA210"," Debiti v/Aziende sanitarie pubbliche della Regione - altre prestazioni",2783140.54,0,0,null,{"$f":"SUMIF('00 SP'!A:A,'Tab 44'!A32,'00 SP'!L:L)*-1","v":2783140.5399999996},0,"OK"]
["PDA211"," Debiti v/Aziende sanitarie pubbliche della Regione - altre\n prestazioni per STP",0,0,0,null,{"$f":"SUMIF('00 SP'!A:A,'Tab 44'!A33,'00 SP'!L:L)","v":0},0,{"$f":"IF(H33=0,\"OK\",\"CTRL\")","v":"OK"}]
["PDA212","Debiti v/Aziende sanitarie pubbliche della Regione per contributi da aziende sanitarie pubbliche della regione o province autonome ( extra- fondo)",0,0,0,null,{"$f":"SUMIF('00 SP'!A:A,'Tab 44'!A34,'00 SP'!L:L)","v":0},0,"OK"]
["PDA213","Debiti v/Aziende sanitarie pubbliche della Regione per contributi L.210/92",0,0,0,null,{"$f":"SUMIF('00 SP'!A:A,'Tab 44'!A35,'00 SP'!L:L)","v":0},0,{"$f":"IF(H35=0,\"OK\",\"CTRL\")","v":"OK"}]
["PDA220"," Debiti v/Aziende Sanitarie pubbliche fuori Regione",215510.13,0,0,null,{"$f":"SUMIF('00 SP'!A:A,'Tab 44'!A36,'00 SP'!L:L)*-1","v":215510.12999999995},0,"OK"]
["PDA230"," Debiti v/Aziende sanitarie pubbliche della Regione per versamenti c/patrimonio netto",0,0,0,null,{"$f":"SUMIF('00 SP'!A:A,'Tab 44'!A37,'00 SP'!L:L)","v":0},0,"OK"]
["PDA231"," Debiti v/Aziende sanitarie pubbliche della Regione per versamenti\n c/patrimonio netto",0,0,0,null,{"$f":"SUMIF('00 SP'!A:A,'Tab 44'!A38,'00 SP'!L:L)","v":0},0,{"$f":"IF(H38=0,\"OK\",\"CTRL\")","v":"OK"}]
["PDA232"," Debiti v/Aziende sanitarie pubbliche della Regione per versamenti c/patrimonio netto -  finanziamenti per investimenti ",0,0,0,null,{"$f":"SUMIF('00 SP'!A:A,'Tab 44'!A39,'00 SP'!L:L)","v":0},0,"OK"]
["PDA233"," Debiti v/Aziende sanitarie pubbliche della Regione per versamenti c/patrimonio netto - incremento fondo dotazione",0,0,0,null,{"$f":"SUMIF('00 SP'!A:A,'Tab 44'!A40,'00 SP'!L:L)","v":0},0,"OK"]
["PDA234"," Debiti v/Aziende sanitarie pubbliche della Regione per versamenti c/patrimonio netto - riripiano perdite",0,0,0,null,{"$f":"SUMIF('00 SP'!A:A,'Tab 44'!A41,'00 SP'!L:L)","v":0},0,"OK"]
["PDA235"," Debiti v/Aziende sanitarie pubbliche della Regione per anticipazione ripiano disavanzo programmato dai piani aziendali di cui all'art.1, comma 528, L.2018/2015",0,0,0,null,{"$f":"SUMIF('00 SP'!A:A,'Tab 44'!A42,'00 SP'!L:L)","v":0},0,"OK"]
[null,"TOTALE DEBITI V/AZIENDE SANITARIE PUBBLICHE ",{"$f":"C26+C36+C37","v":2998650.67},{"$f":"D26+D36+D37","v":0},0,null,2998650.6699999995,0,"OK"]
[]
[null," DEBITI V/SOCIETA' PARTECIPATE E/O ENTI DIPENDENTI",{"$f":"SUM(C46:C48)","v":0},{"$f":"SUM(D46:D48)","v":0},0,null,0]
["PDA250"," Debiti v/enti regionali:",0,0,0,null,{"$f":"SUMIF('00 SP'!A:A,'Tab 44'!A46,'00 SP'!L:L)","v":0},{"$f":"(C46+D46+E46)-G46","v":0},{"$f":"IF(H46=0,\"OK\",\"CTRL\")","v":"OK"}]
["PDA260"," Debiti v/sperimentazioni gestionali:",0,0,0,null,{"$f":"SUMIF('00 SP'!A:A,'Tab 44'!A47,'00 SP'!L:L)","v":0},0,"OK"]
["PDA270"," Debiti v/altre partecipate:",0,0,0,null,{"$f":"SUMIF('00 SP'!A:A,'Tab 44'!A48,'00 SP'!L:L)","v":0},0,"OK"]
[]
["PDA280"," DEBITI V/FORNITORI:",{"$f":"C51+C54","v":128697051.77000001},{"$f":"SUM(D51:D54)","v":0},{"$f":"SUM(E51:E54)","v":0},null,{"$f":"G51+G54","v":128697051.77000001}]
["PDA290","Debiti verso erogatori (privati accreditati e convenzionati) di prestazioni sanitarie",78895973.060000002,0,0,null,{"$f":"SUMIF('00 SP'!A:A,'Tab 44'!A51,'00 SP'!L:L)*-1","v":78895973.059999973},{"$f":"(C51+D51+E51)-G51","v":0},{"$f":"IF(H51=0,\"OK\",\"CTRL\")","v":"OK"}]
["PDA291","Debiti verso erogatori (privati accreditati e convenzionati) di prestazioni sanitarie ",103891520.05,null,null,null,{"$f":"SUMIF('00 SP'!A:A,'Tab 44'!A52,'00 SP'!L:L)*-1","v":103891520.04999998},0,"OK"]
["PDA292","Debiti verso erogatori (privati accreditati e convenzionati) di prestazioni sanitarie ",24995546.989999998,null,null,null,{"$f":"SUMIF('00 SP'!A:A,'Tab 44'!A53,'00 SP'!L:L)","v":24995546.990000002},0,"OK"]
["PDA300","Debiti verso altri fornitori",49801078.710000001,0,0,null,{"$f":"SUMIF('00 SP'!A:A,'Tab 44'!A54,'00 SP'!L:L)*-1","v":49801078.710000038},0,"OK"]
["PDA301","Debiti verso altri fornitori",50539558.049999997,null,null,null,{"$f":"SUMIF('00 SP'!A:A,'Tab 44'!A55,'00 SP'!L:L)*-1","v":50539558.050000042},0]
["PDA302","Note di credito da ricevere (altri fornitori)",-738479.34,null,null,null,{"$f":"SUMIF('00 SP'!A:A,'Tab 44'!A56,'00 SP'!L:L)*-1","v":-738479.34000000008},0]
[]
["PDA310"," DEBITI V/ISTITUTO TESORIERE",0,0,0,null,{"$f":"SUMIF('00 SP'!A:A,'Tab 44'!A58,'00 SP'!L:L)","v":0},0,"OK"]
[]
["PDA320"," DEBITI TRIBUTARI:",11809850.76,0,0,null,{"$f":"SUMIF('00 SP'!A:A,'Tab 44'!A60,'00 SP'!L:L)*-1","v":11809850.760000004},0,"OK"]
[]
["PDA330"," DEBITI V/ISTITUTI PREVIDENZIALI, ASSISTENZIALI E SICUREZZA SOCIALE:",9019695.5399999991,0,0,null,{"$f":"SUMIF('00 SP'!A:A,'Tab 44'!A62,'00 SP'!L:L)*-1","v":9019695.5400000028},0,"OK"]
[]
["PDA340"," DEBITI V/ALTRI:",{"$f":"C66+C68","v":21536335.309999999},{"$f":"SUM(D65:D68)","v":0},0,null,{"$f":"SUM(G65:G68)","v":21536335.309999999},0]
["PDA350"," Debiti v/altri finanziatori",0,0,0,null,{"$f":"SUMIF('00 SP'!A:A,'Tab 44'!A65,'00 SP'!L:L)","v":0},0,{"$f":"IF(H65=0,\"OK\",\"CTRL\")","v":"OK"}]
["PDA360"," Debiti v/dipendenti",19825540.239999998,0,0,null,{"$f":"SUMIF('00 SP'!A:A,'Tab 44'!A66,'00 SP'!L:L)*-1","v":19825540.239999998},0,"OK"]
["PDA370"," Debiti v/gestioni liquidatorie",0,0,0,null,{"$f":"SUMIF('00 SP'!A:A,'Tab 44'!A67,'00 SP'!L:L)","v":0},0,"OK"]
["PDA380"," Altri debiti diversi",1710795.07,0,0,null,{"$f":"SUMIF('00 SP'!A:A,'Tab 44'!A68,'00 SP'!L:L)*-1","v":1710795.0699999989},0,"OK"]

{"sheet":"Tab 45-46","index":46,"n_rows":27,"n_cols":11,"rows_kept":27,"cut":false,"hidden":false,"merged":[[26,0,26,4],[13,1,13,9],[21,0,21,3],[22,1,22,7],[24,0,24,5],[25,0,25,4],[25,5,25,6],[25,7,25,10],[26,7,26,10],[1,1,1,10],[2,1,3,1],[2,3,3,3],[2,4,3,4],[2,5,3,5],[2,6,3,6],[2,7,3,7],[2,8,3,8],[2,9,3,9],[2,10,3,10]]}
[]
[null,"Tab. 45 – Dettaglio mutui "]
[null,"DETTAGLIO MUTUI",null,"Destinazione","Soggetto\nerogatore","Riferimenti delibera di autorizzazione regionale","Importo\niniziale","Scadenza","Debito\nresiduo","Tasso di interesse","Garanzie\nreali"]
[]
[null,"…"]
[null,"…"]
[null,"…"]
[null,"…"]
[null,"…"]
[null,"…"]
[null,"…"]
[null,"TOTALE MUTUI"]
[]
[null,"Tab. 46 – Dettaglio debiti intraregionali per mobilità (in compensazione e non) e per altre prestazioni"]
[null,"DETTAGLIO DEBITI INTRAREGIONALI\nPER SINGOLA AZIENDA",null,"Mobilità in compens.","Mobilità non in compens.","Altre prestazioni"]
[null,"Asl 201- Avezzano Sulmona L'Aquila",null,null,null,522731.55]
[null,"Asl 202- Lanciano Vasto Chieti",null,null,null,241137]
[null,"Asl 204-Teramo",null,null,null,2019364.9]
[null,"Totale",null,null,null,{"$f":"SUM(F16:F18)","v":2783233.45}]
[]
[]
["DB01 - Transazioni"]
["DB01 - NO","I debiti verso fornitori non sono sottoposti a procedure di transazione regionali."]
[]
["Altre informazioni relative a debiti."]
["Informazione",null,null,null,null,"Caso presente in azienda?",null,"Se sì, illustrare"]
["DB02 - Altro. Esistono altre informazioni che si ritiene necessario fornire per soddisfare la regola generale secondo cui \"Se le informazioni richieste da specifiche disposizioni di legge non sono sufficienti a dare una rappresentazione veritiera e corretta, si devono fornire le informazioni complementari necessarie allo scopo\" (art. 2423 cc)?",null,null,null,null,null,"NO"]

{"sheet":"Tab 47-48-49","index":47,"n_rows":42,"n_cols":13,"rows_kept":42,"cut":false,"hidden":false,"merged":[[41,5,41,8],[38,0,38,2],[39,0,39,2],[40,0,40,2],[41,0,41,2],[40,5,40,8],[16,5,16,8],[38,5,38,8],[39,5,39,8],[38,3,38,4],[20,1,20,6],[21,6,22,6],[16,0,16,1],[16,2,16,3],[18,0,18,3],[21,0,22,0],[21,1,22,1],[21,3,22,3],[21,4,22,4],[21,5,22,5],[0,0,0,7],[2,1,2,8],[8,1,8,7],[15,0,15,1],[15,2,15,4],[15,5,15,8]]}
["15.     Ratei e risconti passivi"]
[]
[null,"Tab. 47 – Ratei passivi – Dettaglio a livello di costo (codice CE)"]
["CODICE MOD. CE","RATEI PASSIVI",null,"Importo","di cui\noltre 12 mesi"]
[]
[null,"…"]
[null,"…"]
[]
[null,"Tab. 48 – Risconti passivi – Dettaglio a livello di ricavo (codice CE)"]
["CODICE MOD. CE","RISCONTI PASSIVI",null,"Importo","di cui\noltre 12 mesi"]
[]
[null,"…"]
[null,"…"]
[]
["Altre informazioni relative a ratei e risconti passivi."]
["Informazione",null,"Caso presente in azienda?",null,null,"Se sì, illustrare"]
["RP01 - Altro. Esistono altre informazioni che si ritiene necessario fornire per soddisfare la regola generale secondo cui \"Se le informazioni richieste da specifiche disposizioni di legge non sono sufficienti a dare una rappresentazione veritiera e corretta, si devono fornire le informazioni complementari necessarie allo scopo\" (art. 2423 cc)?",null,null,null,"NO"]
[]
["16.     Conti d’ordine"]
[]
[null,"Tab. 49 – Dettagli e movimentazioni dei conti d’ordine "]
["CODICE MOD. SP","CONTI D'ORDINE",null,"Valore iniziale ","Incrementi","Decrementi","Valore finale"]
[null,null,null,null,null,null,null,null,null,null,"Valore SP","Diff","Ctrl"]
["PFA000","   G.1) CANONI DI LEASING ANCORA DA PAGARE",null,{"$f":"SUMIF('00 SP'!$A:$A,'Tab 47-48-49'!$A24,'00 SP'!I:I)","v":0},{"$f":"SUMIF('00 SP'!$A:$A,'Tab 47-48-49'!$A24,'00 SP'!J:J)","v":0},{"$f":"SUMIF('00 SP'!$A:$A,'Tab 47-48-49'!$A24,'00 SP'!K:K)","v":0},{"$f":"D24+E24-F24","v":0},null,null,null,{"$f":"SUMIF('00 SP'!A:A,'Tab 47-48-49'!A24,'00 SP'!L:L)","v":0},{"$f":"G24-K24","v":0},{"$f":"IF(L24=0,\"OK\",\"CTRL\")","v":"OK"}]
["PFA010","   G.2) DEPOSITI CAUZIONALI",null,{"$f":"SUMIF('00 SP'!$A:$A,'Tab 47-48-49'!$A25,'00 SP'!I:I)","v":0},{"$f":"SUMIF('00 SP'!$A:$A,'Tab 47-48-49'!$A25,'00 SP'!J:J)","v":0},{"$f":"SUMIF('00 SP'!$A:$A,'Tab 47-48-49'!$A25,'00 SP'!K:K)","v":0},{"$f":"D25+E25-F25","v":0},null,null,null,{"$f":"SUMIF('00 SP'!A:A,'Tab 47-48-49'!A25,'00 SP'!L:L)","v":0},{"$f":"G25-K25","v":0},{"$f":"IF(L25=0,\"OK\",\"CTRL\")","v":"OK"}]
["PFA020","   G.3) BENI IN COMODATO",null,{"$f":"SUMIF('00 SP'!$A:$A,'Tab 47-48-49'!$A26,'00 SP'!I:I)","v":0},{"$f":"SUMIF('00 SP'!$A:$A,'Tab 47-48-49'!$A26,'00 SP'!J:J)","v":0},{"$f":"SUMIF('00 SP'!$A:$A,'Tab 47-48-49'!$A26,'00 SP'!K:K)","v":0},0,null,null,null,{"$f":"SUMIF('00 SP'!A:A,'Tab 47-48-49'!A26,'00 SP'!L:L)","v":0},0,"OK"]
["PFA021","   G.4) CANONI DI PROGECT F FINANCING ANCORA DA PAGARE",null,{"$f":"SUMIF('00 SP'!$A:$A,'Tab 47-48-49'!$A27,'00 SP'!I:I)","v":0},{"$f":"SUMIF('00 SP'!$A:$A,'Tab 47-48-49'!$A27,'00 SP'!J:J)","v":0},{"$f":"SUMIF('00 SP'!$A:$A,'Tab 47-48-49'!$A27,'00 SP'!K:K)","v":0},{"$f":"D27+E27-F27","v":0},null,null,null,{"$f":"SUMIF('00 SP'!A:A,'Tab 47-48-49'!A27,'00 SP'!L:L)","v":0},{"$f":"G27-K27","v":0},{"$f":"IF(L27=0,\"OK\",\"CTRL\")","v":"OK"}]
["PFA030","   G.5) ALTRI CONTI D'ORDINE",null,{"$f":"SUMIF('00 SP'!$A:$A,'Tab 47-48-49'!$A28,'00 SP'!I:I)","v":0},{"$f":"SUMIF('00 SP'!$A:$A,'Tab 47-48-49'!$A28,'00 SP'!J:J)","v":0},{"$f":"SUMIF('00 SP'!$A:$A,'Tab 47-48-49'!$A28,'00 SP'!K:K)","v":0},0,null,null,null,{"$f":"SUMIF('00 SP'!A:A,'Tab 47-48-49'!A28,'00 SP'!L:L)","v":0},0,"OK"]
[null,"Canoni di leasing a scadere"]
[null,"Depositi cauzionali"]
[null,"Beni di terzi presso l'Azienda"]
[null,"Garanzie prestate (fideiussioni, avalli, altre garanzie personali e reali)"]
[null,"Garanzie ricevute (fideiussioni, avalli, altre garanzie personali e reali)"]
[null,"Beni in contenzioso"]
[null,"Altri impegni assunti"]
[]
[]
["Altre informazioni relative a conti d'ordine."]
["Informazione",null,null,"Caso presente in azienda?",null,"Se sì, illustrare"]
["CO01. Sono state attivate operazioni di project finance?",null,null,null,"NO"]
["CO02. Esistono beni dell'azienda presso terzi (in deposito, in pegno o in comodato)?",null,null,"SI",null,"Nel Bilancio d’Esercizio 2019 sono stati iscritti €/000 3.537 nella voce beni presso terzi dei  Conti d’Ordine trattasi delle rimanenze finali  d’esercizio 2019 relative di farmaci acquistate per il  servizio di DPC e  giacenti presso il distributore SAFAR, di proprietà della ASL Regionali come meglio specificato nel “ Progetto Distribuzione Per Conto “ allegato alle linee guida al Bilancio D’Esercizio 2019"]
["CO03 - Altro. Esistono altre informazioni che si ritiene necessario fornire per soddisfare la regola generale secondo cui \"Se le informazioni richieste da specifiche disposizioni di legge non sono sufficienti a dare una rappresentazione veritiera e corretta, si devono fornire le informazioni complementari necessarie allo scopo\" (art. 2423 cc)?",null,null,null,"NO"]

{"sheet":"Foglio1","index":48,"n_rows":0,"n_cols":0,"rows_kept":0,"cut":false,"hidden":false,"merged":[]}